{"text_format":"1","workbook":"xlsx","n_sheets":3,"sheets":["SIS Summary","Worksheet","EFIS Template"],"not_rendered":{"charts":0,"images":1,"macros":1,"external_links":0,"defined_names":10,"comments":0,"pivot_tables":0},"unopened":[],"bounds":{"document_bytes":16777216,"sheet_cells":100000,"rows_first":2000,"rows_last":500,"rows_between":2000,"halvings":0,"cell_chars":16384,"cell_head_chars":4096},"cells_cut":0,"cells_raw":0,"read":"whole","date_system":"1900"}

{"sheet":"SIS Summary","index":0,"n_rows":75,"n_cols":14,"rows_kept":75,"cut":false,"hidden":false,"merged":[[72,1,72,2],[73,1,73,2],[74,1,74,2],[66,1,66,2],[67,1,67,2],[68,1,68,2],[69,1,69,2],[70,1,70,2],[71,1,71,2],[65,1,65,2],[54,1,54,2],[55,1,55,2],[56,1,56,2],[57,1,57,2],[58,1,58,2],[59,1,59,2],[60,1,60,2],[61,1,61,2],[62,1,62,2],[63,1,63,2],[64,1,64,2],[53,1,53,2],[42,1,42,2],[43,1,43,2],[44,1,44,2],[45,1,45,2],[46,1,46,2],[47,1,47,2],[48,1,48,2],[49,1,49,2],[50,1,50,2],[51,1,51,2],[52,1,52,2],[41,1,41,2],[30,1,30,2],[31,1,31,2],[32,1,32,2],[33,1,33,2],[34,1,34,2],[35,1,35,2],[36,1,36,2],[37,1,37,2],[38,1,38,2],[39,1,39,2],[40,1,40,2],[15,1,15,2],[16,1,16,2],[17,1,17,2],[6,1,6,2],[7,1,7,2],[8,1,8,2],[9,1,9,2],[10,1,10,2],[12,1,12,2],[13,1,13,2],[14,1,14,2],[21,1,21,2],[22,1,22,2],[23,1,23,2],[18,1,18,2],[19,1,19,2],[20,1,20,2],[27,1,27,2],[28,1,28,2],[29,1,29,2],[24,1,24,2],[25,1,25,2],[26,1,26,2],[0,5,0,8],[11,1,11,2],[1,3,1,5],[1,7,1,9],[3,1,3,4],[5,3,5,12],[1,11,1,13],[3,6,3,10],[3,12,3,13],[2,1,2,2],[2,4,2,13],[0,11,0,12]]}
["PVID#:",null,"Event Date:",null,"Doc. ID#:",{"$f":"IFERROR($B$1&\"-\"&INDEX(Camp_Base,MATCH(D2,Worksheet!$A$4:$A$65,0),2)&\"-\"&$B$2&\"-SIS-\"&TEXT($D$1,\"yy\")&TEXT($D$1,\"mm\")&TEXT($D$1,\"dd\")&\"-v\"&K1&\"(\"&B3&\")\",\"\")","v":""},null,null,null,"Version #:",1,"Total Cost of Event:",null,{"$f":"SUM(Worksheet!X2:X100)","v":0}]
["Contractor ID:",null,"Camp/Base:",null,null,null,"Location:",null,null,null,"Site:"]
["Event #:",null,null,"Description:"]
["DEI Investigator:",null,null,null,null,"Email:",null,null,null,null,null,"Phone:"]
[]
[null,null,null,"Impacted Groups (Select heading to display details)"]
["Category","Item",null,{"$f":"HYPERLINK(\"#'\"&Worksheet!$F$5&\"'!F1\",Worksheet!$F$5)","v":""},{"$f":"HYPERLINK(\"#'\"&Worksheet!$F$6&\"'!C5\",Worksheet!$F$6)","v":""},{"$f":"HYPERLINK(\"#'\"&Worksheet!$F$7&\"'!C5\",Worksheet!$F$7)","v":""},{"$f":"HYPERLINK(\"#'\"&Worksheet!$F$8&\"'!C5\",Worksheet!$F$8)","v":""},{"$f":"HYPERLINK(\"#'\"&Worksheet!$F$9&\"'!C5\",Worksheet!$F$9)","v":""},{"$f":"HYPERLINK(\"#'\"&Worksheet!$F$10&\"'!C5\",Worksheet!$F$10)","v":""},{"$f":"HYPERLINK(\"#'\"&Worksheet!$F$11&\"'!C5\",Worksheet!$F$11)","v":""},{"$f":"HYPERLINK(\"#'\"&Worksheet!$F$12&\"'!C5\",Worksheet!$F$12)","v":""},{"$f":"HYPERLINK(\"#'\"&Worksheet!$F$13&\"'!C5\",Worksheet!$F$13)","v":""},{"$f":"HYPERLINK(\"#'\"&Worksheet!$F$14&\"'!C5\",Worksheet!$F$14)","v":""},"Total"]
[{"$f":"IF(Worksheet!AN3=Worksheet!AN2,\"\",Worksheet!AN3)","v":""},{"$f":"IF(OR(Worksheet!AL3=\"\",A7=\"\"),\"\",IF(RIGHT(Worksheet!AN3,5)=\"Total\",\"\",OFFSET(Worksheet!$AE$1,Worksheet!AL3,0)))","v":""},null,{"$f":"IF(Worksheet!$AN3=\"\",\"\",IF(Worksheet!$AN3=\"Overall Total\",SUMIFS(Worksheet!$X$2:$X$100,Worksheet!$W$2:$W$100,D$7),IF(RIGHT(Worksheet!$AN3,5)=\"Total\",SUM(OFFSET(D8,-COUNTIF(Worksheet!$AM$1:$AM$98,Worksheet!$AM3)+1,0,COUNTIF(Worksheet!$AM$1:$AM$98,Worksheet!$AM3)-1)),SUMIFS(Worksheet!$X$2:$X$100,Worksheet!$Z$2:$Z$100,CONCATENATE(Worksheet!$AN3,$B8,D$7)))))","v":""},{"$f":"IF(Worksheet!$AN3=\"\",\"\",IF(Worksheet!$AN3=\"Overall Total\",SUMIFS(Worksheet!$X$2:$X$100,Worksheet!$W$2:$W$100,E$7),IF(RIGHT(Worksheet!$AN3,5)=\"Total\",SUM(OFFSET(E8,-COUNTIF(Worksheet!$AM$1:$AM$98,Worksheet!$AM3)+1,0,COUNTIF(Worksheet!$AM$1:$AM$98,Worksheet!$AM3)-1)),SUMIFS(Worksheet!$X$2:$X$100,Worksheet!$Z$2:$Z$100,CONCATENATE(Worksheet!$AN3,$B8,E$7)))))","v":""},{"$f":"IF(Worksheet!$AN3=\"\",\"\",IF(Worksheet!$AN3=\"Overall Total\",SUMIFS(Worksheet!$X$2:$X$100,Worksheet!$W$2:$W$100,F$7),IF(RIGHT(Worksheet!$AN3,5)=\"Total\",SUM(OFFSET(F8,-COUNTIF(Worksheet!$AM$1:$AM$98,Worksheet!$AM3)+1,0,COUNTIF(Worksheet!$AM$1:$AM$98,Worksheet!$AM3)-1)),SUMIFS(Worksheet!$X$2:$X$100,Worksheet!$Z$2:$Z$100,CONCATENATE(Worksheet!$AN3,$B8,F$7)))))","v":""},{"$f":"IF(Worksheet!$AN3=\"\",\"\",IF(Worksheet!$AN3=\"Overall Total\",SUMIFS(Worksheet!$X$2:$X$100,Worksheet!$W$2:$W$100,G$7),IF(RIGHT(Worksheet!$AN3,5)=\"Total\",SUM(OFFSET(G8,-COUNTIF(Worksheet!$AM$1:$AM$98,Worksheet!$AM3)+1,0,COUNTIF(Worksheet!$AM$1:$AM$98,Worksheet!$AM3)-1)),SUMIFS(Worksheet!$X$2:$X$100,Worksheet!$Z$2:$Z$100,CONCATENATE(Worksheet!$AN3,$B8,G$7)))))","v":""},{"$f":"IF(Worksheet!$AN3=\"\",\"\",IF(Worksheet!$AN3=\"Overall Total\",SUMIFS(Worksheet!$X$2:$X$100,Worksheet!$W$2:$W$100,H$7),IF(RIGHT(Worksheet!$AN3,5)=\"Total\",SUM(OFFSET(H8,-COUNTIF(Worksheet!$AM$1:$AM$98,Worksheet!$AM3)+1,0,COUNTIF(Worksheet!$AM$1:$AM$98,Worksheet!$AM3)-1)),SUMIFS(Worksheet!$X$2:$X$100,Worksheet!$Z$2:$Z$100,CONCATENATE(Worksheet!$AN3,$B8,H$7)))))","v":""},{"$f":"IF(Worksheet!$AN3=\"\",\"\",IF(Worksheet!$AN3=\"Overall Total\",SUMIFS(Worksheet!$X$2:$X$100,Worksheet!$W$2:$W$100,I$7),IF(RIGHT(Worksheet!$AN3,5)=\"Total\",SUM(OFFSET(I8,-COUNTIF(Worksheet!$AM$1:$AM$98,Worksheet!$AM3)+1,0,COUNTIF(Worksheet!$AM$1:$AM$98,Worksheet!$AM3)-1)),SUMIFS(Worksheet!$X$2:$X$100,Worksheet!$Z$2:$Z$100,CONCATENATE(Worksheet!$AN3,$B8,I$7)))))","v":""},{"$f":"IF(Worksheet!$AN3=\"\",\"\",IF(Worksheet!$AN3=\"Overall Total\",SUMIFS(Worksheet!$X$2:$X$100,Worksheet!$W$2:$W$100,J$7),IF(RIGHT(Worksheet!$AN3,5)=\"Total\",SUM(OFFSET(J8,-COUNTIF(Worksheet!$AM$1:$AM$98,Worksheet!$AM3)+1,0,COUNTIF(Worksheet!$AM$1:$AM$98,Worksheet!$AM3)-1)),SUMIFS(Worksheet!$X$2:$X$100,Worksheet!$Z$2:$Z$100,CONCATENATE(Worksheet!$AN3,$B8,J$7)))))","v":""},{"$f":"IF(Worksheet!$AN3=\"\",\"\",IF(Worksheet!$AN3=\"Overall Total\",SUMIFS(Worksheet!$X$2:$X$100,Worksheet!$W$2:$W$100,K$7),IF(RIGHT(Worksheet!$AN3,5)=\"Total\",SUM(OFFSET(K8,-COUNTIF(Worksheet!$AM$1:$AM$98,Worksheet!$AM3)+1,0,COUNTIF(Worksheet!$AM$1:$AM$98,Worksheet!$AM3)-1)),SUMIFS(Worksheet!$X$2:$X$100,Worksheet!$Z$2:$Z$100,CONCATENATE(Worksheet!$AN3,$B8,K$7)))))","v":""},{"$f":"IF(Worksheet!$AN3=\"\",\"\",IF(Worksheet!$AN3=\"Overall Total\",SUMIFS(Worksheet!$X$2:$X$100,Worksheet!$W$2:$W$100,L$7),IF(RIGHT(Worksheet!$AN3,5)=\"Total\",SUM(OFFSET(L8,-COUNTIF(Worksheet!$AM$1:$AM$98,Worksheet!$AM3)+1,0,COUNTIF(Worksheet!$AM$1:$AM$98,Worksheet!$AM3)-1)),SUMIFS(Worksheet!$X$2:$X$100,Worksheet!$Z$2:$Z$100,CONCATENATE(Worksheet!$AN3,$B8,L$7)))))","v":""},{"$f":"IF(Worksheet!$AN3=\"\",\"\",IF(Worksheet!$AN3=\"Overall Total\",SUMIFS(Worksheet!$X$2:$X$100,Worksheet!$W$2:$W$100,M$7),IF(RIGHT(Worksheet!$AN3,5)=\"Total\",SUM(OFFSET(M8,-COUNTIF(Worksheet!$AM$1:$AM$98,Worksheet!$AM3)+1,0,COUNTIF(Worksheet!$AM$1:$AM$98,Worksheet!$AM3)-1)),SUMIFS(Worksheet!$X$2:$X$100,Worksheet!$Z$2:$Z$100,CONCATENATE(Worksheet!$AN3,$B8,M$7)))))","v":""},{"$f":"IF(Worksheet!$AN3=\"\",\"\",IF(Worksheet!$AN3=\"Overall Total\",$N$1,IF(RIGHT(Worksheet!$AN3,5)=\"Total\",SUM(OFFSET(N8,-COUNTIF(Worksheet!$AM$1:$AM$98,Worksheet!$AM3)+1,0,COUNTIF(Worksheet!$AM$1:$AM$98,Worksheet!$AM3)-1)),SUM(D8:M8))))","v":""}]
[{"$f":"IF(Worksheet!AN4=Worksheet!AN3,\"\",Worksheet!AN4)","v":"Overall Total"},{"$f":"IF(OR(Worksheet!AL4=\"\",Worksheet!AN3=\"\"),\"\",IF(RIGHT(Worksheet!AN4,5)=\"Total\",\"\",OFFSET(Worksheet!$AE$1,Worksheet!AL4,0)))","v":""},null,{"$f":"IF(Worksheet!$AN4=\"\",\"\",IF(Worksheet!$AN4=\"Overall Total\",SUMIFS(Worksheet!$X$2:$X$100,Worksheet!$W$2:$W$100,D$7),IF(RIGHT(Worksheet!$AN4,5)=\"Total\",SUM(OFFSET(D9,-COUNTIF(Worksheet!$AM$1:$AM$98,Worksheet!$AM4)+1,0,COUNTIF(Worksheet!$AM$1:$AM$98,Worksheet!$AM4)-1)),SUMIFS(Worksheet!$X$2:$X$100,Worksheet!$Z$2:$Z$100,CONCATENATE(Worksheet!$AN4,$B9,D$7)))))","v":0},{"$f":"IF(Worksheet!$AN4=\"\",\"\",IF(Worksheet!$AN4=\"Overall Total\",SUMIFS(Worksheet!$X$2:$X$100,Worksheet!$W$2:$W$100,E$7),IF(RIGHT(Worksheet!$AN4,5)=\"Total\",SUM(OFFSET(E9,-COUNTIF(Worksheet!$AM$1:$AM$98,Worksheet!$AM4)+1,0,COUNTIF(Worksheet!$AM$1:$AM$98,Worksheet!$AM4)-1)),SUMIFS(Worksheet!$X$2:$X$100,Worksheet!$Z$2:$Z$100,CONCATENATE(Worksheet!$AN4,$B9,E$7)))))","v":0},{"$f":"IF(Worksheet!$AN4=\"\",\"\",IF(Worksheet!$AN4=\"Overall Total\",SUMIFS(Worksheet!$X$2:$X$100,Worksheet!$W$2:$W$100,F$7),IF(RIGHT(Worksheet!$AN4,5)=\"Total\",SUM(OFFSET(F9,-COUNTIF(Worksheet!$AM$1:$AM$98,Worksheet!$AM4)+1,0,COUNTIF(Worksheet!$AM$1:$AM$98,Worksheet!$AM4)-1)),SUMIFS(Worksheet!$X$2:$X$100,Worksheet!$Z$2:$Z$100,CONCATENATE(Worksheet!$AN4,$B9,F$7)))))","v":0},{"$f":"IF(Worksheet!$AN4=\"\",\"\",IF(Worksheet!$AN4=\"Overall Total\",SUMIFS(Worksheet!$X$2:$X$100,Worksheet!$W$2:$W$100,G$7),IF(RIGHT(Worksheet!$AN4,5)=\"Total\",SUM(OFFSET(G9,-COUNTIF(Worksheet!$AM$1:$AM$98,Worksheet!$AM4)+1,0,COUNTIF(Worksheet!$AM$1:$AM$98,Worksheet!$AM4)-1)),SUMIFS(Worksheet!$X$2:$X$100,Worksheet!$Z$2:$Z$100,CONCATENATE(Worksheet!$AN4,$B9,G$7)))))","v":0},{"$f":"IF(Worksheet!$AN4=\"\",\"\",IF(Worksheet!$AN4=\"Overall Total\",SUMIFS(Worksheet!$X$2:$X$100,Worksheet!$W$2:$W$100,H$7),IF(RIGHT(Worksheet!$AN4,5)=\"Total\",SUM(OFFSET(H9,-COUNTIF(Worksheet!$AM$1:$AM$98,Worksheet!$AM4)+1,0,COUNTIF(Worksheet!$AM$1:$AM$98,Worksheet!$AM4)-1)),SUMIFS(Worksheet!$X$2:$X$100,Worksheet!$Z$2:$Z$100,CONCATENATE(Worksheet!$AN4,$B9,H$7)))))","v":0},{"$f":"IF(Worksheet!$AN4=\"\",\"\",IF(Worksheet!$AN4=\"Overall Total\",SUMIFS(Worksheet!$X$2:$X$100,Worksheet!$W$2:$W$100,I$7),IF(RIGHT(Worksheet!$AN4,5)=\"Total\",SUM(OFFSET(I9,-COUNTIF(Worksheet!$AM$1:$AM$98,Worksheet!$AM4)+1,0,COUNTIF(Worksheet!$AM$1:$AM$98,Worksheet!$AM4)-1)),SUMIFS(Worksheet!$X$2:$X$100,Worksheet!$Z$2:$Z$100,CONCATENATE(Worksheet!$AN4,$B9,I$7)))))","v":0},{"$f":"IF(Worksheet!$AN4=\"\",\"\",IF(Worksheet!$AN4=\"Overall Total\",SUMIFS(Worksheet!$X$2:$X$100,Worksheet!$W$2:$W$100,J$7),IF(RIGHT(Worksheet!$AN4,5)=\"Total\",SUM(OFFSET(J9,-COUNTIF(Worksheet!$AM$1:$AM$98,Worksheet!$AM4)+1,0,COUNTIF(Worksheet!$AM$1:$AM$98,Worksheet!$AM4)-1)),SUMIFS(Worksheet!$X$2:$X$100,Worksheet!$Z$2:$Z$100,CONCATENATE(Worksheet!$AN4,$B9,J$7)))))","v":0},{"$f":"IF(Worksheet!$AN4=\"\",\"\",IF(Worksheet!$AN4=\"Overall Total\",SUMIFS(Worksheet!$X$2:$X$100,Worksheet!$W$2:$W$100,K$7),IF(RIGHT(Worksheet!$AN4,5)=\"Total\",SUM(OFFSET(K9,-COUNTIF(Worksheet!$AM$1:$AM$98,Worksheet!$AM4)+1,0,COUNTIF(Worksheet!$AM$1:$AM$98,Worksheet!$AM4)-1)),SUMIFS(Worksheet!$X$2:$X$100,Worksheet!$Z$2:$Z$100,CONCATENATE(Worksheet!$AN4,$B9,K$7)))))","v":0},{"$f":"IF(Worksheet!$AN4=\"\",\"\",IF(Worksheet!$AN4=\"Overall Total\",SUMIFS(Worksheet!$X$2:$X$100,Worksheet!$W$2:$W$100,L$7),IF(RIGHT(Worksheet!$AN4,5)=\"Total\",SUM(OFFSET(L9,-COUNTIF(Worksheet!$AM$1:$AM$98,Worksheet!$AM4)+1,0,COUNTIF(Worksheet!$AM$1:$AM$98,Worksheet!$AM4)-1)),SUMIFS(Worksheet!$X$2:$X$100,Worksheet!$Z$2:$Z$100,CONCATENATE(Worksheet!$AN4,$B9,L$7)))))","v":0},{"$f":"IF(Worksheet!$AN4=\"\",\"\",IF(Worksheet!$AN4=\"Overall Total\",SUMIFS(Worksheet!$X$2:$X$100,Worksheet!$W$2:$W$100,M$7),IF(RIGHT(Worksheet!$AN4,5)=\"Total\",SUM(OFFSET(M9,-COUNTIF(Worksheet!$AM$1:$AM$98,Worksheet!$AM4)+1,0,COUNTIF(Worksheet!$AM$1:$AM$98,Worksheet!$AM4)-1)),SUMIFS(Worksheet!$X$2:$X$100,Worksheet!$Z$2:$Z$100,CONCATENATE(Worksheet!$AN4,$B9,M$7)))))","v":0},{"$f":"IF(Worksheet!$AN4=\"\",\"\",IF(Worksheet!$AN4=\"Overall Total\",$N$1,IF(RIGHT(Worksheet!$AN4,5)=\"Total\",SUM(OFFSET(N9,-COUNTIF(Worksheet!$AM$1:$AM$98,Worksheet!$AM4)+1,0,COUNTIF(Worksheet!$AM$1:$AM$98,Worksheet!$AM4)-1)),SUM(D9:M9))))","v":0}]
[{"$f":"IF(Worksheet!AN5=Worksheet!AN4,\"\",Worksheet!AN5)","v":""},{"$f":"IF(OR(Worksheet!AL5=\"\",Worksheet!AN4=\"\"),\"\",IF(RIGHT(Worksheet!AN5,5)=\"Total\",\"\",OFFSET(Worksheet!$AE$1,Worksheet!AL5,0)))","v":""},null,{"$f":"IF(Worksheet!$AN5=\"\",\"\",IF(Worksheet!$AN5=\"Overall Total\",SUMIFS(Worksheet!$X$2:$X$100,Worksheet!$W$2:$W$100,D$7),IF(RIGHT(Worksheet!$AN5,5)=\"Total\",SUM(OFFSET(D10,-COUNTIF(Worksheet!$AM$1:$AM$98,Worksheet!$AM5)+1,0,COUNTIF(Worksheet!$AM$1:$AM$98,Worksheet!$AM5)-1)),SUMIFS(Worksheet!$X$2:$X$100,Worksheet!$Z$2:$Z$100,CONCATENATE(Worksheet!$AN5,$B10,D$7)))))","v":""},{"$f":"IF(Worksheet!$AN5=\"\",\"\",IF(Worksheet!$AN5=\"Overall Total\",SUMIFS(Worksheet!$X$2:$X$100,Worksheet!$W$2:$W$100,E$7),IF(RIGHT(Worksheet!$AN5,5)=\"Total\",SUM(OFFSET(E10,-COUNTIF(Worksheet!$AM$1:$AM$98,Worksheet!$AM5)+1,0,COUNTIF(Worksheet!$AM$1:$AM$98,Worksheet!$AM5)-1)),SUMIFS(Worksheet!$X$2:$X$100,Worksheet!$Z$2:$Z$100,CONCATENATE(Worksheet!$AN5,$B10,E$7)))))","v":""},{"$f":"IF(Worksheet!$AN5=\"\",\"\",IF(Worksheet!$AN5=\"Overall Total\",SUMIFS(Worksheet!$X$2:$X$100,Worksheet!$W$2:$W$100,F$7),IF(RIGHT(Worksheet!$AN5,5)=\"Total\",SUM(OFFSET(F10,-COUNTIF(Worksheet!$AM$1:$AM$98,Worksheet!$AM5)+1,0,COUNTIF(Worksheet!$AM$1:$AM$98,Worksheet!$AM5)-1)),SUMIFS(Worksheet!$X$2:$X$100,Worksheet!$Z$2:$Z$100,CONCATENATE(Worksheet!$AN5,$B10,F$7)))))","v":""},{"$f":"IF(Worksheet!$AN5=\"\",\"\",IF(Worksheet!$AN5=\"Overall Total\",SUMIFS(Worksheet!$X$2:$X$100,Worksheet!$W$2:$W$100,G$7),IF(RIGHT(Worksheet!$AN5,5)=\"Total\",SUM(OFFSET(G10,-COUNTIF(Worksheet!$AM$1:$AM$98,Worksheet!$AM5)+1,0,COUNTIF(Worksheet!$AM$1:$AM$98,Worksheet!$AM5)-1)),SUMIFS(Worksheet!$X$2:$X$100,Worksheet!$Z$2:$Z$100,CONCATENATE(Worksheet!$AN5,$B10,G$7)))))","v":""},{"$f":"IF(Worksheet!$AN5=\"\",\"\",IF(Worksheet!$AN5=\"Overall Total\",SUMIFS(Worksheet!$X$2:$X$100,Worksheet!$W$2:$W$100,H$7),IF(RIGHT(Worksheet!$AN5,5)=\"Total\",SUM(OFFSET(H10,-COUNTIF(Worksheet!$AM$1:$AM$98,Worksheet!$AM5)+1,0,COUNTIF(Worksheet!$AM$1:$AM$98,Worksheet!$AM5)-1)),SUMIFS(Worksheet!$X$2:$X$100,Worksheet!$Z$2:$Z$100,CONCATENATE(Worksheet!$AN5,$B10,H$7)))))","v":""},{"$f":"IF(Worksheet!$AN5=\"\",\"\",IF(Worksheet!$AN5=\"Overall Total\",SUMIFS(Worksheet!$X$2:$X$100,Worksheet!$W$2:$W$100,I$7),IF(RIGHT(Worksheet!$AN5,5)=\"Total\",SUM(OFFSET(I10,-COUNTIF(Worksheet!$AM$1:$AM$98,Worksheet!$AM5)+1,0,COUNTIF(Worksheet!$AM$1:$AM$98,Worksheet!$AM5)-1)),SUMIFS(Worksheet!$X$2:$X$100,Worksheet!$Z$2:$Z$100,CONCATENATE(Worksheet!$AN5,$B10,I$7)))))","v":""},{"$f":"IF(Worksheet!$AN5=\"\",\"\",IF(Worksheet!$AN5=\"Overall Total\",SUMIFS(Worksheet!$X$2:$X$100,Worksheet!$W$2:$W$100,J$7),IF(RIGHT(Worksheet!$AN5,5)=\"Total\",SUM(OFFSET(J10,-COUNTIF(Worksheet!$AM$1:$AM$98,Worksheet!$AM5)+1,0,COUNTIF(Worksheet!$AM$1:$AM$98,Worksheet!$AM5)-1)),SUMIFS(Worksheet!$X$2:$X$100,Worksheet!$Z$2:$Z$100,CONCATENATE(Worksheet!$AN5,$B10,J$7)))))","v":""},{"$f":"IF(Worksheet!$AN5=\"\",\"\",IF(Worksheet!$AN5=\"Overall Total\",SUMIFS(Worksheet!$X$2:$X$100,Worksheet!$W$2:$W$100,K$7),IF(RIGHT(Worksheet!$AN5,5)=\"Total\",SUM(OFFSET(K10,-COUNTIF(Worksheet!$AM$1:$AM$98,Worksheet!$AM5)+1,0,COUNTIF(Worksheet!$AM$1:$AM$98,Worksheet!$AM5)-1)),SUMIFS(Worksheet!$X$2:$X$100,Worksheet!$Z$2:$Z$100,CONCATENATE(Worksheet!$AN5,$B10,K$7)))))","v":""},{"$f":"IF(Worksheet!$AN5=\"\",\"\",IF(Worksheet!$AN5=\"Overall Total\",SUMIFS(Worksheet!$X$2:$X$100,Worksheet!$W$2:$W$100,L$7),IF(RIGHT(Worksheet!$AN5,5)=\"Total\",SUM(OFFSET(L10,-COUNTIF(Worksheet!$AM$1:$AM$98,Worksheet!$AM5)+1,0,COUNTIF(Worksheet!$AM$1:$AM$98,Worksheet!$AM5)-1)),SUMIFS(Worksheet!$X$2:$X$100,Worksheet!$Z$2:$Z$100,CONCATENATE(Worksheet!$AN5,$B10,L$7)))))","v":""},{"$f":"IF(Worksheet!$AN5=\"\",\"\",IF(Worksheet!$AN5=\"Overall Total\",SUMIFS(Worksheet!$X$2:$X$100,Worksheet!$W$2:$W$100,M$7),IF(RIGHT(Worksheet!$AN5,5)=\"Total\",SUM(OFFSET(M10,-COUNTIF(Worksheet!$AM$1:$AM$98,Worksheet!$AM5)+1,0,COUNTIF(Worksheet!$AM$1:$AM$98,Worksheet!$AM5)-1)),SUMIFS(Worksheet!$X$2:$X$100,Worksheet!$Z$2:$Z$100,CONCATENATE(Worksheet!$AN5,$B10,M$7)))))","v":""},{"$f":"IF(Worksheet!$AN5=\"\",\"\",IF(Worksheet!$AN5=\"Overall Total\",$N$1,IF(RIGHT(Worksheet!$AN5,5)=\"Total\",SUM(OFFSET(N10,-COUNTIF(Worksheet!$AM$1:$AM$98,Worksheet!$AM5)+1,0,COUNTIF(Worksheet!$AM$1:$AM$98,Worksheet!$AM5)-1)),SUM(D10:M10))))","v":""}]
[{"$f":"IF(Worksheet!AN6=Worksheet!AN5,\"\",Worksheet!AN6)","v":""},{"$f":"IF(OR(Worksheet!AL6=\"\",Worksheet!AN5=\"\"),\"\",IF(RIGHT(Worksheet!AN6,5)=\"Total\",\"\",OFFSET(Worksheet!$AE$1,Worksheet!AL6,0)))","v":""},null,{"$f":"IF(Worksheet!$AN6=\"\",\"\",IF(Worksheet!$AN6=\"Overall Total\",SUMIFS(Worksheet!$X$2:$X$100,Worksheet!$W$2:$W$100,D$7),IF(RIGHT(Worksheet!$AN6,5)=\"Total\",SUM(OFFSET(D11,-COUNTIF(Worksheet!$AM$1:$AM$98,Worksheet!$AM6)+1,0,COUNTIF(Worksheet!$AM$1:$AM$98,Worksheet!$AM6)-1)),SUMIFS(Worksheet!$X$2:$X$100,Worksheet!$Z$2:$Z$100,CONCATENATE(Worksheet!$AN6,$B11,D$7)))))","v":""},{"$f":"IF(Worksheet!$AN6=\"\",\"\",IF(Worksheet!$AN6=\"Overall Total\",SUMIFS(Worksheet!$X$2:$X$100,Worksheet!$W$2:$W$100,E$7),IF(RIGHT(Worksheet!$AN6,5)=\"Total\",SUM(OFFSET(E11,-COUNTIF(Worksheet!$AM$1:$AM$98,Worksheet!$AM6)+1,0,COUNTIF(Worksheet!$AM$1:$AM$98,Worksheet!$AM6)-1)),SUMIFS(Worksheet!$X$2:$X$100,Worksheet!$Z$2:$Z$100,CONCATENATE(Worksheet!$AN6,$B11,E$7)))))","v":""},{"$f":"IF(Worksheet!$AN6=\"\",\"\",IF(Worksheet!$AN6=\"Overall Total\",SUMIFS(Worksheet!$X$2:$X$100,Worksheet!$W$2:$W$100,F$7),IF(RIGHT(Worksheet!$AN6,5)=\"Total\",SUM(OFFSET(F11,-COUNTIF(Worksheet!$AM$1:$AM$98,Worksheet!$AM6)+1,0,COUNTIF(Worksheet!$AM$1:$AM$98,Worksheet!$AM6)-1)),SUMIFS(Worksheet!$X$2:$X$100,Worksheet!$Z$2:$Z$100,CONCATENATE(Worksheet!$AN6,$B11,F$7)))))","v":""},{"$f":"IF(Worksheet!$AN6=\"\",\"\",IF(Worksheet!$AN6=\"Overall Total\",SUMIFS(Worksheet!$X$2:$X$100,Worksheet!$W$2:$W$100,G$7),IF(RIGHT(Worksheet!$AN6,5)=\"Total\",SUM(OFFSET(G11,-COUNTIF(Worksheet!$AM$1:$AM$98,Worksheet!$AM6)+1,0,COUNTIF(Worksheet!$AM$1:$AM$98,Worksheet!$AM6)-1)),SUMIFS(Worksheet!$X$2:$X$100,Worksheet!$Z$2:$Z$100,CONCATENATE(Worksheet!$AN6,$B11,G$7)))))","v":""},{"$f":"IF(Worksheet!$AN6=\"\",\"\",IF(Worksheet!$AN6=\"Overall Total\",SUMIFS(Worksheet!$X$2:$X$100,Worksheet!$W$2:$W$100,H$7),IF(RIGHT(Worksheet!$AN6,5)=\"Total\",SUM(OFFSET(H11,-COUNTIF(Worksheet!$AM$1:$AM$98,Worksheet!$AM6)+1,0,COUNTIF(Worksheet!$AM$1:$AM$98,Worksheet!$AM6)-1)),SUMIFS(Worksheet!$X$2:$X$100,Worksheet!$Z$2:$Z$100,CONCATENATE(Worksheet!$AN6,$B11,H$7)))))","v":""},{"$f":"IF(Worksheet!$AN6=\"\",\"\",IF(Worksheet!$AN6=\"Overall Total\",SUMIFS(Worksheet!$X$2:$X$100,Worksheet!$W$2:$W$100,I$7),IF(RIGHT(Worksheet!$AN6,5)=\"Total\",SUM(OFFSET(I11,-COUNTIF(Worksheet!$AM$1:$AM$98,Worksheet!$AM6)+1,0,COUNTIF(Worksheet!$AM$1:$AM$98,Worksheet!$AM6)-1)),SUMIFS(Worksheet!$X$2:$X$100,Worksheet!$Z$2:$Z$100,CONCATENATE(Worksheet!$AN6,$B11,I$7)))))","v":""},{"$f":"IF(Worksheet!$AN6=\"\",\"\",IF(Worksheet!$AN6=\"Overall Total\",SUMIFS(Worksheet!$X$2:$X$100,Worksheet!$W$2:$W$100,J$7),IF(RIGHT(Worksheet!$AN6,5)=\"Total\",SUM(OFFSET(J11,-COUNTIF(Worksheet!$AM$1:$AM$98,Worksheet!$AM6)+1,0,COUNTIF(Worksheet!$AM$1:$AM$98,Worksheet!$AM6)-1)),SUMIFS(Worksheet!$X$2:$X$100,Worksheet!$Z$2:$Z$100,CONCATENATE(Worksheet!$AN6,$B11,J$7)))))","v":""},{"$f":"IF(Worksheet!$AN6=\"\",\"\",IF(Worksheet!$AN6=\"Overall Total\",SUMIFS(Worksheet!$X$2:$X$100,Worksheet!$W$2:$W$100,K$7),IF(RIGHT(Worksheet!$AN6,5)=\"Total\",SUM(OFFSET(K11,-COUNTIF(Worksheet!$AM$1:$AM$98,Worksheet!$AM6)+1,0,COUNTIF(Worksheet!$AM$1:$AM$98,Worksheet!$AM6)-1)),SUMIFS(Worksheet!$X$2:$X$100,Worksheet!$Z$2:$Z$100,CONCATENATE(Worksheet!$AN6,$B11,K$7)))))","v":""},{"$f":"IF(Worksheet!$AN6=\"\",\"\",IF(Worksheet!$AN6=\"Overall Total\",SUMIFS(Worksheet!$X$2:$X$100,Worksheet!$W$2:$W$100,L$7),IF(RIGHT(Worksheet!$AN6,5)=\"Total\",SUM(OFFSET(L11,-COUNTIF(Worksheet!$AM$1:$AM$98,Worksheet!$AM6)+1,0,COUNTIF(Worksheet!$AM$1:$AM$98,Worksheet!$AM6)-1)),SUMIFS(Worksheet!$X$2:$X$100,Worksheet!$Z$2:$Z$100,CONCATENATE(Worksheet!$AN6,$B11,L$7)))))","v":""},{"$f":"IF(Worksheet!$AN6=\"\",\"\",IF(Worksheet!$AN6=\"Overall Total\",SUMIFS(Worksheet!$X$2:$X$100,Worksheet!$W$2:$W$100,M$7),IF(RIGHT(Worksheet!$AN6,5)=\"Total\",SUM(OFFSET(M11,-COUNTIF(Worksheet!$AM$1:$AM$98,Worksheet!$AM6)+1,0,COUNTIF(Worksheet!$AM$1:$AM$98,Worksheet!$AM6)-1)),SUMIFS(Worksheet!$X$2:$X$100,Worksheet!$Z$2:$Z$100,CONCATENATE(Worksheet!$AN6,$B11,M$7)))))","v":""},{"$f":"IF(Worksheet!$AN6=\"\",\"\",IF(Worksheet!$AN6=\"Overall Total\",$N$1,IF(RIGHT(Worksheet!$AN6,5)=\"Total\",SUM(OFFSET(N11,-COUNTIF(Worksheet!$AM$1:$AM$98,Worksheet!$AM6)+1,0,COUNTIF(Worksheet!$AM$1:$AM$98,Worksheet!$AM6)-1)),SUM(D11:M11))))","v":""}]
[{"$f":"IF(Worksheet!AN7=Worksheet!AN6,\"\",Worksheet!AN7)","v":""},{"$f":"IF(OR(Worksheet!AL7=\"\",Worksheet!AN6=\"\"),\"\",IF(RIGHT(Worksheet!AN7,5)=\"Total\",\"\",OFFSET(Worksheet!$AE$1,Worksheet!AL7,0)))","v":""},null,{"$f":"IF(Worksheet!$AN7=\"\",\"\",IF(Worksheet!$AN7=\"Overall Total\",SUMIFS(Worksheet!$X$2:$X$100,Worksheet!$W$2:$W$100,D$7),IF(RIGHT(Worksheet!$AN7,5)=\"Total\",SUM(OFFSET(D12,-COUNTIF(Worksheet!$AM$1:$AM$98,Worksheet!$AM7)+1,0,COUNTIF(Worksheet!$AM$1:$AM$98,Worksheet!$AM7)-1)),SUMIFS(Worksheet!$X$2:$X$100,Worksheet!$Z$2:$Z$100,CONCATENATE(Worksheet!$AN7,$B12,D$7)))))","v":""},{"$f":"IF(Worksheet!$AN7=\"\",\"\",IF(Worksheet!$AN7=\"Overall Total\",SUMIFS(Worksheet!$X$2:$X$100,Worksheet!$W$2:$W$100,E$7),IF(RIGHT(Worksheet!$AN7,5)=\"Total\",SUM(OFFSET(E12,-COUNTIF(Worksheet!$AM$1:$AM$98,Worksheet!$AM7)+1,0,COUNTIF(Worksheet!$AM$1:$AM$98,Worksheet!$AM7)-1)),SUMIFS(Worksheet!$X$2:$X$100,Worksheet!$Z$2:$Z$100,CONCATENATE(Worksheet!$AN7,$B12,E$7)))))","v":""},{"$f":"IF(Worksheet!$AN7=\"\",\"\",IF(Worksheet!$AN7=\"Overall Total\",SUMIFS(Worksheet!$X$2:$X$100,Worksheet!$W$2:$W$100,F$7),IF(RIGHT(Worksheet!$AN7,5)=\"Total\",SUM(OFFSET(F12,-COUNTIF(Worksheet!$AM$1:$AM$98,Worksheet!$AM7)+1,0,COUNTIF(Worksheet!$AM$1:$AM$98,Worksheet!$AM7)-1)),SUMIFS(Worksheet!$X$2:$X$100,Worksheet!$Z$2:$Z$100,CONCATENATE(Worksheet!$AN7,$B12,F$7)))))","v":""},{"$f":"IF(Worksheet!$AN7=\"\",\"\",IF(Worksheet!$AN7=\"Overall Total\",SUMIFS(Worksheet!$X$2:$X$100,Worksheet!$W$2:$W$100,G$7),IF(RIGHT(Worksheet!$AN7,5)=\"Total\",SUM(OFFSET(G12,-COUNTIF(Worksheet!$AM$1:$AM$98,Worksheet!$AM7)+1,0,COUNTIF(Worksheet!$AM$1:$AM$98,Worksheet!$AM7)-1)),SUMIFS(Worksheet!$X$2:$X$100,Worksheet!$Z$2:$Z$100,CONCATENATE(Worksheet!$AN7,$B12,G$7)))))","v":""},{"$f":"IF(Worksheet!$AN7=\"\",\"\",IF(Worksheet!$AN7=\"Overall Total\",SUMIFS(Worksheet!$X$2:$X$100,Worksheet!$W$2:$W$100,H$7),IF(RIGHT(Worksheet!$AN7,5)=\"Total\",SUM(OFFSET(H12,-COUNTIF(Worksheet!$AM$1:$AM$98,Worksheet!$AM7)+1,0,COUNTIF(Worksheet!$AM$1:$AM$98,Worksheet!$AM7)-1)),SUMIFS(Worksheet!$X$2:$X$100,Worksheet!$Z$2:$Z$100,CONCATENATE(Worksheet!$AN7,$B12,H$7)))))","v":""},{"$f":"IF(Worksheet!$AN7=\"\",\"\",IF(Worksheet!$AN7=\"Overall Total\",SUMIFS(Worksheet!$X$2:$X$100,Worksheet!$W$2:$W$100,I$7),IF(RIGHT(Worksheet!$AN7,5)=\"Total\",SUM(OFFSET(I12,-COUNTIF(Worksheet!$AM$1:$AM$98,Worksheet!$AM7)+1,0,COUNTIF(Worksheet!$AM$1:$AM$98,Worksheet!$AM7)-1)),SUMIFS(Worksheet!$X$2:$X$100,Worksheet!$Z$2:$Z$100,CONCATENATE(Worksheet!$AN7,$B12,I$7)))))","v":""},{"$f":"IF(Worksheet!$AN7=\"\",\"\",IF(Worksheet!$AN7=\"Overall Total\",SUMIFS(Worksheet!$X$2:$X$100,Worksheet!$W$2:$W$100,J$7),IF(RIGHT(Worksheet!$AN7,5)=\"Total\",SUM(OFFSET(J12,-COUNTIF(Worksheet!$AM$1:$AM$98,Worksheet!$AM7)+1,0,COUNTIF(Worksheet!$AM$1:$AM$98,Worksheet!$AM7)-1)),SUMIFS(Worksheet!$X$2:$X$100,Worksheet!$Z$2:$Z$100,CONCATENATE(Worksheet!$AN7,$B12,J$7)))))","v":""},{"$f":"IF(Worksheet!$AN7=\"\",\"\",IF(Worksheet!$AN7=\"Overall Total\",SUMIFS(Worksheet!$X$2:$X$100,Worksheet!$W$2:$W$100,K$7),IF(RIGHT(Worksheet!$AN7,5)=\"Total\",SUM(OFFSET(K12,-COUNTIF(Worksheet!$AM$1:$AM$98,Worksheet!$AM7)+1,0,COUNTIF(Worksheet!$AM$1:$AM$98,Worksheet!$AM7)-1)),SUMIFS(Worksheet!$X$2:$X$100,Worksheet!$Z$2:$Z$100,CONCATENATE(Worksheet!$AN7,$B12,K$7)))))","v":""},{"$f":"IF(Worksheet!$AN7=\"\",\"\",IF(Worksheet!$AN7=\"Overall Total\",SUMIFS(Worksheet!$X$2:$X$100,Worksheet!$W$2:$W$100,L$7),IF(RIGHT(Worksheet!$AN7,5)=\"Total\",SUM(OFFSET(L12,-COUNTIF(Worksheet!$AM$1:$AM$98,Worksheet!$AM7)+1,0,COUNTIF(Worksheet!$AM$1:$AM$98,Worksheet!$AM7)-1)),SUMIFS(Worksheet!$X$2:$X$100,Worksheet!$Z$2:$Z$100,CONCATENATE(Worksheet!$AN7,$B12,L$7)))))","v":""},{"$f":"IF(Worksheet!$AN7=\"\",\"\",IF(Worksheet!$AN7=\"Overall Total\",SUMIFS(Worksheet!$X$2:$X$100,Worksheet!$W$2:$W$100,M$7),IF(RIGHT(Worksheet!$AN7,5)=\"Total\",SUM(OFFSET(M12,-COUNTIF(Worksheet!$AM$1:$AM$98,Worksheet!$AM7)+1,0,COUNTIF(Worksheet!$AM$1:$AM$98,Worksheet!$AM7)-1)),SUMIFS(Worksheet!$X$2:$X$100,Worksheet!$Z$2:$Z$100,CONCATENATE(Worksheet!$AN7,$B12,M$7)))))","v":""},{"$f":"IF(Worksheet!$AN7=\"\",\"\",IF(Worksheet!$AN7=\"Overall Total\",$N$1,IF(RIGHT(Worksheet!$AN7,5)=\"Total\",SUM(OFFSET(N12,-COUNTIF(Worksheet!$AM$1:$AM$98,Worksheet!$AM7)+1,0,COUNTIF(Worksheet!$AM$1:$AM$98,Worksheet!$AM7)-1)),SUM(D12:M12))))","v":""}]
[{"$f":"IF(Worksheet!AN8=Worksheet!AN7,\"\",Worksheet!AN8)","v":""},{"$f":"IF(OR(Worksheet!AL8=\"\",Worksheet!AN7=\"\"),\"\",IF(RIGHT(Worksheet!AN8,5)=\"Total\",\"\",OFFSET(Worksheet!$AE$1,Worksheet!AL8,0)))","v":""},null,{"$f":"IF(Worksheet!$AN8=\"\",\"\",IF(Worksheet!$AN8=\"Overall Total\",SUMIFS(Worksheet!$X$2:$X$100,Worksheet!$W$2:$W$100,D$7),IF(RIGHT(Worksheet!$AN8,5)=\"Total\",SUM(OFFSET(D13,-COUNTIF(Worksheet!$AM$1:$AM$98,Worksheet!$AM8)+1,0,COUNTIF(Worksheet!$AM$1:$AM$98,Worksheet!$AM8)-1)),SUMIFS(Worksheet!$X$2:$X$100,Worksheet!$Z$2:$Z$100,CONCATENATE(Worksheet!$AN8,$B13,D$7)))))","v":""},{"$f":"IF(Worksheet!$AN8=\"\",\"\",IF(Worksheet!$AN8=\"Overall Total\",SUMIFS(Worksheet!$X$2:$X$100,Worksheet!$W$2:$W$100,E$7),IF(RIGHT(Worksheet!$AN8,5)=\"Total\",SUM(OFFSET(E13,-COUNTIF(Worksheet!$AM$1:$AM$98,Worksheet!$AM8)+1,0,COUNTIF(Worksheet!$AM$1:$AM$98,Worksheet!$AM8)-1)),SUMIFS(Worksheet!$X$2:$X$100,Worksheet!$Z$2:$Z$100,CONCATENATE(Worksheet!$AN8,$B13,E$7)))))","v":""},{"$f":"IF(Worksheet!$AN8=\"\",\"\",IF(Worksheet!$AN8=\"Overall Total\",SUMIFS(Worksheet!$X$2:$X$100,Worksheet!$W$2:$W$100,F$7),IF(RIGHT(Worksheet!$AN8,5)=\"Total\",SUM(OFFSET(F13,-COUNTIF(Worksheet!$AM$1:$AM$98,Worksheet!$AM8)+1,0,COUNTIF(Worksheet!$AM$1:$AM$98,Worksheet!$AM8)-1)),SUMIFS(Worksheet!$X$2:$X$100,Worksheet!$Z$2:$Z$100,CONCATENATE(Worksheet!$AN8,$B13,F$7)))))","v":""},{"$f":"IF(Worksheet!$AN8=\"\",\"\",IF(Worksheet!$AN8=\"Overall Total\",SUMIFS(Worksheet!$X$2:$X$100,Worksheet!$W$2:$W$100,G$7),IF(RIGHT(Worksheet!$AN8,5)=\"Total\",SUM(OFFSET(G13,-COUNTIF(Worksheet!$AM$1:$AM$98,Worksheet!$AM8)+1,0,COUNTIF(Worksheet!$AM$1:$AM$98,Worksheet!$AM8)-1)),SUMIFS(Worksheet!$X$2:$X$100,Worksheet!$Z$2:$Z$100,CONCATENATE(Worksheet!$AN8,$B13,G$7)))))","v":""},{"$f":"IF(Worksheet!$AN8=\"\",\"\",IF(Worksheet!$AN8=\"Overall Total\",SUMIFS(Worksheet!$X$2:$X$100,Worksheet!$W$2:$W$100,H$7),IF(RIGHT(Worksheet!$AN8,5)=\"Total\",SUM(OFFSET(H13,-COUNTIF(Worksheet!$AM$1:$AM$98,Worksheet!$AM8)+1,0,COUNTIF(Worksheet!$AM$1:$AM$98,Worksheet!$AM8)-1)),SUMIFS(Worksheet!$X$2:$X$100,Worksheet!$Z$2:$Z$100,CONCATENATE(Worksheet!$AN8,$B13,H$7)))))","v":""},{"$f":"IF(Worksheet!$AN8=\"\",\"\",IF(Worksheet!$AN8=\"Overall Total\",SUMIFS(Worksheet!$X$2:$X$100,Worksheet!$W$2:$W$100,I$7),IF(RIGHT(Worksheet!$AN8,5)=\"Total\",SUM(OFFSET(I13,-COUNTIF(Worksheet!$AM$1:$AM$98,Worksheet!$AM8)+1,0,COUNTIF(Worksheet!$AM$1:$AM$98,Worksheet!$AM8)-1)),SUMIFS(Worksheet!$X$2:$X$100,Worksheet!$Z$2:$Z$100,CONCATENATE(Worksheet!$AN8,$B13,I$7)))))","v":""},{"$f":"IF(Worksheet!$AN8=\"\",\"\",IF(Worksheet!$AN8=\"Overall Total\",SUMIFS(Worksheet!$X$2:$X$100,Worksheet!$W$2:$W$100,J$7),IF(RIGHT(Worksheet!$AN8,5)=\"Total\",SUM(OFFSET(J13,-COUNTIF(Worksheet!$AM$1:$AM$98,Worksheet!$AM8)+1,0,COUNTIF(Worksheet!$AM$1:$AM$98,Worksheet!$AM8)-1)),SUMIFS(Worksheet!$X$2:$X$100,Worksheet!$Z$2:$Z$100,CONCATENATE(Worksheet!$AN8,$B13,J$7)))))","v":""},{"$f":"IF(Worksheet!$AN8=\"\",\"\",IF(Worksheet!$AN8=\"Overall Total\",SUMIFS(Worksheet!$X$2:$X$100,Worksheet!$W$2:$W$100,K$7),IF(RIGHT(Worksheet!$AN8,5)=\"Total\",SUM(OFFSET(K13,-COUNTIF(Worksheet!$AM$1:$AM$98,Worksheet!$AM8)+1,0,COUNTIF(Worksheet!$AM$1:$AM$98,Worksheet!$AM8)-1)),SUMIFS(Worksheet!$X$2:$X$100,Worksheet!$Z$2:$Z$100,CONCATENATE(Worksheet!$AN8,$B13,K$7)))))","v":""},{"$f":"IF(Worksheet!$AN8=\"\",\"\",IF(Worksheet!$AN8=\"Overall Total\",SUMIFS(Worksheet!$X$2:$X$100,Worksheet!$W$2:$W$100,L$7),IF(RIGHT(Worksheet!$AN8,5)=\"Total\",SUM(OFFSET(L13,-COUNTIF(Worksheet!$AM$1:$AM$98,Worksheet!$AM8)+1,0,COUNTIF(Worksheet!$AM$1:$AM$98,Worksheet!$AM8)-1)),SUMIFS(Worksheet!$X$2:$X$100,Worksheet!$Z$2:$Z$100,CONCATENATE(Worksheet!$AN8,$B13,L$7)))))","v":""},{"$f":"IF(Worksheet!$AN8=\"\",\"\",IF(Worksheet!$AN8=\"Overall Total\",SUMIFS(Worksheet!$X$2:$X$100,Worksheet!$W$2:$W$100,M$7),IF(RIGHT(Worksheet!$AN8,5)=\"Total\",SUM(OFFSET(M13,-COUNTIF(Worksheet!$AM$1:$AM$98,Worksheet!$AM8)+1,0,COUNTIF(Worksheet!$AM$1:$AM$98,Worksheet!$AM8)-1)),SUMIFS(Worksheet!$X$2:$X$100,Worksheet!$Z$2:$Z$100,CONCATENATE(Worksheet!$AN8,$B13,M$7)))))","v":""},{"$f":"IF(Worksheet!$AN8=\"\",\"\",IF(Worksheet!$AN8=\"Overall Total\",$N$1,IF(RIGHT(Worksheet!$AN8,5)=\"Total\",SUM(OFFSET(N13,-COUNTIF(Worksheet!$AM$1:$AM$98,Worksheet!$AM8)+1,0,COUNTIF(Worksheet!$AM$1:$AM$98,Worksheet!$AM8)-1)),SUM(D13:M13))))","v":""}]
[{"$f":"IF(Worksheet!AN9=Worksheet!AN8,\"\",Worksheet!AN9)","v":""},{"$f":"IF(OR(Worksheet!AL9=\"\",Worksheet!AN8=\"\"),\"\",IF(RIGHT(Worksheet!AN9,5)=\"Total\",\"\",OFFSET(Worksheet!$AE$1,Worksheet!AL9,0)))","v":""},null,{"$f":"IF(Worksheet!$AN9=\"\",\"\",IF(Worksheet!$AN9=\"Overall Total\",SUMIFS(Worksheet!$X$2:$X$100,Worksheet!$W$2:$W$100,D$7),IF(RIGHT(Worksheet!$AN9,5)=\"Total\",SUM(OFFSET(D14,-COUNTIF(Worksheet!$AM$1:$AM$98,Worksheet!$AM9)+1,0,COUNTIF(Worksheet!$AM$1:$AM$98,Worksheet!$AM9)-1)),SUMIFS(Worksheet!$X$2:$X$100,Worksheet!$Z$2:$Z$100,CONCATENATE(Worksheet!$AN9,$B14,D$7)))))","v":""},{"$f":"IF(Worksheet!$AN9=\"\",\"\",IF(Worksheet!$AN9=\"Overall Total\",SUMIFS(Worksheet!$X$2:$X$100,Worksheet!$W$2:$W$100,E$7),IF(RIGHT(Worksheet!$AN9,5)=\"Total\",SUM(OFFSET(E14,-COUNTIF(Worksheet!$AM$1:$AM$98,Worksheet!$AM9)+1,0,COUNTIF(Worksheet!$AM$1:$AM$98,Worksheet!$AM9)-1)),SUMIFS(Worksheet!$X$2:$X$100,Worksheet!$Z$2:$Z$100,CONCATENATE(Worksheet!$AN9,$B14,E$7)))))","v":""},{"$f":"IF(Worksheet!$AN9=\"\",\"\",IF(Worksheet!$AN9=\"Overall Total\",SUMIFS(Worksheet!$X$2:$X$100,Worksheet!$W$2:$W$100,F$7),IF(RIGHT(Worksheet!$AN9,5)=\"Total\",SUM(OFFSET(F14,-COUNTIF(Worksheet!$AM$1:$AM$98,Worksheet!$AM9)+1,0,COUNTIF(Worksheet!$AM$1:$AM$98,Worksheet!$AM9)-1)),SUMIFS(Worksheet!$X$2:$X$100,Worksheet!$Z$2:$Z$100,CONCATENATE(Worksheet!$AN9,$B14,F$7)))))","v":""},{"$f":"IF(Worksheet!$AN9=\"\",\"\",IF(Worksheet!$AN9=\"Overall Total\",SUMIFS(Worksheet!$X$2:$X$100,Worksheet!$W$2:$W$100,G$7),IF(RIGHT(Worksheet!$AN9,5)=\"Total\",SUM(OFFSET(G14,-COUNTIF(Worksheet!$AM$1:$AM$98,Worksheet!$AM9)+1,0,COUNTIF(Worksheet!$AM$1:$AM$98,Worksheet!$AM9)-1)),SUMIFS(Worksheet!$X$2:$X$100,Worksheet!$Z$2:$Z$100,CONCATENATE(Worksheet!$AN9,$B14,G$7)))))","v":""},{"$f":"IF(Worksheet!$AN9=\"\",\"\",IF(Worksheet!$AN9=\"Overall Total\",SUMIFS(Worksheet!$X$2:$X$100,Worksheet!$W$2:$W$100,H$7),IF(RIGHT(Worksheet!$AN9,5)=\"Total\",SUM(OFFSET(H14,-COUNTIF(Worksheet!$AM$1:$AM$98,Worksheet!$AM9)+1,0,COUNTIF(Worksheet!$AM$1:$AM$98,Worksheet!$AM9)-1)),SUMIFS(Worksheet!$X$2:$X$100,Worksheet!$Z$2:$Z$100,CONCATENATE(Worksheet!$AN9,$B14,H$7)))))","v":""},{"$f":"IF(Worksheet!$AN9=\"\",\"\",IF(Worksheet!$AN9=\"Overall Total\",SUMIFS(Worksheet!$X$2:$X$100,Worksheet!$W$2:$W$100,I$7),IF(RIGHT(Worksheet!$AN9,5)=\"Total\",SUM(OFFSET(I14,-COUNTIF(Worksheet!$AM$1:$AM$98,Worksheet!$AM9)+1,0,COUNTIF(Worksheet!$AM$1:$AM$98,Worksheet!$AM9)-1)),SUMIFS(Worksheet!$X$2:$X$100,Worksheet!$Z$2:$Z$100,CONCATENATE(Worksheet!$AN9,$B14,I$7)))))","v":""},{"$f":"IF(Worksheet!$AN9=\"\",\"\",IF(Worksheet!$AN9=\"Overall Total\",SUMIFS(Worksheet!$X$2:$X$100,Worksheet!$W$2:$W$100,J$7),IF(RIGHT(Worksheet!$AN9,5)=\"Total\",SUM(OFFSET(J14,-COUNTIF(Worksheet!$AM$1:$AM$98,Worksheet!$AM9)+1,0,COUNTIF(Worksheet!$AM$1:$AM$98,Worksheet!$AM9)-1)),SUMIFS(Worksheet!$X$2:$X$100,Worksheet!$Z$2:$Z$100,CONCATENATE(Worksheet!$AN9,$B14,J$7)))))","v":""},{"$f":"IF(Worksheet!$AN9=\"\",\"\",IF(Worksheet!$AN9=\"Overall Total\",SUMIFS(Worksheet!$X$2:$X$100,Worksheet!$W$2:$W$100,K$7),IF(RIGHT(Worksheet!$AN9,5)=\"Total\",SUM(OFFSET(K14,-COUNTIF(Worksheet!$AM$1:$AM$98,Worksheet!$AM9)+1,0,COUNTIF(Worksheet!$AM$1:$AM$98,Worksheet!$AM9)-1)),SUMIFS(Worksheet!$X$2:$X$100,Worksheet!$Z$2:$Z$100,CONCATENATE(Worksheet!$AN9,$B14,K$7)))))","v":""},{"$f":"IF(Worksheet!$AN9=\"\",\"\",IF(Worksheet!$AN9=\"Overall Total\",SUMIFS(Worksheet!$X$2:$X$100,Worksheet!$W$2:$W$100,L$7),IF(RIGHT(Worksheet!$AN9,5)=\"Total\",SUM(OFFSET(L14,-COUNTIF(Worksheet!$AM$1:$AM$98,Worksheet!$AM9)+1,0,COUNTIF(Worksheet!$AM$1:$AM$98,Worksheet!$AM9)-1)),SUMIFS(Worksheet!$X$2:$X$100,Worksheet!$Z$2:$Z$100,CONCATENATE(Worksheet!$AN9,$B14,L$7)))))","v":""},{"$f":"IF(Worksheet!$AN9=\"\",\"\",IF(Worksheet!$AN9=\"Overall Total\",SUMIFS(Worksheet!$X$2:$X$100,Worksheet!$W$2:$W$100,M$7),IF(RIGHT(Worksheet!$AN9,5)=\"Total\",SUM(OFFSET(M14,-COUNTIF(Worksheet!$AM$1:$AM$98,Worksheet!$AM9)+1,0,COUNTIF(Worksheet!$AM$1:$AM$98,Worksheet!$AM9)-1)),SUMIFS(Worksheet!$X$2:$X$100,Worksheet!$Z$2:$Z$100,CONCATENATE(Worksheet!$AN9,$B14,M$7)))))","v":""},{"$f":"IF(Worksheet!$AN9=\"\",\"\",IF(Worksheet!$AN9=\"Overall Total\",$N$1,IF(RIGHT(Worksheet!$AN9,5)=\"Total\",SUM(OFFSET(N14,-COUNTIF(Worksheet!$AM$1:$AM$98,Worksheet!$AM9)+1,0,COUNTIF(Worksheet!$AM$1:$AM$98,Worksheet!$AM9)-1)),SUM(D14:M14))))","v":""}]
[{"$f":"IF(Worksheet!AN10=Worksheet!AN9,\"\",Worksheet!AN10)","v":""},{"$f":"IF(OR(Worksheet!AL10=\"\",Worksheet!AN9=\"\"),\"\",IF(RIGHT(Worksheet!AN10,5)=\"Total\",\"\",OFFSET(Worksheet!$AE$1,Worksheet!AL10,0)))","v":""},null,{"$f":"IF(Worksheet!$AN10=\"\",\"\",IF(Worksheet!$AN10=\"Overall Total\",SUMIFS(Worksheet!$X$2:$X$100,Worksheet!$W$2:$W$100,D$7),IF(RIGHT(Worksheet!$AN10,5)=\"Total\",SUM(OFFSET(D15,-COUNTIF(Worksheet!$AM$1:$AM$98,Worksheet!$AM10)+1,0,COUNTIF(Worksheet!$AM$1:$AM$98,Worksheet!$AM10)-1)),SUMIFS(Worksheet!$X$2:$X$100,Worksheet!$Z$2:$Z$100,CONCATENATE(Worksheet!$AN10,$B15,D$7)))))","v":""},{"$f":"IF(Worksheet!$AN10=\"\",\"\",IF(Worksheet!$AN10=\"Overall Total\",SUMIFS(Worksheet!$X$2:$X$100,Worksheet!$W$2:$W$100,E$7),IF(RIGHT(Worksheet!$AN10,5)=\"Total\",SUM(OFFSET(E15,-COUNTIF(Worksheet!$AM$1:$AM$98,Worksheet!$AM10)+1,0,COUNTIF(Worksheet!$AM$1:$AM$98,Worksheet!$AM10)-1)),SUMIFS(Worksheet!$X$2:$X$100,Worksheet!$Z$2:$Z$100,CONCATENATE(Worksheet!$AN10,$B15,E$7)))))","v":""},{"$f":"IF(Worksheet!$AN10=\"\",\"\",IF(Worksheet!$AN10=\"Overall Total\",SUMIFS(Worksheet!$X$2:$X$100,Worksheet!$W$2:$W$100,F$7),IF(RIGHT(Worksheet!$AN10,5)=\"Total\",SUM(OFFSET(F15,-COUNTIF(Worksheet!$AM$1:$AM$98,Worksheet!$AM10)+1,0,COUNTIF(Worksheet!$AM$1:$AM$98,Worksheet!$AM10)-1)),SUMIFS(Worksheet!$X$2:$X$100,Worksheet!$Z$2:$Z$100,CONCATENATE(Worksheet!$AN10,$B15,F$7)))))","v":""},{"$f":"IF(Worksheet!$AN10=\"\",\"\",IF(Worksheet!$AN10=\"Overall Total\",SUMIFS(Worksheet!$X$2:$X$100,Worksheet!$W$2:$W$100,G$7),IF(RIGHT(Worksheet!$AN10,5)=\"Total\",SUM(OFFSET(G15,-COUNTIF(Worksheet!$AM$1:$AM$98,Worksheet!$AM10)+1,0,COUNTIF(Worksheet!$AM$1:$AM$98,Worksheet!$AM10)-1)),SUMIFS(Worksheet!$X$2:$X$100,Worksheet!$Z$2:$Z$100,CONCATENATE(Worksheet!$AN10,$B15,G$7)))))","v":""},{"$f":"IF(Worksheet!$AN10=\"\",\"\",IF(Worksheet!$AN10=\"Overall Total\",SUMIFS(Worksheet!$X$2:$X$100,Worksheet!$W$2:$W$100,H$7),IF(RIGHT(Worksheet!$AN10,5)=\"Total\",SUM(OFFSET(H15,-COUNTIF(Worksheet!$AM$1:$AM$98,Worksheet!$AM10)+1,0,COUNTIF(Worksheet!$AM$1:$AM$98,Worksheet!$AM10)-1)),SUMIFS(Worksheet!$X$2:$X$100,Worksheet!$Z$2:$Z$100,CONCATENATE(Worksheet!$AN10,$B15,H$7)))))","v":""},{"$f":"IF(Worksheet!$AN10=\"\",\"\",IF(Worksheet!$AN10=\"Overall Total\",SUMIFS(Worksheet!$X$2:$X$100,Worksheet!$W$2:$W$100,I$7),IF(RIGHT(Worksheet!$AN10,5)=\"Total\",SUM(OFFSET(I15,-COUNTIF(Worksheet!$AM$1:$AM$98,Worksheet!$AM10)+1,0,COUNTIF(Worksheet!$AM$1:$AM$98,Worksheet!$AM10)-1)),SUMIFS(Worksheet!$X$2:$X$100,Worksheet!$Z$2:$Z$100,CONCATENATE(Worksheet!$AN10,$B15,I$7)))))","v":""},{"$f":"IF(Worksheet!$AN10=\"\",\"\",IF(Worksheet!$AN10=\"Overall Total\",SUMIFS(Worksheet!$X$2:$X$100,Worksheet!$W$2:$W$100,J$7),IF(RIGHT(Worksheet!$AN10,5)=\"Total\",SUM(OFFSET(J15,-COUNTIF(Worksheet!$AM$1:$AM$98,Worksheet!$AM10)+1,0,COUNTIF(Worksheet!$AM$1:$AM$98,Worksheet!$AM10)-1)),SUMIFS(Worksheet!$X$2:$X$100,Worksheet!$Z$2:$Z$100,CONCATENATE(Worksheet!$AN10,$B15,J$7)))))","v":""},{"$f":"IF(Worksheet!$AN10=\"\",\"\",IF(Worksheet!$AN10=\"Overall Total\",SUMIFS(Worksheet!$X$2:$X$100,Worksheet!$W$2:$W$100,K$7),IF(RIGHT(Worksheet!$AN10,5)=\"Total\",SUM(OFFSET(K15,-COUNTIF(Worksheet!$AM$1:$AM$98,Worksheet!$AM10)+1,0,COUNTIF(Worksheet!$AM$1:$AM$98,Worksheet!$AM10)-1)),SUMIFS(Worksheet!$X$2:$X$100,Worksheet!$Z$2:$Z$100,CONCATENATE(Worksheet!$AN10,$B15,K$7)))))","v":""},{"$f":"IF(Worksheet!$AN10=\"\",\"\",IF(Worksheet!$AN10=\"Overall Total\",SUMIFS(Worksheet!$X$2:$X$100,Worksheet!$W$2:$W$100,L$7),IF(RIGHT(Worksheet!$AN10,5)=\"Total\",SUM(OFFSET(L15,-COUNTIF(Worksheet!$AM$1:$AM$98,Worksheet!$AM10)+1,0,COUNTIF(Worksheet!$AM$1:$AM$98,Worksheet!$AM10)-1)),SUMIFS(Worksheet!$X$2:$X$100,Worksheet!$Z$2:$Z$100,CONCATENATE(Worksheet!$AN10,$B15,L$7)))))","v":""},{"$f":"IF(Worksheet!$AN10=\"\",\"\",IF(Worksheet!$AN10=\"Overall Total\",SUMIFS(Worksheet!$X$2:$X$100,Worksheet!$W$2:$W$100,M$7),IF(RIGHT(Worksheet!$AN10,5)=\"Total\",SUM(OFFSET(M15,-COUNTIF(Worksheet!$AM$1:$AM$98,Worksheet!$AM10)+1,0,COUNTIF(Worksheet!$AM$1:$AM$98,Worksheet!$AM10)-1)),SUMIFS(Worksheet!$X$2:$X$100,Worksheet!$Z$2:$Z$100,CONCATENATE(Worksheet!$AN10,$B15,M$7)))))","v":""},{"$f":"IF(Worksheet!$AN10=\"\",\"\",IF(Worksheet!$AN10=\"Overall Total\",$N$1,IF(RIGHT(Worksheet!$AN10,5)=\"Total\",SUM(OFFSET(N15,-COUNTIF(Worksheet!$AM$1:$AM$98,Worksheet!$AM10)+1,0,COUNTIF(Worksheet!$AM$1:$AM$98,Worksheet!$AM10)-1)),SUM(D15:M15))))","v":""}]
[{"$f":"IF(Worksheet!AN11=Worksheet!AN10,\"\",Worksheet!AN11)","v":""},{"$f":"IF(OR(Worksheet!AL11=\"\",Worksheet!AN10=\"\"),\"\",IF(RIGHT(Worksheet!AN11,5)=\"Total\",\"\",OFFSET(Worksheet!$AE$1,Worksheet!AL11,0)))","v":""},null,{"$f":"IF(Worksheet!$AN11=\"\",\"\",IF(Worksheet!$AN11=\"Overall Total\",SUMIFS(Worksheet!$X$2:$X$100,Worksheet!$W$2:$W$100,D$7),IF(RIGHT(Worksheet!$AN11,5)=\"Total\",SUM(OFFSET(D16,-COUNTIF(Worksheet!$AM$1:$AM$98,Worksheet!$AM11)+1,0,COUNTIF(Worksheet!$AM$1:$AM$98,Worksheet!$AM11)-1)),SUMIFS(Worksheet!$X$2:$X$100,Worksheet!$Z$2:$Z$100,CONCATENATE(Worksheet!$AN11,$B16,D$7)))))","v":""},{"$f":"IF(Worksheet!$AN11=\"\",\"\",IF(Worksheet!$AN11=\"Overall Total\",SUMIFS(Worksheet!$X$2:$X$100,Worksheet!$W$2:$W$100,E$7),IF(RIGHT(Worksheet!$AN11,5)=\"Total\",SUM(OFFSET(E16,-COUNTIF(Worksheet!$AM$1:$AM$98,Worksheet!$AM11)+1,0,COUNTIF(Worksheet!$AM$1:$AM$98,Worksheet!$AM11)-1)),SUMIFS(Worksheet!$X$2:$X$100,Worksheet!$Z$2:$Z$100,CONCATENATE(Worksheet!$AN11,$B16,E$7)))))","v":""},{"$f":"IF(Worksheet!$AN11=\"\",\"\",IF(Worksheet!$AN11=\"Overall Total\",SUMIFS(Worksheet!$X$2:$X$100,Worksheet!$W$2:$W$100,F$7),IF(RIGHT(Worksheet!$AN11,5)=\"Total\",SUM(OFFSET(F16,-COUNTIF(Worksheet!$AM$1:$AM$98,Worksheet!$AM11)+1,0,COUNTIF(Worksheet!$AM$1:$AM$98,Worksheet!$AM11)-1)),SUMIFS(Worksheet!$X$2:$X$100,Worksheet!$Z$2:$Z$100,CONCATENATE(Worksheet!$AN11,$B16,F$7)))))","v":""},{"$f":"IF(Worksheet!$AN11=\"\",\"\",IF(Worksheet!$AN11=\"Overall Total\",SUMIFS(Worksheet!$X$2:$X$100,Worksheet!$W$2:$W$100,G$7),IF(RIGHT(Worksheet!$AN11,5)=\"Total\",SUM(OFFSET(G16,-COUNTIF(Worksheet!$AM$1:$AM$98,Worksheet!$AM11)+1,0,COUNTIF(Worksheet!$AM$1:$AM$98,Worksheet!$AM11)-1)),SUMIFS(Worksheet!$X$2:$X$100,Worksheet!$Z$2:$Z$100,CONCATENATE(Worksheet!$AN11,$B16,G$7)))))","v":""},{"$f":"IF(Worksheet!$AN11=\"\",\"\",IF(Worksheet!$AN11=\"Overall Total\",SUMIFS(Worksheet!$X$2:$X$100,Worksheet!$W$2:$W$100,H$7),IF(RIGHT(Worksheet!$AN11,5)=\"Total\",SUM(OFFSET(H16,-COUNTIF(Worksheet!$AM$1:$AM$98,Worksheet!$AM11)+1,0,COUNTIF(Worksheet!$AM$1:$AM$98,Worksheet!$AM11)-1)),SUMIFS(Worksheet!$X$2:$X$100,Worksheet!$Z$2:$Z$100,CONCATENATE(Worksheet!$AN11,$B16,H$7)))))","v":""},{"$f":"IF(Worksheet!$AN11=\"\",\"\",IF(Worksheet!$AN11=\"Overall Total\",SUMIFS(Worksheet!$X$2:$X$100,Worksheet!$W$2:$W$100,I$7),IF(RIGHT(Worksheet!$AN11,5)=\"Total\",SUM(OFFSET(I16,-COUNTIF(Worksheet!$AM$1:$AM$98,Worksheet!$AM11)+1,0,COUNTIF(Worksheet!$AM$1:$AM$98,Worksheet!$AM11)-1)),SUMIFS(Worksheet!$X$2:$X$100,Worksheet!$Z$2:$Z$100,CONCATENATE(Worksheet!$AN11,$B16,I$7)))))","v":""},{"$f":"IF(Worksheet!$AN11=\"\",\"\",IF(Worksheet!$AN11=\"Overall Total\",SUMIFS(Worksheet!$X$2:$X$100,Worksheet!$W$2:$W$100,J$7),IF(RIGHT(Worksheet!$AN11,5)=\"Total\",SUM(OFFSET(J16,-COUNTIF(Worksheet!$AM$1:$AM$98,Worksheet!$AM11)+1,0,COUNTIF(Worksheet!$AM$1:$AM$98,Worksheet!$AM11)-1)),SUMIFS(Worksheet!$X$2:$X$100,Worksheet!$Z$2:$Z$100,CONCATENATE(Worksheet!$AN11,$B16,J$7)))))","v":""},{"$f":"IF(Worksheet!$AN11=\"\",\"\",IF(Worksheet!$AN11=\"Overall Total\",SUMIFS(Worksheet!$X$2:$X$100,Worksheet!$W$2:$W$100,K$7),IF(RIGHT(Worksheet!$AN11,5)=\"Total\",SUM(OFFSET(K16,-COUNTIF(Worksheet!$AM$1:$AM$98,Worksheet!$AM11)+1,0,COUNTIF(Worksheet!$AM$1:$AM$98,Worksheet!$AM11)-1)),SUMIFS(Worksheet!$X$2:$X$100,Worksheet!$Z$2:$Z$100,CONCATENATE(Worksheet!$AN11,$B16,K$7)))))","v":""},{"$f":"IF(Worksheet!$AN11=\"\",\"\",IF(Worksheet!$AN11=\"Overall Total\",SUMIFS(Worksheet!$X$2:$X$100,Worksheet!$W$2:$W$100,L$7),IF(RIGHT(Worksheet!$AN11,5)=\"Total\",SUM(OFFSET(L16,-COUNTIF(Worksheet!$AM$1:$AM$98,Worksheet!$AM11)+1,0,COUNTIF(Worksheet!$AM$1:$AM$98,Worksheet!$AM11)-1)),SUMIFS(Worksheet!$X$2:$X$100,Worksheet!$Z$2:$Z$100,CONCATENATE(Worksheet!$AN11,$B16,L$7)))))","v":""},{"$f":"IF(Worksheet!$AN11=\"\",\"\",IF(Worksheet!$AN11=\"Overall Total\",SUMIFS(Worksheet!$X$2:$X$100,Worksheet!$W$2:$W$100,M$7),IF(RIGHT(Worksheet!$AN11,5)=\"Total\",SUM(OFFSET(M16,-COUNTIF(Worksheet!$AM$1:$AM$98,Worksheet!$AM11)+1,0,COUNTIF(Worksheet!$AM$1:$AM$98,Worksheet!$AM11)-1)),SUMIFS(Worksheet!$X$2:$X$100,Worksheet!$Z$2:$Z$100,CONCATENATE(Worksheet!$AN11,$B16,M$7)))))","v":""},{"$f":"IF(Worksheet!$AN11=\"\",\"\",IF(Worksheet!$AN11=\"Overall Total\",$N$1,IF(RIGHT(Worksheet!$AN11,5)=\"Total\",SUM(OFFSET(N16,-COUNTIF(Worksheet!$AM$1:$AM$98,Worksheet!$AM11)+1,0,COUNTIF(Worksheet!$AM$1:$AM$98,Worksheet!$AM11)-1)),SUM(D16:M16))))","v":""}]
[{"$f":"IF(Worksheet!AN12=Worksheet!AN11,\"\",Worksheet!AN12)","v":""},{"$f":"IF(OR(Worksheet!AL12=\"\",Worksheet!AN11=\"\"),\"\",IF(RIGHT(Worksheet!AN12,5)=\"Total\",\"\",OFFSET(Worksheet!$AE$1,Worksheet!AL12,0)))","v":""},null,{"$f":"IF(Worksheet!$AN12=\"\",\"\",IF(Worksheet!$AN12=\"Overall Total\",SUMIFS(Worksheet!$X$2:$X$100,Worksheet!$W$2:$W$100,D$7),IF(RIGHT(Worksheet!$AN12,5)=\"Total\",SUM(OFFSET(D17,-COUNTIF(Worksheet!$AM$1:$AM$98,Worksheet!$AM12)+1,0,COUNTIF(Worksheet!$AM$1:$AM$98,Worksheet!$AM12)-1)),SUMIFS(Worksheet!$X$2:$X$100,Worksheet!$Z$2:$Z$100,CONCATENATE(Worksheet!$AN12,$B17,D$7)))))","v":""},{"$f":"IF(Worksheet!$AN12=\"\",\"\",IF(Worksheet!$AN12=\"Overall Total\",SUMIFS(Worksheet!$X$2:$X$100,Worksheet!$W$2:$W$100,E$7),IF(RIGHT(Worksheet!$AN12,5)=\"Total\",SUM(OFFSET(E17,-COUNTIF(Worksheet!$AM$1:$AM$98,Worksheet!$AM12)+1,0,COUNTIF(Worksheet!$AM$1:$AM$98,Worksheet!$AM12)-1)),SUMIFS(Worksheet!$X$2:$X$100,Worksheet!$Z$2:$Z$100,CONCATENATE(Worksheet!$AN12,$B17,E$7)))))","v":""},{"$f":"IF(Worksheet!$AN12=\"\",\"\",IF(Worksheet!$AN12=\"Overall Total\",SUMIFS(Worksheet!$X$2:$X$100,Worksheet!$W$2:$W$100,F$7),IF(RIGHT(Worksheet!$AN12,5)=\"Total\",SUM(OFFSET(F17,-COUNTIF(Worksheet!$AM$1:$AM$98,Worksheet!$AM12)+1,0,COUNTIF(Worksheet!$AM$1:$AM$98,Worksheet!$AM12)-1)),SUMIFS(Worksheet!$X$2:$X$100,Worksheet!$Z$2:$Z$100,CONCATENATE(Worksheet!$AN12,$B17,F$7)))))","v":""},{"$f":"IF(Worksheet!$AN12=\"\",\"\",IF(Worksheet!$AN12=\"Overall Total\",SUMIFS(Worksheet!$X$2:$X$100,Worksheet!$W$2:$W$100,G$7),IF(RIGHT(Worksheet!$AN12,5)=\"Total\",SUM(OFFSET(G17,-COUNTIF(Worksheet!$AM$1:$AM$98,Worksheet!$AM12)+1,0,COUNTIF(Worksheet!$AM$1:$AM$98,Worksheet!$AM12)-1)),SUMIFS(Worksheet!$X$2:$X$100,Worksheet!$Z$2:$Z$100,CONCATENATE(Worksheet!$AN12,$B17,G$7)))))","v":""},{"$f":"IF(Worksheet!$AN12=\"\",\"\",IF(Worksheet!$AN12=\"Overall Total\",SUMIFS(Worksheet!$X$2:$X$100,Worksheet!$W$2:$W$100,H$7),IF(RIGHT(Worksheet!$AN12,5)=\"Total\",SUM(OFFSET(H17,-COUNTIF(Worksheet!$AM$1:$AM$98,Worksheet!$AM12)+1,0,COUNTIF(Worksheet!$AM$1:$AM$98,Worksheet!$AM12)-1)),SUMIFS(Worksheet!$X$2:$X$100,Worksheet!$Z$2:$Z$100,CONCATENATE(Worksheet!$AN12,$B17,H$7)))))","v":""},{"$f":"IF(Worksheet!$AN12=\"\",\"\",IF(Worksheet!$AN12=\"Overall Total\",SUMIFS(Worksheet!$X$2:$X$100,Worksheet!$W$2:$W$100,I$7),IF(RIGHT(Worksheet!$AN12,5)=\"Total\",SUM(OFFSET(I17,-COUNTIF(Worksheet!$AM$1:$AM$98,Worksheet!$AM12)+1,0,COUNTIF(Worksheet!$AM$1:$AM$98,Worksheet!$AM12)-1)),SUMIFS(Worksheet!$X$2:$X$100,Worksheet!$Z$2:$Z$100,CONCATENATE(Worksheet!$AN12,$B17,I$7)))))","v":""},{"$f":"IF(Worksheet!$AN12=\"\",\"\",IF(Worksheet!$AN12=\"Overall Total\",SUMIFS(Worksheet!$X$2:$X$100,Worksheet!$W$2:$W$100,J$7),IF(RIGHT(Worksheet!$AN12,5)=\"Total\",SUM(OFFSET(J17,-COUNTIF(Worksheet!$AM$1:$AM$98,Worksheet!$AM12)+1,0,COUNTIF(Worksheet!$AM$1:$AM$98,Worksheet!$AM12)-1)),SUMIFS(Worksheet!$X$2:$X$100,Worksheet!$Z$2:$Z$100,CONCATENATE(Worksheet!$AN12,$B17,J$7)))))","v":""},{"$f":"IF(Worksheet!$AN12=\"\",\"\",IF(Worksheet!$AN12=\"Overall Total\",SUMIFS(Worksheet!$X$2:$X$100,Worksheet!$W$2:$W$100,K$7),IF(RIGHT(Worksheet!$AN12,5)=\"Total\",SUM(OFFSET(K17,-COUNTIF(Worksheet!$AM$1:$AM$98,Worksheet!$AM12)+1,0,COUNTIF(Worksheet!$AM$1:$AM$98,Worksheet!$AM12)-1)),SUMIFS(Worksheet!$X$2:$X$100,Worksheet!$Z$2:$Z$100,CONCATENATE(Worksheet!$AN12,$B17,K$7)))))","v":""},{"$f":"IF(Worksheet!$AN12=\"\",\"\",IF(Worksheet!$AN12=\"Overall Total\",SUMIFS(Worksheet!$X$2:$X$100,Worksheet!$W$2:$W$100,L$7),IF(RIGHT(Worksheet!$AN12,5)=\"Total\",SUM(OFFSET(L17,-COUNTIF(Worksheet!$AM$1:$AM$98,Worksheet!$AM12)+1,0,COUNTIF(Worksheet!$AM$1:$AM$98,Worksheet!$AM12)-1)),SUMIFS(Worksheet!$X$2:$X$100,Worksheet!$Z$2:$Z$100,CONCATENATE(Worksheet!$AN12,$B17,L$7)))))","v":""},{"$f":"IF(Worksheet!$AN12=\"\",\"\",IF(Worksheet!$AN12=\"Overall Total\",SUMIFS(Worksheet!$X$2:$X$100,Worksheet!$W$2:$W$100,M$7),IF(RIGHT(Worksheet!$AN12,5)=\"Total\",SUM(OFFSET(M17,-COUNTIF(Worksheet!$AM$1:$AM$98,Worksheet!$AM12)+1,0,COUNTIF(Worksheet!$AM$1:$AM$98,Worksheet!$AM12)-1)),SUMIFS(Worksheet!$X$2:$X$100,Worksheet!$Z$2:$Z$100,CONCATENATE(Worksheet!$AN12,$B17,M$7)))))","v":""},{"$f":"IF(Worksheet!$AN12=\"\",\"\",IF(Worksheet!$AN12=\"Overall Total\",$N$1,IF(RIGHT(Worksheet!$AN12,5)=\"Total\",SUM(OFFSET(N17,-COUNTIF(Worksheet!$AM$1:$AM$98,Worksheet!$AM12)+1,0,COUNTIF(Worksheet!$AM$1:$AM$98,Worksheet!$AM12)-1)),SUM(D17:M17))))","v":""}]
[{"$f":"IF(Worksheet!AN13=Worksheet!AN12,\"\",Worksheet!AN13)","v":""},{"$f":"IF(OR(Worksheet!AL13=\"\",Worksheet!AN12=\"\"),\"\",IF(RIGHT(Worksheet!AN13,5)=\"Total\",\"\",OFFSET(Worksheet!$AE$1,Worksheet!AL13,0)))","v":""},null,{"$f":"IF(Worksheet!$AN13=\"\",\"\",IF(Worksheet!$AN13=\"Overall Total\",SUMIFS(Worksheet!$X$2:$X$100,Worksheet!$W$2:$W$100,D$7),IF(RIGHT(Worksheet!$AN13,5)=\"Total\",SUM(OFFSET(D18,-COUNTIF(Worksheet!$AM$1:$AM$98,Worksheet!$AM13)+1,0,COUNTIF(Worksheet!$AM$1:$AM$98,Worksheet!$AM13)-1)),SUMIFS(Worksheet!$X$2:$X$100,Worksheet!$Z$2:$Z$100,CONCATENATE(Worksheet!$AN13,$B18,D$7)))))","v":""},{"$f":"IF(Worksheet!$AN13=\"\",\"\",IF(Worksheet!$AN13=\"Overall Total\",SUMIFS(Worksheet!$X$2:$X$100,Worksheet!$W$2:$W$100,E$7),IF(RIGHT(Worksheet!$AN13,5)=\"Total\",SUM(OFFSET(E18,-COUNTIF(Worksheet!$AM$1:$AM$98,Worksheet!$AM13)+1,0,COUNTIF(Worksheet!$AM$1:$AM$98,Worksheet!$AM13)-1)),SUMIFS(Worksheet!$X$2:$X$100,Worksheet!$Z$2:$Z$100,CONCATENATE(Worksheet!$AN13,$B18,E$7)))))","v":""},{"$f":"IF(Worksheet!$AN13=\"\",\"\",IF(Worksheet!$AN13=\"Overall Total\",SUMIFS(Worksheet!$X$2:$X$100,Worksheet!$W$2:$W$100,F$7),IF(RIGHT(Worksheet!$AN13,5)=\"Total\",SUM(OFFSET(F18,-COUNTIF(Worksheet!$AM$1:$AM$98,Worksheet!$AM13)+1,0,COUNTIF(Worksheet!$AM$1:$AM$98,Worksheet!$AM13)-1)),SUMIFS(Worksheet!$X$2:$X$100,Worksheet!$Z$2:$Z$100,CONCATENATE(Worksheet!$AN13,$B18,F$7)))))","v":""},{"$f":"IF(Worksheet!$AN13=\"\",\"\",IF(Worksheet!$AN13=\"Overall Total\",SUMIFS(Worksheet!$X$2:$X$100,Worksheet!$W$2:$W$100,G$7),IF(RIGHT(Worksheet!$AN13,5)=\"Total\",SUM(OFFSET(G18,-COUNTIF(Worksheet!$AM$1:$AM$98,Worksheet!$AM13)+1,0,COUNTIF(Worksheet!$AM$1:$AM$98,Worksheet!$AM13)-1)),SUMIFS(Worksheet!$X$2:$X$100,Worksheet!$Z$2:$Z$100,CONCATENATE(Worksheet!$AN13,$B18,G$7)))))","v":""},{"$f":"IF(Worksheet!$AN13=\"\",\"\",IF(Worksheet!$AN13=\"Overall Total\",SUMIFS(Worksheet!$X$2:$X$100,Worksheet!$W$2:$W$100,H$7),IF(RIGHT(Worksheet!$AN13,5)=\"Total\",SUM(OFFSET(H18,-COUNTIF(Worksheet!$AM$1:$AM$98,Worksheet!$AM13)+1,0,COUNTIF(Worksheet!$AM$1:$AM$98,Worksheet!$AM13)-1)),SUMIFS(Worksheet!$X$2:$X$100,Worksheet!$Z$2:$Z$100,CONCATENATE(Worksheet!$AN13,$B18,H$7)))))","v":""},{"$f":"IF(Worksheet!$AN13=\"\",\"\",IF(Worksheet!$AN13=\"Overall Total\",SUMIFS(Worksheet!$X$2:$X$100,Worksheet!$W$2:$W$100,I$7),IF(RIGHT(Worksheet!$AN13,5)=\"Total\",SUM(OFFSET(I18,-COUNTIF(Worksheet!$AM$1:$AM$98,Worksheet!$AM13)+1,0,COUNTIF(Worksheet!$AM$1:$AM$98,Worksheet!$AM13)-1)),SUMIFS(Worksheet!$X$2:$X$100,Worksheet!$Z$2:$Z$100,CONCATENATE(Worksheet!$AN13,$B18,I$7)))))","v":""},{"$f":"IF(Worksheet!$AN13=\"\",\"\",IF(Worksheet!$AN13=\"Overall Total\",SUMIFS(Worksheet!$X$2:$X$100,Worksheet!$W$2:$W$100,J$7),IF(RIGHT(Worksheet!$AN13,5)=\"Total\",SUM(OFFSET(J18,-COUNTIF(Worksheet!$AM$1:$AM$98,Worksheet!$AM13)+1,0,COUNTIF(Worksheet!$AM$1:$AM$98,Worksheet!$AM13)-1)),SUMIFS(Worksheet!$X$2:$X$100,Worksheet!$Z$2:$Z$100,CONCATENATE(Worksheet!$AN13,$B18,J$7)))))","v":""},{"$f":"IF(Worksheet!$AN13=\"\",\"\",IF(Worksheet!$AN13=\"Overall Total\",SUMIFS(Worksheet!$X$2:$X$100,Worksheet!$W$2:$W$100,K$7),IF(RIGHT(Worksheet!$AN13,5)=\"Total\",SUM(OFFSET(K18,-COUNTIF(Worksheet!$AM$1:$AM$98,Worksheet!$AM13)+1,0,COUNTIF(Worksheet!$AM$1:$AM$98,Worksheet!$AM13)-1)),SUMIFS(Worksheet!$X$2:$X$100,Worksheet!$Z$2:$Z$100,CONCATENATE(Worksheet!$AN13,$B18,K$7)))))","v":""},{"$f":"IF(Worksheet!$AN13=\"\",\"\",IF(Worksheet!$AN13=\"Overall Total\",SUMIFS(Worksheet!$X$2:$X$100,Worksheet!$W$2:$W$100,L$7),IF(RIGHT(Worksheet!$AN13,5)=\"Total\",SUM(OFFSET(L18,-COUNTIF(Worksheet!$AM$1:$AM$98,Worksheet!$AM13)+1,0,COUNTIF(Worksheet!$AM$1:$AM$98,Worksheet!$AM13)-1)),SUMIFS(Worksheet!$X$2:$X$100,Worksheet!$Z$2:$Z$100,CONCATENATE(Worksheet!$AN13,$B18,L$7)))))","v":""},{"$f":"IF(Worksheet!$AN13=\"\",\"\",IF(Worksheet!$AN13=\"Overall Total\",SUMIFS(Worksheet!$X$2:$X$100,Worksheet!$W$2:$W$100,M$7),IF(RIGHT(Worksheet!$AN13,5)=\"Total\",SUM(OFFSET(M18,-COUNTIF(Worksheet!$AM$1:$AM$98,Worksheet!$AM13)+1,0,COUNTIF(Worksheet!$AM$1:$AM$98,Worksheet!$AM13)-1)),SUMIFS(Worksheet!$X$2:$X$100,Worksheet!$Z$2:$Z$100,CONCATENATE(Worksheet!$AN13,$B18,M$7)))))","v":""},{"$f":"IF(Worksheet!$AN13=\"\",\"\",IF(Worksheet!$AN13=\"Overall Total\",$N$1,IF(RIGHT(Worksheet!$AN13,5)=\"Total\",SUM(OFFSET(N18,-COUNTIF(Worksheet!$AM$1:$AM$98,Worksheet!$AM13)+1,0,COUNTIF(Worksheet!$AM$1:$AM$98,Worksheet!$AM13)-1)),SUM(D18:M18))))","v":""}]
[{"$f":"IF(Worksheet!AN14=Worksheet!AN13,\"\",Worksheet!AN14)","v":""},{"$f":"IF(OR(Worksheet!AL14=\"\",Worksheet!AN13=\"\"),\"\",IF(RIGHT(Worksheet!AN14,5)=\"Total\",\"\",OFFSET(Worksheet!$AE$1,Worksheet!AL14,0)))","v":""},null,{"$f":"IF(Worksheet!$AN14=\"\",\"\",IF(Worksheet!$AN14=\"Overall Total\",SUMIFS(Worksheet!$X$2:$X$100,Worksheet!$W$2:$W$100,D$7),IF(RIGHT(Worksheet!$AN14,5)=\"Total\",SUM(OFFSET(D19,-COUNTIF(Worksheet!$AM$1:$AM$98,Worksheet!$AM14)+1,0,COUNTIF(Worksheet!$AM$1:$AM$98,Worksheet!$AM14)-1)),SUMIFS(Worksheet!$X$2:$X$100,Worksheet!$Z$2:$Z$100,CONCATENATE(Worksheet!$AN14,$B19,D$7)))))","v":""},{"$f":"IF(Worksheet!$AN14=\"\",\"\",IF(Worksheet!$AN14=\"Overall Total\",SUMIFS(Worksheet!$X$2:$X$100,Worksheet!$W$2:$W$100,E$7),IF(RIGHT(Worksheet!$AN14,5)=\"Total\",SUM(OFFSET(E19,-COUNTIF(Worksheet!$AM$1:$AM$98,Worksheet!$AM14)+1,0,COUNTIF(Worksheet!$AM$1:$AM$98,Worksheet!$AM14)-1)),SUMIFS(Worksheet!$X$2:$X$100,Worksheet!$Z$2:$Z$100,CONCATENATE(Worksheet!$AN14,$B19,E$7)))))","v":""},{"$f":"IF(Worksheet!$AN14=\"\",\"\",IF(Worksheet!$AN14=\"Overall Total\",SUMIFS(Worksheet!$X$2:$X$100,Worksheet!$W$2:$W$100,F$7),IF(RIGHT(Worksheet!$AN14,5)=\"Total\",SUM(OFFSET(F19,-COUNTIF(Worksheet!$AM$1:$AM$98,Worksheet!$AM14)+1,0,COUNTIF(Worksheet!$AM$1:$AM$98,Worksheet!$AM14)-1)),SUMIFS(Worksheet!$X$2:$X$100,Worksheet!$Z$2:$Z$100,CONCATENATE(Worksheet!$AN14,$B19,F$7)))))","v":""},{"$f":"IF(Worksheet!$AN14=\"\",\"\",IF(Worksheet!$AN14=\"Overall Total\",SUMIFS(Worksheet!$X$2:$X$100,Worksheet!$W$2:$W$100,G$7),IF(RIGHT(Worksheet!$AN14,5)=\"Total\",SUM(OFFSET(G19,-COUNTIF(Worksheet!$AM$1:$AM$98,Worksheet!$AM14)+1,0,COUNTIF(Worksheet!$AM$1:$AM$98,Worksheet!$AM14)-1)),SUMIFS(Worksheet!$X$2:$X$100,Worksheet!$Z$2:$Z$100,CONCATENATE(Worksheet!$AN14,$B19,G$7)))))","v":""},{"$f":"IF(Worksheet!$AN14=\"\",\"\",IF(Worksheet!$AN14=\"Overall Total\",SUMIFS(Worksheet!$X$2:$X$100,Worksheet!$W$2:$W$100,H$7),IF(RIGHT(Worksheet!$AN14,5)=\"Total\",SUM(OFFSET(H19,-COUNTIF(Worksheet!$AM$1:$AM$98,Worksheet!$AM14)+1,0,COUNTIF(Worksheet!$AM$1:$AM$98,Worksheet!$AM14)-1)),SUMIFS(Worksheet!$X$2:$X$100,Worksheet!$Z$2:$Z$100,CONCATENATE(Worksheet!$AN14,$B19,H$7)))))","v":""},{"$f":"IF(Worksheet!$AN14=\"\",\"\",IF(Worksheet!$AN14=\"Overall Total\",SUMIFS(Worksheet!$X$2:$X$100,Worksheet!$W$2:$W$100,I$7),IF(RIGHT(Worksheet!$AN14,5)=\"Total\",SUM(OFFSET(I19,-COUNTIF(Worksheet!$AM$1:$AM$98,Worksheet!$AM14)+1,0,COUNTIF(Worksheet!$AM$1:$AM$98,Worksheet!$AM14)-1)),SUMIFS(Worksheet!$X$2:$X$100,Worksheet!$Z$2:$Z$100,CONCATENATE(Worksheet!$AN14,$B19,I$7)))))","v":""},{"$f":"IF(Worksheet!$AN14=\"\",\"\",IF(Worksheet!$AN14=\"Overall Total\",SUMIFS(Worksheet!$X$2:$X$100,Worksheet!$W$2:$W$100,J$7),IF(RIGHT(Worksheet!$AN14,5)=\"Total\",SUM(OFFSET(J19,-COUNTIF(Worksheet!$AM$1:$AM$98,Worksheet!$AM14)+1,0,COUNTIF(Worksheet!$AM$1:$AM$98,Worksheet!$AM14)-1)),SUMIFS(Worksheet!$X$2:$X$100,Worksheet!$Z$2:$Z$100,CONCATENATE(Worksheet!$AN14,$B19,J$7)))))","v":""},{"$f":"IF(Worksheet!$AN14=\"\",\"\",IF(Worksheet!$AN14=\"Overall Total\",SUMIFS(Worksheet!$X$2:$X$100,Worksheet!$W$2:$W$100,K$7),IF(RIGHT(Worksheet!$AN14,5)=\"Total\",SUM(OFFSET(K19,-COUNTIF(Worksheet!$AM$1:$AM$98,Worksheet!$AM14)+1,0,COUNTIF(Worksheet!$AM$1:$AM$98,Worksheet!$AM14)-1)),SUMIFS(Worksheet!$X$2:$X$100,Worksheet!$Z$2:$Z$100,CONCATENATE(Worksheet!$AN14,$B19,K$7)))))","v":""},{"$f":"IF(Worksheet!$AN14=\"\",\"\",IF(Worksheet!$AN14=\"Overall Total\",SUMIFS(Worksheet!$X$2:$X$100,Worksheet!$W$2:$W$100,L$7),IF(RIGHT(Worksheet!$AN14,5)=\"Total\",SUM(OFFSET(L19,-COUNTIF(Worksheet!$AM$1:$AM$98,Worksheet!$AM14)+1,0,COUNTIF(Worksheet!$AM$1:$AM$98,Worksheet!$AM14)-1)),SUMIFS(Worksheet!$X$2:$X$100,Worksheet!$Z$2:$Z$100,CONCATENATE(Worksheet!$AN14,$B19,L$7)))))","v":""},{"$f":"IF(Worksheet!$AN14=\"\",\"\",IF(Worksheet!$AN14=\"Overall Total\",SUMIFS(Worksheet!$X$2:$X$100,Worksheet!$W$2:$W$100,M$7),IF(RIGHT(Worksheet!$AN14,5)=\"Total\",SUM(OFFSET(M19,-COUNTIF(Worksheet!$AM$1:$AM$98,Worksheet!$AM14)+1,0,COUNTIF(Worksheet!$AM$1:$AM$98,Worksheet!$AM14)-1)),SUMIFS(Worksheet!$X$2:$X$100,Worksheet!$Z$2:$Z$100,CONCATENATE(Worksheet!$AN14,$B19,M$7)))))","v":""},{"$f":"IF(Worksheet!$AN14=\"\",\"\",IF(Worksheet!$AN14=\"Overall Total\",$N$1,IF(RIGHT(Worksheet!$AN14,5)=\"Total\",SUM(OFFSET(N19,-COUNTIF(Worksheet!$AM$1:$AM$98,Worksheet!$AM14)+1,0,COUNTIF(Worksheet!$AM$1:$AM$98,Worksheet!$AM14)-1)),SUM(D19:M19))))","v":""}]
[{"$f":"IF(Worksheet!AN15=Worksheet!AN14,\"\",Worksheet!AN15)","v":""},{"$f":"IF(OR(Worksheet!AL15=\"\",Worksheet!AN14=\"\"),\"\",IF(RIGHT(Worksheet!AN15,5)=\"Total\",\"\",OFFSET(Worksheet!$AE$1,Worksheet!AL15,0)))","v":""},null,{"$f":"IF(Worksheet!$AN15=\"\",\"\",IF(Worksheet!$AN15=\"Overall Total\",SUMIFS(Worksheet!$X$2:$X$100,Worksheet!$W$2:$W$100,D$7),IF(RIGHT(Worksheet!$AN15,5)=\"Total\",SUM(OFFSET(D20,-COUNTIF(Worksheet!$AM$1:$AM$98,Worksheet!$AM15)+1,0,COUNTIF(Worksheet!$AM$1:$AM$98,Worksheet!$AM15)-1)),SUMIFS(Worksheet!$X$2:$X$100,Worksheet!$Z$2:$Z$100,CONCATENATE(Worksheet!$AN15,$B20,D$7)))))","v":""},{"$f":"IF(Worksheet!$AN15=\"\",\"\",IF(Worksheet!$AN15=\"Overall Total\",SUMIFS(Worksheet!$X$2:$X$100,Worksheet!$W$2:$W$100,E$7),IF(RIGHT(Worksheet!$AN15,5)=\"Total\",SUM(OFFSET(E20,-COUNTIF(Worksheet!$AM$1:$AM$98,Worksheet!$AM15)+1,0,COUNTIF(Worksheet!$AM$1:$AM$98,Worksheet!$AM15)-1)),SUMIFS(Worksheet!$X$2:$X$100,Worksheet!$Z$2:$Z$100,CONCATENATE(Worksheet!$AN15,$B20,E$7)))))","v":""},{"$f":"IF(Worksheet!$AN15=\"\",\"\",IF(Worksheet!$AN15=\"Overall Total\",SUMIFS(Worksheet!$X$2:$X$100,Worksheet!$W$2:$W$100,F$7),IF(RIGHT(Worksheet!$AN15,5)=\"Total\",SUM(OFFSET(F20,-COUNTIF(Worksheet!$AM$1:$AM$98,Worksheet!$AM15)+1,0,COUNTIF(Worksheet!$AM$1:$AM$98,Worksheet!$AM15)-1)),SUMIFS(Worksheet!$X$2:$X$100,Worksheet!$Z$2:$Z$100,CONCATENATE(Worksheet!$AN15,$B20,F$7)))))","v":""},{"$f":"IF(Worksheet!$AN15=\"\",\"\",IF(Worksheet!$AN15=\"Overall Total\",SUMIFS(Worksheet!$X$2:$X$100,Worksheet!$W$2:$W$100,G$7),IF(RIGHT(Worksheet!$AN15,5)=\"Total\",SUM(OFFSET(G20,-COUNTIF(Worksheet!$AM$1:$AM$98,Worksheet!$AM15)+1,0,COUNTIF(Worksheet!$AM$1:$AM$98,Worksheet!$AM15)-1)),SUMIFS(Worksheet!$X$2:$X$100,Worksheet!$Z$2:$Z$100,CONCATENATE(Worksheet!$AN15,$B20,G$7)))))","v":""},{"$f":"IF(Worksheet!$AN15=\"\",\"\",IF(Worksheet!$AN15=\"Overall Total\",SUMIFS(Worksheet!$X$2:$X$100,Worksheet!$W$2:$W$100,H$7),IF(RIGHT(Worksheet!$AN15,5)=\"Total\",SUM(OFFSET(H20,-COUNTIF(Worksheet!$AM$1:$AM$98,Worksheet!$AM15)+1,0,COUNTIF(Worksheet!$AM$1:$AM$98,Worksheet!$AM15)-1)),SUMIFS(Worksheet!$X$2:$X$100,Worksheet!$Z$2:$Z$100,CONCATENATE(Worksheet!$AN15,$B20,H$7)))))","v":""},{"$f":"IF(Worksheet!$AN15=\"\",\"\",IF(Worksheet!$AN15=\"Overall Total\",SUMIFS(Worksheet!$X$2:$X$100,Worksheet!$W$2:$W$100,I$7),IF(RIGHT(Worksheet!$AN15,5)=\"Total\",SUM(OFFSET(I20,-COUNTIF(Worksheet!$AM$1:$AM$98,Worksheet!$AM15)+1,0,COUNTIF(Worksheet!$AM$1:$AM$98,Worksheet!$AM15)-1)),SUMIFS(Worksheet!$X$2:$X$100,Worksheet!$Z$2:$Z$100,CONCATENATE(Worksheet!$AN15,$B20,I$7)))))","v":""},{"$f":"IF(Worksheet!$AN15=\"\",\"\",IF(Worksheet!$AN15=\"Overall Total\",SUMIFS(Worksheet!$X$2:$X$100,Worksheet!$W$2:$W$100,J$7),IF(RIGHT(Worksheet!$AN15,5)=\"Total\",SUM(OFFSET(J20,-COUNTIF(Worksheet!$AM$1:$AM$98,Worksheet!$AM15)+1,0,COUNTIF(Worksheet!$AM$1:$AM$98,Worksheet!$AM15)-1)),SUMIFS(Worksheet!$X$2:$X$100,Worksheet!$Z$2:$Z$100,CONCATENATE(Worksheet!$AN15,$B20,J$7)))))","v":""},{"$f":"IF(Worksheet!$AN15=\"\",\"\",IF(Worksheet!$AN15=\"Overall Total\",SUMIFS(Worksheet!$X$2:$X$100,Worksheet!$W$2:$W$100,K$7),IF(RIGHT(Worksheet!$AN15,5)=\"Total\",SUM(OFFSET(K20,-COUNTIF(Worksheet!$AM$1:$AM$98,Worksheet!$AM15)+1,0,COUNTIF(Worksheet!$AM$1:$AM$98,Worksheet!$AM15)-1)),SUMIFS(Worksheet!$X$2:$X$100,Worksheet!$Z$2:$Z$100,CONCATENATE(Worksheet!$AN15,$B20,K$7)))))","v":""},{"$f":"IF(Worksheet!$AN15=\"\",\"\",IF(Worksheet!$AN15=\"Overall Total\",SUMIFS(Worksheet!$X$2:$X$100,Worksheet!$W$2:$W$100,L$7),IF(RIGHT(Worksheet!$AN15,5)=\"Total\",SUM(OFFSET(L20,-COUNTIF(Worksheet!$AM$1:$AM$98,Worksheet!$AM15)+1,0,COUNTIF(Worksheet!$AM$1:$AM$98,Worksheet!$AM15)-1)),SUMIFS(Worksheet!$X$2:$X$100,Worksheet!$Z$2:$Z$100,CONCATENATE(Worksheet!$AN15,$B20,L$7)))))","v":""},{"$f":"IF(Worksheet!$AN15=\"\",\"\",IF(Worksheet!$AN15=\"Overall Total\",SUMIFS(Worksheet!$X$2:$X$100,Worksheet!$W$2:$W$100,M$7),IF(RIGHT(Worksheet!$AN15,5)=\"Total\",SUM(OFFSET(M20,-COUNTIF(Worksheet!$AM$1:$AM$98,Worksheet!$AM15)+1,0,COUNTIF(Worksheet!$AM$1:$AM$98,Worksheet!$AM15)-1)),SUMIFS(Worksheet!$X$2:$X$100,Worksheet!$Z$2:$Z$100,CONCATENATE(Worksheet!$AN15,$B20,M$7)))))","v":""},{"$f":"IF(Worksheet!$AN15=\"\",\"\",IF(Worksheet!$AN15=\"Overall Total\",$N$1,IF(RIGHT(Worksheet!$AN15,5)=\"Total\",SUM(OFFSET(N20,-COUNTIF(Worksheet!$AM$1:$AM$98,Worksheet!$AM15)+1,0,COUNTIF(Worksheet!$AM$1:$AM$98,Worksheet!$AM15)-1)),SUM(D20:M20))))","v":""}]
[{"$f":"IF(Worksheet!AN16=Worksheet!AN15,\"\",Worksheet!AN16)","v":""},{"$f":"IF(OR(Worksheet!AL16=\"\",Worksheet!AN15=\"\"),\"\",IF(RIGHT(Worksheet!AN16,5)=\"Total\",\"\",OFFSET(Worksheet!$AE$1,Worksheet!AL16,0)))","v":""},null,{"$f":"IF(Worksheet!$AN16=\"\",\"\",IF(Worksheet!$AN16=\"Overall Total\",SUMIFS(Worksheet!$X$2:$X$100,Worksheet!$W$2:$W$100,D$7),IF(RIGHT(Worksheet!$AN16,5)=\"Total\",SUM(OFFSET(D21,-COUNTIF(Worksheet!$AM$1:$AM$98,Worksheet!$AM16)+1,0,COUNTIF(Worksheet!$AM$1:$AM$98,Worksheet!$AM16)-1)),SUMIFS(Worksheet!$X$2:$X$100,Worksheet!$Z$2:$Z$100,CONCATENATE(Worksheet!$AN16,$B21,D$7)))))","v":""},{"$f":"IF(Worksheet!$AN16=\"\",\"\",IF(Worksheet!$AN16=\"Overall Total\",SUMIFS(Worksheet!$X$2:$X$100,Worksheet!$W$2:$W$100,E$7),IF(RIGHT(Worksheet!$AN16,5)=\"Total\",SUM(OFFSET(E21,-COUNTIF(Worksheet!$AM$1:$AM$98,Worksheet!$AM16)+1,0,COUNTIF(Worksheet!$AM$1:$AM$98,Worksheet!$AM16)-1)),SUMIFS(Worksheet!$X$2:$X$100,Worksheet!$Z$2:$Z$100,CONCATENATE(Worksheet!$AN16,$B21,E$7)))))","v":""},{"$f":"IF(Worksheet!$AN16=\"\",\"\",IF(Worksheet!$AN16=\"Overall Total\",SUMIFS(Worksheet!$X$2:$X$100,Worksheet!$W$2:$W$100,F$7),IF(RIGHT(Worksheet!$AN16,5)=\"Total\",SUM(OFFSET(F21,-COUNTIF(Worksheet!$AM$1:$AM$98,Worksheet!$AM16)+1,0,COUNTIF(Worksheet!$AM$1:$AM$98,Worksheet!$AM16)-1)),SUMIFS(Worksheet!$X$2:$X$100,Worksheet!$Z$2:$Z$100,CONCATENATE(Worksheet!$AN16,$B21,F$7)))))","v":""},{"$f":"IF(Worksheet!$AN16=\"\",\"\",IF(Worksheet!$AN16=\"Overall Total\",SUMIFS(Worksheet!$X$2:$X$100,Worksheet!$W$2:$W$100,G$7),IF(RIGHT(Worksheet!$AN16,5)=\"Total\",SUM(OFFSET(G21,-COUNTIF(Worksheet!$AM$1:$AM$98,Worksheet!$AM16)+1,0,COUNTIF(Worksheet!$AM$1:$AM$98,Worksheet!$AM16)-1)),SUMIFS(Worksheet!$X$2:$X$100,Worksheet!$Z$2:$Z$100,CONCATENATE(Worksheet!$AN16,$B21,G$7)))))","v":""},{"$f":"IF(Worksheet!$AN16=\"\",\"\",IF(Worksheet!$AN16=\"Overall Total\",SUMIFS(Worksheet!$X$2:$X$100,Worksheet!$W$2:$W$100,H$7),IF(RIGHT(Worksheet!$AN16,5)=\"Total\",SUM(OFFSET(H21,-COUNTIF(Worksheet!$AM$1:$AM$98,Worksheet!$AM16)+1,0,COUNTIF(Worksheet!$AM$1:$AM$98,Worksheet!$AM16)-1)),SUMIFS(Worksheet!$X$2:$X$100,Worksheet!$Z$2:$Z$100,CONCATENATE(Worksheet!$AN16,$B21,H$7)))))","v":""},{"$f":"IF(Worksheet!$AN16=\"\",\"\",IF(Worksheet!$AN16=\"Overall Total\",SUMIFS(Worksheet!$X$2:$X$100,Worksheet!$W$2:$W$100,I$7),IF(RIGHT(Worksheet!$AN16,5)=\"Total\",SUM(OFFSET(I21,-COUNTIF(Worksheet!$AM$1:$AM$98,Worksheet!$AM16)+1,0,COUNTIF(Worksheet!$AM$1:$AM$98,Worksheet!$AM16)-1)),SUMIFS(Worksheet!$X$2:$X$100,Worksheet!$Z$2:$Z$100,CONCATENATE(Worksheet!$AN16,$B21,I$7)))))","v":""},{"$f":"IF(Worksheet!$AN16=\"\",\"\",IF(Worksheet!$AN16=\"Overall Total\",SUMIFS(Worksheet!$X$2:$X$100,Worksheet!$W$2:$W$100,J$7),IF(RIGHT(Worksheet!$AN16,5)=\"Total\",SUM(OFFSET(J21,-COUNTIF(Worksheet!$AM$1:$AM$98,Worksheet!$AM16)+1,0,COUNTIF(Worksheet!$AM$1:$AM$98,Worksheet!$AM16)-1)),SUMIFS(Worksheet!$X$2:$X$100,Worksheet!$Z$2:$Z$100,CONCATENATE(Worksheet!$AN16,$B21,J$7)))))","v":""},{"$f":"IF(Worksheet!$AN16=\"\",\"\",IF(Worksheet!$AN16=\"Overall Total\",SUMIFS(Worksheet!$X$2:$X$100,Worksheet!$W$2:$W$100,K$7),IF(RIGHT(Worksheet!$AN16,5)=\"Total\",SUM(OFFSET(K21,-COUNTIF(Worksheet!$AM$1:$AM$98,Worksheet!$AM16)+1,0,COUNTIF(Worksheet!$AM$1:$AM$98,Worksheet!$AM16)-1)),SUMIFS(Worksheet!$X$2:$X$100,Worksheet!$Z$2:$Z$100,CONCATENATE(Worksheet!$AN16,$B21,K$7)))))","v":""},{"$f":"IF(Worksheet!$AN16=\"\",\"\",IF(Worksheet!$AN16=\"Overall Total\",SUMIFS(Worksheet!$X$2:$X$100,Worksheet!$W$2:$W$100,L$7),IF(RIGHT(Worksheet!$AN16,5)=\"Total\",SUM(OFFSET(L21,-COUNTIF(Worksheet!$AM$1:$AM$98,Worksheet!$AM16)+1,0,COUNTIF(Worksheet!$AM$1:$AM$98,Worksheet!$AM16)-1)),SUMIFS(Worksheet!$X$2:$X$100,Worksheet!$Z$2:$Z$100,CONCATENATE(Worksheet!$AN16,$B21,L$7)))))","v":""},{"$f":"IF(Worksheet!$AN16=\"\",\"\",IF(Worksheet!$AN16=\"Overall Total\",SUMIFS(Worksheet!$X$2:$X$100,Worksheet!$W$2:$W$100,M$7),IF(RIGHT(Worksheet!$AN16,5)=\"Total\",SUM(OFFSET(M21,-COUNTIF(Worksheet!$AM$1:$AM$98,Worksheet!$AM16)+1,0,COUNTIF(Worksheet!$AM$1:$AM$98,Worksheet!$AM16)-1)),SUMIFS(Worksheet!$X$2:$X$100,Worksheet!$Z$2:$Z$100,CONCATENATE(Worksheet!$AN16,$B21,M$7)))))","v":""},{"$f":"IF(Worksheet!$AN16=\"\",\"\",IF(Worksheet!$AN16=\"Overall Total\",$N$1,IF(RIGHT(Worksheet!$AN16,5)=\"Total\",SUM(OFFSET(N21,-COUNTIF(Worksheet!$AM$1:$AM$98,Worksheet!$AM16)+1,0,COUNTIF(Worksheet!$AM$1:$AM$98,Worksheet!$AM16)-1)),SUM(D21:M21))))","v":""}]
[{"$f":"IF(Worksheet!AN17=Worksheet!AN16,\"\",Worksheet!AN17)","v":""},{"$f":"IF(OR(Worksheet!AL17=\"\",Worksheet!AN16=\"\"),\"\",IF(RIGHT(Worksheet!AN17,5)=\"Total\",\"\",OFFSET(Worksheet!$AE$1,Worksheet!AL17,0)))","v":""},null,{"$f":"IF(Worksheet!$AN17=\"\",\"\",IF(Worksheet!$AN17=\"Overall Total\",SUMIFS(Worksheet!$X$2:$X$100,Worksheet!$W$2:$W$100,D$7),IF(RIGHT(Worksheet!$AN17,5)=\"Total\",SUM(OFFSET(D22,-COUNTIF(Worksheet!$AM$1:$AM$98,Worksheet!$AM17)+1,0,COUNTIF(Worksheet!$AM$1:$AM$98,Worksheet!$AM17)-1)),SUMIFS(Worksheet!$X$2:$X$100,Worksheet!$Z$2:$Z$100,CONCATENATE(Worksheet!$AN17,$B22,D$7)))))","v":""},{"$f":"IF(Worksheet!$AN17=\"\",\"\",IF(Worksheet!$AN17=\"Overall Total\",SUMIFS(Worksheet!$X$2:$X$100,Worksheet!$W$2:$W$100,E$7),IF(RIGHT(Worksheet!$AN17,5)=\"Total\",SUM(OFFSET(E22,-COUNTIF(Worksheet!$AM$1:$AM$98,Worksheet!$AM17)+1,0,COUNTIF(Worksheet!$AM$1:$AM$98,Worksheet!$AM17)-1)),SUMIFS(Worksheet!$X$2:$X$100,Worksheet!$Z$2:$Z$100,CONCATENATE(Worksheet!$AN17,$B22,E$7)))))","v":""},{"$f":"IF(Worksheet!$AN17=\"\",\"\",IF(Worksheet!$AN17=\"Overall Total\",SUMIFS(Worksheet!$X$2:$X$100,Worksheet!$W$2:$W$100,F$7),IF(RIGHT(Worksheet!$AN17,5)=\"Total\",SUM(OFFSET(F22,-COUNTIF(Worksheet!$AM$1:$AM$98,Worksheet!$AM17)+1,0,COUNTIF(Worksheet!$AM$1:$AM$98,Worksheet!$AM17)-1)),SUMIFS(Worksheet!$X$2:$X$100,Worksheet!$Z$2:$Z$100,CONCATENATE(Worksheet!$AN17,$B22,F$7)))))","v":""},{"$f":"IF(Worksheet!$AN17=\"\",\"\",IF(Worksheet!$AN17=\"Overall Total\",SUMIFS(Worksheet!$X$2:$X$100,Worksheet!$W$2:$W$100,G$7),IF(RIGHT(Worksheet!$AN17,5)=\"Total\",SUM(OFFSET(G22,-COUNTIF(Worksheet!$AM$1:$AM$98,Worksheet!$AM17)+1,0,COUNTIF(Worksheet!$AM$1:$AM$98,Worksheet!$AM17)-1)),SUMIFS(Worksheet!$X$2:$X$100,Worksheet!$Z$2:$Z$100,CONCATENATE(Worksheet!$AN17,$B22,G$7)))))","v":""},{"$f":"IF(Worksheet!$AN17=\"\",\"\",IF(Worksheet!$AN17=\"Overall Total\",SUMIFS(Worksheet!$X$2:$X$100,Worksheet!$W$2:$W$100,H$7),IF(RIGHT(Worksheet!$AN17,5)=\"Total\",SUM(OFFSET(H22,-COUNTIF(Worksheet!$AM$1:$AM$98,Worksheet!$AM17)+1,0,COUNTIF(Worksheet!$AM$1:$AM$98,Worksheet!$AM17)-1)),SUMIFS(Worksheet!$X$2:$X$100,Worksheet!$Z$2:$Z$100,CONCATENATE(Worksheet!$AN17,$B22,H$7)))))","v":""},{"$f":"IF(Worksheet!$AN17=\"\",\"\",IF(Worksheet!$AN17=\"Overall Total\",SUMIFS(Worksheet!$X$2:$X$100,Worksheet!$W$2:$W$100,I$7),IF(RIGHT(Worksheet!$AN17,5)=\"Total\",SUM(OFFSET(I22,-COUNTIF(Worksheet!$AM$1:$AM$98,Worksheet!$AM17)+1,0,COUNTIF(Worksheet!$AM$1:$AM$98,Worksheet!$AM17)-1)),SUMIFS(Worksheet!$X$2:$X$100,Worksheet!$Z$2:$Z$100,CONCATENATE(Worksheet!$AN17,$B22,I$7)))))","v":""},{"$f":"IF(Worksheet!$AN17=\"\",\"\",IF(Worksheet!$AN17=\"Overall Total\",SUMIFS(Worksheet!$X$2:$X$100,Worksheet!$W$2:$W$100,J$7),IF(RIGHT(Worksheet!$AN17,5)=\"Total\",SUM(OFFSET(J22,-COUNTIF(Worksheet!$AM$1:$AM$98,Worksheet!$AM17)+1,0,COUNTIF(Worksheet!$AM$1:$AM$98,Worksheet!$AM17)-1)),SUMIFS(Worksheet!$X$2:$X$100,Worksheet!$Z$2:$Z$100,CONCATENATE(Worksheet!$AN17,$B22,J$7)))))","v":""},{"$f":"IF(Worksheet!$AN17=\"\",\"\",IF(Worksheet!$AN17=\"Overall Total\",SUMIFS(Worksheet!$X$2:$X$100,Worksheet!$W$2:$W$100,K$7),IF(RIGHT(Worksheet!$AN17,5)=\"Total\",SUM(OFFSET(K22,-COUNTIF(Worksheet!$AM$1:$AM$98,Worksheet!$AM17)+1,0,COUNTIF(Worksheet!$AM$1:$AM$98,Worksheet!$AM17)-1)),SUMIFS(Worksheet!$X$2:$X$100,Worksheet!$Z$2:$Z$100,CONCATENATE(Worksheet!$AN17,$B22,K$7)))))","v":""},{"$f":"IF(Worksheet!$AN17=\"\",\"\",IF(Worksheet!$AN17=\"Overall Total\",SUMIFS(Worksheet!$X$2:$X$100,Worksheet!$W$2:$W$100,L$7),IF(RIGHT(Worksheet!$AN17,5)=\"Total\",SUM(OFFSET(L22,-COUNTIF(Worksheet!$AM$1:$AM$98,Worksheet!$AM17)+1,0,COUNTIF(Worksheet!$AM$1:$AM$98,Worksheet!$AM17)-1)),SUMIFS(Worksheet!$X$2:$X$100,Worksheet!$Z$2:$Z$100,CONCATENATE(Worksheet!$AN17,$B22,L$7)))))","v":""},{"$f":"IF(Worksheet!$AN17=\"\",\"\",IF(Worksheet!$AN17=\"Overall Total\",SUMIFS(Worksheet!$X$2:$X$100,Worksheet!$W$2:$W$100,M$7),IF(RIGHT(Worksheet!$AN17,5)=\"Total\",SUM(OFFSET(M22,-COUNTIF(Worksheet!$AM$1:$AM$98,Worksheet!$AM17)+1,0,COUNTIF(Worksheet!$AM$1:$AM$98,Worksheet!$AM17)-1)),SUMIFS(Worksheet!$X$2:$X$100,Worksheet!$Z$2:$Z$100,CONCATENATE(Worksheet!$AN17,$B22,M$7)))))","v":""},{"$f":"IF(Worksheet!$AN17=\"\",\"\",IF(Worksheet!$AN17=\"Overall Total\",$N$1,IF(RIGHT(Worksheet!$AN17,5)=\"Total\",SUM(OFFSET(N22,-COUNTIF(Worksheet!$AM$1:$AM$98,Worksheet!$AM17)+1,0,COUNTIF(Worksheet!$AM$1:$AM$98,Worksheet!$AM17)-1)),SUM(D22:M22))))","v":""}]
[{"$f":"IF(Worksheet!AN18=Worksheet!AN17,\"\",Worksheet!AN18)","v":""},{"$f":"IF(OR(Worksheet!AL18=\"\",Worksheet!AN17=\"\"),\"\",IF(RIGHT(Worksheet!AN18,5)=\"Total\",\"\",OFFSET(Worksheet!$AE$1,Worksheet!AL18,0)))","v":""},null,{"$f":"IF(Worksheet!$AN18=\"\",\"\",IF(Worksheet!$AN18=\"Overall Total\",SUMIFS(Worksheet!$X$2:$X$100,Worksheet!$W$2:$W$100,D$7),IF(RIGHT(Worksheet!$AN18,5)=\"Total\",SUM(OFFSET(D23,-COUNTIF(Worksheet!$AM$1:$AM$98,Worksheet!$AM18)+1,0,COUNTIF(Worksheet!$AM$1:$AM$98,Worksheet!$AM18)-1)),SUMIFS(Worksheet!$X$2:$X$100,Worksheet!$Z$2:$Z$100,CONCATENATE(Worksheet!$AN18,$B23,D$7)))))","v":""},{"$f":"IF(Worksheet!$AN18=\"\",\"\",IF(Worksheet!$AN18=\"Overall Total\",SUMIFS(Worksheet!$X$2:$X$100,Worksheet!$W$2:$W$100,E$7),IF(RIGHT(Worksheet!$AN18,5)=\"Total\",SUM(OFFSET(E23,-COUNTIF(Worksheet!$AM$1:$AM$98,Worksheet!$AM18)+1,0,COUNTIF(Worksheet!$AM$1:$AM$98,Worksheet!$AM18)-1)),SUMIFS(Worksheet!$X$2:$X$100,Worksheet!$Z$2:$Z$100,CONCATENATE(Worksheet!$AN18,$B23,E$7)))))","v":""},{"$f":"IF(Worksheet!$AN18=\"\",\"\",IF(Worksheet!$AN18=\"Overall Total\",SUMIFS(Worksheet!$X$2:$X$100,Worksheet!$W$2:$W$100,F$7),IF(RIGHT(Worksheet!$AN18,5)=\"Total\",SUM(OFFSET(F23,-COUNTIF(Worksheet!$AM$1:$AM$98,Worksheet!$AM18)+1,0,COUNTIF(Worksheet!$AM$1:$AM$98,Worksheet!$AM18)-1)),SUMIFS(Worksheet!$X$2:$X$100,Worksheet!$Z$2:$Z$100,CONCATENATE(Worksheet!$AN18,$B23,F$7)))))","v":""},{"$f":"IF(Worksheet!$AN18=\"\",\"\",IF(Worksheet!$AN18=\"Overall Total\",SUMIFS(Worksheet!$X$2:$X$100,Worksheet!$W$2:$W$100,G$7),IF(RIGHT(Worksheet!$AN18,5)=\"Total\",SUM(OFFSET(G23,-COUNTIF(Worksheet!$AM$1:$AM$98,Worksheet!$AM18)+1,0,COUNTIF(Worksheet!$AM$1:$AM$98,Worksheet!$AM18)-1)),SUMIFS(Worksheet!$X$2:$X$100,Worksheet!$Z$2:$Z$100,CONCATENATE(Worksheet!$AN18,$B23,G$7)))))","v":""},{"$f":"IF(Worksheet!$AN18=\"\",\"\",IF(Worksheet!$AN18=\"Overall Total\",SUMIFS(Worksheet!$X$2:$X$100,Worksheet!$W$2:$W$100,H$7),IF(RIGHT(Worksheet!$AN18,5)=\"Total\",SUM(OFFSET(H23,-COUNTIF(Worksheet!$AM$1:$AM$98,Worksheet!$AM18)+1,0,COUNTIF(Worksheet!$AM$1:$AM$98,Worksheet!$AM18)-1)),SUMIFS(Worksheet!$X$2:$X$100,Worksheet!$Z$2:$Z$100,CONCATENATE(Worksheet!$AN18,$B23,H$7)))))","v":""},{"$f":"IF(Worksheet!$AN18=\"\",\"\",IF(Worksheet!$AN18=\"Overall Total\",SUMIFS(Worksheet!$X$2:$X$100,Worksheet!$W$2:$W$100,I$7),IF(RIGHT(Worksheet!$AN18,5)=\"Total\",SUM(OFFSET(I23,-COUNTIF(Worksheet!$AM$1:$AM$98,Worksheet!$AM18)+1,0,COUNTIF(Worksheet!$AM$1:$AM$98,Worksheet!$AM18)-1)),SUMIFS(Worksheet!$X$2:$X$100,Worksheet!$Z$2:$Z$100,CONCATENATE(Worksheet!$AN18,$B23,I$7)))))","v":""},{"$f":"IF(Worksheet!$AN18=\"\",\"\",IF(Worksheet!$AN18=\"Overall Total\",SUMIFS(Worksheet!$X$2:$X$100,Worksheet!$W$2:$W$100,J$7),IF(RIGHT(Worksheet!$AN18,5)=\"Total\",SUM(OFFSET(J23,-COUNTIF(Worksheet!$AM$1:$AM$98,Worksheet!$AM18)+1,0,COUNTIF(Worksheet!$AM$1:$AM$98,Worksheet!$AM18)-1)),SUMIFS(Worksheet!$X$2:$X$100,Worksheet!$Z$2:$Z$100,CONCATENATE(Worksheet!$AN18,$B23,J$7)))))","v":""},{"$f":"IF(Worksheet!$AN18=\"\",\"\",IF(Worksheet!$AN18=\"Overall Total\",SUMIFS(Worksheet!$X$2:$X$100,Worksheet!$W$2:$W$100,K$7),IF(RIGHT(Worksheet!$AN18,5)=\"Total\",SUM(OFFSET(K23,-COUNTIF(Worksheet!$AM$1:$AM$98,Worksheet!$AM18)+1,0,COUNTIF(Worksheet!$AM$1:$AM$98,Worksheet!$AM18)-1)),SUMIFS(Worksheet!$X$2:$X$100,Worksheet!$Z$2:$Z$100,CONCATENATE(Worksheet!$AN18,$B23,K$7)))))","v":""},{"$f":"IF(Worksheet!$AN18=\"\",\"\",IF(Worksheet!$AN18=\"Overall Total\",SUMIFS(Worksheet!$X$2:$X$100,Worksheet!$W$2:$W$100,L$7),IF(RIGHT(Worksheet!$AN18,5)=\"Total\",SUM(OFFSET(L23,-COUNTIF(Worksheet!$AM$1:$AM$98,Worksheet!$AM18)+1,0,COUNTIF(Worksheet!$AM$1:$AM$98,Worksheet!$AM18)-1)),SUMIFS(Worksheet!$X$2:$X$100,Worksheet!$Z$2:$Z$100,CONCATENATE(Worksheet!$AN18,$B23,L$7)))))","v":""},{"$f":"IF(Worksheet!$AN18=\"\",\"\",IF(Worksheet!$AN18=\"Overall Total\",SUMIFS(Worksheet!$X$2:$X$100,Worksheet!$W$2:$W$100,M$7),IF(RIGHT(Worksheet!$AN18,5)=\"Total\",SUM(OFFSET(M23,-COUNTIF(Worksheet!$AM$1:$AM$98,Worksheet!$AM18)+1,0,COUNTIF(Worksheet!$AM$1:$AM$98,Worksheet!$AM18)-1)),SUMIFS(Worksheet!$X$2:$X$100,Worksheet!$Z$2:$Z$100,CONCATENATE(Worksheet!$AN18,$B23,M$7)))))","v":""},{"$f":"IF(Worksheet!$AN18=\"\",\"\",IF(Worksheet!$AN18=\"Overall Total\",$N$1,IF(RIGHT(Worksheet!$AN18,5)=\"Total\",SUM(OFFSET(N23,-COUNTIF(Worksheet!$AM$1:$AM$98,Worksheet!$AM18)+1,0,COUNTIF(Worksheet!$AM$1:$AM$98,Worksheet!$AM18)-1)),SUM(D23:M23))))","v":""}]
[{"$f":"IF(Worksheet!AN19=Worksheet!AN18,\"\",Worksheet!AN19)","v":""},{"$f":"IF(OR(Worksheet!AL19=\"\",Worksheet!AN18=\"\"),\"\",IF(RIGHT(Worksheet!AN19,5)=\"Total\",\"\",OFFSET(Worksheet!$AE$1,Worksheet!AL19,0)))","v":""},null,{"$f":"IF(Worksheet!$AN19=\"\",\"\",IF(Worksheet!$AN19=\"Overall Total\",SUMIFS(Worksheet!$X$2:$X$100,Worksheet!$W$2:$W$100,D$7),IF(RIGHT(Worksheet!$AN19,5)=\"Total\",SUM(OFFSET(D24,-COUNTIF(Worksheet!$AM$1:$AM$98,Worksheet!$AM19)+1,0,COUNTIF(Worksheet!$AM$1:$AM$98,Worksheet!$AM19)-1)),SUMIFS(Worksheet!$X$2:$X$100,Worksheet!$Z$2:$Z$100,CONCATENATE(Worksheet!$AN19,$B24,D$7)))))","v":""},{"$f":"IF(Worksheet!$AN19=\"\",\"\",IF(Worksheet!$AN19=\"Overall Total\",SUMIFS(Worksheet!$X$2:$X$100,Worksheet!$W$2:$W$100,E$7),IF(RIGHT(Worksheet!$AN19,5)=\"Total\",SUM(OFFSET(E24,-COUNTIF(Worksheet!$AM$1:$AM$98,Worksheet!$AM19)+1,0,COUNTIF(Worksheet!$AM$1:$AM$98,Worksheet!$AM19)-1)),SUMIFS(Worksheet!$X$2:$X$100,Worksheet!$Z$2:$Z$100,CONCATENATE(Worksheet!$AN19,$B24,E$7)))))","v":""},{"$f":"IF(Worksheet!$AN19=\"\",\"\",IF(Worksheet!$AN19=\"Overall Total\",SUMIFS(Worksheet!$X$2:$X$100,Worksheet!$W$2:$W$100,F$7),IF(RIGHT(Worksheet!$AN19,5)=\"Total\",SUM(OFFSET(F24,-COUNTIF(Worksheet!$AM$1:$AM$98,Worksheet!$AM19)+1,0,COUNTIF(Worksheet!$AM$1:$AM$98,Worksheet!$AM19)-1)),SUMIFS(Worksheet!$X$2:$X$100,Worksheet!$Z$2:$Z$100,CONCATENATE(Worksheet!$AN19,$B24,F$7)))))","v":""},{"$f":"IF(Worksheet!$AN19=\"\",\"\",IF(Worksheet!$AN19=\"Overall Total\",SUMIFS(Worksheet!$X$2:$X$100,Worksheet!$W$2:$W$100,G$7),IF(RIGHT(Worksheet!$AN19,5)=\"Total\",SUM(OFFSET(G24,-COUNTIF(Worksheet!$AM$1:$AM$98,Worksheet!$AM19)+1,0,COUNTIF(Worksheet!$AM$1:$AM$98,Worksheet!$AM19)-1)),SUMIFS(Worksheet!$X$2:$X$100,Worksheet!$Z$2:$Z$100,CONCATENATE(Worksheet!$AN19,$B24,G$7)))))","v":""},{"$f":"IF(Worksheet!$AN19=\"\",\"\",IF(Worksheet!$AN19=\"Overall Total\",SUMIFS(Worksheet!$X$2:$X$100,Worksheet!$W$2:$W$100,H$7),IF(RIGHT(Worksheet!$AN19,5)=\"Total\",SUM(OFFSET(H24,-COUNTIF(Worksheet!$AM$1:$AM$98,Worksheet!$AM19)+1,0,COUNTIF(Worksheet!$AM$1:$AM$98,Worksheet!$AM19)-1)),SUMIFS(Worksheet!$X$2:$X$100,Worksheet!$Z$2:$Z$100,CONCATENATE(Worksheet!$AN19,$B24,H$7)))))","v":""},{"$f":"IF(Worksheet!$AN19=\"\",\"\",IF(Worksheet!$AN19=\"Overall Total\",SUMIFS(Worksheet!$X$2:$X$100,Worksheet!$W$2:$W$100,I$7),IF(RIGHT(Worksheet!$AN19,5)=\"Total\",SUM(OFFSET(I24,-COUNTIF(Worksheet!$AM$1:$AM$98,Worksheet!$AM19)+1,0,COUNTIF(Worksheet!$AM$1:$AM$98,Worksheet!$AM19)-1)),SUMIFS(Worksheet!$X$2:$X$100,Worksheet!$Z$2:$Z$100,CONCATENATE(Worksheet!$AN19,$B24,I$7)))))","v":""},{"$f":"IF(Worksheet!$AN19=\"\",\"\",IF(Worksheet!$AN19=\"Overall Total\",SUMIFS(Worksheet!$X$2:$X$100,Worksheet!$W$2:$W$100,J$7),IF(RIGHT(Worksheet!$AN19,5)=\"Total\",SUM(OFFSET(J24,-COUNTIF(Worksheet!$AM$1:$AM$98,Worksheet!$AM19)+1,0,COUNTIF(Worksheet!$AM$1:$AM$98,Worksheet!$AM19)-1)),SUMIFS(Worksheet!$X$2:$X$100,Worksheet!$Z$2:$Z$100,CONCATENATE(Worksheet!$AN19,$B24,J$7)))))","v":""},{"$f":"IF(Worksheet!$AN19=\"\",\"\",IF(Worksheet!$AN19=\"Overall Total\",SUMIFS(Worksheet!$X$2:$X$100,Worksheet!$W$2:$W$100,K$7),IF(RIGHT(Worksheet!$AN19,5)=\"Total\",SUM(OFFSET(K24,-COUNTIF(Worksheet!$AM$1:$AM$98,Worksheet!$AM19)+1,0,COUNTIF(Worksheet!$AM$1:$AM$98,Worksheet!$AM19)-1)),SUMIFS(Worksheet!$X$2:$X$100,Worksheet!$Z$2:$Z$100,CONCATENATE(Worksheet!$AN19,$B24,K$7)))))","v":""},{"$f":"IF(Worksheet!$AN19=\"\",\"\",IF(Worksheet!$AN19=\"Overall Total\",SUMIFS(Worksheet!$X$2:$X$100,Worksheet!$W$2:$W$100,L$7),IF(RIGHT(Worksheet!$AN19,5)=\"Total\",SUM(OFFSET(L24,-COUNTIF(Worksheet!$AM$1:$AM$98,Worksheet!$AM19)+1,0,COUNTIF(Worksheet!$AM$1:$AM$98,Worksheet!$AM19)-1)),SUMIFS(Worksheet!$X$2:$X$100,Worksheet!$Z$2:$Z$100,CONCATENATE(Worksheet!$AN19,$B24,L$7)))))","v":""},{"$f":"IF(Worksheet!$AN19=\"\",\"\",IF(Worksheet!$AN19=\"Overall Total\",SUMIFS(Worksheet!$X$2:$X$100,Worksheet!$W$2:$W$100,M$7),IF(RIGHT(Worksheet!$AN19,5)=\"Total\",SUM(OFFSET(M24,-COUNTIF(Worksheet!$AM$1:$AM$98,Worksheet!$AM19)+1,0,COUNTIF(Worksheet!$AM$1:$AM$98,Worksheet!$AM19)-1)),SUMIFS(Worksheet!$X$2:$X$100,Worksheet!$Z$2:$Z$100,CONCATENATE(Worksheet!$AN19,$B24,M$7)))))","v":""},{"$f":"IF(Worksheet!$AN19=\"\",\"\",IF(Worksheet!$AN19=\"Overall Total\",$N$1,IF(RIGHT(Worksheet!$AN19,5)=\"Total\",SUM(OFFSET(N24,-COUNTIF(Worksheet!$AM$1:$AM$98,Worksheet!$AM19)+1,0,COUNTIF(Worksheet!$AM$1:$AM$98,Worksheet!$AM19)-1)),SUM(D24:M24))))","v":""}]
[{"$f":"IF(Worksheet!AN20=Worksheet!AN19,\"\",Worksheet!AN20)","v":""},{"$f":"IF(OR(Worksheet!AL20=\"\",Worksheet!AN19=\"\"),\"\",IF(RIGHT(Worksheet!AN20,5)=\"Total\",\"\",OFFSET(Worksheet!$AE$1,Worksheet!AL20,0)))","v":""},null,{"$f":"IF(Worksheet!$AN20=\"\",\"\",IF(Worksheet!$AN20=\"Overall Total\",SUMIFS(Worksheet!$X$2:$X$100,Worksheet!$W$2:$W$100,D$7),IF(RIGHT(Worksheet!$AN20,5)=\"Total\",SUM(OFFSET(D25,-COUNTIF(Worksheet!$AM$1:$AM$98,Worksheet!$AM20)+1,0,COUNTIF(Worksheet!$AM$1:$AM$98,Worksheet!$AM20)-1)),SUMIFS(Worksheet!$X$2:$X$100,Worksheet!$Z$2:$Z$100,CONCATENATE(Worksheet!$AN20,$B25,D$7)))))","v":""},{"$f":"IF(Worksheet!$AN20=\"\",\"\",IF(Worksheet!$AN20=\"Overall Total\",SUMIFS(Worksheet!$X$2:$X$100,Worksheet!$W$2:$W$100,E$7),IF(RIGHT(Worksheet!$AN20,5)=\"Total\",SUM(OFFSET(E25,-COUNTIF(Worksheet!$AM$1:$AM$98,Worksheet!$AM20)+1,0,COUNTIF(Worksheet!$AM$1:$AM$98,Worksheet!$AM20)-1)),SUMIFS(Worksheet!$X$2:$X$100,Worksheet!$Z$2:$Z$100,CONCATENATE(Worksheet!$AN20,$B25,E$7)))))","v":""},{"$f":"IF(Worksheet!$AN20=\"\",\"\",IF(Worksheet!$AN20=\"Overall Total\",SUMIFS(Worksheet!$X$2:$X$100,Worksheet!$W$2:$W$100,F$7),IF(RIGHT(Worksheet!$AN20,5)=\"Total\",SUM(OFFSET(F25,-COUNTIF(Worksheet!$AM$1:$AM$98,Worksheet!$AM20)+1,0,COUNTIF(Worksheet!$AM$1:$AM$98,Worksheet!$AM20)-1)),SUMIFS(Worksheet!$X$2:$X$100,Worksheet!$Z$2:$Z$100,CONCATENATE(Worksheet!$AN20,$B25,F$7)))))","v":""},{"$f":"IF(Worksheet!$AN20=\"\",\"\",IF(Worksheet!$AN20=\"Overall Total\",SUMIFS(Worksheet!$X$2:$X$100,Worksheet!$W$2:$W$100,G$7),IF(RIGHT(Worksheet!$AN20,5)=\"Total\",SUM(OFFSET(G25,-COUNTIF(Worksheet!$AM$1:$AM$98,Worksheet!$AM20)+1,0,COUNTIF(Worksheet!$AM$1:$AM$98,Worksheet!$AM20)-1)),SUMIFS(Worksheet!$X$2:$X$100,Worksheet!$Z$2:$Z$100,CONCATENATE(Worksheet!$AN20,$B25,G$7)))))","v":""},{"$f":"IF(Worksheet!$AN20=\"\",\"\",IF(Worksheet!$AN20=\"Overall Total\",SUMIFS(Worksheet!$X$2:$X$100,Worksheet!$W$2:$W$100,H$7),IF(RIGHT(Worksheet!$AN20,5)=\"Total\",SUM(OFFSET(H25,-COUNTIF(Worksheet!$AM$1:$AM$98,Worksheet!$AM20)+1,0,COUNTIF(Worksheet!$AM$1:$AM$98,Worksheet!$AM20)-1)),SUMIFS(Worksheet!$X$2:$X$100,Worksheet!$Z$2:$Z$100,CONCATENATE(Worksheet!$AN20,$B25,H$7)))))","v":""},{"$f":"IF(Worksheet!$AN20=\"\",\"\",IF(Worksheet!$AN20=\"Overall Total\",SUMIFS(Worksheet!$X$2:$X$100,Worksheet!$W$2:$W$100,I$7),IF(RIGHT(Worksheet!$AN20,5)=\"Total\",SUM(OFFSET(I25,-COUNTIF(Worksheet!$AM$1:$AM$98,Worksheet!$AM20)+1,0,COUNTIF(Worksheet!$AM$1:$AM$98,Worksheet!$AM20)-1)),SUMIFS(Worksheet!$X$2:$X$100,Worksheet!$Z$2:$Z$100,CONCATENATE(Worksheet!$AN20,$B25,I$7)))))","v":""},{"$f":"IF(Worksheet!$AN20=\"\",\"\",IF(Worksheet!$AN20=\"Overall Total\",SUMIFS(Worksheet!$X$2:$X$100,Worksheet!$W$2:$W$100,J$7),IF(RIGHT(Worksheet!$AN20,5)=\"Total\",SUM(OFFSET(J25,-COUNTIF(Worksheet!$AM$1:$AM$98,Worksheet!$AM20)+1,0,COUNTIF(Worksheet!$AM$1:$AM$98,Worksheet!$AM20)-1)),SUMIFS(Worksheet!$X$2:$X$100,Worksheet!$Z$2:$Z$100,CONCATENATE(Worksheet!$AN20,$B25,J$7)))))","v":""},{"$f":"IF(Worksheet!$AN20=\"\",\"\",IF(Worksheet!$AN20=\"Overall Total\",SUMIFS(Worksheet!$X$2:$X$100,Worksheet!$W$2:$W$100,K$7),IF(RIGHT(Worksheet!$AN20,5)=\"Total\",SUM(OFFSET(K25,-COUNTIF(Worksheet!$AM$1:$AM$98,Worksheet!$AM20)+1,0,COUNTIF(Worksheet!$AM$1:$AM$98,Worksheet!$AM20)-1)),SUMIFS(Worksheet!$X$2:$X$100,Worksheet!$Z$2:$Z$100,CONCATENATE(Worksheet!$AN20,$B25,K$7)))))","v":""},{"$f":"IF(Worksheet!$AN20=\"\",\"\",IF(Worksheet!$AN20=\"Overall Total\",SUMIFS(Worksheet!$X$2:$X$100,Worksheet!$W$2:$W$100,L$7),IF(RIGHT(Worksheet!$AN20,5)=\"Total\",SUM(OFFSET(L25,-COUNTIF(Worksheet!$AM$1:$AM$98,Worksheet!$AM20)+1,0,COUNTIF(Worksheet!$AM$1:$AM$98,Worksheet!$AM20)-1)),SUMIFS(Worksheet!$X$2:$X$100,Worksheet!$Z$2:$Z$100,CONCATENATE(Worksheet!$AN20,$B25,L$7)))))","v":""},{"$f":"IF(Worksheet!$AN20=\"\",\"\",IF(Worksheet!$AN20=\"Overall Total\",SUMIFS(Worksheet!$X$2:$X$100,Worksheet!$W$2:$W$100,M$7),IF(RIGHT(Worksheet!$AN20,5)=\"Total\",SUM(OFFSET(M25,-COUNTIF(Worksheet!$AM$1:$AM$98,Worksheet!$AM20)+1,0,COUNTIF(Worksheet!$AM$1:$AM$98,Worksheet!$AM20)-1)),SUMIFS(Worksheet!$X$2:$X$100,Worksheet!$Z$2:$Z$100,CONCATENATE(Worksheet!$AN20,$B25,M$7)))))","v":""},{"$f":"IF(Worksheet!$AN20=\"\",\"\",IF(Worksheet!$AN20=\"Overall Total\",$N$1,IF(RIGHT(Worksheet!$AN20,5)=\"Total\",SUM(OFFSET(N25,-COUNTIF(Worksheet!$AM$1:$AM$98,Worksheet!$AM20)+1,0,COUNTIF(Worksheet!$AM$1:$AM$98,Worksheet!$AM20)-1)),SUM(D25:M25))))","v":""}]
[{"$f":"IF(Worksheet!AN21=Worksheet!AN20,\"\",Worksheet!AN21)","v":""},{"$f":"IF(OR(Worksheet!AL21=\"\",Worksheet!AN20=\"\"),\"\",IF(RIGHT(Worksheet!AN21,5)=\"Total\",\"\",OFFSET(Worksheet!$AE$1,Worksheet!AL21,0)))","v":""},null,{"$f":"IF(Worksheet!$AN21=\"\",\"\",IF(Worksheet!$AN21=\"Overall Total\",SUMIFS(Worksheet!$X$2:$X$100,Worksheet!$W$2:$W$100,D$7),IF(RIGHT(Worksheet!$AN21,5)=\"Total\",SUM(OFFSET(D26,-COUNTIF(Worksheet!$AM$1:$AM$98,Worksheet!$AM21)+1,0,COUNTIF(Worksheet!$AM$1:$AM$98,Worksheet!$AM21)-1)),SUMIFS(Worksheet!$X$2:$X$100,Worksheet!$Z$2:$Z$100,CONCATENATE(Worksheet!$AN21,$B26,D$7)))))","v":""},{"$f":"IF(Worksheet!$AN21=\"\",\"\",IF(Worksheet!$AN21=\"Overall Total\",SUMIFS(Worksheet!$X$2:$X$100,Worksheet!$W$2:$W$100,E$7),IF(RIGHT(Worksheet!$AN21,5)=\"Total\",SUM(OFFSET(E26,-COUNTIF(Worksheet!$AM$1:$AM$98,Worksheet!$AM21)+1,0,COUNTIF(Worksheet!$AM$1:$AM$98,Worksheet!$AM21)-1)),SUMIFS(Worksheet!$X$2:$X$100,Worksheet!$Z$2:$Z$100,CONCATENATE(Worksheet!$AN21,$B26,E$7)))))","v":""},{"$f":"IF(Worksheet!$AN21=\"\",\"\",IF(Worksheet!$AN21=\"Overall Total\",SUMIFS(Worksheet!$X$2:$X$100,Worksheet!$W$2:$W$100,F$7),IF(RIGHT(Worksheet!$AN21,5)=\"Total\",SUM(OFFSET(F26,-COUNTIF(Worksheet!$AM$1:$AM$98,Worksheet!$AM21)+1,0,COUNTIF(Worksheet!$AM$1:$AM$98,Worksheet!$AM21)-1)),SUMIFS(Worksheet!$X$2:$X$100,Worksheet!$Z$2:$Z$100,CONCATENATE(Worksheet!$AN21,$B26,F$7)))))","v":""},{"$f":"IF(Worksheet!$AN21=\"\",\"\",IF(Worksheet!$AN21=\"Overall Total\",SUMIFS(Worksheet!$X$2:$X$100,Worksheet!$W$2:$W$100,G$7),IF(RIGHT(Worksheet!$AN21,5)=\"Total\",SUM(OFFSET(G26,-COUNTIF(Worksheet!$AM$1:$AM$98,Worksheet!$AM21)+1,0,COUNTIF(Worksheet!$AM$1:$AM$98,Worksheet!$AM21)-1)),SUMIFS(Worksheet!$X$2:$X$100,Worksheet!$Z$2:$Z$100,CONCATENATE(Worksheet!$AN21,$B26,G$7)))))","v":""},{"$f":"IF(Worksheet!$AN21=\"\",\"\",IF(Worksheet!$AN21=\"Overall Total\",SUMIFS(Worksheet!$X$2:$X$100,Worksheet!$W$2:$W$100,H$7),IF(RIGHT(Worksheet!$AN21,5)=\"Total\",SUM(OFFSET(H26,-COUNTIF(Worksheet!$AM$1:$AM$98,Worksheet!$AM21)+1,0,COUNTIF(Worksheet!$AM$1:$AM$98,Worksheet!$AM21)-1)),SUMIFS(Worksheet!$X$2:$X$100,Worksheet!$Z$2:$Z$100,CONCATENATE(Worksheet!$AN21,$B26,H$7)))))","v":""},{"$f":"IF(Worksheet!$AN21=\"\",\"\",IF(Worksheet!$AN21=\"Overall Total\",SUMIFS(Worksheet!$X$2:$X$100,Worksheet!$W$2:$W$100,I$7),IF(RIGHT(Worksheet!$AN21,5)=\"Total\",SUM(OFFSET(I26,-COUNTIF(Worksheet!$AM$1:$AM$98,Worksheet!$AM21)+1,0,COUNTIF(Worksheet!$AM$1:$AM$98,Worksheet!$AM21)-1)),SUMIFS(Worksheet!$X$2:$X$100,Worksheet!$Z$2:$Z$100,CONCATENATE(Worksheet!$AN21,$B26,I$7)))))","v":""},{"$f":"IF(Worksheet!$AN21=\"\",\"\",IF(Worksheet!$AN21=\"Overall Total\",SUMIFS(Worksheet!$X$2:$X$100,Worksheet!$W$2:$W$100,J$7),IF(RIGHT(Worksheet!$AN21,5)=\"Total\",SUM(OFFSET(J26,-COUNTIF(Worksheet!$AM$1:$AM$98,Worksheet!$AM21)+1,0,COUNTIF(Worksheet!$AM$1:$AM$98,Worksheet!$AM21)-1)),SUMIFS(Worksheet!$X$2:$X$100,Worksheet!$Z$2:$Z$100,CONCATENATE(Worksheet!$AN21,$B26,J$7)))))","v":""},{"$f":"IF(Worksheet!$AN21=\"\",\"\",IF(Worksheet!$AN21=\"Overall Total\",SUMIFS(Worksheet!$X$2:$X$100,Worksheet!$W$2:$W$100,K$7),IF(RIGHT(Worksheet!$AN21,5)=\"Total\",SUM(OFFSET(K26,-COUNTIF(Worksheet!$AM$1:$AM$98,Worksheet!$AM21)+1,0,COUNTIF(Worksheet!$AM$1:$AM$98,Worksheet!$AM21)-1)),SUMIFS(Worksheet!$X$2:$X$100,Worksheet!$Z$2:$Z$100,CONCATENATE(Worksheet!$AN21,$B26,K$7)))))","v":""},{"$f":"IF(Worksheet!$AN21=\"\",\"\",IF(Worksheet!$AN21=\"Overall Total\",SUMIFS(Worksheet!$X$2:$X$100,Worksheet!$W$2:$W$100,L$7),IF(RIGHT(Worksheet!$AN21,5)=\"Total\",SUM(OFFSET(L26,-COUNTIF(Worksheet!$AM$1:$AM$98,Worksheet!$AM21)+1,0,COUNTIF(Worksheet!$AM$1:$AM$98,Worksheet!$AM21)-1)),SUMIFS(Worksheet!$X$2:$X$100,Worksheet!$Z$2:$Z$100,CONCATENATE(Worksheet!$AN21,$B26,L$7)))))","v":""},{"$f":"IF(Worksheet!$AN21=\"\",\"\",IF(Worksheet!$AN21=\"Overall Total\",SUMIFS(Worksheet!$X$2:$X$100,Worksheet!$W$2:$W$100,M$7),IF(RIGHT(Worksheet!$AN21,5)=\"Total\",SUM(OFFSET(M26,-COUNTIF(Worksheet!$AM$1:$AM$98,Worksheet!$AM21)+1,0,COUNTIF(Worksheet!$AM$1:$AM$98,Worksheet!$AM21)-1)),SUMIFS(Worksheet!$X$2:$X$100,Worksheet!$Z$2:$Z$100,CONCATENATE(Worksheet!$AN21,$B26,M$7)))))","v":""},{"$f":"IF(Worksheet!$AN21=\"\",\"\",IF(Worksheet!$AN21=\"Overall Total\",$N$1,IF(RIGHT(Worksheet!$AN21,5)=\"Total\",SUM(OFFSET(N26,-COUNTIF(Worksheet!$AM$1:$AM$98,Worksheet!$AM21)+1,0,COUNTIF(Worksheet!$AM$1:$AM$98,Worksheet!$AM21)-1)),SUM(D26:M26))))","v":""}]
[{"$f":"IF(Worksheet!AN22=Worksheet!AN21,\"\",Worksheet!AN22)","v":""},{"$f":"IF(OR(Worksheet!AL22=\"\",Worksheet!AN21=\"\"),\"\",IF(RIGHT(Worksheet!AN22,5)=\"Total\",\"\",OFFSET(Worksheet!$AE$1,Worksheet!AL22,0)))","v":""},null,{"$f":"IF(Worksheet!$AN22=\"\",\"\",IF(Worksheet!$AN22=\"Overall Total\",SUMIFS(Worksheet!$X$2:$X$100,Worksheet!$W$2:$W$100,D$7),IF(RIGHT(Worksheet!$AN22,5)=\"Total\",SUM(OFFSET(D27,-COUNTIF(Worksheet!$AM$1:$AM$98,Worksheet!$AM22)+1,0,COUNTIF(Worksheet!$AM$1:$AM$98,Worksheet!$AM22)-1)),SUMIFS(Worksheet!$X$2:$X$100,Worksheet!$Z$2:$Z$100,CONCATENATE(Worksheet!$AN22,$B27,D$7)))))","v":""},{"$f":"IF(Worksheet!$AN22=\"\",\"\",IF(Worksheet!$AN22=\"Overall Total\",SUMIFS(Worksheet!$X$2:$X$100,Worksheet!$W$2:$W$100,E$7),IF(RIGHT(Worksheet!$AN22,5)=\"Total\",SUM(OFFSET(E27,-COUNTIF(Worksheet!$AM$1:$AM$98,Worksheet!$AM22)+1,0,COUNTIF(Worksheet!$AM$1:$AM$98,Worksheet!$AM22)-1)),SUMIFS(Worksheet!$X$2:$X$100,Worksheet!$Z$2:$Z$100,CONCATENATE(Worksheet!$AN22,$B27,E$7)))))","v":""},{"$f":"IF(Worksheet!$AN22=\"\",\"\",IF(Worksheet!$AN22=\"Overall Total\",SUMIFS(Worksheet!$X$2:$X$100,Worksheet!$W$2:$W$100,F$7),IF(RIGHT(Worksheet!$AN22,5)=\"Total\",SUM(OFFSET(F27,-COUNTIF(Worksheet!$AM$1:$AM$98,Worksheet!$AM22)+1,0,COUNTIF(Worksheet!$AM$1:$AM$98,Worksheet!$AM22)-1)),SUMIFS(Worksheet!$X$2:$X$100,Worksheet!$Z$2:$Z$100,CONCATENATE(Worksheet!$AN22,$B27,F$7)))))","v":""},{"$f":"IF(Worksheet!$AN22=\"\",\"\",IF(Worksheet!$AN22=\"Overall Total\",SUMIFS(Worksheet!$X$2:$X$100,Worksheet!$W$2:$W$100,G$7),IF(RIGHT(Worksheet!$AN22,5)=\"Total\",SUM(OFFSET(G27,-COUNTIF(Worksheet!$AM$1:$AM$98,Worksheet!$AM22)+1,0,COUNTIF(Worksheet!$AM$1:$AM$98,Worksheet!$AM22)-1)),SUMIFS(Worksheet!$X$2:$X$100,Worksheet!$Z$2:$Z$100,CONCATENATE(Worksheet!$AN22,$B27,G$7)))))","v":""},{"$f":"IF(Worksheet!$AN22=\"\",\"\",IF(Worksheet!$AN22=\"Overall Total\",SUMIFS(Worksheet!$X$2:$X$100,Worksheet!$W$2:$W$100,H$7),IF(RIGHT(Worksheet!$AN22,5)=\"Total\",SUM(OFFSET(H27,-COUNTIF(Worksheet!$AM$1:$AM$98,Worksheet!$AM22)+1,0,COUNTIF(Worksheet!$AM$1:$AM$98,Worksheet!$AM22)-1)),SUMIFS(Worksheet!$X$2:$X$100,Worksheet!$Z$2:$Z$100,CONCATENATE(Worksheet!$AN22,$B27,H$7)))))","v":""},{"$f":"IF(Worksheet!$AN22=\"\",\"\",IF(Worksheet!$AN22=\"Overall Total\",SUMIFS(Worksheet!$X$2:$X$100,Worksheet!$W$2:$W$100,I$7),IF(RIGHT(Worksheet!$AN22,5)=\"Total\",SUM(OFFSET(I27,-COUNTIF(Worksheet!$AM$1:$AM$98,Worksheet!$AM22)+1,0,COUNTIF(Worksheet!$AM$1:$AM$98,Worksheet!$AM22)-1)),SUMIFS(Worksheet!$X$2:$X$100,Worksheet!$Z$2:$Z$100,CONCATENATE(Worksheet!$AN22,$B27,I$7)))))","v":""},{"$f":"IF(Worksheet!$AN22=\"\",\"\",IF(Worksheet!$AN22=\"Overall Total\",SUMIFS(Worksheet!$X$2:$X$100,Worksheet!$W$2:$W$100,J$7),IF(RIGHT(Worksheet!$AN22,5)=\"Total\",SUM(OFFSET(J27,-COUNTIF(Worksheet!$AM$1:$AM$98,Worksheet!$AM22)+1,0,COUNTIF(Worksheet!$AM$1:$AM$98,Worksheet!$AM22)-1)),SUMIFS(Worksheet!$X$2:$X$100,Worksheet!$Z$2:$Z$100,CONCATENATE(Worksheet!$AN22,$B27,J$7)))))","v":""},{"$f":"IF(Worksheet!$AN22=\"\",\"\",IF(Worksheet!$AN22=\"Overall Total\",SUMIFS(Worksheet!$X$2:$X$100,Worksheet!$W$2:$W$100,K$7),IF(RIGHT(Worksheet!$AN22,5)=\"Total\",SUM(OFFSET(K27,-COUNTIF(Worksheet!$AM$1:$AM$98,Worksheet!$AM22)+1,0,COUNTIF(Worksheet!$AM$1:$AM$98,Worksheet!$AM22)-1)),SUMIFS(Worksheet!$X$2:$X$100,Worksheet!$Z$2:$Z$100,CONCATENATE(Worksheet!$AN22,$B27,K$7)))))","v":""},{"$f":"IF(Worksheet!$AN22=\"\",\"\",IF(Worksheet!$AN22=\"Overall Total\",SUMIFS(Worksheet!$X$2:$X$100,Worksheet!$W$2:$W$100,L$7),IF(RIGHT(Worksheet!$AN22,5)=\"Total\",SUM(OFFSET(L27,-COUNTIF(Worksheet!$AM$1:$AM$98,Worksheet!$AM22)+1,0,COUNTIF(Worksheet!$AM$1:$AM$98,Worksheet!$AM22)-1)),SUMIFS(Worksheet!$X$2:$X$100,Worksheet!$Z$2:$Z$100,CONCATENATE(Worksheet!$AN22,$B27,L$7)))))","v":""},{"$f":"IF(Worksheet!$AN22=\"\",\"\",IF(Worksheet!$AN22=\"Overall Total\",SUMIFS(Worksheet!$X$2:$X$100,Worksheet!$W$2:$W$100,M$7),IF(RIGHT(Worksheet!$AN22,5)=\"Total\",SUM(OFFSET(M27,-COUNTIF(Worksheet!$AM$1:$AM$98,Worksheet!$AM22)+1,0,COUNTIF(Worksheet!$AM$1:$AM$98,Worksheet!$AM22)-1)),SUMIFS(Worksheet!$X$2:$X$100,Worksheet!$Z$2:$Z$100,CONCATENATE(Worksheet!$AN22,$B27,M$7)))))","v":""},{"$f":"IF(Worksheet!$AN22=\"\",\"\",IF(Worksheet!$AN22=\"Overall Total\",$N$1,IF(RIGHT(Worksheet!$AN22,5)=\"Total\",SUM(OFFSET(N27,-COUNTIF(Worksheet!$AM$1:$AM$98,Worksheet!$AM22)+1,0,COUNTIF(Worksheet!$AM$1:$AM$98,Worksheet!$AM22)-1)),SUM(D27:M27))))","v":""}]
[{"$f":"IF(Worksheet!AN23=Worksheet!AN22,\"\",Worksheet!AN23)","v":""},{"$f":"IF(OR(Worksheet!AL23=\"\",Worksheet!AN22=\"\"),\"\",IF(RIGHT(Worksheet!AN23,5)=\"Total\",\"\",OFFSET(Worksheet!$AE$1,Worksheet!AL23,0)))","v":""},null,{"$f":"IF(Worksheet!$AN23=\"\",\"\",IF(Worksheet!$AN23=\"Overall Total\",SUMIFS(Worksheet!$X$2:$X$100,Worksheet!$W$2:$W$100,D$7),IF(RIGHT(Worksheet!$AN23,5)=\"Total\",SUM(OFFSET(D28,-COUNTIF(Worksheet!$AM$1:$AM$98,Worksheet!$AM23)+1,0,COUNTIF(Worksheet!$AM$1:$AM$98,Worksheet!$AM23)-1)),SUMIFS(Worksheet!$X$2:$X$100,Worksheet!$Z$2:$Z$100,CONCATENATE(Worksheet!$AN23,$B28,D$7)))))","v":""},{"$f":"IF(Worksheet!$AN23=\"\",\"\",IF(Worksheet!$AN23=\"Overall Total\",SUMIFS(Worksheet!$X$2:$X$100,Worksheet!$W$2:$W$100,E$7),IF(RIGHT(Worksheet!$AN23,5)=\"Total\",SUM(OFFSET(E28,-COUNTIF(Worksheet!$AM$1:$AM$98,Worksheet!$AM23)+1,0,COUNTIF(Worksheet!$AM$1:$AM$98,Worksheet!$AM23)-1)),SUMIFS(Worksheet!$X$2:$X$100,Worksheet!$Z$2:$Z$100,CONCATENATE(Worksheet!$AN23,$B28,E$7)))))","v":""},{"$f":"IF(Worksheet!$AN23=\"\",\"\",IF(Worksheet!$AN23=\"Overall Total\",SUMIFS(Worksheet!$X$2:$X$100,Worksheet!$W$2:$W$100,F$7),IF(RIGHT(Worksheet!$AN23,5)=\"Total\",SUM(OFFSET(F28,-COUNTIF(Worksheet!$AM$1:$AM$98,Worksheet!$AM23)+1,0,COUNTIF(Worksheet!$AM$1:$AM$98,Worksheet!$AM23)-1)),SUMIFS(Worksheet!$X$2:$X$100,Worksheet!$Z$2:$Z$100,CONCATENATE(Worksheet!$AN23,$B28,F$7)))))","v":""},{"$f":"IF(Worksheet!$AN23=\"\",\"\",IF(Worksheet!$AN23=\"Overall Total\",SUMIFS(Worksheet!$X$2:$X$100,Worksheet!$W$2:$W$100,G$7),IF(RIGHT(Worksheet!$AN23,5)=\"Total\",SUM(OFFSET(G28,-COUNTIF(Worksheet!$AM$1:$AM$98,Worksheet!$AM23)+1,0,COUNTIF(Worksheet!$AM$1:$AM$98,Worksheet!$AM23)-1)),SUMIFS(Worksheet!$X$2:$X$100,Worksheet!$Z$2:$Z$100,CONCATENATE(Worksheet!$AN23,$B28,G$7)))))","v":""},{"$f":"IF(Worksheet!$AN23=\"\",\"\",IF(Worksheet!$AN23=\"Overall Total\",SUMIFS(Worksheet!$X$2:$X$100,Worksheet!$W$2:$W$100,H$7),IF(RIGHT(Worksheet!$AN23,5)=\"Total\",SUM(OFFSET(H28,-COUNTIF(Worksheet!$AM$1:$AM$98,Worksheet!$AM23)+1,0,COUNTIF(Worksheet!$AM$1:$AM$98,Worksheet!$AM23)-1)),SUMIFS(Worksheet!$X$2:$X$100,Worksheet!$Z$2:$Z$100,CONCATENATE(Worksheet!$AN23,$B28,H$7)))))","v":""},{"$f":"IF(Worksheet!$AN23=\"\",\"\",IF(Worksheet!$AN23=\"Overall Total\",SUMIFS(Worksheet!$X$2:$X$100,Worksheet!$W$2:$W$100,I$7),IF(RIGHT(Worksheet!$AN23,5)=\"Total\",SUM(OFFSET(I28,-COUNTIF(Worksheet!$AM$1:$AM$98,Worksheet!$AM23)+1,0,COUNTIF(Worksheet!$AM$1:$AM$98,Worksheet!$AM23)-1)),SUMIFS(Worksheet!$X$2:$X$100,Worksheet!$Z$2:$Z$100,CONCATENATE(Worksheet!$AN23,$B28,I$7)))))","v":""},{"$f":"IF(Worksheet!$AN23=\"\",\"\",IF(Worksheet!$AN23=\"Overall Total\",SUMIFS(Worksheet!$X$2:$X$100,Worksheet!$W$2:$W$100,J$7),IF(RIGHT(Worksheet!$AN23,5)=\"Total\",SUM(OFFSET(J28,-COUNTIF(Worksheet!$AM$1:$AM$98,Worksheet!$AM23)+1,0,COUNTIF(Worksheet!$AM$1:$AM$98,Worksheet!$AM23)-1)),SUMIFS(Worksheet!$X$2:$X$100,Worksheet!$Z$2:$Z$100,CONCATENATE(Worksheet!$AN23,$B28,J$7)))))","v":""},{"$f":"IF(Worksheet!$AN23=\"\",\"\",IF(Worksheet!$AN23=\"Overall Total\",SUMIFS(Worksheet!$X$2:$X$100,Worksheet!$W$2:$W$100,K$7),IF(RIGHT(Worksheet!$AN23,5)=\"Total\",SUM(OFFSET(K28,-COUNTIF(Worksheet!$AM$1:$AM$98,Worksheet!$AM23)+1,0,COUNTIF(Worksheet!$AM$1:$AM$98,Worksheet!$AM23)-1)),SUMIFS(Worksheet!$X$2:$X$100,Worksheet!$Z$2:$Z$100,CONCATENATE(Worksheet!$AN23,$B28,K$7)))))","v":""},{"$f":"IF(Worksheet!$AN23=\"\",\"\",IF(Worksheet!$AN23=\"Overall Total\",SUMIFS(Worksheet!$X$2:$X$100,Worksheet!$W$2:$W$100,L$7),IF(RIGHT(Worksheet!$AN23,5)=\"Total\",SUM(OFFSET(L28,-COUNTIF(Worksheet!$AM$1:$AM$98,Worksheet!$AM23)+1,0,COUNTIF(Worksheet!$AM$1:$AM$98,Worksheet!$AM23)-1)),SUMIFS(Worksheet!$X$2:$X$100,Worksheet!$Z$2:$Z$100,CONCATENATE(Worksheet!$AN23,$B28,L$7)))))","v":""},{"$f":"IF(Worksheet!$AN23=\"\",\"\",IF(Worksheet!$AN23=\"Overall Total\",SUMIFS(Worksheet!$X$2:$X$100,Worksheet!$W$2:$W$100,M$7),IF(RIGHT(Worksheet!$AN23,5)=\"Total\",SUM(OFFSET(M28,-COUNTIF(Worksheet!$AM$1:$AM$98,Worksheet!$AM23)+1,0,COUNTIF(Worksheet!$AM$1:$AM$98,Worksheet!$AM23)-1)),SUMIFS(Worksheet!$X$2:$X$100,Worksheet!$Z$2:$Z$100,CONCATENATE(Worksheet!$AN23,$B28,M$7)))))","v":""},{"$f":"IF(Worksheet!$AN23=\"\",\"\",IF(Worksheet!$AN23=\"Overall Total\",$N$1,IF(RIGHT(Worksheet!$AN23,5)=\"Total\",SUM(OFFSET(N28,-COUNTIF(Worksheet!$AM$1:$AM$98,Worksheet!$AM23)+1,0,COUNTIF(Worksheet!$AM$1:$AM$98,Worksheet!$AM23)-1)),SUM(D28:M28))))","v":""}]
[{"$f":"IF(Worksheet!AN24=Worksheet!AN23,\"\",Worksheet!AN24)","v":""},{"$f":"IF(OR(Worksheet!AL24=\"\",Worksheet!AN23=\"\"),\"\",IF(RIGHT(Worksheet!AN24,5)=\"Total\",\"\",OFFSET(Worksheet!$AE$1,Worksheet!AL24,0)))","v":""},null,{"$f":"IF(Worksheet!$AN24=\"\",\"\",IF(Worksheet!$AN24=\"Overall Total\",SUMIFS(Worksheet!$X$2:$X$100,Worksheet!$W$2:$W$100,D$7),IF(RIGHT(Worksheet!$AN24,5)=\"Total\",SUM(OFFSET(D29,-COUNTIF(Worksheet!$AM$1:$AM$98,Worksheet!$AM24)+1,0,COUNTIF(Worksheet!$AM$1:$AM$98,Worksheet!$AM24)-1)),SUMIFS(Worksheet!$X$2:$X$100,Worksheet!$Z$2:$Z$100,CONCATENATE(Worksheet!$AN24,$B29,D$7)))))","v":""},{"$f":"IF(Worksheet!$AN24=\"\",\"\",IF(Worksheet!$AN24=\"Overall Total\",SUMIFS(Worksheet!$X$2:$X$100,Worksheet!$W$2:$W$100,E$7),IF(RIGHT(Worksheet!$AN24,5)=\"Total\",SUM(OFFSET(E29,-COUNTIF(Worksheet!$AM$1:$AM$98,Worksheet!$AM24)+1,0,COUNTIF(Worksheet!$AM$1:$AM$98,Worksheet!$AM24)-1)),SUMIFS(Worksheet!$X$2:$X$100,Worksheet!$Z$2:$Z$100,CONCATENATE(Worksheet!$AN24,$B29,E$7)))))","v":""},{"$f":"IF(Worksheet!$AN24=\"\",\"\",IF(Worksheet!$AN24=\"Overall Total\",SUMIFS(Worksheet!$X$2:$X$100,Worksheet!$W$2:$W$100,F$7),IF(RIGHT(Worksheet!$AN24,5)=\"Total\",SUM(OFFSET(F29,-COUNTIF(Worksheet!$AM$1:$AM$98,Worksheet!$AM24)+1,0,COUNTIF(Worksheet!$AM$1:$AM$98,Worksheet!$AM24)-1)),SUMIFS(Worksheet!$X$2:$X$100,Worksheet!$Z$2:$Z$100,CONCATENATE(Worksheet!$AN24,$B29,F$7)))))","v":""},{"$f":"IF(Worksheet!$AN24=\"\",\"\",IF(Worksheet!$AN24=\"Overall Total\",SUMIFS(Worksheet!$X$2:$X$100,Worksheet!$W$2:$W$100,G$7),IF(RIGHT(Worksheet!$AN24,5)=\"Total\",SUM(OFFSET(G29,-COUNTIF(Worksheet!$AM$1:$AM$98,Worksheet!$AM24)+1,0,COUNTIF(Worksheet!$AM$1:$AM$98,Worksheet!$AM24)-1)),SUMIFS(Worksheet!$X$2:$X$100,Worksheet!$Z$2:$Z$100,CONCATENATE(Worksheet!$AN24,$B29,G$7)))))","v":""},{"$f":"IF(Worksheet!$AN24=\"\",\"\",IF(Worksheet!$AN24=\"Overall Total\",SUMIFS(Worksheet!$X$2:$X$100,Worksheet!$W$2:$W$100,H$7),IF(RIGHT(Worksheet!$AN24,5)=\"Total\",SUM(OFFSET(H29,-COUNTIF(Worksheet!$AM$1:$AM$98,Worksheet!$AM24)+1,0,COUNTIF(Worksheet!$AM$1:$AM$98,Worksheet!$AM24)-1)),SUMIFS(Worksheet!$X$2:$X$100,Worksheet!$Z$2:$Z$100,CONCATENATE(Worksheet!$AN24,$B29,H$7)))))","v":""},{"$f":"IF(Worksheet!$AN24=\"\",\"\",IF(Worksheet!$AN24=\"Overall Total\",SUMIFS(Worksheet!$X$2:$X$100,Worksheet!$W$2:$W$100,I$7),IF(RIGHT(Worksheet!$AN24,5)=\"Total\",SUM(OFFSET(I29,-COUNTIF(Worksheet!$AM$1:$AM$98,Worksheet!$AM24)+1,0,COUNTIF(Worksheet!$AM$1:$AM$98,Worksheet!$AM24)-1)),SUMIFS(Worksheet!$X$2:$X$100,Worksheet!$Z$2:$Z$100,CONCATENATE(Worksheet!$AN24,$B29,I$7)))))","v":""},{"$f":"IF(Worksheet!$AN24=\"\",\"\",IF(Worksheet!$AN24=\"Overall Total\",SUMIFS(Worksheet!$X$2:$X$100,Worksheet!$W$2:$W$100,J$7),IF(RIGHT(Worksheet!$AN24,5)=\"Total\",SUM(OFFSET(J29,-COUNTIF(Worksheet!$AM$1:$AM$98,Worksheet!$AM24)+1,0,COUNTIF(Worksheet!$AM$1:$AM$98,Worksheet!$AM24)-1)),SUMIFS(Worksheet!$X$2:$X$100,Worksheet!$Z$2:$Z$100,CONCATENATE(Worksheet!$AN24,$B29,J$7)))))","v":""},{"$f":"IF(Worksheet!$AN24=\"\",\"\",IF(Worksheet!$AN24=\"Overall Total\",SUMIFS(Worksheet!$X$2:$X$100,Worksheet!$W$2:$W$100,K$7),IF(RIGHT(Worksheet!$AN24,5)=\"Total\",SUM(OFFSET(K29,-COUNTIF(Worksheet!$AM$1:$AM$98,Worksheet!$AM24)+1,0,COUNTIF(Worksheet!$AM$1:$AM$98,Worksheet!$AM24)-1)),SUMIFS(Worksheet!$X$2:$X$100,Worksheet!$Z$2:$Z$100,CONCATENATE(Worksheet!$AN24,$B29,K$7)))))","v":""},{"$f":"IF(Worksheet!$AN24=\"\",\"\",IF(Worksheet!$AN24=\"Overall Total\",SUMIFS(Worksheet!$X$2:$X$100,Worksheet!$W$2:$W$100,L$7),IF(RIGHT(Worksheet!$AN24,5)=\"Total\",SUM(OFFSET(L29,-COUNTIF(Worksheet!$AM$1:$AM$98,Worksheet!$AM24)+1,0,COUNTIF(Worksheet!$AM$1:$AM$98,Worksheet!$AM24)-1)),SUMIFS(Worksheet!$X$2:$X$100,Worksheet!$Z$2:$Z$100,CONCATENATE(Worksheet!$AN24,$B29,L$7)))))","v":""},{"$f":"IF(Worksheet!$AN24=\"\",\"\",IF(Worksheet!$AN24=\"Overall Total\",SUMIFS(Worksheet!$X$2:$X$100,Worksheet!$W$2:$W$100,M$7),IF(RIGHT(Worksheet!$AN24,5)=\"Total\",SUM(OFFSET(M29,-COUNTIF(Worksheet!$AM$1:$AM$98,Worksheet!$AM24)+1,0,COUNTIF(Worksheet!$AM$1:$AM$98,Worksheet!$AM24)-1)),SUMIFS(Worksheet!$X$2:$X$100,Worksheet!$Z$2:$Z$100,CONCATENATE(Worksheet!$AN24,$B29,M$7)))))","v":""},{"$f":"IF(Worksheet!$AN24=\"\",\"\",IF(Worksheet!$AN24=\"Overall Total\",$N$1,IF(RIGHT(Worksheet!$AN24,5)=\"Total\",SUM(OFFSET(N29,-COUNTIF(Worksheet!$AM$1:$AM$98,Worksheet!$AM24)+1,0,COUNTIF(Worksheet!$AM$1:$AM$98,Worksheet!$AM24)-1)),SUM(D29:M29))))","v":""}]
[{"$f":"IF(Worksheet!AN25=Worksheet!AN24,\"\",Worksheet!AN25)","v":""},{"$f":"IF(OR(Worksheet!AL25=\"\",Worksheet!AN24=\"\"),\"\",IF(RIGHT(Worksheet!AN25,5)=\"Total\",\"\",OFFSET(Worksheet!$AE$1,Worksheet!AL25,0)))","v":""},null,{"$f":"IF(Worksheet!$AN25=\"\",\"\",IF(Worksheet!$AN25=\"Overall Total\",SUMIFS(Worksheet!$X$2:$X$100,Worksheet!$W$2:$W$100,D$7),IF(RIGHT(Worksheet!$AN25,5)=\"Total\",SUM(OFFSET(D30,-COUNTIF(Worksheet!$AM$1:$AM$98,Worksheet!$AM25)+1,0,COUNTIF(Worksheet!$AM$1:$AM$98,Worksheet!$AM25)-1)),SUMIFS(Worksheet!$X$2:$X$100,Worksheet!$Z$2:$Z$100,CONCATENATE(Worksheet!$AN25,$B30,D$7)))))","v":""},{"$f":"IF(Worksheet!$AN25=\"\",\"\",IF(Worksheet!$AN25=\"Overall Total\",SUMIFS(Worksheet!$X$2:$X$100,Worksheet!$W$2:$W$100,E$7),IF(RIGHT(Worksheet!$AN25,5)=\"Total\",SUM(OFFSET(E30,-COUNTIF(Worksheet!$AM$1:$AM$98,Worksheet!$AM25)+1,0,COUNTIF(Worksheet!$AM$1:$AM$98,Worksheet!$AM25)-1)),SUMIFS(Worksheet!$X$2:$X$100,Worksheet!$Z$2:$Z$100,CONCATENATE(Worksheet!$AN25,$B30,E$7)))))","v":""},{"$f":"IF(Worksheet!$AN25=\"\",\"\",IF(Worksheet!$AN25=\"Overall Total\",SUMIFS(Worksheet!$X$2:$X$100,Worksheet!$W$2:$W$100,F$7),IF(RIGHT(Worksheet!$AN25,5)=\"Total\",SUM(OFFSET(F30,-COUNTIF(Worksheet!$AM$1:$AM$98,Worksheet!$AM25)+1,0,COUNTIF(Worksheet!$AM$1:$AM$98,Worksheet!$AM25)-1)),SUMIFS(Worksheet!$X$2:$X$100,Worksheet!$Z$2:$Z$100,CONCATENATE(Worksheet!$AN25,$B30,F$7)))))","v":""},{"$f":"IF(Worksheet!$AN25=\"\",\"\",IF(Worksheet!$AN25=\"Overall Total\",SUMIFS(Worksheet!$X$2:$X$100,Worksheet!$W$2:$W$100,G$7),IF(RIGHT(Worksheet!$AN25,5)=\"Total\",SUM(OFFSET(G30,-COUNTIF(Worksheet!$AM$1:$AM$98,Worksheet!$AM25)+1,0,COUNTIF(Worksheet!$AM$1:$AM$98,Worksheet!$AM25)-1)),SUMIFS(Worksheet!$X$2:$X$100,Worksheet!$Z$2:$Z$100,CONCATENATE(Worksheet!$AN25,$B30,G$7)))))","v":""},{"$f":"IF(Worksheet!$AN25=\"\",\"\",IF(Worksheet!$AN25=\"Overall Total\",SUMIFS(Worksheet!$X$2:$X$100,Worksheet!$W$2:$W$100,H$7),IF(RIGHT(Worksheet!$AN25,5)=\"Total\",SUM(OFFSET(H30,-COUNTIF(Worksheet!$AM$1:$AM$98,Worksheet!$AM25)+1,0,COUNTIF(Worksheet!$AM$1:$AM$98,Worksheet!$AM25)-1)),SUMIFS(Worksheet!$X$2:$X$100,Worksheet!$Z$2:$Z$100,CONCATENATE(Worksheet!$AN25,$B30,H$7)))))","v":""},{"$f":"IF(Worksheet!$AN25=\"\",\"\",IF(Worksheet!$AN25=\"Overall Total\",SUMIFS(Worksheet!$X$2:$X$100,Worksheet!$W$2:$W$100,I$7),IF(RIGHT(Worksheet!$AN25,5)=\"Total\",SUM(OFFSET(I30,-COUNTIF(Worksheet!$AM$1:$AM$98,Worksheet!$AM25)+1,0,COUNTIF(Worksheet!$AM$1:$AM$98,Worksheet!$AM25)-1)),SUMIFS(Worksheet!$X$2:$X$100,Worksheet!$Z$2:$Z$100,CONCATENATE(Worksheet!$AN25,$B30,I$7)))))","v":""},{"$f":"IF(Worksheet!$AN25=\"\",\"\",IF(Worksheet!$AN25=\"Overall Total\",SUMIFS(Worksheet!$X$2:$X$100,Worksheet!$W$2:$W$100,J$7),IF(RIGHT(Worksheet!$AN25,5)=\"Total\",SUM(OFFSET(J30,-COUNTIF(Worksheet!$AM$1:$AM$98,Worksheet!$AM25)+1,0,COUNTIF(Worksheet!$AM$1:$AM$98,Worksheet!$AM25)-1)),SUMIFS(Worksheet!$X$2:$X$100,Worksheet!$Z$2:$Z$100,CONCATENATE(Worksheet!$AN25,$B30,J$7)))))","v":""},{"$f":"IF(Worksheet!$AN25=\"\",\"\",IF(Worksheet!$AN25=\"Overall Total\",SUMIFS(Worksheet!$X$2:$X$100,Worksheet!$W$2:$W$100,K$7),IF(RIGHT(Worksheet!$AN25,5)=\"Total\",SUM(OFFSET(K30,-COUNTIF(Worksheet!$AM$1:$AM$98,Worksheet!$AM25)+1,0,COUNTIF(Worksheet!$AM$1:$AM$98,Worksheet!$AM25)-1)),SUMIFS(Worksheet!$X$2:$X$100,Worksheet!$Z$2:$Z$100,CONCATENATE(Worksheet!$AN25,$B30,K$7)))))","v":""},{"$f":"IF(Worksheet!$AN25=\"\",\"\",IF(Worksheet!$AN25=\"Overall Total\",SUMIFS(Worksheet!$X$2:$X$100,Worksheet!$W$2:$W$100,L$7),IF(RIGHT(Worksheet!$AN25,5)=\"Total\",SUM(OFFSET(L30,-COUNTIF(Worksheet!$AM$1:$AM$98,Worksheet!$AM25)+1,0,COUNTIF(Worksheet!$AM$1:$AM$98,Worksheet!$AM25)-1)),SUMIFS(Worksheet!$X$2:$X$100,Worksheet!$Z$2:$Z$100,CONCATENATE(Worksheet!$AN25,$B30,L$7)))))","v":""},{"$f":"IF(Worksheet!$AN25=\"\",\"\",IF(Worksheet!$AN25=\"Overall Total\",SUMIFS(Worksheet!$X$2:$X$100,Worksheet!$W$2:$W$100,M$7),IF(RIGHT(Worksheet!$AN25,5)=\"Total\",SUM(OFFSET(M30,-COUNTIF(Worksheet!$AM$1:$AM$98,Worksheet!$AM25)+1,0,COUNTIF(Worksheet!$AM$1:$AM$98,Worksheet!$AM25)-1)),SUMIFS(Worksheet!$X$2:$X$100,Worksheet!$Z$2:$Z$100,CONCATENATE(Worksheet!$AN25,$B30,M$7)))))","v":""},{"$f":"IF(Worksheet!$AN25=\"\",\"\",IF(Worksheet!$AN25=\"Overall Total\",$N$1,IF(RIGHT(Worksheet!$AN25,5)=\"Total\",SUM(OFFSET(N30,-COUNTIF(Worksheet!$AM$1:$AM$98,Worksheet!$AM25)+1,0,COUNTIF(Worksheet!$AM$1:$AM$98,Worksheet!$AM25)-1)),SUM(D30:M30))))","v":""}]
[{"$f":"IF(Worksheet!AN26=Worksheet!AN25,\"\",Worksheet!AN26)","v":""},{"$f":"IF(OR(Worksheet!AL26=\"\",Worksheet!AN25=\"\"),\"\",IF(RIGHT(Worksheet!AN26,5)=\"Total\",\"\",OFFSET(Worksheet!$AE$1,Worksheet!AL26,0)))","v":""},null,{"$f":"IF(Worksheet!$AN26=\"\",\"\",IF(Worksheet!$AN26=\"Overall Total\",SUMIFS(Worksheet!$X$2:$X$100,Worksheet!$W$2:$W$100,D$7),IF(RIGHT(Worksheet!$AN26,5)=\"Total\",SUM(OFFSET(D31,-COUNTIF(Worksheet!$AM$1:$AM$98,Worksheet!$AM26)+1,0,COUNTIF(Worksheet!$AM$1:$AM$98,Worksheet!$AM26)-1)),SUMIFS(Worksheet!$X$2:$X$100,Worksheet!$Z$2:$Z$100,CONCATENATE(Worksheet!$AN26,$B31,D$7)))))","v":""},{"$f":"IF(Worksheet!$AN26=\"\",\"\",IF(Worksheet!$AN26=\"Overall Total\",SUMIFS(Worksheet!$X$2:$X$100,Worksheet!$W$2:$W$100,E$7),IF(RIGHT(Worksheet!$AN26,5)=\"Total\",SUM(OFFSET(E31,-COUNTIF(Worksheet!$AM$1:$AM$98,Worksheet!$AM26)+1,0,COUNTIF(Worksheet!$AM$1:$AM$98,Worksheet!$AM26)-1)),SUMIFS(Worksheet!$X$2:$X$100,Worksheet!$Z$2:$Z$100,CONCATENATE(Worksheet!$AN26,$B31,E$7)))))","v":""},{"$f":"IF(Worksheet!$AN26=\"\",\"\",IF(Worksheet!$AN26=\"Overall Total\",SUMIFS(Worksheet!$X$2:$X$100,Worksheet!$W$2:$W$100,F$7),IF(RIGHT(Worksheet!$AN26,5)=\"Total\",SUM(OFFSET(F31,-COUNTIF(Worksheet!$AM$1:$AM$98,Worksheet!$AM26)+1,0,COUNTIF(Worksheet!$AM$1:$AM$98,Worksheet!$AM26)-1)),SUMIFS(Worksheet!$X$2:$X$100,Worksheet!$Z$2:$Z$100,CONCATENATE(Worksheet!$AN26,$B31,F$7)))))","v":""},{"$f":"IF(Worksheet!$AN26=\"\",\"\",IF(Worksheet!$AN26=\"Overall Total\",SUMIFS(Worksheet!$X$2:$X$100,Worksheet!$W$2:$W$100,G$7),IF(RIGHT(Worksheet!$AN26,5)=\"Total\",SUM(OFFSET(G31,-COUNTIF(Worksheet!$AM$1:$AM$98,Worksheet!$AM26)+1,0,COUNTIF(Worksheet!$AM$1:$AM$98,Worksheet!$AM26)-1)),SUMIFS(Worksheet!$X$2:$X$100,Worksheet!$Z$2:$Z$100,CONCATENATE(Worksheet!$AN26,$B31,G$7)))))","v":""},{"$f":"IF(Worksheet!$AN26=\"\",\"\",IF(Worksheet!$AN26=\"Overall Total\",SUMIFS(Worksheet!$X$2:$X$100,Worksheet!$W$2:$W$100,H$7),IF(RIGHT(Worksheet!$AN26,5)=\"Total\",SUM(OFFSET(H31,-COUNTIF(Worksheet!$AM$1:$AM$98,Worksheet!$AM26)+1,0,COUNTIF(Worksheet!$AM$1:$AM$98,Worksheet!$AM26)-1)),SUMIFS(Worksheet!$X$2:$X$100,Worksheet!$Z$2:$Z$100,CONCATENATE(Worksheet!$AN26,$B31,H$7)))))","v":""},{"$f":"IF(Worksheet!$AN26=\"\",\"\",IF(Worksheet!$AN26=\"Overall Total\",SUMIFS(Worksheet!$X$2:$X$100,Worksheet!$W$2:$W$100,I$7),IF(RIGHT(Worksheet!$AN26,5)=\"Total\",SUM(OFFSET(I31,-COUNTIF(Worksheet!$AM$1:$AM$98,Worksheet!$AM26)+1,0,COUNTIF(Worksheet!$AM$1:$AM$98,Worksheet!$AM26)-1)),SUMIFS(Worksheet!$X$2:$X$100,Worksheet!$Z$2:$Z$100,CONCATENATE(Worksheet!$AN26,$B31,I$7)))))","v":""},{"$f":"IF(Worksheet!$AN26=\"\",\"\",IF(Worksheet!$AN26=\"Overall Total\",SUMIFS(Worksheet!$X$2:$X$100,Worksheet!$W$2:$W$100,J$7),IF(RIGHT(Worksheet!$AN26,5)=\"Total\",SUM(OFFSET(J31,-COUNTIF(Worksheet!$AM$1:$AM$98,Worksheet!$AM26)+1,0,COUNTIF(Worksheet!$AM$1:$AM$98,Worksheet!$AM26)-1)),SUMIFS(Worksheet!$X$2:$X$100,Worksheet!$Z$2:$Z$100,CONCATENATE(Worksheet!$AN26,$B31,J$7)))))","v":""},{"$f":"IF(Worksheet!$AN26=\"\",\"\",IF(Worksheet!$AN26=\"Overall Total\",SUMIFS(Worksheet!$X$2:$X$100,Worksheet!$W$2:$W$100,K$7),IF(RIGHT(Worksheet!$AN26,5)=\"Total\",SUM(OFFSET(K31,-COUNTIF(Worksheet!$AM$1:$AM$98,Worksheet!$AM26)+1,0,COUNTIF(Worksheet!$AM$1:$AM$98,Worksheet!$AM26)-1)),SUMIFS(Worksheet!$X$2:$X$100,Worksheet!$Z$2:$Z$100,CONCATENATE(Worksheet!$AN26,$B31,K$7)))))","v":""},{"$f":"IF(Worksheet!$AN26=\"\",\"\",IF(Worksheet!$AN26=\"Overall Total\",SUMIFS(Worksheet!$X$2:$X$100,Worksheet!$W$2:$W$100,L$7),IF(RIGHT(Worksheet!$AN26,5)=\"Total\",SUM(OFFSET(L31,-COUNTIF(Worksheet!$AM$1:$AM$98,Worksheet!$AM26)+1,0,COUNTIF(Worksheet!$AM$1:$AM$98,Worksheet!$AM26)-1)),SUMIFS(Worksheet!$X$2:$X$100,Worksheet!$Z$2:$Z$100,CONCATENATE(Worksheet!$AN26,$B31,L$7)))))","v":""},{"$f":"IF(Worksheet!$AN26=\"\",\"\",IF(Worksheet!$AN26=\"Overall Total\",SUMIFS(Worksheet!$X$2:$X$100,Worksheet!$W$2:$W$100,M$7),IF(RIGHT(Worksheet!$AN26,5)=\"Total\",SUM(OFFSET(M31,-COUNTIF(Worksheet!$AM$1:$AM$98,Worksheet!$AM26)+1,0,COUNTIF(Worksheet!$AM$1:$AM$98,Worksheet!$AM26)-1)),SUMIFS(Worksheet!$X$2:$X$100,Worksheet!$Z$2:$Z$100,CONCATENATE(Worksheet!$AN26,$B31,M$7)))))","v":""},{"$f":"IF(Worksheet!$AN26=\"\",\"\",IF(Worksheet!$AN26=\"Overall Total\",$N$1,IF(RIGHT(Worksheet!$AN26,5)=\"Total\",SUM(OFFSET(N31,-COUNTIF(Worksheet!$AM$1:$AM$98,Worksheet!$AM26)+1,0,COUNTIF(Worksheet!$AM$1:$AM$98,Worksheet!$AM26)-1)),SUM(D31:M31))))","v":""}]
[{"$f":"IF(Worksheet!AN27=Worksheet!AN26,\"\",Worksheet!AN27)","v":""},{"$f":"IF(OR(Worksheet!AL27=\"\",Worksheet!AN26=\"\"),\"\",IF(RIGHT(Worksheet!AN27,5)=\"Total\",\"\",OFFSET(Worksheet!$AE$1,Worksheet!AL27,0)))","v":""},null,{"$f":"IF(Worksheet!$AN27=\"\",\"\",IF(Worksheet!$AN27=\"Overall Total\",SUMIFS(Worksheet!$X$2:$X$100,Worksheet!$W$2:$W$100,D$7),IF(RIGHT(Worksheet!$AN27,5)=\"Total\",SUM(OFFSET(D32,-COUNTIF(Worksheet!$AM$1:$AM$98,Worksheet!$AM27)+1,0,COUNTIF(Worksheet!$AM$1:$AM$98,Worksheet!$AM27)-1)),SUMIFS(Worksheet!$X$2:$X$100,Worksheet!$Z$2:$Z$100,CONCATENATE(Worksheet!$AN27,$B32,D$7)))))","v":""},{"$f":"IF(Worksheet!$AN27=\"\",\"\",IF(Worksheet!$AN27=\"Overall Total\",SUMIFS(Worksheet!$X$2:$X$100,Worksheet!$W$2:$W$100,E$7),IF(RIGHT(Worksheet!$AN27,5)=\"Total\",SUM(OFFSET(E32,-COUNTIF(Worksheet!$AM$1:$AM$98,Worksheet!$AM27)+1,0,COUNTIF(Worksheet!$AM$1:$AM$98,Worksheet!$AM27)-1)),SUMIFS(Worksheet!$X$2:$X$100,Worksheet!$Z$2:$Z$100,CONCATENATE(Worksheet!$AN27,$B32,E$7)))))","v":""},{"$f":"IF(Worksheet!$AN27=\"\",\"\",IF(Worksheet!$AN27=\"Overall Total\",SUMIFS(Worksheet!$X$2:$X$100,Worksheet!$W$2:$W$100,F$7),IF(RIGHT(Worksheet!$AN27,5)=\"Total\",SUM(OFFSET(F32,-COUNTIF(Worksheet!$AM$1:$AM$98,Worksheet!$AM27)+1,0,COUNTIF(Worksheet!$AM$1:$AM$98,Worksheet!$AM27)-1)),SUMIFS(Worksheet!$X$2:$X$100,Worksheet!$Z$2:$Z$100,CONCATENATE(Worksheet!$AN27,$B32,F$7)))))","v":""},{"$f":"IF(Worksheet!$AN27=\"\",\"\",IF(Worksheet!$AN27=\"Overall Total\",SUMIFS(Worksheet!$X$2:$X$100,Worksheet!$W$2:$W$100,G$7),IF(RIGHT(Worksheet!$AN27,5)=\"Total\",SUM(OFFSET(G32,-COUNTIF(Worksheet!$AM$1:$AM$98,Worksheet!$AM27)+1,0,COUNTIF(Worksheet!$AM$1:$AM$98,Worksheet!$AM27)-1)),SUMIFS(Worksheet!$X$2:$X$100,Worksheet!$Z$2:$Z$100,CONCATENATE(Worksheet!$AN27,$B32,G$7)))))","v":""},{"$f":"IF(Worksheet!$AN27=\"\",\"\",IF(Worksheet!$AN27=\"Overall Total\",SUMIFS(Worksheet!$X$2:$X$100,Worksheet!$W$2:$W$100,H$7),IF(RIGHT(Worksheet!$AN27,5)=\"Total\",SUM(OFFSET(H32,-COUNTIF(Worksheet!$AM$1:$AM$98,Worksheet!$AM27)+1,0,COUNTIF(Worksheet!$AM$1:$AM$98,Worksheet!$AM27)-1)),SUMIFS(Worksheet!$X$2:$X$100,Worksheet!$Z$2:$Z$100,CONCATENATE(Worksheet!$AN27,$B32,H$7)))))","v":""},{"$f":"IF(Worksheet!$AN27=\"\",\"\",IF(Worksheet!$AN27=\"Overall Total\",SUMIFS(Worksheet!$X$2:$X$100,Worksheet!$W$2:$W$100,I$7),IF(RIGHT(Worksheet!$AN27,5)=\"Total\",SUM(OFFSET(I32,-COUNTIF(Worksheet!$AM$1:$AM$98,Worksheet!$AM27)+1,0,COUNTIF(Worksheet!$AM$1:$AM$98,Worksheet!$AM27)-1)),SUMIFS(Worksheet!$X$2:$X$100,Worksheet!$Z$2:$Z$100,CONCATENATE(Worksheet!$AN27,$B32,I$7)))))","v":""},{"$f":"IF(Worksheet!$AN27=\"\",\"\",IF(Worksheet!$AN27=\"Overall Total\",SUMIFS(Worksheet!$X$2:$X$100,Worksheet!$W$2:$W$100,J$7),IF(RIGHT(Worksheet!$AN27,5)=\"Total\",SUM(OFFSET(J32,-COUNTIF(Worksheet!$AM$1:$AM$98,Worksheet!$AM27)+1,0,COUNTIF(Worksheet!$AM$1:$AM$98,Worksheet!$AM27)-1)),SUMIFS(Worksheet!$X$2:$X$100,Worksheet!$Z$2:$Z$100,CONCATENATE(Worksheet!$AN27,$B32,J$7)))))","v":""},{"$f":"IF(Worksheet!$AN27=\"\",\"\",IF(Worksheet!$AN27=\"Overall Total\",SUMIFS(Worksheet!$X$2:$X$100,Worksheet!$W$2:$W$100,K$7),IF(RIGHT(Worksheet!$AN27,5)=\"Total\",SUM(OFFSET(K32,-COUNTIF(Worksheet!$AM$1:$AM$98,Worksheet!$AM27)+1,0,COUNTIF(Worksheet!$AM$1:$AM$98,Worksheet!$AM27)-1)),SUMIFS(Worksheet!$X$2:$X$100,Worksheet!$Z$2:$Z$100,CONCATENATE(Worksheet!$AN27,$B32,K$7)))))","v":""},{"$f":"IF(Worksheet!$AN27=\"\",\"\",IF(Worksheet!$AN27=\"Overall Total\",SUMIFS(Worksheet!$X$2:$X$100,Worksheet!$W$2:$W$100,L$7),IF(RIGHT(Worksheet!$AN27,5)=\"Total\",SUM(OFFSET(L32,-COUNTIF(Worksheet!$AM$1:$AM$98,Worksheet!$AM27)+1,0,COUNTIF(Worksheet!$AM$1:$AM$98,Worksheet!$AM27)-1)),SUMIFS(Worksheet!$X$2:$X$100,Worksheet!$Z$2:$Z$100,CONCATENATE(Worksheet!$AN27,$B32,L$7)))))","v":""},{"$f":"IF(Worksheet!$AN27=\"\",\"\",IF(Worksheet!$AN27=\"Overall Total\",SUMIFS(Worksheet!$X$2:$X$100,Worksheet!$W$2:$W$100,M$7),IF(RIGHT(Worksheet!$AN27,5)=\"Total\",SUM(OFFSET(M32,-COUNTIF(Worksheet!$AM$1:$AM$98,Worksheet!$AM27)+1,0,COUNTIF(Worksheet!$AM$1:$AM$98,Worksheet!$AM27)-1)),SUMIFS(Worksheet!$X$2:$X$100,Worksheet!$Z$2:$Z$100,CONCATENATE(Worksheet!$AN27,$B32,M$7)))))","v":""},{"$f":"IF(Worksheet!$AN27=\"\",\"\",IF(Worksheet!$AN27=\"Overall Total\",$N$1,IF(RIGHT(Worksheet!$AN27,5)=\"Total\",SUM(OFFSET(N32,-COUNTIF(Worksheet!$AM$1:$AM$98,Worksheet!$AM27)+1,0,COUNTIF(Worksheet!$AM$1:$AM$98,Worksheet!$AM27)-1)),SUM(D32:M32))))","v":""}]
[{"$f":"IF(Worksheet!AN28=Worksheet!AN27,\"\",Worksheet!AN28)","v":""},{"$f":"IF(OR(Worksheet!AL28=\"\",Worksheet!AN27=\"\"),\"\",IF(RIGHT(Worksheet!AN28,5)=\"Total\",\"\",OFFSET(Worksheet!$AE$1,Worksheet!AL28,0)))","v":""},null,{"$f":"IF(Worksheet!$AN28=\"\",\"\",IF(Worksheet!$AN28=\"Overall Total\",SUMIFS(Worksheet!$X$2:$X$100,Worksheet!$W$2:$W$100,D$7),IF(RIGHT(Worksheet!$AN28,5)=\"Total\",SUM(OFFSET(D33,-COUNTIF(Worksheet!$AM$1:$AM$98,Worksheet!$AM28)+1,0,COUNTIF(Worksheet!$AM$1:$AM$98,Worksheet!$AM28)-1)),SUMIFS(Worksheet!$X$2:$X$100,Worksheet!$Z$2:$Z$100,CONCATENATE(Worksheet!$AN28,$B33,D$7)))))","v":""},{"$f":"IF(Worksheet!$AN28=\"\",\"\",IF(Worksheet!$AN28=\"Overall Total\",SUMIFS(Worksheet!$X$2:$X$100,Worksheet!$W$2:$W$100,E$7),IF(RIGHT(Worksheet!$AN28,5)=\"Total\",SUM(OFFSET(E33,-COUNTIF(Worksheet!$AM$1:$AM$98,Worksheet!$AM28)+1,0,COUNTIF(Worksheet!$AM$1:$AM$98,Worksheet!$AM28)-1)),SUMIFS(Worksheet!$X$2:$X$100,Worksheet!$Z$2:$Z$100,CONCATENATE(Worksheet!$AN28,$B33,E$7)))))","v":""},{"$f":"IF(Worksheet!$AN28=\"\",\"\",IF(Worksheet!$AN28=\"Overall Total\",SUMIFS(Worksheet!$X$2:$X$100,Worksheet!$W$2:$W$100,F$7),IF(RIGHT(Worksheet!$AN28,5)=\"Total\",SUM(OFFSET(F33,-COUNTIF(Worksheet!$AM$1:$AM$98,Worksheet!$AM28)+1,0,COUNTIF(Worksheet!$AM$1:$AM$98,Worksheet!$AM28)-1)),SUMIFS(Worksheet!$X$2:$X$100,Worksheet!$Z$2:$Z$100,CONCATENATE(Worksheet!$AN28,$B33,F$7)))))","v":""},{"$f":"IF(Worksheet!$AN28=\"\",\"\",IF(Worksheet!$AN28=\"Overall Total\",SUMIFS(Worksheet!$X$2:$X$100,Worksheet!$W$2:$W$100,G$7),IF(RIGHT(Worksheet!$AN28,5)=\"Total\",SUM(OFFSET(G33,-COUNTIF(Worksheet!$AM$1:$AM$98,Worksheet!$AM28)+1,0,COUNTIF(Worksheet!$AM$1:$AM$98,Worksheet!$AM28)-1)),SUMIFS(Worksheet!$X$2:$X$100,Worksheet!$Z$2:$Z$100,CONCATENATE(Worksheet!$AN28,$B33,G$7)))))","v":""},{"$f":"IF(Worksheet!$AN28=\"\",\"\",IF(Worksheet!$AN28=\"Overall Total\",SUMIFS(Worksheet!$X$2:$X$100,Worksheet!$W$2:$W$100,H$7),IF(RIGHT(Worksheet!$AN28,5)=\"Total\",SUM(OFFSET(H33,-COUNTIF(Worksheet!$AM$1:$AM$98,Worksheet!$AM28)+1,0,COUNTIF(Worksheet!$AM$1:$AM$98,Worksheet!$AM28)-1)),SUMIFS(Worksheet!$X$2:$X$100,Worksheet!$Z$2:$Z$100,CONCATENATE(Worksheet!$AN28,$B33,H$7)))))","v":""},{"$f":"IF(Worksheet!$AN28=\"\",\"\",IF(Worksheet!$AN28=\"Overall Total\",SUMIFS(Worksheet!$X$2:$X$100,Worksheet!$W$2:$W$100,I$7),IF(RIGHT(Worksheet!$AN28,5)=\"Total\",SUM(OFFSET(I33,-COUNTIF(Worksheet!$AM$1:$AM$98,Worksheet!$AM28)+1,0,COUNTIF(Worksheet!$AM$1:$AM$98,Worksheet!$AM28)-1)),SUMIFS(Worksheet!$X$2:$X$100,Worksheet!$Z$2:$Z$100,CONCATENATE(Worksheet!$AN28,$B33,I$7)))))","v":""},{"$f":"IF(Worksheet!$AN28=\"\",\"\",IF(Worksheet!$AN28=\"Overall Total\",SUMIFS(Worksheet!$X$2:$X$100,Worksheet!$W$2:$W$100,J$7),IF(RIGHT(Worksheet!$AN28,5)=\"Total\",SUM(OFFSET(J33,-COUNTIF(Worksheet!$AM$1:$AM$98,Worksheet!$AM28)+1,0,COUNTIF(Worksheet!$AM$1:$AM$98,Worksheet!$AM28)-1)),SUMIFS(Worksheet!$X$2:$X$100,Worksheet!$Z$2:$Z$100,CONCATENATE(Worksheet!$AN28,$B33,J$7)))))","v":""},{"$f":"IF(Worksheet!$AN28=\"\",\"\",IF(Worksheet!$AN28=\"Overall Total\",SUMIFS(Worksheet!$X$2:$X$100,Worksheet!$W$2:$W$100,K$7),IF(RIGHT(Worksheet!$AN28,5)=\"Total\",SUM(OFFSET(K33,-COUNTIF(Worksheet!$AM$1:$AM$98,Worksheet!$AM28)+1,0,COUNTIF(Worksheet!$AM$1:$AM$98,Worksheet!$AM28)-1)),SUMIFS(Worksheet!$X$2:$X$100,Worksheet!$Z$2:$Z$100,CONCATENATE(Worksheet!$AN28,$B33,K$7)))))","v":""},{"$f":"IF(Worksheet!$AN28=\"\",\"\",IF(Worksheet!$AN28=\"Overall Total\",SUMIFS(Worksheet!$X$2:$X$100,Worksheet!$W$2:$W$100,L$7),IF(RIGHT(Worksheet!$AN28,5)=\"Total\",SUM(OFFSET(L33,-COUNTIF(Worksheet!$AM$1:$AM$98,Worksheet!$AM28)+1,0,COUNTIF(Worksheet!$AM$1:$AM$98,Worksheet!$AM28)-1)),SUMIFS(Worksheet!$X$2:$X$100,Worksheet!$Z$2:$Z$100,CONCATENATE(Worksheet!$AN28,$B33,L$7)))))","v":""},{"$f":"IF(Worksheet!$AN28=\"\",\"\",IF(Worksheet!$AN28=\"Overall Total\",SUMIFS(Worksheet!$X$2:$X$100,Worksheet!$W$2:$W$100,M$7),IF(RIGHT(Worksheet!$AN28,5)=\"Total\",SUM(OFFSET(M33,-COUNTIF(Worksheet!$AM$1:$AM$98,Worksheet!$AM28)+1,0,COUNTIF(Worksheet!$AM$1:$AM$98,Worksheet!$AM28)-1)),SUMIFS(Worksheet!$X$2:$X$100,Worksheet!$Z$2:$Z$100,CONCATENATE(Worksheet!$AN28,$B33,M$7)))))","v":""},{"$f":"IF(Worksheet!$AN28=\"\",\"\",IF(Worksheet!$AN28=\"Overall Total\",$N$1,IF(RIGHT(Worksheet!$AN28,5)=\"Total\",SUM(OFFSET(N33,-COUNTIF(Worksheet!$AM$1:$AM$98,Worksheet!$AM28)+1,0,COUNTIF(Worksheet!$AM$1:$AM$98,Worksheet!$AM28)-1)),SUM(D33:M33))))","v":""}]
[{"$f":"IF(Worksheet!AN29=Worksheet!AN28,\"\",Worksheet!AN29)","v":""},{"$f":"IF(OR(Worksheet!AL29=\"\",Worksheet!AN28=\"\"),\"\",IF(RIGHT(Worksheet!AN29,5)=\"Total\",\"\",OFFSET(Worksheet!$AE$1,Worksheet!AL29,0)))","v":""},null,{"$f":"IF(Worksheet!$AN29=\"\",\"\",IF(Worksheet!$AN29=\"Overall Total\",SUMIFS(Worksheet!$X$2:$X$100,Worksheet!$W$2:$W$100,D$7),IF(RIGHT(Worksheet!$AN29,5)=\"Total\",SUM(OFFSET(D34,-COUNTIF(Worksheet!$AM$1:$AM$98,Worksheet!$AM29)+1,0,COUNTIF(Worksheet!$AM$1:$AM$98,Worksheet!$AM29)-1)),SUMIFS(Worksheet!$X$2:$X$100,Worksheet!$Z$2:$Z$100,CONCATENATE(Worksheet!$AN29,$B34,D$7)))))","v":""},{"$f":"IF(Worksheet!$AN29=\"\",\"\",IF(Worksheet!$AN29=\"Overall Total\",SUMIFS(Worksheet!$X$2:$X$100,Worksheet!$W$2:$W$100,E$7),IF(RIGHT(Worksheet!$AN29,5)=\"Total\",SUM(OFFSET(E34,-COUNTIF(Worksheet!$AM$1:$AM$98,Worksheet!$AM29)+1,0,COUNTIF(Worksheet!$AM$1:$AM$98,Worksheet!$AM29)-1)),SUMIFS(Worksheet!$X$2:$X$100,Worksheet!$Z$2:$Z$100,CONCATENATE(Worksheet!$AN29,$B34,E$7)))))","v":""},{"$f":"IF(Worksheet!$AN29=\"\",\"\",IF(Worksheet!$AN29=\"Overall Total\",SUMIFS(Worksheet!$X$2:$X$100,Worksheet!$W$2:$W$100,F$7),IF(RIGHT(Worksheet!$AN29,5)=\"Total\",SUM(OFFSET(F34,-COUNTIF(Worksheet!$AM$1:$AM$98,Worksheet!$AM29)+1,0,COUNTIF(Worksheet!$AM$1:$AM$98,Worksheet!$AM29)-1)),SUMIFS(Worksheet!$X$2:$X$100,Worksheet!$Z$2:$Z$100,CONCATENATE(Worksheet!$AN29,$B34,F$7)))))","v":""},{"$f":"IF(Worksheet!$AN29=\"\",\"\",IF(Worksheet!$AN29=\"Overall Total\",SUMIFS(Worksheet!$X$2:$X$100,Worksheet!$W$2:$W$100,G$7),IF(RIGHT(Worksheet!$AN29,5)=\"Total\",SUM(OFFSET(G34,-COUNTIF(Worksheet!$AM$1:$AM$98,Worksheet!$AM29)+1,0,COUNTIF(Worksheet!$AM$1:$AM$98,Worksheet!$AM29)-1)),SUMIFS(Worksheet!$X$2:$X$100,Worksheet!$Z$2:$Z$100,CONCATENATE(Worksheet!$AN29,$B34,G$7)))))","v":""},{"$f":"IF(Worksheet!$AN29=\"\",\"\",IF(Worksheet!$AN29=\"Overall Total\",SUMIFS(Worksheet!$X$2:$X$100,Worksheet!$W$2:$W$100,H$7),IF(RIGHT(Worksheet!$AN29,5)=\"Total\",SUM(OFFSET(H34,-COUNTIF(Worksheet!$AM$1:$AM$98,Worksheet!$AM29)+1,0,COUNTIF(Worksheet!$AM$1:$AM$98,Worksheet!$AM29)-1)),SUMIFS(Worksheet!$X$2:$X$100,Worksheet!$Z$2:$Z$100,CONCATENATE(Worksheet!$AN29,$B34,H$7)))))","v":""},{"$f":"IF(Worksheet!$AN29=\"\",\"\",IF(Worksheet!$AN29=\"Overall Total\",SUMIFS(Worksheet!$X$2:$X$100,Worksheet!$W$2:$W$100,I$7),IF(RIGHT(Worksheet!$AN29,5)=\"Total\",SUM(OFFSET(I34,-COUNTIF(Worksheet!$AM$1:$AM$98,Worksheet!$AM29)+1,0,COUNTIF(Worksheet!$AM$1:$AM$98,Worksheet!$AM29)-1)),SUMIFS(Worksheet!$X$2:$X$100,Worksheet!$Z$2:$Z$100,CONCATENATE(Worksheet!$AN29,$B34,I$7)))))","v":""},{"$f":"IF(Worksheet!$AN29=\"\",\"\",IF(Worksheet!$AN29=\"Overall Total\",SUMIFS(Worksheet!$X$2:$X$100,Worksheet!$W$2:$W$100,J$7),IF(RIGHT(Worksheet!$AN29,5)=\"Total\",SUM(OFFSET(J34,-COUNTIF(Worksheet!$AM$1:$AM$98,Worksheet!$AM29)+1,0,COUNTIF(Worksheet!$AM$1:$AM$98,Worksheet!$AM29)-1)),SUMIFS(Worksheet!$X$2:$X$100,Worksheet!$Z$2:$Z$100,CONCATENATE(Worksheet!$AN29,$B34,J$7)))))","v":""},{"$f":"IF(Worksheet!$AN29=\"\",\"\",IF(Worksheet!$AN29=\"Overall Total\",SUMIFS(Worksheet!$X$2:$X$100,Worksheet!$W$2:$W$100,K$7),IF(RIGHT(Worksheet!$AN29,5)=\"Total\",SUM(OFFSET(K34,-COUNTIF(Worksheet!$AM$1:$AM$98,Worksheet!$AM29)+1,0,COUNTIF(Worksheet!$AM$1:$AM$98,Worksheet!$AM29)-1)),SUMIFS(Worksheet!$X$2:$X$100,Worksheet!$Z$2:$Z$100,CONCATENATE(Worksheet!$AN29,$B34,K$7)))))","v":""},{"$f":"IF(Worksheet!$AN29=\"\",\"\",IF(Worksheet!$AN29=\"Overall Total\",SUMIFS(Worksheet!$X$2:$X$100,Worksheet!$W$2:$W$100,L$7),IF(RIGHT(Worksheet!$AN29,5)=\"Total\",SUM(OFFSET(L34,-COUNTIF(Worksheet!$AM$1:$AM$98,Worksheet!$AM29)+1,0,COUNTIF(Worksheet!$AM$1:$AM$98,Worksheet!$AM29)-1)),SUMIFS(Worksheet!$X$2:$X$100,Worksheet!$Z$2:$Z$100,CONCATENATE(Worksheet!$AN29,$B34,L$7)))))","v":""},{"$f":"IF(Worksheet!$AN29=\"\",\"\",IF(Worksheet!$AN29=\"Overall Total\",SUMIFS(Worksheet!$X$2:$X$100,Worksheet!$W$2:$W$100,M$7),IF(RIGHT(Worksheet!$AN29,5)=\"Total\",SUM(OFFSET(M34,-COUNTIF(Worksheet!$AM$1:$AM$98,Worksheet!$AM29)+1,0,COUNTIF(Worksheet!$AM$1:$AM$98,Worksheet!$AM29)-1)),SUMIFS(Worksheet!$X$2:$X$100,Worksheet!$Z$2:$Z$100,CONCATENATE(Worksheet!$AN29,$B34,M$7)))))","v":""},{"$f":"IF(Worksheet!$AN29=\"\",\"\",IF(Worksheet!$AN29=\"Overall Total\",$N$1,IF(RIGHT(Worksheet!$AN29,5)=\"Total\",SUM(OFFSET(N34,-COUNTIF(Worksheet!$AM$1:$AM$98,Worksheet!$AM29)+1,0,COUNTIF(Worksheet!$AM$1:$AM$98,Worksheet!$AM29)-1)),SUM(D34:M34))))","v":""}]
[{"$f":"IF(Worksheet!AN30=Worksheet!AN29,\"\",Worksheet!AN30)","v":""},{"$f":"IF(OR(Worksheet!AL30=\"\",Worksheet!AN29=\"\"),\"\",IF(RIGHT(Worksheet!AN30,5)=\"Total\",\"\",OFFSET(Worksheet!$AE$1,Worksheet!AL30,0)))","v":""},null,{"$f":"IF(Worksheet!$AN30=\"\",\"\",IF(Worksheet!$AN30=\"Overall Total\",SUMIFS(Worksheet!$X$2:$X$100,Worksheet!$W$2:$W$100,D$7),IF(RIGHT(Worksheet!$AN30,5)=\"Total\",SUM(OFFSET(D35,-COUNTIF(Worksheet!$AM$1:$AM$98,Worksheet!$AM30)+1,0,COUNTIF(Worksheet!$AM$1:$AM$98,Worksheet!$AM30)-1)),SUMIFS(Worksheet!$X$2:$X$100,Worksheet!$Z$2:$Z$100,CONCATENATE(Worksheet!$AN30,$B35,D$7)))))","v":""},{"$f":"IF(Worksheet!$AN30=\"\",\"\",IF(Worksheet!$AN30=\"Overall Total\",SUMIFS(Worksheet!$X$2:$X$100,Worksheet!$W$2:$W$100,E$7),IF(RIGHT(Worksheet!$AN30,5)=\"Total\",SUM(OFFSET(E35,-COUNTIF(Worksheet!$AM$1:$AM$98,Worksheet!$AM30)+1,0,COUNTIF(Worksheet!$AM$1:$AM$98,Worksheet!$AM30)-1)),SUMIFS(Worksheet!$X$2:$X$100,Worksheet!$Z$2:$Z$100,CONCATENATE(Worksheet!$AN30,$B35,E$7)))))","v":""},{"$f":"IF(Worksheet!$AN30=\"\",\"\",IF(Worksheet!$AN30=\"Overall Total\",SUMIFS(Worksheet!$X$2:$X$100,Worksheet!$W$2:$W$100,F$7),IF(RIGHT(Worksheet!$AN30,5)=\"Total\",SUM(OFFSET(F35,-COUNTIF(Worksheet!$AM$1:$AM$98,Worksheet!$AM30)+1,0,COUNTIF(Worksheet!$AM$1:$AM$98,Worksheet!$AM30)-1)),SUMIFS(Worksheet!$X$2:$X$100,Worksheet!$Z$2:$Z$100,CONCATENATE(Worksheet!$AN30,$B35,F$7)))))","v":""},{"$f":"IF(Worksheet!$AN30=\"\",\"\",IF(Worksheet!$AN30=\"Overall Total\",SUMIFS(Worksheet!$X$2:$X$100,Worksheet!$W$2:$W$100,G$7),IF(RIGHT(Worksheet!$AN30,5)=\"Total\",SUM(OFFSET(G35,-COUNTIF(Worksheet!$AM$1:$AM$98,Worksheet!$AM30)+1,0,COUNTIF(Worksheet!$AM$1:$AM$98,Worksheet!$AM30)-1)),SUMIFS(Worksheet!$X$2:$X$100,Worksheet!$Z$2:$Z$100,CONCATENATE(Worksheet!$AN30,$B35,G$7)))))","v":""},{"$f":"IF(Worksheet!$AN30=\"\",\"\",IF(Worksheet!$AN30=\"Overall Total\",SUMIFS(Worksheet!$X$2:$X$100,Worksheet!$W$2:$W$100,H$7),IF(RIGHT(Worksheet!$AN30,5)=\"Total\",SUM(OFFSET(H35,-COUNTIF(Worksheet!$AM$1:$AM$98,Worksheet!$AM30)+1,0,COUNTIF(Worksheet!$AM$1:$AM$98,Worksheet!$AM30)-1)),SUMIFS(Worksheet!$X$2:$X$100,Worksheet!$Z$2:$Z$100,CONCATENATE(Worksheet!$AN30,$B35,H$7)))))","v":""},{"$f":"IF(Worksheet!$AN30=\"\",\"\",IF(Worksheet!$AN30=\"Overall Total\",SUMIFS(Worksheet!$X$2:$X$100,Worksheet!$W$2:$W$100,I$7),IF(RIGHT(Worksheet!$AN30,5)=\"Total\",SUM(OFFSET(I35,-COUNTIF(Worksheet!$AM$1:$AM$98,Worksheet!$AM30)+1,0,COUNTIF(Worksheet!$AM$1:$AM$98,Worksheet!$AM30)-1)),SUMIFS(Worksheet!$X$2:$X$100,Worksheet!$Z$2:$Z$100,CONCATENATE(Worksheet!$AN30,$B35,I$7)))))","v":""},{"$f":"IF(Worksheet!$AN30=\"\",\"\",IF(Worksheet!$AN30=\"Overall Total\",SUMIFS(Worksheet!$X$2:$X$100,Worksheet!$W$2:$W$100,J$7),IF(RIGHT(Worksheet!$AN30,5)=\"Total\",SUM(OFFSET(J35,-COUNTIF(Worksheet!$AM$1:$AM$98,Worksheet!$AM30)+1,0,COUNTIF(Worksheet!$AM$1:$AM$98,Worksheet!$AM30)-1)),SUMIFS(Worksheet!$X$2:$X$100,Worksheet!$Z$2:$Z$100,CONCATENATE(Worksheet!$AN30,$B35,J$7)))))","v":""},{"$f":"IF(Worksheet!$AN30=\"\",\"\",IF(Worksheet!$AN30=\"Overall Total\",SUMIFS(Worksheet!$X$2:$X$100,Worksheet!$W$2:$W$100,K$7),IF(RIGHT(Worksheet!$AN30,5)=\"Total\",SUM(OFFSET(K35,-COUNTIF(Worksheet!$AM$1:$AM$98,Worksheet!$AM30)+1,0,COUNTIF(Worksheet!$AM$1:$AM$98,Worksheet!$AM30)-1)),SUMIFS(Worksheet!$X$2:$X$100,Worksheet!$Z$2:$Z$100,CONCATENATE(Worksheet!$AN30,$B35,K$7)))))","v":""},{"$f":"IF(Worksheet!$AN30=\"\",\"\",IF(Worksheet!$AN30=\"Overall Total\",SUMIFS(Worksheet!$X$2:$X$100,Worksheet!$W$2:$W$100,L$7),IF(RIGHT(Worksheet!$AN30,5)=\"Total\",SUM(OFFSET(L35,-COUNTIF(Worksheet!$AM$1:$AM$98,Worksheet!$AM30)+1,0,COUNTIF(Worksheet!$AM$1:$AM$98,Worksheet!$AM30)-1)),SUMIFS(Worksheet!$X$2:$X$100,Worksheet!$Z$2:$Z$100,CONCATENATE(Worksheet!$AN30,$B35,L$7)))))","v":""},{"$f":"IF(Worksheet!$AN30=\"\",\"\",IF(Worksheet!$AN30=\"Overall Total\",SUMIFS(Worksheet!$X$2:$X$100,Worksheet!$W$2:$W$100,M$7),IF(RIGHT(Worksheet!$AN30,5)=\"Total\",SUM(OFFSET(M35,-COUNTIF(Worksheet!$AM$1:$AM$98,Worksheet!$AM30)+1,0,COUNTIF(Worksheet!$AM$1:$AM$98,Worksheet!$AM30)-1)),SUMIFS(Worksheet!$X$2:$X$100,Worksheet!$Z$2:$Z$100,CONCATENATE(Worksheet!$AN30,$B35,M$7)))))","v":""},{"$f":"IF(Worksheet!$AN30=\"\",\"\",IF(Worksheet!$AN30=\"Overall Total\",$N$1,IF(RIGHT(Worksheet!$AN30,5)=\"Total\",SUM(OFFSET(N35,-COUNTIF(Worksheet!$AM$1:$AM$98,Worksheet!$AM30)+1,0,COUNTIF(Worksheet!$AM$1:$AM$98,Worksheet!$AM30)-1)),SUM(D35:M35))))","v":""}]
[{"$f":"IF(Worksheet!AN31=Worksheet!AN30,\"\",Worksheet!AN31)","v":""},{"$f":"IF(OR(Worksheet!AL31=\"\",Worksheet!AN30=\"\"),\"\",IF(RIGHT(Worksheet!AN31,5)=\"Total\",\"\",OFFSET(Worksheet!$AE$1,Worksheet!AL31,0)))","v":""},null,{"$f":"IF(Worksheet!$AN31=\"\",\"\",IF(Worksheet!$AN31=\"Overall Total\",SUMIFS(Worksheet!$X$2:$X$100,Worksheet!$W$2:$W$100,D$7),IF(RIGHT(Worksheet!$AN31,5)=\"Total\",SUM(OFFSET(D36,-COUNTIF(Worksheet!$AM$1:$AM$98,Worksheet!$AM31)+1,0,COUNTIF(Worksheet!$AM$1:$AM$98,Worksheet!$AM31)-1)),SUMIFS(Worksheet!$X$2:$X$100,Worksheet!$Z$2:$Z$100,CONCATENATE(Worksheet!$AN31,$B36,D$7)))))","v":""},{"$f":"IF(Worksheet!$AN31=\"\",\"\",IF(Worksheet!$AN31=\"Overall Total\",SUMIFS(Worksheet!$X$2:$X$100,Worksheet!$W$2:$W$100,E$7),IF(RIGHT(Worksheet!$AN31,5)=\"Total\",SUM(OFFSET(E36,-COUNTIF(Worksheet!$AM$1:$AM$98,Worksheet!$AM31)+1,0,COUNTIF(Worksheet!$AM$1:$AM$98,Worksheet!$AM31)-1)),SUMIFS(Worksheet!$X$2:$X$100,Worksheet!$Z$2:$Z$100,CONCATENATE(Worksheet!$AN31,$B36,E$7)))))","v":""},{"$f":"IF(Worksheet!$AN31=\"\",\"\",IF(Worksheet!$AN31=\"Overall Total\",SUMIFS(Worksheet!$X$2:$X$100,Worksheet!$W$2:$W$100,F$7),IF(RIGHT(Worksheet!$AN31,5)=\"Total\",SUM(OFFSET(F36,-COUNTIF(Worksheet!$AM$1:$AM$98,Worksheet!$AM31)+1,0,COUNTIF(Worksheet!$AM$1:$AM$98,Worksheet!$AM31)-1)),SUMIFS(Worksheet!$X$2:$X$100,Worksheet!$Z$2:$Z$100,CONCATENATE(Worksheet!$AN31,$B36,F$7)))))","v":""},{"$f":"IF(Worksheet!$AN31=\"\",\"\",IF(Worksheet!$AN31=\"Overall Total\",SUMIFS(Worksheet!$X$2:$X$100,Worksheet!$W$2:$W$100,G$7),IF(RIGHT(Worksheet!$AN31,5)=\"Total\",SUM(OFFSET(G36,-COUNTIF(Worksheet!$AM$1:$AM$98,Worksheet!$AM31)+1,0,COUNTIF(Worksheet!$AM$1:$AM$98,Worksheet!$AM31)-1)),SUMIFS(Worksheet!$X$2:$X$100,Worksheet!$Z$2:$Z$100,CONCATENATE(Worksheet!$AN31,$B36,G$7)))))","v":""},{"$f":"IF(Worksheet!$AN31=\"\",\"\",IF(Worksheet!$AN31=\"Overall Total\",SUMIFS(Worksheet!$X$2:$X$100,Worksheet!$W$2:$W$100,H$7),IF(RIGHT(Worksheet!$AN31,5)=\"Total\",SUM(OFFSET(H36,-COUNTIF(Worksheet!$AM$1:$AM$98,Worksheet!$AM31)+1,0,COUNTIF(Worksheet!$AM$1:$AM$98,Worksheet!$AM31)-1)),SUMIFS(Worksheet!$X$2:$X$100,Worksheet!$Z$2:$Z$100,CONCATENATE(Worksheet!$AN31,$B36,H$7)))))","v":""},{"$f":"IF(Worksheet!$AN31=\"\",\"\",IF(Worksheet!$AN31=\"Overall Total\",SUMIFS(Worksheet!$X$2:$X$100,Worksheet!$W$2:$W$100,I$7),IF(RIGHT(Worksheet!$AN31,5)=\"Total\",SUM(OFFSET(I36,-COUNTIF(Worksheet!$AM$1:$AM$98,Worksheet!$AM31)+1,0,COUNTIF(Worksheet!$AM$1:$AM$98,Worksheet!$AM31)-1)),SUMIFS(Worksheet!$X$2:$X$100,Worksheet!$Z$2:$Z$100,CONCATENATE(Worksheet!$AN31,$B36,I$7)))))","v":""},{"$f":"IF(Worksheet!$AN31=\"\",\"\",IF(Worksheet!$AN31=\"Overall Total\",SUMIFS(Worksheet!$X$2:$X$100,Worksheet!$W$2:$W$100,J$7),IF(RIGHT(Worksheet!$AN31,5)=\"Total\",SUM(OFFSET(J36,-COUNTIF(Worksheet!$AM$1:$AM$98,Worksheet!$AM31)+1,0,COUNTIF(Worksheet!$AM$1:$AM$98,Worksheet!$AM31)-1)),SUMIFS(Worksheet!$X$2:$X$100,Worksheet!$Z$2:$Z$100,CONCATENATE(Worksheet!$AN31,$B36,J$7)))))","v":""},{"$f":"IF(Worksheet!$AN31=\"\",\"\",IF(Worksheet!$AN31=\"Overall Total\",SUMIFS(Worksheet!$X$2:$X$100,Worksheet!$W$2:$W$100,K$7),IF(RIGHT(Worksheet!$AN31,5)=\"Total\",SUM(OFFSET(K36,-COUNTIF(Worksheet!$AM$1:$AM$98,Worksheet!$AM31)+1,0,COUNTIF(Worksheet!$AM$1:$AM$98,Worksheet!$AM31)-1)),SUMIFS(Worksheet!$X$2:$X$100,Worksheet!$Z$2:$Z$100,CONCATENATE(Worksheet!$AN31,$B36,K$7)))))","v":""},{"$f":"IF(Worksheet!$AN31=\"\",\"\",IF(Worksheet!$AN31=\"Overall Total\",SUMIFS(Worksheet!$X$2:$X$100,Worksheet!$W$2:$W$100,L$7),IF(RIGHT(Worksheet!$AN31,5)=\"Total\",SUM(OFFSET(L36,-COUNTIF(Worksheet!$AM$1:$AM$98,Worksheet!$AM31)+1,0,COUNTIF(Worksheet!$AM$1:$AM$98,Worksheet!$AM31)-1)),SUMIFS(Worksheet!$X$2:$X$100,Worksheet!$Z$2:$Z$100,CONCATENATE(Worksheet!$AN31,$B36,L$7)))))","v":""},{"$f":"IF(Worksheet!$AN31=\"\",\"\",IF(Worksheet!$AN31=\"Overall Total\",SUMIFS(Worksheet!$X$2:$X$100,Worksheet!$W$2:$W$100,M$7),IF(RIGHT(Worksheet!$AN31,5)=\"Total\",SUM(OFFSET(M36,-COUNTIF(Worksheet!$AM$1:$AM$98,Worksheet!$AM31)+1,0,COUNTIF(Worksheet!$AM$1:$AM$98,Worksheet!$AM31)-1)),SUMIFS(Worksheet!$X$2:$X$100,Worksheet!$Z$2:$Z$100,CONCATENATE(Worksheet!$AN31,$B36,M$7)))))","v":""},{"$f":"IF(Worksheet!$AN31=\"\",\"\",IF(Worksheet!$AN31=\"Overall Total\",$N$1,IF(RIGHT(Worksheet!$AN31,5)=\"Total\",SUM(OFFSET(N36,-COUNTIF(Worksheet!$AM$1:$AM$98,Worksheet!$AM31)+1,0,COUNTIF(Worksheet!$AM$1:$AM$98,Worksheet!$AM31)-1)),SUM(D36:M36))))","v":""}]
[{"$f":"IF(Worksheet!AN32=Worksheet!AN31,\"\",Worksheet!AN32)","v":""},{"$f":"IF(OR(Worksheet!AL32=\"\",Worksheet!AN31=\"\"),\"\",IF(RIGHT(Worksheet!AN32,5)=\"Total\",\"\",OFFSET(Worksheet!$AE$1,Worksheet!AL32,0)))","v":""},null,{"$f":"IF(Worksheet!$AN32=\"\",\"\",IF(Worksheet!$AN32=\"Overall Total\",SUMIFS(Worksheet!$X$2:$X$100,Worksheet!$W$2:$W$100,D$7),IF(RIGHT(Worksheet!$AN32,5)=\"Total\",SUM(OFFSET(D37,-COUNTIF(Worksheet!$AM$1:$AM$98,Worksheet!$AM32)+1,0,COUNTIF(Worksheet!$AM$1:$AM$98,Worksheet!$AM32)-1)),SUMIFS(Worksheet!$X$2:$X$100,Worksheet!$Z$2:$Z$100,CONCATENATE(Worksheet!$AN32,$B37,D$7)))))","v":""},{"$f":"IF(Worksheet!$AN32=\"\",\"\",IF(Worksheet!$AN32=\"Overall Total\",SUMIFS(Worksheet!$X$2:$X$100,Worksheet!$W$2:$W$100,E$7),IF(RIGHT(Worksheet!$AN32,5)=\"Total\",SUM(OFFSET(E37,-COUNTIF(Worksheet!$AM$1:$AM$98,Worksheet!$AM32)+1,0,COUNTIF(Worksheet!$AM$1:$AM$98,Worksheet!$AM32)-1)),SUMIFS(Worksheet!$X$2:$X$100,Worksheet!$Z$2:$Z$100,CONCATENATE(Worksheet!$AN32,$B37,E$7)))))","v":""},{"$f":"IF(Worksheet!$AN32=\"\",\"\",IF(Worksheet!$AN32=\"Overall Total\",SUMIFS(Worksheet!$X$2:$X$100,Worksheet!$W$2:$W$100,F$7),IF(RIGHT(Worksheet!$AN32,5)=\"Total\",SUM(OFFSET(F37,-COUNTIF(Worksheet!$AM$1:$AM$98,Worksheet!$AM32)+1,0,COUNTIF(Worksheet!$AM$1:$AM$98,Worksheet!$AM32)-1)),SUMIFS(Worksheet!$X$2:$X$100,Worksheet!$Z$2:$Z$100,CONCATENATE(Worksheet!$AN32,$B37,F$7)))))","v":""},{"$f":"IF(Worksheet!$AN32=\"\",\"\",IF(Worksheet!$AN32=\"Overall Total\",SUMIFS(Worksheet!$X$2:$X$100,Worksheet!$W$2:$W$100,G$7),IF(RIGHT(Worksheet!$AN32,5)=\"Total\",SUM(OFFSET(G37,-COUNTIF(Worksheet!$AM$1:$AM$98,Worksheet!$AM32)+1,0,COUNTIF(Worksheet!$AM$1:$AM$98,Worksheet!$AM32)-1)),SUMIFS(Worksheet!$X$2:$X$100,Worksheet!$Z$2:$Z$100,CONCATENATE(Worksheet!$AN32,$B37,G$7)))))","v":""},{"$f":"IF(Worksheet!$AN32=\"\",\"\",IF(Worksheet!$AN32=\"Overall Total\",SUMIFS(Worksheet!$X$2:$X$100,Worksheet!$W$2:$W$100,H$7),IF(RIGHT(Worksheet!$AN32,5)=\"Total\",SUM(OFFSET(H37,-COUNTIF(Worksheet!$AM$1:$AM$98,Worksheet!$AM32)+1,0,COUNTIF(Worksheet!$AM$1:$AM$98,Worksheet!$AM32)-1)),SUMIFS(Worksheet!$X$2:$X$100,Worksheet!$Z$2:$Z$100,CONCATENATE(Worksheet!$AN32,$B37,H$7)))))","v":""},{"$f":"IF(Worksheet!$AN32=\"\",\"\",IF(Worksheet!$AN32=\"Overall Total\",SUMIFS(Worksheet!$X$2:$X$100,Worksheet!$W$2:$W$100,I$7),IF(RIGHT(Worksheet!$AN32,5)=\"Total\",SUM(OFFSET(I37,-COUNTIF(Worksheet!$AM$1:$AM$98,Worksheet!$AM32)+1,0,COUNTIF(Worksheet!$AM$1:$AM$98,Worksheet!$AM32)-1)),SUMIFS(Worksheet!$X$2:$X$100,Worksheet!$Z$2:$Z$100,CONCATENATE(Worksheet!$AN32,$B37,I$7)))))","v":""},{"$f":"IF(Worksheet!$AN32=\"\",\"\",IF(Worksheet!$AN32=\"Overall Total\",SUMIFS(Worksheet!$X$2:$X$100,Worksheet!$W$2:$W$100,J$7),IF(RIGHT(Worksheet!$AN32,5)=\"Total\",SUM(OFFSET(J37,-COUNTIF(Worksheet!$AM$1:$AM$98,Worksheet!$AM32)+1,0,COUNTIF(Worksheet!$AM$1:$AM$98,Worksheet!$AM32)-1)),SUMIFS(Worksheet!$X$2:$X$100,Worksheet!$Z$2:$Z$100,CONCATENATE(Worksheet!$AN32,$B37,J$7)))))","v":""},{"$f":"IF(Worksheet!$AN32=\"\",\"\",IF(Worksheet!$AN32=\"Overall Total\",SUMIFS(Worksheet!$X$2:$X$100,Worksheet!$W$2:$W$100,K$7),IF(RIGHT(Worksheet!$AN32,5)=\"Total\",SUM(OFFSET(K37,-COUNTIF(Worksheet!$AM$1:$AM$98,Worksheet!$AM32)+1,0,COUNTIF(Worksheet!$AM$1:$AM$98,Worksheet!$AM32)-1)),SUMIFS(Worksheet!$X$2:$X$100,Worksheet!$Z$2:$Z$100,CONCATENATE(Worksheet!$AN32,$B37,K$7)))))","v":""},{"$f":"IF(Worksheet!$AN32=\"\",\"\",IF(Worksheet!$AN32=\"Overall Total\",SUMIFS(Worksheet!$X$2:$X$100,Worksheet!$W$2:$W$100,L$7),IF(RIGHT(Worksheet!$AN32,5)=\"Total\",SUM(OFFSET(L37,-COUNTIF(Worksheet!$AM$1:$AM$98,Worksheet!$AM32)+1,0,COUNTIF(Worksheet!$AM$1:$AM$98,Worksheet!$AM32)-1)),SUMIFS(Worksheet!$X$2:$X$100,Worksheet!$Z$2:$Z$100,CONCATENATE(Worksheet!$AN32,$B37,L$7)))))","v":""},{"$f":"IF(Worksheet!$AN32=\"\",\"\",IF(Worksheet!$AN32=\"Overall Total\",SUMIFS(Worksheet!$X$2:$X$100,Worksheet!$W$2:$W$100,M$7),IF(RIGHT(Worksheet!$AN32,5)=\"Total\",SUM(OFFSET(M37,-COUNTIF(Worksheet!$AM$1:$AM$98,Worksheet!$AM32)+1,0,COUNTIF(Worksheet!$AM$1:$AM$98,Worksheet!$AM32)-1)),SUMIFS(Worksheet!$X$2:$X$100,Worksheet!$Z$2:$Z$100,CONCATENATE(Worksheet!$AN32,$B37,M$7)))))","v":""},{"$f":"IF(Worksheet!$AN32=\"\",\"\",IF(Worksheet!$AN32=\"Overall Total\",$N$1,IF(RIGHT(Worksheet!$AN32,5)=\"Total\",SUM(OFFSET(N37,-COUNTIF(Worksheet!$AM$1:$AM$98,Worksheet!$AM32)+1,0,COUNTIF(Worksheet!$AM$1:$AM$98,Worksheet!$AM32)-1)),SUM(D37:M37))))","v":""}]
[{"$f":"IF(Worksheet!AN33=Worksheet!AN32,\"\",Worksheet!AN33)","v":""},{"$f":"IF(OR(Worksheet!AL33=\"\",Worksheet!AN32=\"\"),\"\",IF(RIGHT(Worksheet!AN33,5)=\"Total\",\"\",OFFSET(Worksheet!$AE$1,Worksheet!AL33,0)))","v":""},null,{"$f":"IF(Worksheet!$AN33=\"\",\"\",IF(Worksheet!$AN33=\"Overall Total\",SUMIFS(Worksheet!$X$2:$X$100,Worksheet!$W$2:$W$100,D$7),IF(RIGHT(Worksheet!$AN33,5)=\"Total\",SUM(OFFSET(D38,-COUNTIF(Worksheet!$AM$1:$AM$98,Worksheet!$AM33)+1,0,COUNTIF(Worksheet!$AM$1:$AM$98,Worksheet!$AM33)-1)),SUMIFS(Worksheet!$X$2:$X$100,Worksheet!$Z$2:$Z$100,CONCATENATE(Worksheet!$AN33,$B38,D$7)))))","v":""},{"$f":"IF(Worksheet!$AN33=\"\",\"\",IF(Worksheet!$AN33=\"Overall Total\",SUMIFS(Worksheet!$X$2:$X$100,Worksheet!$W$2:$W$100,E$7),IF(RIGHT(Worksheet!$AN33,5)=\"Total\",SUM(OFFSET(E38,-COUNTIF(Worksheet!$AM$1:$AM$98,Worksheet!$AM33)+1,0,COUNTIF(Worksheet!$AM$1:$AM$98,Worksheet!$AM33)-1)),SUMIFS(Worksheet!$X$2:$X$100,Worksheet!$Z$2:$Z$100,CONCATENATE(Worksheet!$AN33,$B38,E$7)))))","v":""},{"$f":"IF(Worksheet!$AN33=\"\",\"\",IF(Worksheet!$AN33=\"Overall Total\",SUMIFS(Worksheet!$X$2:$X$100,Worksheet!$W$2:$W$100,F$7),IF(RIGHT(Worksheet!$AN33,5)=\"Total\",SUM(OFFSET(F38,-COUNTIF(Worksheet!$AM$1:$AM$98,Worksheet!$AM33)+1,0,COUNTIF(Worksheet!$AM$1:$AM$98,Worksheet!$AM33)-1)),SUMIFS(Worksheet!$X$2:$X$100,Worksheet!$Z$2:$Z$100,CONCATENATE(Worksheet!$AN33,$B38,F$7)))))","v":""},{"$f":"IF(Worksheet!$AN33=\"\",\"\",IF(Worksheet!$AN33=\"Overall Total\",SUMIFS(Worksheet!$X$2:$X$100,Worksheet!$W$2:$W$100,G$7),IF(RIGHT(Worksheet!$AN33,5)=\"Total\",SUM(OFFSET(G38,-COUNTIF(Worksheet!$AM$1:$AM$98,Worksheet!$AM33)+1,0,COUNTIF(Worksheet!$AM$1:$AM$98,Worksheet!$AM33)-1)),SUMIFS(Worksheet!$X$2:$X$100,Worksheet!$Z$2:$Z$100,CONCATENATE(Worksheet!$AN33,$B38,G$7)))))","v":""},{"$f":"IF(Worksheet!$AN33=\"\",\"\",IF(Worksheet!$AN33=\"Overall Total\",SUMIFS(Worksheet!$X$2:$X$100,Worksheet!$W$2:$W$100,H$7),IF(RIGHT(Worksheet!$AN33,5)=\"Total\",SUM(OFFSET(H38,-COUNTIF(Worksheet!$AM$1:$AM$98,Worksheet!$AM33)+1,0,COUNTIF(Worksheet!$AM$1:$AM$98,Worksheet!$AM33)-1)),SUMIFS(Worksheet!$X$2:$X$100,Worksheet!$Z$2:$Z$100,CONCATENATE(Worksheet!$AN33,$B38,H$7)))))","v":""},{"$f":"IF(Worksheet!$AN33=\"\",\"\",IF(Worksheet!$AN33=\"Overall Total\",SUMIFS(Worksheet!$X$2:$X$100,Worksheet!$W$2:$W$100,I$7),IF(RIGHT(Worksheet!$AN33,5)=\"Total\",SUM(OFFSET(I38,-COUNTIF(Worksheet!$AM$1:$AM$98,Worksheet!$AM33)+1,0,COUNTIF(Worksheet!$AM$1:$AM$98,Worksheet!$AM33)-1)),SUMIFS(Worksheet!$X$2:$X$100,Worksheet!$Z$2:$Z$100,CONCATENATE(Worksheet!$AN33,$B38,I$7)))))","v":""},{"$f":"IF(Worksheet!$AN33=\"\",\"\",IF(Worksheet!$AN33=\"Overall Total\",SUMIFS(Worksheet!$X$2:$X$100,Worksheet!$W$2:$W$100,J$7),IF(RIGHT(Worksheet!$AN33,5)=\"Total\",SUM(OFFSET(J38,-COUNTIF(Worksheet!$AM$1:$AM$98,Worksheet!$AM33)+1,0,COUNTIF(Worksheet!$AM$1:$AM$98,Worksheet!$AM33)-1)),SUMIFS(Worksheet!$X$2:$X$100,Worksheet!$Z$2:$Z$100,CONCATENATE(Worksheet!$AN33,$B38,J$7)))))","v":""},{"$f":"IF(Worksheet!$AN33=\"\",\"\",IF(Worksheet!$AN33=\"Overall Total\",SUMIFS(Worksheet!$X$2:$X$100,Worksheet!$W$2:$W$100,K$7),IF(RIGHT(Worksheet!$AN33,5)=\"Total\",SUM(OFFSET(K38,-COUNTIF(Worksheet!$AM$1:$AM$98,Worksheet!$AM33)+1,0,COUNTIF(Worksheet!$AM$1:$AM$98,Worksheet!$AM33)-1)),SUMIFS(Worksheet!$X$2:$X$100,Worksheet!$Z$2:$Z$100,CONCATENATE(Worksheet!$AN33,$B38,K$7)))))","v":""},{"$f":"IF(Worksheet!$AN33=\"\",\"\",IF(Worksheet!$AN33=\"Overall Total\",SUMIFS(Worksheet!$X$2:$X$100,Worksheet!$W$2:$W$100,L$7),IF(RIGHT(Worksheet!$AN33,5)=\"Total\",SUM(OFFSET(L38,-COUNTIF(Worksheet!$AM$1:$AM$98,Worksheet!$AM33)+1,0,COUNTIF(Worksheet!$AM$1:$AM$98,Worksheet!$AM33)-1)),SUMIFS(Worksheet!$X$2:$X$100,Worksheet!$Z$2:$Z$100,CONCATENATE(Worksheet!$AN33,$B38,L$7)))))","v":""},{"$f":"IF(Worksheet!$AN33=\"\",\"\",IF(Worksheet!$AN33=\"Overall Total\",SUMIFS(Worksheet!$X$2:$X$100,Worksheet!$W$2:$W$100,M$7),IF(RIGHT(Worksheet!$AN33,5)=\"Total\",SUM(OFFSET(M38,-COUNTIF(Worksheet!$AM$1:$AM$98,Worksheet!$AM33)+1,0,COUNTIF(Worksheet!$AM$1:$AM$98,Worksheet!$AM33)-1)),SUMIFS(Worksheet!$X$2:$X$100,Worksheet!$Z$2:$Z$100,CONCATENATE(Worksheet!$AN33,$B38,M$7)))))","v":""},{"$f":"IF(Worksheet!$AN33=\"\",\"\",IF(Worksheet!$AN33=\"Overall Total\",$N$1,IF(RIGHT(Worksheet!$AN33,5)=\"Total\",SUM(OFFSET(N38,-COUNTIF(Worksheet!$AM$1:$AM$98,Worksheet!$AM33)+1,0,COUNTIF(Worksheet!$AM$1:$AM$98,Worksheet!$AM33)-1)),SUM(D38:M38))))","v":""}]
[{"$f":"IF(Worksheet!AN34=Worksheet!AN33,\"\",Worksheet!AN34)","v":""},{"$f":"IF(OR(Worksheet!AL34=\"\",Worksheet!AN33=\"\"),\"\",IF(RIGHT(Worksheet!AN34,5)=\"Total\",\"\",OFFSET(Worksheet!$AE$1,Worksheet!AL34,0)))","v":""},null,{"$f":"IF(Worksheet!$AN34=\"\",\"\",IF(Worksheet!$AN34=\"Overall Total\",SUMIFS(Worksheet!$X$2:$X$100,Worksheet!$W$2:$W$100,D$7),IF(RIGHT(Worksheet!$AN34,5)=\"Total\",SUM(OFFSET(D39,-COUNTIF(Worksheet!$AM$1:$AM$98,Worksheet!$AM34)+1,0,COUNTIF(Worksheet!$AM$1:$AM$98,Worksheet!$AM34)-1)),SUMIFS(Worksheet!$X$2:$X$100,Worksheet!$Z$2:$Z$100,CONCATENATE(Worksheet!$AN34,$B39,D$7)))))","v":""},{"$f":"IF(Worksheet!$AN34=\"\",\"\",IF(Worksheet!$AN34=\"Overall Total\",SUMIFS(Worksheet!$X$2:$X$100,Worksheet!$W$2:$W$100,E$7),IF(RIGHT(Worksheet!$AN34,5)=\"Total\",SUM(OFFSET(E39,-COUNTIF(Worksheet!$AM$1:$AM$98,Worksheet!$AM34)+1,0,COUNTIF(Worksheet!$AM$1:$AM$98,Worksheet!$AM34)-1)),SUMIFS(Worksheet!$X$2:$X$100,Worksheet!$Z$2:$Z$100,CONCATENATE(Worksheet!$AN34,$B39,E$7)))))","v":""},{"$f":"IF(Worksheet!$AN34=\"\",\"\",IF(Worksheet!$AN34=\"Overall Total\",SUMIFS(Worksheet!$X$2:$X$100,Worksheet!$W$2:$W$100,F$7),IF(RIGHT(Worksheet!$AN34,5)=\"Total\",SUM(OFFSET(F39,-COUNTIF(Worksheet!$AM$1:$AM$98,Worksheet!$AM34)+1,0,COUNTIF(Worksheet!$AM$1:$AM$98,Worksheet!$AM34)-1)),SUMIFS(Worksheet!$X$2:$X$100,Worksheet!$Z$2:$Z$100,CONCATENATE(Worksheet!$AN34,$B39,F$7)))))","v":""},{"$f":"IF(Worksheet!$AN34=\"\",\"\",IF(Worksheet!$AN34=\"Overall Total\",SUMIFS(Worksheet!$X$2:$X$100,Worksheet!$W$2:$W$100,G$7),IF(RIGHT(Worksheet!$AN34,5)=\"Total\",SUM(OFFSET(G39,-COUNTIF(Worksheet!$AM$1:$AM$98,Worksheet!$AM34)+1,0,COUNTIF(Worksheet!$AM$1:$AM$98,Worksheet!$AM34)-1)),SUMIFS(Worksheet!$X$2:$X$100,Worksheet!$Z$2:$Z$100,CONCATENATE(Worksheet!$AN34,$B39,G$7)))))","v":""},{"$f":"IF(Worksheet!$AN34=\"\",\"\",IF(Worksheet!$AN34=\"Overall Total\",SUMIFS(Worksheet!$X$2:$X$100,Worksheet!$W$2:$W$100,H$7),IF(RIGHT(Worksheet!$AN34,5)=\"Total\",SUM(OFFSET(H39,-COUNTIF(Worksheet!$AM$1:$AM$98,Worksheet!$AM34)+1,0,COUNTIF(Worksheet!$AM$1:$AM$98,Worksheet!$AM34)-1)),SUMIFS(Worksheet!$X$2:$X$100,Worksheet!$Z$2:$Z$100,CONCATENATE(Worksheet!$AN34,$B39,H$7)))))","v":""},{"$f":"IF(Worksheet!$AN34=\"\",\"\",IF(Worksheet!$AN34=\"Overall Total\",SUMIFS(Worksheet!$X$2:$X$100,Worksheet!$W$2:$W$100,I$7),IF(RIGHT(Worksheet!$AN34,5)=\"Total\",SUM(OFFSET(I39,-COUNTIF(Worksheet!$AM$1:$AM$98,Worksheet!$AM34)+1,0,COUNTIF(Worksheet!$AM$1:$AM$98,Worksheet!$AM34)-1)),SUMIFS(Worksheet!$X$2:$X$100,Worksheet!$Z$2:$Z$100,CONCATENATE(Worksheet!$AN34,$B39,I$7)))))","v":""},{"$f":"IF(Worksheet!$AN34=\"\",\"\",IF(Worksheet!$AN34=\"Overall Total\",SUMIFS(Worksheet!$X$2:$X$100,Worksheet!$W$2:$W$100,J$7),IF(RIGHT(Worksheet!$AN34,5)=\"Total\",SUM(OFFSET(J39,-COUNTIF(Worksheet!$AM$1:$AM$98,Worksheet!$AM34)+1,0,COUNTIF(Worksheet!$AM$1:$AM$98,Worksheet!$AM34)-1)),SUMIFS(Worksheet!$X$2:$X$100,Worksheet!$Z$2:$Z$100,CONCATENATE(Worksheet!$AN34,$B39,J$7)))))","v":""},{"$f":"IF(Worksheet!$AN34=\"\",\"\",IF(Worksheet!$AN34=\"Overall Total\",SUMIFS(Worksheet!$X$2:$X$100,Worksheet!$W$2:$W$100,K$7),IF(RIGHT(Worksheet!$AN34,5)=\"Total\",SUM(OFFSET(K39,-COUNTIF(Worksheet!$AM$1:$AM$98,Worksheet!$AM34)+1,0,COUNTIF(Worksheet!$AM$1:$AM$98,Worksheet!$AM34)-1)),SUMIFS(Worksheet!$X$2:$X$100,Worksheet!$Z$2:$Z$100,CONCATENATE(Worksheet!$AN34,$B39,K$7)))))","v":""},{"$f":"IF(Worksheet!$AN34=\"\",\"\",IF(Worksheet!$AN34=\"Overall Total\",SUMIFS(Worksheet!$X$2:$X$100,Worksheet!$W$2:$W$100,L$7),IF(RIGHT(Worksheet!$AN34,5)=\"Total\",SUM(OFFSET(L39,-COUNTIF(Worksheet!$AM$1:$AM$98,Worksheet!$AM34)+1,0,COUNTIF(Worksheet!$AM$1:$AM$98,Worksheet!$AM34)-1)),SUMIFS(Worksheet!$X$2:$X$100,Worksheet!$Z$2:$Z$100,CONCATENATE(Worksheet!$AN34,$B39,L$7)))))","v":""},{"$f":"IF(Worksheet!$AN34=\"\",\"\",IF(Worksheet!$AN34=\"Overall Total\",SUMIFS(Worksheet!$X$2:$X$100,Worksheet!$W$2:$W$100,M$7),IF(RIGHT(Worksheet!$AN34,5)=\"Total\",SUM(OFFSET(M39,-COUNTIF(Worksheet!$AM$1:$AM$98,Worksheet!$AM34)+1,0,COUNTIF(Worksheet!$AM$1:$AM$98,Worksheet!$AM34)-1)),SUMIFS(Worksheet!$X$2:$X$100,Worksheet!$Z$2:$Z$100,CONCATENATE(Worksheet!$AN34,$B39,M$7)))))","v":""},{"$f":"IF(Worksheet!$AN34=\"\",\"\",IF(Worksheet!$AN34=\"Overall Total\",$N$1,IF(RIGHT(Worksheet!$AN34,5)=\"Total\",SUM(OFFSET(N39,-COUNTIF(Worksheet!$AM$1:$AM$98,Worksheet!$AM34)+1,0,COUNTIF(Worksheet!$AM$1:$AM$98,Worksheet!$AM34)-1)),SUM(D39:M39))))","v":""}]
[{"$f":"IF(Worksheet!AN35=Worksheet!AN34,\"\",Worksheet!AN35)","v":""},{"$f":"IF(OR(Worksheet!AL35=\"\",Worksheet!AN34=\"\"),\"\",IF(RIGHT(Worksheet!AN35,5)=\"Total\",\"\",OFFSET(Worksheet!$AE$1,Worksheet!AL35,0)))","v":""},null,{"$f":"IF(Worksheet!$AN35=\"\",\"\",IF(Worksheet!$AN35=\"Overall Total\",SUMIFS(Worksheet!$X$2:$X$100,Worksheet!$W$2:$W$100,D$7),IF(RIGHT(Worksheet!$AN35,5)=\"Total\",SUM(OFFSET(D40,-COUNTIF(Worksheet!$AM$1:$AM$98,Worksheet!$AM35)+1,0,COUNTIF(Worksheet!$AM$1:$AM$98,Worksheet!$AM35)-1)),SUMIFS(Worksheet!$X$2:$X$100,Worksheet!$Z$2:$Z$100,CONCATENATE(Worksheet!$AN35,$B40,D$7)))))","v":""},{"$f":"IF(Worksheet!$AN35=\"\",\"\",IF(Worksheet!$AN35=\"Overall Total\",SUMIFS(Worksheet!$X$2:$X$100,Worksheet!$W$2:$W$100,E$7),IF(RIGHT(Worksheet!$AN35,5)=\"Total\",SUM(OFFSET(E40,-COUNTIF(Worksheet!$AM$1:$AM$98,Worksheet!$AM35)+1,0,COUNTIF(Worksheet!$AM$1:$AM$98,Worksheet!$AM35)-1)),SUMIFS(Worksheet!$X$2:$X$100,Worksheet!$Z$2:$Z$100,CONCATENATE(Worksheet!$AN35,$B40,E$7)))))","v":""},{"$f":"IF(Worksheet!$AN35=\"\",\"\",IF(Worksheet!$AN35=\"Overall Total\",SUMIFS(Worksheet!$X$2:$X$100,Worksheet!$W$2:$W$100,F$7),IF(RIGHT(Worksheet!$AN35,5)=\"Total\",SUM(OFFSET(F40,-COUNTIF(Worksheet!$AM$1:$AM$98,Worksheet!$AM35)+1,0,COUNTIF(Worksheet!$AM$1:$AM$98,Worksheet!$AM35)-1)),SUMIFS(Worksheet!$X$2:$X$100,Worksheet!$Z$2:$Z$100,CONCATENATE(Worksheet!$AN35,$B40,F$7)))))","v":""},{"$f":"IF(Worksheet!$AN35=\"\",\"\",IF(Worksheet!$AN35=\"Overall Total\",SUMIFS(Worksheet!$X$2:$X$100,Worksheet!$W$2:$W$100,G$7),IF(RIGHT(Worksheet!$AN35,5)=\"Total\",SUM(OFFSET(G40,-COUNTIF(Worksheet!$AM$1:$AM$98,Worksheet!$AM35)+1,0,COUNTIF(Worksheet!$AM$1:$AM$98,Worksheet!$AM35)-1)),SUMIFS(Worksheet!$X$2:$X$100,Worksheet!$Z$2:$Z$100,CONCATENATE(Worksheet!$AN35,$B40,G$7)))))","v":""},{"$f":"IF(Worksheet!$AN35=\"\",\"\",IF(Worksheet!$AN35=\"Overall Total\",SUMIFS(Worksheet!$X$2:$X$100,Worksheet!$W$2:$W$100,H$7),IF(RIGHT(Worksheet!$AN35,5)=\"Total\",SUM(OFFSET(H40,-COUNTIF(Worksheet!$AM$1:$AM$98,Worksheet!$AM35)+1,0,COUNTIF(Worksheet!$AM$1:$AM$98,Worksheet!$AM35)-1)),SUMIFS(Worksheet!$X$2:$X$100,Worksheet!$Z$2:$Z$100,CONCATENATE(Worksheet!$AN35,$B40,H$7)))))","v":""},{"$f":"IF(Worksheet!$AN35=\"\",\"\",IF(Worksheet!$AN35=\"Overall Total\",SUMIFS(Worksheet!$X$2:$X$100,Worksheet!$W$2:$W$100,I$7),IF(RIGHT(Worksheet!$AN35,5)=\"Total\",SUM(OFFSET(I40,-COUNTIF(Worksheet!$AM$1:$AM$98,Worksheet!$AM35)+1,0,COUNTIF(Worksheet!$AM$1:$AM$98,Worksheet!$AM35)-1)),SUMIFS(Worksheet!$X$2:$X$100,Worksheet!$Z$2:$Z$100,CONCATENATE(Worksheet!$AN35,$B40,I$7)))))","v":""},{"$f":"IF(Worksheet!$AN35=\"\",\"\",IF(Worksheet!$AN35=\"Overall Total\",SUMIFS(Worksheet!$X$2:$X$100,Worksheet!$W$2:$W$100,J$7),IF(RIGHT(Worksheet!$AN35,5)=\"Total\",SUM(OFFSET(J40,-COUNTIF(Worksheet!$AM$1:$AM$98,Worksheet!$AM35)+1,0,COUNTIF(Worksheet!$AM$1:$AM$98,Worksheet!$AM35)-1)),SUMIFS(Worksheet!$X$2:$X$100,Worksheet!$Z$2:$Z$100,CONCATENATE(Worksheet!$AN35,$B40,J$7)))))","v":""},{"$f":"IF(Worksheet!$AN35=\"\",\"\",IF(Worksheet!$AN35=\"Overall Total\",SUMIFS(Worksheet!$X$2:$X$100,Worksheet!$W$2:$W$100,K$7),IF(RIGHT(Worksheet!$AN35,5)=\"Total\",SUM(OFFSET(K40,-COUNTIF(Worksheet!$AM$1:$AM$98,Worksheet!$AM35)+1,0,COUNTIF(Worksheet!$AM$1:$AM$98,Worksheet!$AM35)-1)),SUMIFS(Worksheet!$X$2:$X$100,Worksheet!$Z$2:$Z$100,CONCATENATE(Worksheet!$AN35,$B40,K$7)))))","v":""},{"$f":"IF(Worksheet!$AN35=\"\",\"\",IF(Worksheet!$AN35=\"Overall Total\",SUMIFS(Worksheet!$X$2:$X$100,Worksheet!$W$2:$W$100,L$7),IF(RIGHT(Worksheet!$AN35,5)=\"Total\",SUM(OFFSET(L40,-COUNTIF(Worksheet!$AM$1:$AM$98,Worksheet!$AM35)+1,0,COUNTIF(Worksheet!$AM$1:$AM$98,Worksheet!$AM35)-1)),SUMIFS(Worksheet!$X$2:$X$100,Worksheet!$Z$2:$Z$100,CONCATENATE(Worksheet!$AN35,$B40,L$7)))))","v":""},{"$f":"IF(Worksheet!$AN35=\"\",\"\",IF(Worksheet!$AN35=\"Overall Total\",SUMIFS(Worksheet!$X$2:$X$100,Worksheet!$W$2:$W$100,M$7),IF(RIGHT(Worksheet!$AN35,5)=\"Total\",SUM(OFFSET(M40,-COUNTIF(Worksheet!$AM$1:$AM$98,Worksheet!$AM35)+1,0,COUNTIF(Worksheet!$AM$1:$AM$98,Worksheet!$AM35)-1)),SUMIFS(Worksheet!$X$2:$X$100,Worksheet!$Z$2:$Z$100,CONCATENATE(Worksheet!$AN35,$B40,M$7)))))","v":""},{"$f":"IF(Worksheet!$AN35=\"\",\"\",IF(Worksheet!$AN35=\"Overall Total\",$N$1,IF(RIGHT(Worksheet!$AN35,5)=\"Total\",SUM(OFFSET(N40,-COUNTIF(Worksheet!$AM$1:$AM$98,Worksheet!$AM35)+1,0,COUNTIF(Worksheet!$AM$1:$AM$98,Worksheet!$AM35)-1)),SUM(D40:M40))))","v":""}]
[{"$f":"IF(Worksheet!AN36=Worksheet!AN35,\"\",Worksheet!AN36)","v":""},{"$f":"IF(OR(Worksheet!AL36=\"\",Worksheet!AN35=\"\"),\"\",IF(RIGHT(Worksheet!AN36,5)=\"Total\",\"\",OFFSET(Worksheet!$AE$1,Worksheet!AL36,0)))","v":""},null,{"$f":"IF(Worksheet!$AN36=\"\",\"\",IF(Worksheet!$AN36=\"Overall Total\",SUMIFS(Worksheet!$X$2:$X$100,Worksheet!$W$2:$W$100,D$7),IF(RIGHT(Worksheet!$AN36,5)=\"Total\",SUM(OFFSET(D41,-COUNTIF(Worksheet!$AM$1:$AM$98,Worksheet!$AM36)+1,0,COUNTIF(Worksheet!$AM$1:$AM$98,Worksheet!$AM36)-1)),SUMIFS(Worksheet!$X$2:$X$100,Worksheet!$Z$2:$Z$100,CONCATENATE(Worksheet!$AN36,$B41,D$7)))))","v":""},{"$f":"IF(Worksheet!$AN36=\"\",\"\",IF(Worksheet!$AN36=\"Overall Total\",SUMIFS(Worksheet!$X$2:$X$100,Worksheet!$W$2:$W$100,E$7),IF(RIGHT(Worksheet!$AN36,5)=\"Total\",SUM(OFFSET(E41,-COUNTIF(Worksheet!$AM$1:$AM$98,Worksheet!$AM36)+1,0,COUNTIF(Worksheet!$AM$1:$AM$98,Worksheet!$AM36)-1)),SUMIFS(Worksheet!$X$2:$X$100,Worksheet!$Z$2:$Z$100,CONCATENATE(Worksheet!$AN36,$B41,E$7)))))","v":""},{"$f":"IF(Worksheet!$AN36=\"\",\"\",IF(Worksheet!$AN36=\"Overall Total\",SUMIFS(Worksheet!$X$2:$X$100,Worksheet!$W$2:$W$100,F$7),IF(RIGHT(Worksheet!$AN36,5)=\"Total\",SUM(OFFSET(F41,-COUNTIF(Worksheet!$AM$1:$AM$98,Worksheet!$AM36)+1,0,COUNTIF(Worksheet!$AM$1:$AM$98,Worksheet!$AM36)-1)),SUMIFS(Worksheet!$X$2:$X$100,Worksheet!$Z$2:$Z$100,CONCATENATE(Worksheet!$AN36,$B41,F$7)))))","v":""},{"$f":"IF(Worksheet!$AN36=\"\",\"\",IF(Worksheet!$AN36=\"Overall Total\",SUMIFS(Worksheet!$X$2:$X$100,Worksheet!$W$2:$W$100,G$7),IF(RIGHT(Worksheet!$AN36,5)=\"Total\",SUM(OFFSET(G41,-COUNTIF(Worksheet!$AM$1:$AM$98,Worksheet!$AM36)+1,0,COUNTIF(Worksheet!$AM$1:$AM$98,Worksheet!$AM36)-1)),SUMIFS(Worksheet!$X$2:$X$100,Worksheet!$Z$2:$Z$100,CONCATENATE(Worksheet!$AN36,$B41,G$7)))))","v":""},{"$f":"IF(Worksheet!$AN36=\"\",\"\",IF(Worksheet!$AN36=\"Overall Total\",SUMIFS(Worksheet!$X$2:$X$100,Worksheet!$W$2:$W$100,H$7),IF(RIGHT(Worksheet!$AN36,5)=\"Total\",SUM(OFFSET(H41,-COUNTIF(Worksheet!$AM$1:$AM$98,Worksheet!$AM36)+1,0,COUNTIF(Worksheet!$AM$1:$AM$98,Worksheet!$AM36)-1)),SUMIFS(Worksheet!$X$2:$X$100,Worksheet!$Z$2:$Z$100,CONCATENATE(Worksheet!$AN36,$B41,H$7)))))","v":""},{"$f":"IF(Worksheet!$AN36=\"\",\"\",IF(Worksheet!$AN36=\"Overall Total\",SUMIFS(Worksheet!$X$2:$X$100,Worksheet!$W$2:$W$100,I$7),IF(RIGHT(Worksheet!$AN36,5)=\"Total\",SUM(OFFSET(I41,-COUNTIF(Worksheet!$AM$1:$AM$98,Worksheet!$AM36)+1,0,COUNTIF(Worksheet!$AM$1:$AM$98,Worksheet!$AM36)-1)),SUMIFS(Worksheet!$X$2:$X$100,Worksheet!$Z$2:$Z$100,CONCATENATE(Worksheet!$AN36,$B41,I$7)))))","v":""},{"$f":"IF(Worksheet!$AN36=\"\",\"\",IF(Worksheet!$AN36=\"Overall Total\",SUMIFS(Worksheet!$X$2:$X$100,Worksheet!$W$2:$W$100,J$7),IF(RIGHT(Worksheet!$AN36,5)=\"Total\",SUM(OFFSET(J41,-COUNTIF(Worksheet!$AM$1:$AM$98,Worksheet!$AM36)+1,0,COUNTIF(Worksheet!$AM$1:$AM$98,Worksheet!$AM36)-1)),SUMIFS(Worksheet!$X$2:$X$100,Worksheet!$Z$2:$Z$100,CONCATENATE(Worksheet!$AN36,$B41,J$7)))))","v":""},{"$f":"IF(Worksheet!$AN36=\"\",\"\",IF(Worksheet!$AN36=\"Overall Total\",SUMIFS(Worksheet!$X$2:$X$100,Worksheet!$W$2:$W$100,K$7),IF(RIGHT(Worksheet!$AN36,5)=\"Total\",SUM(OFFSET(K41,-COUNTIF(Worksheet!$AM$1:$AM$98,Worksheet!$AM36)+1,0,COUNTIF(Worksheet!$AM$1:$AM$98,Worksheet!$AM36)-1)),SUMIFS(Worksheet!$X$2:$X$100,Worksheet!$Z$2:$Z$100,CONCATENATE(Worksheet!$AN36,$B41,K$7)))))","v":""},{"$f":"IF(Worksheet!$AN36=\"\",\"\",IF(Worksheet!$AN36=\"Overall Total\",SUMIFS(Worksheet!$X$2:$X$100,Worksheet!$W$2:$W$100,L$7),IF(RIGHT(Worksheet!$AN36,5)=\"Total\",SUM(OFFSET(L41,-COUNTIF(Worksheet!$AM$1:$AM$98,Worksheet!$AM36)+1,0,COUNTIF(Worksheet!$AM$1:$AM$98,Worksheet!$AM36)-1)),SUMIFS(Worksheet!$X$2:$X$100,Worksheet!$Z$2:$Z$100,CONCATENATE(Worksheet!$AN36,$B41,L$7)))))","v":""},{"$f":"IF(Worksheet!$AN36=\"\",\"\",IF(Worksheet!$AN36=\"Overall Total\",SUMIFS(Worksheet!$X$2:$X$100,Worksheet!$W$2:$W$100,M$7),IF(RIGHT(Worksheet!$AN36,5)=\"Total\",SUM(OFFSET(M41,-COUNTIF(Worksheet!$AM$1:$AM$98,Worksheet!$AM36)+1,0,COUNTIF(Worksheet!$AM$1:$AM$98,Worksheet!$AM36)-1)),SUMIFS(Worksheet!$X$2:$X$100,Worksheet!$Z$2:$Z$100,CONCATENATE(Worksheet!$AN36,$B41,M$7)))))","v":""},{"$f":"IF(Worksheet!$AN36=\"\",\"\",IF(Worksheet!$AN36=\"Overall Total\",$N$1,IF(RIGHT(Worksheet!$AN36,5)=\"Total\",SUM(OFFSET(N41,-COUNTIF(Worksheet!$AM$1:$AM$98,Worksheet!$AM36)+1,0,COUNTIF(Worksheet!$AM$1:$AM$98,Worksheet!$AM36)-1)),SUM(D41:M41))))","v":""}]
[{"$f":"IF(Worksheet!AN37=Worksheet!AN36,\"\",Worksheet!AN37)","v":""},{"$f":"IF(OR(Worksheet!AL37=\"\",Worksheet!AN36=\"\"),\"\",IF(RIGHT(Worksheet!AN37,5)=\"Total\",\"\",OFFSET(Worksheet!$AE$1,Worksheet!AL37,0)))","v":""},null,{"$f":"IF(Worksheet!$AN37=\"\",\"\",IF(Worksheet!$AN37=\"Overall Total\",SUMIFS(Worksheet!$X$2:$X$100,Worksheet!$W$2:$W$100,D$7),IF(RIGHT(Worksheet!$AN37,5)=\"Total\",SUM(OFFSET(D42,-COUNTIF(Worksheet!$AM$1:$AM$98,Worksheet!$AM37)+1,0,COUNTIF(Worksheet!$AM$1:$AM$98,Worksheet!$AM37)-1)),SUMIFS(Worksheet!$X$2:$X$100,Worksheet!$Z$2:$Z$100,CONCATENATE(Worksheet!$AN37,$B42,D$7)))))","v":""},{"$f":"IF(Worksheet!$AN37=\"\",\"\",IF(Worksheet!$AN37=\"Overall Total\",SUMIFS(Worksheet!$X$2:$X$100,Worksheet!$W$2:$W$100,E$7),IF(RIGHT(Worksheet!$AN37,5)=\"Total\",SUM(OFFSET(E42,-COUNTIF(Worksheet!$AM$1:$AM$98,Worksheet!$AM37)+1,0,COUNTIF(Worksheet!$AM$1:$AM$98,Worksheet!$AM37)-1)),SUMIFS(Worksheet!$X$2:$X$100,Worksheet!$Z$2:$Z$100,CONCATENATE(Worksheet!$AN37,$B42,E$7)))))","v":""},{"$f":"IF(Worksheet!$AN37=\"\",\"\",IF(Worksheet!$AN37=\"Overall Total\",SUMIFS(Worksheet!$X$2:$X$100,Worksheet!$W$2:$W$100,F$7),IF(RIGHT(Worksheet!$AN37,5)=\"Total\",SUM(OFFSET(F42,-COUNTIF(Worksheet!$AM$1:$AM$98,Worksheet!$AM37)+1,0,COUNTIF(Worksheet!$AM$1:$AM$98,Worksheet!$AM37)-1)),SUMIFS(Worksheet!$X$2:$X$100,Worksheet!$Z$2:$Z$100,CONCATENATE(Worksheet!$AN37,$B42,F$7)))))","v":""},{"$f":"IF(Worksheet!$AN37=\"\",\"\",IF(Worksheet!$AN37=\"Overall Total\",SUMIFS(Worksheet!$X$2:$X$100,Worksheet!$W$2:$W$100,G$7),IF(RIGHT(Worksheet!$AN37,5)=\"Total\",SUM(OFFSET(G42,-COUNTIF(Worksheet!$AM$1:$AM$98,Worksheet!$AM37)+1,0,COUNTIF(Worksheet!$AM$1:$AM$98,Worksheet!$AM37)-1)),SUMIFS(Worksheet!$X$2:$X$100,Worksheet!$Z$2:$Z$100,CONCATENATE(Worksheet!$AN37,$B42,G$7)))))","v":""},{"$f":"IF(Worksheet!$AN37=\"\",\"\",IF(Worksheet!$AN37=\"Overall Total\",SUMIFS(Worksheet!$X$2:$X$100,Worksheet!$W$2:$W$100,H$7),IF(RIGHT(Worksheet!$AN37,5)=\"Total\",SUM(OFFSET(H42,-COUNTIF(Worksheet!$AM$1:$AM$98,Worksheet!$AM37)+1,0,COUNTIF(Worksheet!$AM$1:$AM$98,Worksheet!$AM37)-1)),SUMIFS(Worksheet!$X$2:$X$100,Worksheet!$Z$2:$Z$100,CONCATENATE(Worksheet!$AN37,$B42,H$7)))))","v":""},{"$f":"IF(Worksheet!$AN37=\"\",\"\",IF(Worksheet!$AN37=\"Overall Total\",SUMIFS(Worksheet!$X$2:$X$100,Worksheet!$W$2:$W$100,I$7),IF(RIGHT(Worksheet!$AN37,5)=\"Total\",SUM(OFFSET(I42,-COUNTIF(Worksheet!$AM$1:$AM$98,Worksheet!$AM37)+1,0,COUNTIF(Worksheet!$AM$1:$AM$98,Worksheet!$AM37)-1)),SUMIFS(Worksheet!$X$2:$X$100,Worksheet!$Z$2:$Z$100,CONCATENATE(Worksheet!$AN37,$B42,I$7)))))","v":""},{"$f":"IF(Worksheet!$AN37=\"\",\"\",IF(Worksheet!$AN37=\"Overall Total\",SUMIFS(Worksheet!$X$2:$X$100,Worksheet!$W$2:$W$100,J$7),IF(RIGHT(Worksheet!$AN37,5)=\"Total\",SUM(OFFSET(J42,-COUNTIF(Worksheet!$AM$1:$AM$98,Worksheet!$AM37)+1,0,COUNTIF(Worksheet!$AM$1:$AM$98,Worksheet!$AM37)-1)),SUMIFS(Worksheet!$X$2:$X$100,Worksheet!$Z$2:$Z$100,CONCATENATE(Worksheet!$AN37,$B42,J$7)))))","v":""},{"$f":"IF(Worksheet!$AN37=\"\",\"\",IF(Worksheet!$AN37=\"Overall Total\",SUMIFS(Worksheet!$X$2:$X$100,Worksheet!$W$2:$W$100,K$7),IF(RIGHT(Worksheet!$AN37,5)=\"Total\",SUM(OFFSET(K42,-COUNTIF(Worksheet!$AM$1:$AM$98,Worksheet!$AM37)+1,0,COUNTIF(Worksheet!$AM$1:$AM$98,Worksheet!$AM37)-1)),SUMIFS(Worksheet!$X$2:$X$100,Worksheet!$Z$2:$Z$100,CONCATENATE(Worksheet!$AN37,$B42,K$7)))))","v":""},{"$f":"IF(Worksheet!$AN37=\"\",\"\",IF(Worksheet!$AN37=\"Overall Total\",SUMIFS(Worksheet!$X$2:$X$100,Worksheet!$W$2:$W$100,L$7),IF(RIGHT(Worksheet!$AN37,5)=\"Total\",SUM(OFFSET(L42,-COUNTIF(Worksheet!$AM$1:$AM$98,Worksheet!$AM37)+1,0,COUNTIF(Worksheet!$AM$1:$AM$98,Worksheet!$AM37)-1)),SUMIFS(Worksheet!$X$2:$X$100,Worksheet!$Z$2:$Z$100,CONCATENATE(Worksheet!$AN37,$B42,L$7)))))","v":""},{"$f":"IF(Worksheet!$AN37=\"\",\"\",IF(Worksheet!$AN37=\"Overall Total\",SUMIFS(Worksheet!$X$2:$X$100,Worksheet!$W$2:$W$100,M$7),IF(RIGHT(Worksheet!$AN37,5)=\"Total\",SUM(OFFSET(M42,-COUNTIF(Worksheet!$AM$1:$AM$98,Worksheet!$AM37)+1,0,COUNTIF(Worksheet!$AM$1:$AM$98,Worksheet!$AM37)-1)),SUMIFS(Worksheet!$X$2:$X$100,Worksheet!$Z$2:$Z$100,CONCATENATE(Worksheet!$AN37,$B42,M$7)))))","v":""},{"$f":"IF(Worksheet!$AN37=\"\",\"\",IF(Worksheet!$AN37=\"Overall Total\",$N$1,IF(RIGHT(Worksheet!$AN37,5)=\"Total\",SUM(OFFSET(N42,-COUNTIF(Worksheet!$AM$1:$AM$98,Worksheet!$AM37)+1,0,COUNTIF(Worksheet!$AM$1:$AM$98,Worksheet!$AM37)-1)),SUM(D42:M42))))","v":""}]
[{"$f":"IF(Worksheet!AN38=Worksheet!AN37,\"\",Worksheet!AN38)","v":""},{"$f":"IF(OR(Worksheet!AL38=\"\",Worksheet!AN37=\"\"),\"\",IF(RIGHT(Worksheet!AN38,5)=\"Total\",\"\",OFFSET(Worksheet!$AE$1,Worksheet!AL38,0)))","v":""},null,{"$f":"IF(Worksheet!$AN38=\"\",\"\",IF(Worksheet!$AN38=\"Overall Total\",SUMIFS(Worksheet!$X$2:$X$100,Worksheet!$W$2:$W$100,D$7),IF(RIGHT(Worksheet!$AN38,5)=\"Total\",SUM(OFFSET(D43,-COUNTIF(Worksheet!$AM$1:$AM$98,Worksheet!$AM38)+1,0,COUNTIF(Worksheet!$AM$1:$AM$98,Worksheet!$AM38)-1)),SUMIFS(Worksheet!$X$2:$X$100,Worksheet!$Z$2:$Z$100,CONCATENATE(Worksheet!$AN38,$B43,D$7)))))","v":""},{"$f":"IF(Worksheet!$AN38=\"\",\"\",IF(Worksheet!$AN38=\"Overall Total\",SUMIFS(Worksheet!$X$2:$X$100,Worksheet!$W$2:$W$100,E$7),IF(RIGHT(Worksheet!$AN38,5)=\"Total\",SUM(OFFSET(E43,-COUNTIF(Worksheet!$AM$1:$AM$98,Worksheet!$AM38)+1,0,COUNTIF(Worksheet!$AM$1:$AM$98,Worksheet!$AM38)-1)),SUMIFS(Worksheet!$X$2:$X$100,Worksheet!$Z$2:$Z$100,CONCATENATE(Worksheet!$AN38,$B43,E$7)))))","v":""},{"$f":"IF(Worksheet!$AN38=\"\",\"\",IF(Worksheet!$AN38=\"Overall Total\",SUMIFS(Worksheet!$X$2:$X$100,Worksheet!$W$2:$W$100,F$7),IF(RIGHT(Worksheet!$AN38,5)=\"Total\",SUM(OFFSET(F43,-COUNTIF(Worksheet!$AM$1:$AM$98,Worksheet!$AM38)+1,0,COUNTIF(Worksheet!$AM$1:$AM$98,Worksheet!$AM38)-1)),SUMIFS(Worksheet!$X$2:$X$100,Worksheet!$Z$2:$Z$100,CONCATENATE(Worksheet!$AN38,$B43,F$7)))))","v":""},{"$f":"IF(Worksheet!$AN38=\"\",\"\",IF(Worksheet!$AN38=\"Overall Total\",SUMIFS(Worksheet!$X$2:$X$100,Worksheet!$W$2:$W$100,G$7),IF(RIGHT(Worksheet!$AN38,5)=\"Total\",SUM(OFFSET(G43,-COUNTIF(Worksheet!$AM$1:$AM$98,Worksheet!$AM38)+1,0,COUNTIF(Worksheet!$AM$1:$AM$98,Worksheet!$AM38)-1)),SUMIFS(Worksheet!$X$2:$X$100,Worksheet!$Z$2:$Z$100,CONCATENATE(Worksheet!$AN38,$B43,G$7)))))","v":""},{"$f":"IF(Worksheet!$AN38=\"\",\"\",IF(Worksheet!$AN38=\"Overall Total\",SUMIFS(Worksheet!$X$2:$X$100,Worksheet!$W$2:$W$100,H$7),IF(RIGHT(Worksheet!$AN38,5)=\"Total\",SUM(OFFSET(H43,-COUNTIF(Worksheet!$AM$1:$AM$98,Worksheet!$AM38)+1,0,COUNTIF(Worksheet!$AM$1:$AM$98,Worksheet!$AM38)-1)),SUMIFS(Worksheet!$X$2:$X$100,Worksheet!$Z$2:$Z$100,CONCATENATE(Worksheet!$AN38,$B43,H$7)))))","v":""},{"$f":"IF(Worksheet!$AN38=\"\",\"\",IF(Worksheet!$AN38=\"Overall Total\",SUMIFS(Worksheet!$X$2:$X$100,Worksheet!$W$2:$W$100,I$7),IF(RIGHT(Worksheet!$AN38,5)=\"Total\",SUM(OFFSET(I43,-COUNTIF(Worksheet!$AM$1:$AM$98,Worksheet!$AM38)+1,0,COUNTIF(Worksheet!$AM$1:$AM$98,Worksheet!$AM38)-1)),SUMIFS(Worksheet!$X$2:$X$100,Worksheet!$Z$2:$Z$100,CONCATENATE(Worksheet!$AN38,$B43,I$7)))))","v":""},{"$f":"IF(Worksheet!$AN38=\"\",\"\",IF(Worksheet!$AN38=\"Overall Total\",SUMIFS(Worksheet!$X$2:$X$100,Worksheet!$W$2:$W$100,J$7),IF(RIGHT(Worksheet!$AN38,5)=\"Total\",SUM(OFFSET(J43,-COUNTIF(Worksheet!$AM$1:$AM$98,Worksheet!$AM38)+1,0,COUNTIF(Worksheet!$AM$1:$AM$98,Worksheet!$AM38)-1)),SUMIFS(Worksheet!$X$2:$X$100,Worksheet!$Z$2:$Z$100,CONCATENATE(Worksheet!$AN38,$B43,J$7)))))","v":""},{"$f":"IF(Worksheet!$AN38=\"\",\"\",IF(Worksheet!$AN38=\"Overall Total\",SUMIFS(Worksheet!$X$2:$X$100,Worksheet!$W$2:$W$100,K$7),IF(RIGHT(Worksheet!$AN38,5)=\"Total\",SUM(OFFSET(K43,-COUNTIF(Worksheet!$AM$1:$AM$98,Worksheet!$AM38)+1,0,COUNTIF(Worksheet!$AM$1:$AM$98,Worksheet!$AM38)-1)),SUMIFS(Worksheet!$X$2:$X$100,Worksheet!$Z$2:$Z$100,CONCATENATE(Worksheet!$AN38,$B43,K$7)))))","v":""},{"$f":"IF(Worksheet!$AN38=\"\",\"\",IF(Worksheet!$AN38=\"Overall Total\",SUMIFS(Worksheet!$X$2:$X$100,Worksheet!$W$2:$W$100,L$7),IF(RIGHT(Worksheet!$AN38,5)=\"Total\",SUM(OFFSET(L43,-COUNTIF(Worksheet!$AM$1:$AM$98,Worksheet!$AM38)+1,0,COUNTIF(Worksheet!$AM$1:$AM$98,Worksheet!$AM38)-1)),SUMIFS(Worksheet!$X$2:$X$100,Worksheet!$Z$2:$Z$100,CONCATENATE(Worksheet!$AN38,$B43,L$7)))))","v":""},{"$f":"IF(Worksheet!$AN38=\"\",\"\",IF(Worksheet!$AN38=\"Overall Total\",SUMIFS(Worksheet!$X$2:$X$100,Worksheet!$W$2:$W$100,M$7),IF(RIGHT(Worksheet!$AN38,5)=\"Total\",SUM(OFFSET(M43,-COUNTIF(Worksheet!$AM$1:$AM$98,Worksheet!$AM38)+1,0,COUNTIF(Worksheet!$AM$1:$AM$98,Worksheet!$AM38)-1)),SUMIFS(Worksheet!$X$2:$X$100,Worksheet!$Z$2:$Z$100,CONCATENATE(Worksheet!$AN38,$B43,M$7)))))","v":""},{"$f":"IF(Worksheet!$AN38=\"\",\"\",IF(Worksheet!$AN38=\"Overall Total\",$N$1,IF(RIGHT(Worksheet!$AN38,5)=\"Total\",SUM(OFFSET(N43,-COUNTIF(Worksheet!$AM$1:$AM$98,Worksheet!$AM38)+1,0,COUNTIF(Worksheet!$AM$1:$AM$98,Worksheet!$AM38)-1)),SUM(D43:M43))))","v":""}]
[{"$f":"IF(Worksheet!AN39=Worksheet!AN38,\"\",Worksheet!AN39)","v":""},{"$f":"IF(OR(Worksheet!AL39=\"\",Worksheet!AN38=\"\"),\"\",IF(RIGHT(Worksheet!AN39,5)=\"Total\",\"\",OFFSET(Worksheet!$AE$1,Worksheet!AL39,0)))","v":""},null,{"$f":"IF(Worksheet!$AN39=\"\",\"\",IF(Worksheet!$AN39=\"Overall Total\",SUMIFS(Worksheet!$X$2:$X$100,Worksheet!$W$2:$W$100,D$7),IF(RIGHT(Worksheet!$AN39,5)=\"Total\",SUM(OFFSET(D44,-COUNTIF(Worksheet!$AM$1:$AM$98,Worksheet!$AM39)+1,0,COUNTIF(Worksheet!$AM$1:$AM$98,Worksheet!$AM39)-1)),SUMIFS(Worksheet!$X$2:$X$100,Worksheet!$Z$2:$Z$100,CONCATENATE(Worksheet!$AN39,$B44,D$7)))))","v":""},{"$f":"IF(Worksheet!$AN39=\"\",\"\",IF(Worksheet!$AN39=\"Overall Total\",SUMIFS(Worksheet!$X$2:$X$100,Worksheet!$W$2:$W$100,E$7),IF(RIGHT(Worksheet!$AN39,5)=\"Total\",SUM(OFFSET(E44,-COUNTIF(Worksheet!$AM$1:$AM$98,Worksheet!$AM39)+1,0,COUNTIF(Worksheet!$AM$1:$AM$98,Worksheet!$AM39)-1)),SUMIFS(Worksheet!$X$2:$X$100,Worksheet!$Z$2:$Z$100,CONCATENATE(Worksheet!$AN39,$B44,E$7)))))","v":""},{"$f":"IF(Worksheet!$AN39=\"\",\"\",IF(Worksheet!$AN39=\"Overall Total\",SUMIFS(Worksheet!$X$2:$X$100,Worksheet!$W$2:$W$100,F$7),IF(RIGHT(Worksheet!$AN39,5)=\"Total\",SUM(OFFSET(F44,-COUNTIF(Worksheet!$AM$1:$AM$98,Worksheet!$AM39)+1,0,COUNTIF(Worksheet!$AM$1:$AM$98,Worksheet!$AM39)-1)),SUMIFS(Worksheet!$X$2:$X$100,Worksheet!$Z$2:$Z$100,CONCATENATE(Worksheet!$AN39,$B44,F$7)))))","v":""},{"$f":"IF(Worksheet!$AN39=\"\",\"\",IF(Worksheet!$AN39=\"Overall Total\",SUMIFS(Worksheet!$X$2:$X$100,Worksheet!$W$2:$W$100,G$7),IF(RIGHT(Worksheet!$AN39,5)=\"Total\",SUM(OFFSET(G44,-COUNTIF(Worksheet!$AM$1:$AM$98,Worksheet!$AM39)+1,0,COUNTIF(Worksheet!$AM$1:$AM$98,Worksheet!$AM39)-1)),SUMIFS(Worksheet!$X$2:$X$100,Worksheet!$Z$2:$Z$100,CONCATENATE(Worksheet!$AN39,$B44,G$7)))))","v":""},{"$f":"IF(Worksheet!$AN39=\"\",\"\",IF(Worksheet!$AN39=\"Overall Total\",SUMIFS(Worksheet!$X$2:$X$100,Worksheet!$W$2:$W$100,H$7),IF(RIGHT(Worksheet!$AN39,5)=\"Total\",SUM(OFFSET(H44,-COUNTIF(Worksheet!$AM$1:$AM$98,Worksheet!$AM39)+1,0,COUNTIF(Worksheet!$AM$1:$AM$98,Worksheet!$AM39)-1)),SUMIFS(Worksheet!$X$2:$X$100,Worksheet!$Z$2:$Z$100,CONCATENATE(Worksheet!$AN39,$B44,H$7)))))","v":""},{"$f":"IF(Worksheet!$AN39=\"\",\"\",IF(Worksheet!$AN39=\"Overall Total\",SUMIFS(Worksheet!$X$2:$X$100,Worksheet!$W$2:$W$100,I$7),IF(RIGHT(Worksheet!$AN39,5)=\"Total\",SUM(OFFSET(I44,-COUNTIF(Worksheet!$AM$1:$AM$98,Worksheet!$AM39)+1,0,COUNTIF(Worksheet!$AM$1:$AM$98,Worksheet!$AM39)-1)),SUMIFS(Worksheet!$X$2:$X$100,Worksheet!$Z$2:$Z$100,CONCATENATE(Worksheet!$AN39,$B44,I$7)))))","v":""},{"$f":"IF(Worksheet!$AN39=\"\",\"\",IF(Worksheet!$AN39=\"Overall Total\",SUMIFS(Worksheet!$X$2:$X$100,Worksheet!$W$2:$W$100,J$7),IF(RIGHT(Worksheet!$AN39,5)=\"Total\",SUM(OFFSET(J44,-COUNTIF(Worksheet!$AM$1:$AM$98,Worksheet!$AM39)+1,0,COUNTIF(Worksheet!$AM$1:$AM$98,Worksheet!$AM39)-1)),SUMIFS(Worksheet!$X$2:$X$100,Worksheet!$Z$2:$Z$100,CONCATENATE(Worksheet!$AN39,$B44,J$7)))))","v":""},{"$f":"IF(Worksheet!$AN39=\"\",\"\",IF(Worksheet!$AN39=\"Overall Total\",SUMIFS(Worksheet!$X$2:$X$100,Worksheet!$W$2:$W$100,K$7),IF(RIGHT(Worksheet!$AN39,5)=\"Total\",SUM(OFFSET(K44,-COUNTIF(Worksheet!$AM$1:$AM$98,Worksheet!$AM39)+1,0,COUNTIF(Worksheet!$AM$1:$AM$98,Worksheet!$AM39)-1)),SUMIFS(Worksheet!$X$2:$X$100,Worksheet!$Z$2:$Z$100,CONCATENATE(Worksheet!$AN39,$B44,K$7)))))","v":""},{"$f":"IF(Worksheet!$AN39=\"\",\"\",IF(Worksheet!$AN39=\"Overall Total\",SUMIFS(Worksheet!$X$2:$X$100,Worksheet!$W$2:$W$100,L$7),IF(RIGHT(Worksheet!$AN39,5)=\"Total\",SUM(OFFSET(L44,-COUNTIF(Worksheet!$AM$1:$AM$98,Worksheet!$AM39)+1,0,COUNTIF(Worksheet!$AM$1:$AM$98,Worksheet!$AM39)-1)),SUMIFS(Worksheet!$X$2:$X$100,Worksheet!$Z$2:$Z$100,CONCATENATE(Worksheet!$AN39,$B44,L$7)))))","v":""},{"$f":"IF(Worksheet!$AN39=\"\",\"\",IF(Worksheet!$AN39=\"Overall Total\",SUMIFS(Worksheet!$X$2:$X$100,Worksheet!$W$2:$W$100,M$7),IF(RIGHT(Worksheet!$AN39,5)=\"Total\",SUM(OFFSET(M44,-COUNTIF(Worksheet!$AM$1:$AM$98,Worksheet!$AM39)+1,0,COUNTIF(Worksheet!$AM$1:$AM$98,Worksheet!$AM39)-1)),SUMIFS(Worksheet!$X$2:$X$100,Worksheet!$Z$2:$Z$100,CONCATENATE(Worksheet!$AN39,$B44,M$7)))))","v":""},{"$f":"IF(Worksheet!$AN39=\"\",\"\",IF(Worksheet!$AN39=\"Overall Total\",$N$1,IF(RIGHT(Worksheet!$AN39,5)=\"Total\",SUM(OFFSET(N44,-COUNTIF(Worksheet!$AM$1:$AM$98,Worksheet!$AM39)+1,0,COUNTIF(Worksheet!$AM$1:$AM$98,Worksheet!$AM39)-1)),SUM(D44:M44))))","v":""}]
[{"$f":"IF(Worksheet!AN40=Worksheet!AN39,\"\",Worksheet!AN40)","v":""},{"$f":"IF(OR(Worksheet!AL40=\"\",Worksheet!AN39=\"\"),\"\",IF(RIGHT(Worksheet!AN40,5)=\"Total\",\"\",OFFSET(Worksheet!$AE$1,Worksheet!AL40,0)))","v":""},null,{"$f":"IF(Worksheet!$AN40=\"\",\"\",IF(Worksheet!$AN40=\"Overall Total\",SUMIFS(Worksheet!$X$2:$X$100,Worksheet!$W$2:$W$100,D$7),IF(RIGHT(Worksheet!$AN40,5)=\"Total\",SUM(OFFSET(D45,-COUNTIF(Worksheet!$AM$1:$AM$98,Worksheet!$AM40)+1,0,COUNTIF(Worksheet!$AM$1:$AM$98,Worksheet!$AM40)-1)),SUMIFS(Worksheet!$X$2:$X$100,Worksheet!$Z$2:$Z$100,CONCATENATE(Worksheet!$AN40,$B45,D$7)))))","v":""},{"$f":"IF(Worksheet!$AN40=\"\",\"\",IF(Worksheet!$AN40=\"Overall Total\",SUMIFS(Worksheet!$X$2:$X$100,Worksheet!$W$2:$W$100,E$7),IF(RIGHT(Worksheet!$AN40,5)=\"Total\",SUM(OFFSET(E45,-COUNTIF(Worksheet!$AM$1:$AM$98,Worksheet!$AM40)+1,0,COUNTIF(Worksheet!$AM$1:$AM$98,Worksheet!$AM40)-1)),SUMIFS(Worksheet!$X$2:$X$100,Worksheet!$Z$2:$Z$100,CONCATENATE(Worksheet!$AN40,$B45,E$7)))))","v":""},{"$f":"IF(Worksheet!$AN40=\"\",\"\",IF(Worksheet!$AN40=\"Overall Total\",SUMIFS(Worksheet!$X$2:$X$100,Worksheet!$W$2:$W$100,F$7),IF(RIGHT(Worksheet!$AN40,5)=\"Total\",SUM(OFFSET(F45,-COUNTIF(Worksheet!$AM$1:$AM$98,Worksheet!$AM40)+1,0,COUNTIF(Worksheet!$AM$1:$AM$98,Worksheet!$AM40)-1)),SUMIFS(Worksheet!$X$2:$X$100,Worksheet!$Z$2:$Z$100,CONCATENATE(Worksheet!$AN40,$B45,F$7)))))","v":""},{"$f":"IF(Worksheet!$AN40=\"\",\"\",IF(Worksheet!$AN40=\"Overall Total\",SUMIFS(Worksheet!$X$2:$X$100,Worksheet!$W$2:$W$100,G$7),IF(RIGHT(Worksheet!$AN40,5)=\"Total\",SUM(OFFSET(G45,-COUNTIF(Worksheet!$AM$1:$AM$98,Worksheet!$AM40)+1,0,COUNTIF(Worksheet!$AM$1:$AM$98,Worksheet!$AM40)-1)),SUMIFS(Worksheet!$X$2:$X$100,Worksheet!$Z$2:$Z$100,CONCATENATE(Worksheet!$AN40,$B45,G$7)))))","v":""},{"$f":"IF(Worksheet!$AN40=\"\",\"\",IF(Worksheet!$AN40=\"Overall Total\",SUMIFS(Worksheet!$X$2:$X$100,Worksheet!$W$2:$W$100,H$7),IF(RIGHT(Worksheet!$AN40,5)=\"Total\",SUM(OFFSET(H45,-COUNTIF(Worksheet!$AM$1:$AM$98,Worksheet!$AM40)+1,0,COUNTIF(Worksheet!$AM$1:$AM$98,Worksheet!$AM40)-1)),SUMIFS(Worksheet!$X$2:$X$100,Worksheet!$Z$2:$Z$100,CONCATENATE(Worksheet!$AN40,$B45,H$7)))))","v":""},{"$f":"IF(Worksheet!$AN40=\"\",\"\",IF(Worksheet!$AN40=\"Overall Total\",SUMIFS(Worksheet!$X$2:$X$100,Worksheet!$W$2:$W$100,I$7),IF(RIGHT(Worksheet!$AN40,5)=\"Total\",SUM(OFFSET(I45,-COUNTIF(Worksheet!$AM$1:$AM$98,Worksheet!$AM40)+1,0,COUNTIF(Worksheet!$AM$1:$AM$98,Worksheet!$AM40)-1)),SUMIFS(Worksheet!$X$2:$X$100,Worksheet!$Z$2:$Z$100,CONCATENATE(Worksheet!$AN40,$B45,I$7)))))","v":""},{"$f":"IF(Worksheet!$AN40=\"\",\"\",IF(Worksheet!$AN40=\"Overall Total\",SUMIFS(Worksheet!$X$2:$X$100,Worksheet!$W$2:$W$100,J$7),IF(RIGHT(Worksheet!$AN40,5)=\"Total\",SUM(OFFSET(J45,-COUNTIF(Worksheet!$AM$1:$AM$98,Worksheet!$AM40)+1,0,COUNTIF(Worksheet!$AM$1:$AM$98,Worksheet!$AM40)-1)),SUMIFS(Worksheet!$X$2:$X$100,Worksheet!$Z$2:$Z$100,CONCATENATE(Worksheet!$AN40,$B45,J$7)))))","v":""},{"$f":"IF(Worksheet!$AN40=\"\",\"\",IF(Worksheet!$AN40=\"Overall Total\",SUMIFS(Worksheet!$X$2:$X$100,Worksheet!$W$2:$W$100,K$7),IF(RIGHT(Worksheet!$AN40,5)=\"Total\",SUM(OFFSET(K45,-COUNTIF(Worksheet!$AM$1:$AM$98,Worksheet!$AM40)+1,0,COUNTIF(Worksheet!$AM$1:$AM$98,Worksheet!$AM40)-1)),SUMIFS(Worksheet!$X$2:$X$100,Worksheet!$Z$2:$Z$100,CONCATENATE(Worksheet!$AN40,$B45,K$7)))))","v":""},{"$f":"IF(Worksheet!$AN40=\"\",\"\",IF(Worksheet!$AN40=\"Overall Total\",SUMIFS(Worksheet!$X$2:$X$100,Worksheet!$W$2:$W$100,L$7),IF(RIGHT(Worksheet!$AN40,5)=\"Total\",SUM(OFFSET(L45,-COUNTIF(Worksheet!$AM$1:$AM$98,Worksheet!$AM40)+1,0,COUNTIF(Worksheet!$AM$1:$AM$98,Worksheet!$AM40)-1)),SUMIFS(Worksheet!$X$2:$X$100,Worksheet!$Z$2:$Z$100,CONCATENATE(Worksheet!$AN40,$B45,L$7)))))","v":""},{"$f":"IF(Worksheet!$AN40=\"\",\"\",IF(Worksheet!$AN40=\"Overall Total\",SUMIFS(Worksheet!$X$2:$X$100,Worksheet!$W$2:$W$100,M$7),IF(RIGHT(Worksheet!$AN40,5)=\"Total\",SUM(OFFSET(M45,-COUNTIF(Worksheet!$AM$1:$AM$98,Worksheet!$AM40)+1,0,COUNTIF(Worksheet!$AM$1:$AM$98,Worksheet!$AM40)-1)),SUMIFS(Worksheet!$X$2:$X$100,Worksheet!$Z$2:$Z$100,CONCATENATE(Worksheet!$AN40,$B45,M$7)))))","v":""},{"$f":"IF(Worksheet!$AN40=\"\",\"\",IF(Worksheet!$AN40=\"Overall Total\",$N$1,IF(RIGHT(Worksheet!$AN40,5)=\"Total\",SUM(OFFSET(N45,-COUNTIF(Worksheet!$AM$1:$AM$98,Worksheet!$AM40)+1,0,COUNTIF(Worksheet!$AM$1:$AM$98,Worksheet!$AM40)-1)),SUM(D45:M45))))","v":""}]
[{"$f":"IF(Worksheet!AN41=Worksheet!AN40,\"\",Worksheet!AN41)","v":""},{"$f":"IF(OR(Worksheet!AL41=\"\",Worksheet!AN40=\"\"),\"\",IF(RIGHT(Worksheet!AN41,5)=\"Total\",\"\",OFFSET(Worksheet!$AE$1,Worksheet!AL41,0)))","v":""},null,{"$f":"IF(Worksheet!$AN41=\"\",\"\",IF(Worksheet!$AN41=\"Overall Total\",SUMIFS(Worksheet!$X$2:$X$100,Worksheet!$W$2:$W$100,D$7),IF(RIGHT(Worksheet!$AN41,5)=\"Total\",SUM(OFFSET(D46,-COUNTIF(Worksheet!$AM$1:$AM$98,Worksheet!$AM41)+1,0,COUNTIF(Worksheet!$AM$1:$AM$98,Worksheet!$AM41)-1)),SUMIFS(Worksheet!$X$2:$X$100,Worksheet!$Z$2:$Z$100,CONCATENATE(Worksheet!$AN41,$B46,D$7)))))","v":""},{"$f":"IF(Worksheet!$AN41=\"\",\"\",IF(Worksheet!$AN41=\"Overall Total\",SUMIFS(Worksheet!$X$2:$X$100,Worksheet!$W$2:$W$100,E$7),IF(RIGHT(Worksheet!$AN41,5)=\"Total\",SUM(OFFSET(E46,-COUNTIF(Worksheet!$AM$1:$AM$98,Worksheet!$AM41)+1,0,COUNTIF(Worksheet!$AM$1:$AM$98,Worksheet!$AM41)-1)),SUMIFS(Worksheet!$X$2:$X$100,Worksheet!$Z$2:$Z$100,CONCATENATE(Worksheet!$AN41,$B46,E$7)))))","v":""},{"$f":"IF(Worksheet!$AN41=\"\",\"\",IF(Worksheet!$AN41=\"Overall Total\",SUMIFS(Worksheet!$X$2:$X$100,Worksheet!$W$2:$W$100,F$7),IF(RIGHT(Worksheet!$AN41,5)=\"Total\",SUM(OFFSET(F46,-COUNTIF(Worksheet!$AM$1:$AM$98,Worksheet!$AM41)+1,0,COUNTIF(Worksheet!$AM$1:$AM$98,Worksheet!$AM41)-1)),SUMIFS(Worksheet!$X$2:$X$100,Worksheet!$Z$2:$Z$100,CONCATENATE(Worksheet!$AN41,$B46,F$7)))))","v":""},{"$f":"IF(Worksheet!$AN41=\"\",\"\",IF(Worksheet!$AN41=\"Overall Total\",SUMIFS(Worksheet!$X$2:$X$100,Worksheet!$W$2:$W$100,G$7),IF(RIGHT(Worksheet!$AN41,5)=\"Total\",SUM(OFFSET(G46,-COUNTIF(Worksheet!$AM$1:$AM$98,Worksheet!$AM41)+1,0,COUNTIF(Worksheet!$AM$1:$AM$98,Worksheet!$AM41)-1)),SUMIFS(Worksheet!$X$2:$X$100,Worksheet!$Z$2:$Z$100,CONCATENATE(Worksheet!$AN41,$B46,G$7)))))","v":""},{"$f":"IF(Worksheet!$AN41=\"\",\"\",IF(Worksheet!$AN41=\"Overall Total\",SUMIFS(Worksheet!$X$2:$X$100,Worksheet!$W$2:$W$100,H$7),IF(RIGHT(Worksheet!$AN41,5)=\"Total\",SUM(OFFSET(H46,-COUNTIF(Worksheet!$AM$1:$AM$98,Worksheet!$AM41)+1,0,COUNTIF(Worksheet!$AM$1:$AM$98,Worksheet!$AM41)-1)),SUMIFS(Worksheet!$X$2:$X$100,Worksheet!$Z$2:$Z$100,CONCATENATE(Worksheet!$AN41,$B46,H$7)))))","v":""},{"$f":"IF(Worksheet!$AN41=\"\",\"\",IF(Worksheet!$AN41=\"Overall Total\",SUMIFS(Worksheet!$X$2:$X$100,Worksheet!$W$2:$W$100,I$7),IF(RIGHT(Worksheet!$AN41,5)=\"Total\",SUM(OFFSET(I46,-COUNTIF(Worksheet!$AM$1:$AM$98,Worksheet!$AM41)+1,0,COUNTIF(Worksheet!$AM$1:$AM$98,Worksheet!$AM41)-1)),SUMIFS(Worksheet!$X$2:$X$100,Worksheet!$Z$2:$Z$100,CONCATENATE(Worksheet!$AN41,$B46,I$7)))))","v":""},{"$f":"IF(Worksheet!$AN41=\"\",\"\",IF(Worksheet!$AN41=\"Overall Total\",SUMIFS(Worksheet!$X$2:$X$100,Worksheet!$W$2:$W$100,J$7),IF(RIGHT(Worksheet!$AN41,5)=\"Total\",SUM(OFFSET(J46,-COUNTIF(Worksheet!$AM$1:$AM$98,Worksheet!$AM41)+1,0,COUNTIF(Worksheet!$AM$1:$AM$98,Worksheet!$AM41)-1)),SUMIFS(Worksheet!$X$2:$X$100,Worksheet!$Z$2:$Z$100,CONCATENATE(Worksheet!$AN41,$B46,J$7)))))","v":""},{"$f":"IF(Worksheet!$AN41=\"\",\"\",IF(Worksheet!$AN41=\"Overall Total\",SUMIFS(Worksheet!$X$2:$X$100,Worksheet!$W$2:$W$100,K$7),IF(RIGHT(Worksheet!$AN41,5)=\"Total\",SUM(OFFSET(K46,-COUNTIF(Worksheet!$AM$1:$AM$98,Worksheet!$AM41)+1,0,COUNTIF(Worksheet!$AM$1:$AM$98,Worksheet!$AM41)-1)),SUMIFS(Worksheet!$X$2:$X$100,Worksheet!$Z$2:$Z$100,CONCATENATE(Worksheet!$AN41,$B46,K$7)))))","v":""},{"$f":"IF(Worksheet!$AN41=\"\",\"\",IF(Worksheet!$AN41=\"Overall Total\",SUMIFS(Worksheet!$X$2:$X$100,Worksheet!$W$2:$W$100,L$7),IF(RIGHT(Worksheet!$AN41,5)=\"Total\",SUM(OFFSET(L46,-COUNTIF(Worksheet!$AM$1:$AM$98,Worksheet!$AM41)+1,0,COUNTIF(Worksheet!$AM$1:$AM$98,Worksheet!$AM41)-1)),SUMIFS(Worksheet!$X$2:$X$100,Worksheet!$Z$2:$Z$100,CONCATENATE(Worksheet!$AN41,$B46,L$7)))))","v":""},{"$f":"IF(Worksheet!$AN41=\"\",\"\",IF(Worksheet!$AN41=\"Overall Total\",SUMIFS(Worksheet!$X$2:$X$100,Worksheet!$W$2:$W$100,M$7),IF(RIGHT(Worksheet!$AN41,5)=\"Total\",SUM(OFFSET(M46,-COUNTIF(Worksheet!$AM$1:$AM$98,Worksheet!$AM41)+1,0,COUNTIF(Worksheet!$AM$1:$AM$98,Worksheet!$AM41)-1)),SUMIFS(Worksheet!$X$2:$X$100,Worksheet!$Z$2:$Z$100,CONCATENATE(Worksheet!$AN41,$B46,M$7)))))","v":""},{"$f":"IF(Worksheet!$AN41=\"\",\"\",IF(Worksheet!$AN41=\"Overall Total\",$N$1,IF(RIGHT(Worksheet!$AN41,5)=\"Total\",SUM(OFFSET(N46,-COUNTIF(Worksheet!$AM$1:$AM$98,Worksheet!$AM41)+1,0,COUNTIF(Worksheet!$AM$1:$AM$98,Worksheet!$AM41)-1)),SUM(D46:M46))))","v":""}]
[{"$f":"IF(Worksheet!AN42=Worksheet!AN41,\"\",Worksheet!AN42)","v":""},{"$f":"IF(OR(Worksheet!AL42=\"\",Worksheet!AN41=\"\"),\"\",IF(RIGHT(Worksheet!AN42,5)=\"Total\",\"\",OFFSET(Worksheet!$AE$1,Worksheet!AL42,0)))","v":""},null,{"$f":"IF(Worksheet!$AN42=\"\",\"\",IF(Worksheet!$AN42=\"Overall Total\",SUMIFS(Worksheet!$X$2:$X$100,Worksheet!$W$2:$W$100,D$7),IF(RIGHT(Worksheet!$AN42,5)=\"Total\",SUM(OFFSET(D47,-COUNTIF(Worksheet!$AM$1:$AM$98,Worksheet!$AM42)+1,0,COUNTIF(Worksheet!$AM$1:$AM$98,Worksheet!$AM42)-1)),SUMIFS(Worksheet!$X$2:$X$100,Worksheet!$Z$2:$Z$100,CONCATENATE(Worksheet!$AN42,$B47,D$7)))))","v":""},{"$f":"IF(Worksheet!$AN42=\"\",\"\",IF(Worksheet!$AN42=\"Overall Total\",SUMIFS(Worksheet!$X$2:$X$100,Worksheet!$W$2:$W$100,E$7),IF(RIGHT(Worksheet!$AN42,5)=\"Total\",SUM(OFFSET(E47,-COUNTIF(Worksheet!$AM$1:$AM$98,Worksheet!$AM42)+1,0,COUNTIF(Worksheet!$AM$1:$AM$98,Worksheet!$AM42)-1)),SUMIFS(Worksheet!$X$2:$X$100,Worksheet!$Z$2:$Z$100,CONCATENATE(Worksheet!$AN42,$B47,E$7)))))","v":""},{"$f":"IF(Worksheet!$AN42=\"\",\"\",IF(Worksheet!$AN42=\"Overall Total\",SUMIFS(Worksheet!$X$2:$X$100,Worksheet!$W$2:$W$100,F$7),IF(RIGHT(Worksheet!$AN42,5)=\"Total\",SUM(OFFSET(F47,-COUNTIF(Worksheet!$AM$1:$AM$98,Worksheet!$AM42)+1,0,COUNTIF(Worksheet!$AM$1:$AM$98,Worksheet!$AM42)-1)),SUMIFS(Worksheet!$X$2:$X$100,Worksheet!$Z$2:$Z$100,CONCATENATE(Worksheet!$AN42,$B47,F$7)))))","v":""},{"$f":"IF(Worksheet!$AN42=\"\",\"\",IF(Worksheet!$AN42=\"Overall Total\",SUMIFS(Worksheet!$X$2:$X$100,Worksheet!$W$2:$W$100,G$7),IF(RIGHT(Worksheet!$AN42,5)=\"Total\",SUM(OFFSET(G47,-COUNTIF(Worksheet!$AM$1:$AM$98,Worksheet!$AM42)+1,0,COUNTIF(Worksheet!$AM$1:$AM$98,Worksheet!$AM42)-1)),SUMIFS(Worksheet!$X$2:$X$100,Worksheet!$Z$2:$Z$100,CONCATENATE(Worksheet!$AN42,$B47,G$7)))))","v":""},{"$f":"IF(Worksheet!$AN42=\"\",\"\",IF(Worksheet!$AN42=\"Overall Total\",SUMIFS(Worksheet!$X$2:$X$100,Worksheet!$W$2:$W$100,H$7),IF(RIGHT(Worksheet!$AN42,5)=\"Total\",SUM(OFFSET(H47,-COUNTIF(Worksheet!$AM$1:$AM$98,Worksheet!$AM42)+1,0,COUNTIF(Worksheet!$AM$1:$AM$98,Worksheet!$AM42)-1)),SUMIFS(Worksheet!$X$2:$X$100,Worksheet!$Z$2:$Z$100,CONCATENATE(Worksheet!$AN42,$B47,H$7)))))","v":""},{"$f":"IF(Worksheet!$AN42=\"\",\"\",IF(Worksheet!$AN42=\"Overall Total\",SUMIFS(Worksheet!$X$2:$X$100,Worksheet!$W$2:$W$100,I$7),IF(RIGHT(Worksheet!$AN42,5)=\"Total\",SUM(OFFSET(I47,-COUNTIF(Worksheet!$AM$1:$AM$98,Worksheet!$AM42)+1,0,COUNTIF(Worksheet!$AM$1:$AM$98,Worksheet!$AM42)-1)),SUMIFS(Worksheet!$X$2:$X$100,Worksheet!$Z$2:$Z$100,CONCATENATE(Worksheet!$AN42,$B47,I$7)))))","v":""},{"$f":"IF(Worksheet!$AN42=\"\",\"\",IF(Worksheet!$AN42=\"Overall Total\",SUMIFS(Worksheet!$X$2:$X$100,Worksheet!$W$2:$W$100,J$7),IF(RIGHT(Worksheet!$AN42,5)=\"Total\",SUM(OFFSET(J47,-COUNTIF(Worksheet!$AM$1:$AM$98,Worksheet!$AM42)+1,0,COUNTIF(Worksheet!$AM$1:$AM$98,Worksheet!$AM42)-1)),SUMIFS(Worksheet!$X$2:$X$100,Worksheet!$Z$2:$Z$100,CONCATENATE(Worksheet!$AN42,$B47,J$7)))))","v":""},{"$f":"IF(Worksheet!$AN42=\"\",\"\",IF(Worksheet!$AN42=\"Overall Total\",SUMIFS(Worksheet!$X$2:$X$100,Worksheet!$W$2:$W$100,K$7),IF(RIGHT(Worksheet!$AN42,5)=\"Total\",SUM(OFFSET(K47,-COUNTIF(Worksheet!$AM$1:$AM$98,Worksheet!$AM42)+1,0,COUNTIF(Worksheet!$AM$1:$AM$98,Worksheet!$AM42)-1)),SUMIFS(Worksheet!$X$2:$X$100,Worksheet!$Z$2:$Z$100,CONCATENATE(Worksheet!$AN42,$B47,K$7)))))","v":""},{"$f":"IF(Worksheet!$AN42=\"\",\"\",IF(Worksheet!$AN42=\"Overall Total\",SUMIFS(Worksheet!$X$2:$X$100,Worksheet!$W$2:$W$100,L$7),IF(RIGHT(Worksheet!$AN42,5)=\"Total\",SUM(OFFSET(L47,-COUNTIF(Worksheet!$AM$1:$AM$98,Worksheet!$AM42)+1,0,COUNTIF(Worksheet!$AM$1:$AM$98,Worksheet!$AM42)-1)),SUMIFS(Worksheet!$X$2:$X$100,Worksheet!$Z$2:$Z$100,CONCATENATE(Worksheet!$AN42,$B47,L$7)))))","v":""},{"$f":"IF(Worksheet!$AN42=\"\",\"\",IF(Worksheet!$AN42=\"Overall Total\",SUMIFS(Worksheet!$X$2:$X$100,Worksheet!$W$2:$W$100,M$7),IF(RIGHT(Worksheet!$AN42,5)=\"Total\",SUM(OFFSET(M47,-COUNTIF(Worksheet!$AM$1:$AM$98,Worksheet!$AM42)+1,0,COUNTIF(Worksheet!$AM$1:$AM$98,Worksheet!$AM42)-1)),SUMIFS(Worksheet!$X$2:$X$100,Worksheet!$Z$2:$Z$100,CONCATENATE(Worksheet!$AN42,$B47,M$7)))))","v":""},{"$f":"IF(Worksheet!$AN42=\"\",\"\",IF(Worksheet!$AN42=\"Overall Total\",$N$1,IF(RIGHT(Worksheet!$AN42,5)=\"Total\",SUM(OFFSET(N47,-COUNTIF(Worksheet!$AM$1:$AM$98,Worksheet!$AM42)+1,0,COUNTIF(Worksheet!$AM$1:$AM$98,Worksheet!$AM42)-1)),SUM(D47:M47))))","v":""}]
[{"$f":"IF(Worksheet!AN43=Worksheet!AN42,\"\",Worksheet!AN43)","v":""},{"$f":"IF(OR(Worksheet!AL43=\"\",Worksheet!AN42=\"\"),\"\",IF(RIGHT(Worksheet!AN43,5)=\"Total\",\"\",OFFSET(Worksheet!$AE$1,Worksheet!AL43,0)))","v":""},null,{"$f":"IF(Worksheet!$AN43=\"\",\"\",IF(Worksheet!$AN43=\"Overall Total\",SUMIFS(Worksheet!$X$2:$X$100,Worksheet!$W$2:$W$100,D$7),IF(RIGHT(Worksheet!$AN43,5)=\"Total\",SUM(OFFSET(D48,-COUNTIF(Worksheet!$AM$1:$AM$98,Worksheet!$AM43)+1,0,COUNTIF(Worksheet!$AM$1:$AM$98,Worksheet!$AM43)-1)),SUMIFS(Worksheet!$X$2:$X$100,Worksheet!$Z$2:$Z$100,CONCATENATE(Worksheet!$AN43,$B48,D$7)))))","v":""},{"$f":"IF(Worksheet!$AN43=\"\",\"\",IF(Worksheet!$AN43=\"Overall Total\",SUMIFS(Worksheet!$X$2:$X$100,Worksheet!$W$2:$W$100,E$7),IF(RIGHT(Worksheet!$AN43,5)=\"Total\",SUM(OFFSET(E48,-COUNTIF(Worksheet!$AM$1:$AM$98,Worksheet!$AM43)+1,0,COUNTIF(Worksheet!$AM$1:$AM$98,Worksheet!$AM43)-1)),SUMIFS(Worksheet!$X$2:$X$100,Worksheet!$Z$2:$Z$100,CONCATENATE(Worksheet!$AN43,$B48,E$7)))))","v":""},{"$f":"IF(Worksheet!$AN43=\"\",\"\",IF(Worksheet!$AN43=\"Overall Total\",SUMIFS(Worksheet!$X$2:$X$100,Worksheet!$W$2:$W$100,F$7),IF(RIGHT(Worksheet!$AN43,5)=\"Total\",SUM(OFFSET(F48,-COUNTIF(Worksheet!$AM$1:$AM$98,Worksheet!$AM43)+1,0,COUNTIF(Worksheet!$AM$1:$AM$98,Worksheet!$AM43)-1)),SUMIFS(Worksheet!$X$2:$X$100,Worksheet!$Z$2:$Z$100,CONCATENATE(Worksheet!$AN43,$B48,F$7)))))","v":""},{"$f":"IF(Worksheet!$AN43=\"\",\"\",IF(Worksheet!$AN43=\"Overall Total\",SUMIFS(Worksheet!$X$2:$X$100,Worksheet!$W$2:$W$100,G$7),IF(RIGHT(Worksheet!$AN43,5)=\"Total\",SUM(OFFSET(G48,-COUNTIF(Worksheet!$AM$1:$AM$98,Worksheet!$AM43)+1,0,COUNTIF(Worksheet!$AM$1:$AM$98,Worksheet!$AM43)-1)),SUMIFS(Worksheet!$X$2:$X$100,Worksheet!$Z$2:$Z$100,CONCATENATE(Worksheet!$AN43,$B48,G$7)))))","v":""},{"$f":"IF(Worksheet!$AN43=\"\",\"\",IF(Worksheet!$AN43=\"Overall Total\",SUMIFS(Worksheet!$X$2:$X$100,Worksheet!$W$2:$W$100,H$7),IF(RIGHT(Worksheet!$AN43,5)=\"Total\",SUM(OFFSET(H48,-COUNTIF(Worksheet!$AM$1:$AM$98,Worksheet!$AM43)+1,0,COUNTIF(Worksheet!$AM$1:$AM$98,Worksheet!$AM43)-1)),SUMIFS(Worksheet!$X$2:$X$100,Worksheet!$Z$2:$Z$100,CONCATENATE(Worksheet!$AN43,$B48,H$7)))))","v":""},{"$f":"IF(Worksheet!$AN43=\"\",\"\",IF(Worksheet!$AN43=\"Overall Total\",SUMIFS(Worksheet!$X$2:$X$100,Worksheet!$W$2:$W$100,I$7),IF(RIGHT(Worksheet!$AN43,5)=\"Total\",SUM(OFFSET(I48,-COUNTIF(Worksheet!$AM$1:$AM$98,Worksheet!$AM43)+1,0,COUNTIF(Worksheet!$AM$1:$AM$98,Worksheet!$AM43)-1)),SUMIFS(Worksheet!$X$2:$X$100,Worksheet!$Z$2:$Z$100,CONCATENATE(Worksheet!$AN43,$B48,I$7)))))","v":""},{"$f":"IF(Worksheet!$AN43=\"\",\"\",IF(Worksheet!$AN43=\"Overall Total\",SUMIFS(Worksheet!$X$2:$X$100,Worksheet!$W$2:$W$100,J$7),IF(RIGHT(Worksheet!$AN43,5)=\"Total\",SUM(OFFSET(J48,-COUNTIF(Worksheet!$AM$1:$AM$98,Worksheet!$AM43)+1,0,COUNTIF(Worksheet!$AM$1:$AM$98,Worksheet!$AM43)-1)),SUMIFS(Worksheet!$X$2:$X$100,Worksheet!$Z$2:$Z$100,CONCATENATE(Worksheet!$AN43,$B48,J$7)))))","v":""},{"$f":"IF(Worksheet!$AN43=\"\",\"\",IF(Worksheet!$AN43=\"Overall Total\",SUMIFS(Worksheet!$X$2:$X$100,Worksheet!$W$2:$W$100,K$7),IF(RIGHT(Worksheet!$AN43,5)=\"Total\",SUM(OFFSET(K48,-COUNTIF(Worksheet!$AM$1:$AM$98,Worksheet!$AM43)+1,0,COUNTIF(Worksheet!$AM$1:$AM$98,Worksheet!$AM43)-1)),SUMIFS(Worksheet!$X$2:$X$100,Worksheet!$Z$2:$Z$100,CONCATENATE(Worksheet!$AN43,$B48,K$7)))))","v":""},{"$f":"IF(Worksheet!$AN43=\"\",\"\",IF(Worksheet!$AN43=\"Overall Total\",SUMIFS(Worksheet!$X$2:$X$100,Worksheet!$W$2:$W$100,L$7),IF(RIGHT(Worksheet!$AN43,5)=\"Total\",SUM(OFFSET(L48,-COUNTIF(Worksheet!$AM$1:$AM$98,Worksheet!$AM43)+1,0,COUNTIF(Worksheet!$AM$1:$AM$98,Worksheet!$AM43)-1)),SUMIFS(Worksheet!$X$2:$X$100,Worksheet!$Z$2:$Z$100,CONCATENATE(Worksheet!$AN43,$B48,L$7)))))","v":""},{"$f":"IF(Worksheet!$AN43=\"\",\"\",IF(Worksheet!$AN43=\"Overall Total\",SUMIFS(Worksheet!$X$2:$X$100,Worksheet!$W$2:$W$100,M$7),IF(RIGHT(Worksheet!$AN43,5)=\"Total\",SUM(OFFSET(M48,-COUNTIF(Worksheet!$AM$1:$AM$98,Worksheet!$AM43)+1,0,COUNTIF(Worksheet!$AM$1:$AM$98,Worksheet!$AM43)-1)),SUMIFS(Worksheet!$X$2:$X$100,Worksheet!$Z$2:$Z$100,CONCATENATE(Worksheet!$AN43,$B48,M$7)))))","v":""},{"$f":"IF(Worksheet!$AN43=\"\",\"\",IF(Worksheet!$AN43=\"Overall Total\",$N$1,IF(RIGHT(Worksheet!$AN43,5)=\"Total\",SUM(OFFSET(N48,-COUNTIF(Worksheet!$AM$1:$AM$98,Worksheet!$AM43)+1,0,COUNTIF(Worksheet!$AM$1:$AM$98,Worksheet!$AM43)-1)),SUM(D48:M48))))","v":""}]
[{"$f":"IF(Worksheet!AN44=Worksheet!AN43,\"\",Worksheet!AN44)","v":""},{"$f":"IF(OR(Worksheet!AL44=\"\",Worksheet!AN43=\"\"),\"\",IF(RIGHT(Worksheet!AN44,5)=\"Total\",\"\",OFFSET(Worksheet!$AE$1,Worksheet!AL44,0)))","v":""},null,{"$f":"IF(Worksheet!$AN44=\"\",\"\",IF(Worksheet!$AN44=\"Overall Total\",SUMIFS(Worksheet!$X$2:$X$100,Worksheet!$W$2:$W$100,D$7),IF(RIGHT(Worksheet!$AN44,5)=\"Total\",SUM(OFFSET(D49,-COUNTIF(Worksheet!$AM$1:$AM$98,Worksheet!$AM44)+1,0,COUNTIF(Worksheet!$AM$1:$AM$98,Worksheet!$AM44)-1)),SUMIFS(Worksheet!$X$2:$X$100,Worksheet!$Z$2:$Z$100,CONCATENATE(Worksheet!$AN44,$B49,D$7)))))","v":""},{"$f":"IF(Worksheet!$AN44=\"\",\"\",IF(Worksheet!$AN44=\"Overall Total\",SUMIFS(Worksheet!$X$2:$X$100,Worksheet!$W$2:$W$100,E$7),IF(RIGHT(Worksheet!$AN44,5)=\"Total\",SUM(OFFSET(E49,-COUNTIF(Worksheet!$AM$1:$AM$98,Worksheet!$AM44)+1,0,COUNTIF(Worksheet!$AM$1:$AM$98,Worksheet!$AM44)-1)),SUMIFS(Worksheet!$X$2:$X$100,Worksheet!$Z$2:$Z$100,CONCATENATE(Worksheet!$AN44,$B49,E$7)))))","v":""},{"$f":"IF(Worksheet!$AN44=\"\",\"\",IF(Worksheet!$AN44=\"Overall Total\",SUMIFS(Worksheet!$X$2:$X$100,Worksheet!$W$2:$W$100,F$7),IF(RIGHT(Worksheet!$AN44,5)=\"Total\",SUM(OFFSET(F49,-COUNTIF(Worksheet!$AM$1:$AM$98,Worksheet!$AM44)+1,0,COUNTIF(Worksheet!$AM$1:$AM$98,Worksheet!$AM44)-1)),SUMIFS(Worksheet!$X$2:$X$100,Worksheet!$Z$2:$Z$100,CONCATENATE(Worksheet!$AN44,$B49,F$7)))))","v":""},{"$f":"IF(Worksheet!$AN44=\"\",\"\",IF(Worksheet!$AN44=\"Overall Total\",SUMIFS(Worksheet!$X$2:$X$100,Worksheet!$W$2:$W$100,G$7),IF(RIGHT(Worksheet!$AN44,5)=\"Total\",SUM(OFFSET(G49,-COUNTIF(Worksheet!$AM$1:$AM$98,Worksheet!$AM44)+1,0,COUNTIF(Worksheet!$AM$1:$AM$98,Worksheet!$AM44)-1)),SUMIFS(Worksheet!$X$2:$X$100,Worksheet!$Z$2:$Z$100,CONCATENATE(Worksheet!$AN44,$B49,G$7)))))","v":""},{"$f":"IF(Worksheet!$AN44=\"\",\"\",IF(Worksheet!$AN44=\"Overall Total\",SUMIFS(Worksheet!$X$2:$X$100,Worksheet!$W$2:$W$100,H$7),IF(RIGHT(Worksheet!$AN44,5)=\"Total\",SUM(OFFSET(H49,-COUNTIF(Worksheet!$AM$1:$AM$98,Worksheet!$AM44)+1,0,COUNTIF(Worksheet!$AM$1:$AM$98,Worksheet!$AM44)-1)),SUMIFS(Worksheet!$X$2:$X$100,Worksheet!$Z$2:$Z$100,CONCATENATE(Worksheet!$AN44,$B49,H$7)))))","v":""},{"$f":"IF(Worksheet!$AN44=\"\",\"\",IF(Worksheet!$AN44=\"Overall Total\",SUMIFS(Worksheet!$X$2:$X$100,Worksheet!$W$2:$W$100,I$7),IF(RIGHT(Worksheet!$AN44,5)=\"Total\",SUM(OFFSET(I49,-COUNTIF(Worksheet!$AM$1:$AM$98,Worksheet!$AM44)+1,0,COUNTIF(Worksheet!$AM$1:$AM$98,Worksheet!$AM44)-1)),SUMIFS(Worksheet!$X$2:$X$100,Worksheet!$Z$2:$Z$100,CONCATENATE(Worksheet!$AN44,$B49,I$7)))))","v":""},{"$f":"IF(Worksheet!$AN44=\"\",\"\",IF(Worksheet!$AN44=\"Overall Total\",SUMIFS(Worksheet!$X$2:$X$100,Worksheet!$W$2:$W$100,J$7),IF(RIGHT(Worksheet!$AN44,5)=\"Total\",SUM(OFFSET(J49,-COUNTIF(Worksheet!$AM$1:$AM$98,Worksheet!$AM44)+1,0,COUNTIF(Worksheet!$AM$1:$AM$98,Worksheet!$AM44)-1)),SUMIFS(Worksheet!$X$2:$X$100,Worksheet!$Z$2:$Z$100,CONCATENATE(Worksheet!$AN44,$B49,J$7)))))","v":""},{"$f":"IF(Worksheet!$AN44=\"\",\"\",IF(Worksheet!$AN44=\"Overall Total\",SUMIFS(Worksheet!$X$2:$X$100,Worksheet!$W$2:$W$100,K$7),IF(RIGHT(Worksheet!$AN44,5)=\"Total\",SUM(OFFSET(K49,-COUNTIF(Worksheet!$AM$1:$AM$98,Worksheet!$AM44)+1,0,COUNTIF(Worksheet!$AM$1:$AM$98,Worksheet!$AM44)-1)),SUMIFS(Worksheet!$X$2:$X$100,Worksheet!$Z$2:$Z$100,CONCATENATE(Worksheet!$AN44,$B49,K$7)))))","v":""},{"$f":"IF(Worksheet!$AN44=\"\",\"\",IF(Worksheet!$AN44=\"Overall Total\",SUMIFS(Worksheet!$X$2:$X$100,Worksheet!$W$2:$W$100,L$7),IF(RIGHT(Worksheet!$AN44,5)=\"Total\",SUM(OFFSET(L49,-COUNTIF(Worksheet!$AM$1:$AM$98,Worksheet!$AM44)+1,0,COUNTIF(Worksheet!$AM$1:$AM$98,Worksheet!$AM44)-1)),SUMIFS(Worksheet!$X$2:$X$100,Worksheet!$Z$2:$Z$100,CONCATENATE(Worksheet!$AN44,$B49,L$7)))))","v":""},{"$f":"IF(Worksheet!$AN44=\"\",\"\",IF(Worksheet!$AN44=\"Overall Total\",SUMIFS(Worksheet!$X$2:$X$100,Worksheet!$W$2:$W$100,M$7),IF(RIGHT(Worksheet!$AN44,5)=\"Total\",SUM(OFFSET(M49,-COUNTIF(Worksheet!$AM$1:$AM$98,Worksheet!$AM44)+1,0,COUNTIF(Worksheet!$AM$1:$AM$98,Worksheet!$AM44)-1)),SUMIFS(Worksheet!$X$2:$X$100,Worksheet!$Z$2:$Z$100,CONCATENATE(Worksheet!$AN44,$B49,M$7)))))","v":""},{"$f":"IF(Worksheet!$AN44=\"\",\"\",IF(Worksheet!$AN44=\"Overall Total\",$N$1,IF(RIGHT(Worksheet!$AN44,5)=\"Total\",SUM(OFFSET(N49,-COUNTIF(Worksheet!$AM$1:$AM$98,Worksheet!$AM44)+1,0,COUNTIF(Worksheet!$AM$1:$AM$98,Worksheet!$AM44)-1)),SUM(D49:M49))))","v":""}]
[{"$f":"IF(Worksheet!AN45=Worksheet!AN44,\"\",Worksheet!AN45)","v":""},{"$f":"IF(OR(Worksheet!AL45=\"\",Worksheet!AN44=\"\"),\"\",IF(RIGHT(Worksheet!AN45,5)=\"Total\",\"\",OFFSET(Worksheet!$AE$1,Worksheet!AL45,0)))","v":""},null,{"$f":"IF(Worksheet!$AN45=\"\",\"\",IF(Worksheet!$AN45=\"Overall Total\",SUMIFS(Worksheet!$X$2:$X$100,Worksheet!$W$2:$W$100,D$7),IF(RIGHT(Worksheet!$AN45,5)=\"Total\",SUM(OFFSET(D50,-COUNTIF(Worksheet!$AM$1:$AM$98,Worksheet!$AM45)+1,0,COUNTIF(Worksheet!$AM$1:$AM$98,Worksheet!$AM45)-1)),SUMIFS(Worksheet!$X$2:$X$100,Worksheet!$Z$2:$Z$100,CONCATENATE(Worksheet!$AN45,$B50,D$7)))))","v":""},{"$f":"IF(Worksheet!$AN45=\"\",\"\",IF(Worksheet!$AN45=\"Overall Total\",SUMIFS(Worksheet!$X$2:$X$100,Worksheet!$W$2:$W$100,E$7),IF(RIGHT(Worksheet!$AN45,5)=\"Total\",SUM(OFFSET(E50,-COUNTIF(Worksheet!$AM$1:$AM$98,Worksheet!$AM45)+1,0,COUNTIF(Worksheet!$AM$1:$AM$98,Worksheet!$AM45)-1)),SUMIFS(Worksheet!$X$2:$X$100,Worksheet!$Z$2:$Z$100,CONCATENATE(Worksheet!$AN45,$B50,E$7)))))","v":""},{"$f":"IF(Worksheet!$AN45=\"\",\"\",IF(Worksheet!$AN45=\"Overall Total\",SUMIFS(Worksheet!$X$2:$X$100,Worksheet!$W$2:$W$100,F$7),IF(RIGHT(Worksheet!$AN45,5)=\"Total\",SUM(OFFSET(F50,-COUNTIF(Worksheet!$AM$1:$AM$98,Worksheet!$AM45)+1,0,COUNTIF(Worksheet!$AM$1:$AM$98,Worksheet!$AM45)-1)),SUMIFS(Worksheet!$X$2:$X$100,Worksheet!$Z$2:$Z$100,CONCATENATE(Worksheet!$AN45,$B50,F$7)))))","v":""},{"$f":"IF(Worksheet!$AN45=\"\",\"\",IF(Worksheet!$AN45=\"Overall Total\",SUMIFS(Worksheet!$X$2:$X$100,Worksheet!$W$2:$W$100,G$7),IF(RIGHT(Worksheet!$AN45,5)=\"Total\",SUM(OFFSET(G50,-COUNTIF(Worksheet!$AM$1:$AM$98,Worksheet!$AM45)+1,0,COUNTIF(Worksheet!$AM$1:$AM$98,Worksheet!$AM45)-1)),SUMIFS(Worksheet!$X$2:$X$100,Worksheet!$Z$2:$Z$100,CONCATENATE(Worksheet!$AN45,$B50,G$7)))))","v":""},{"$f":"IF(Worksheet!$AN45=\"\",\"\",IF(Worksheet!$AN45=\"Overall Total\",SUMIFS(Worksheet!$X$2:$X$100,Worksheet!$W$2:$W$100,H$7),IF(RIGHT(Worksheet!$AN45,5)=\"Total\",SUM(OFFSET(H50,-COUNTIF(Worksheet!$AM$1:$AM$98,Worksheet!$AM45)+1,0,COUNTIF(Worksheet!$AM$1:$AM$98,Worksheet!$AM45)-1)),SUMIFS(Worksheet!$X$2:$X$100,Worksheet!$Z$2:$Z$100,CONCATENATE(Worksheet!$AN45,$B50,H$7)))))","v":""},{"$f":"IF(Worksheet!$AN45=\"\",\"\",IF(Worksheet!$AN45=\"Overall Total\",SUMIFS(Worksheet!$X$2:$X$100,Worksheet!$W$2:$W$100,I$7),IF(RIGHT(Worksheet!$AN45,5)=\"Total\",SUM(OFFSET(I50,-COUNTIF(Worksheet!$AM$1:$AM$98,Worksheet!$AM45)+1,0,COUNTIF(Worksheet!$AM$1:$AM$98,Worksheet!$AM45)-1)),SUMIFS(Worksheet!$X$2:$X$100,Worksheet!$Z$2:$Z$100,CONCATENATE(Worksheet!$AN45,$B50,I$7)))))","v":""},{"$f":"IF(Worksheet!$AN45=\"\",\"\",IF(Worksheet!$AN45=\"Overall Total\",SUMIFS(Worksheet!$X$2:$X$100,Worksheet!$W$2:$W$100,J$7),IF(RIGHT(Worksheet!$AN45,5)=\"Total\",SUM(OFFSET(J50,-COUNTIF(Worksheet!$AM$1:$AM$98,Worksheet!$AM45)+1,0,COUNTIF(Worksheet!$AM$1:$AM$98,Worksheet!$AM45)-1)),SUMIFS(Worksheet!$X$2:$X$100,Worksheet!$Z$2:$Z$100,CONCATENATE(Worksheet!$AN45,$B50,J$7)))))","v":""},{"$f":"IF(Worksheet!$AN45=\"\",\"\",IF(Worksheet!$AN45=\"Overall Total\",SUMIFS(Worksheet!$X$2:$X$100,Worksheet!$W$2:$W$100,K$7),IF(RIGHT(Worksheet!$AN45,5)=\"Total\",SUM(OFFSET(K50,-COUNTIF(Worksheet!$AM$1:$AM$98,Worksheet!$AM45)+1,0,COUNTIF(Worksheet!$AM$1:$AM$98,Worksheet!$AM45)-1)),SUMIFS(Worksheet!$X$2:$X$100,Worksheet!$Z$2:$Z$100,CONCATENATE(Worksheet!$AN45,$B50,K$7)))))","v":""},{"$f":"IF(Worksheet!$AN45=\"\",\"\",IF(Worksheet!$AN45=\"Overall Total\",SUMIFS(Worksheet!$X$2:$X$100,Worksheet!$W$2:$W$100,L$7),IF(RIGHT(Worksheet!$AN45,5)=\"Total\",SUM(OFFSET(L50,-COUNTIF(Worksheet!$AM$1:$AM$98,Worksheet!$AM45)+1,0,COUNTIF(Worksheet!$AM$1:$AM$98,Worksheet!$AM45)-1)),SUMIFS(Worksheet!$X$2:$X$100,Worksheet!$Z$2:$Z$100,CONCATENATE(Worksheet!$AN45,$B50,L$7)))))","v":""},{"$f":"IF(Worksheet!$AN45=\"\",\"\",IF(Worksheet!$AN45=\"Overall Total\",SUMIFS(Worksheet!$X$2:$X$100,Worksheet!$W$2:$W$100,M$7),IF(RIGHT(Worksheet!$AN45,5)=\"Total\",SUM(OFFSET(M50,-COUNTIF(Worksheet!$AM$1:$AM$98,Worksheet!$AM45)+1,0,COUNTIF(Worksheet!$AM$1:$AM$98,Worksheet!$AM45)-1)),SUMIFS(Worksheet!$X$2:$X$100,Worksheet!$Z$2:$Z$100,CONCATENATE(Worksheet!$AN45,$B50,M$7)))))","v":""},{"$f":"IF(Worksheet!$AN45=\"\",\"\",IF(Worksheet!$AN45=\"Overall Total\",$N$1,IF(RIGHT(Worksheet!$AN45,5)=\"Total\",SUM(OFFSET(N50,-COUNTIF(Worksheet!$AM$1:$AM$98,Worksheet!$AM45)+1,0,COUNTIF(Worksheet!$AM$1:$AM$98,Worksheet!$AM45)-1)),SUM(D50:M50))))","v":""}]
[{"$f":"IF(Worksheet!AN46=Worksheet!AN45,\"\",Worksheet!AN46)","v":""},{"$f":"IF(OR(Worksheet!AL46=\"\",Worksheet!AN45=\"\"),\"\",IF(RIGHT(Worksheet!AN46,5)=\"Total\",\"\",OFFSET(Worksheet!$AE$1,Worksheet!AL46,0)))","v":""},null,{"$f":"IF(Worksheet!$AN46=\"\",\"\",IF(Worksheet!$AN46=\"Overall Total\",SUMIFS(Worksheet!$X$2:$X$100,Worksheet!$W$2:$W$100,D$7),IF(RIGHT(Worksheet!$AN46,5)=\"Total\",SUM(OFFSET(D51,-COUNTIF(Worksheet!$AM$1:$AM$98,Worksheet!$AM46)+1,0,COUNTIF(Worksheet!$AM$1:$AM$98,Worksheet!$AM46)-1)),SUMIFS(Worksheet!$X$2:$X$100,Worksheet!$Z$2:$Z$100,CONCATENATE(Worksheet!$AN46,$B51,D$7)))))","v":""},{"$f":"IF(Worksheet!$AN46=\"\",\"\",IF(Worksheet!$AN46=\"Overall Total\",SUMIFS(Worksheet!$X$2:$X$100,Worksheet!$W$2:$W$100,E$7),IF(RIGHT(Worksheet!$AN46,5)=\"Total\",SUM(OFFSET(E51,-COUNTIF(Worksheet!$AM$1:$AM$98,Worksheet!$AM46)+1,0,COUNTIF(Worksheet!$AM$1:$AM$98,Worksheet!$AM46)-1)),SUMIFS(Worksheet!$X$2:$X$100,Worksheet!$Z$2:$Z$100,CONCATENATE(Worksheet!$AN46,$B51,E$7)))))","v":""},{"$f":"IF(Worksheet!$AN46=\"\",\"\",IF(Worksheet!$AN46=\"Overall Total\",SUMIFS(Worksheet!$X$2:$X$100,Worksheet!$W$2:$W$100,F$7),IF(RIGHT(Worksheet!$AN46,5)=\"Total\",SUM(OFFSET(F51,-COUNTIF(Worksheet!$AM$1:$AM$98,Worksheet!$AM46)+1,0,COUNTIF(Worksheet!$AM$1:$AM$98,Worksheet!$AM46)-1)),SUMIFS(Worksheet!$X$2:$X$100,Worksheet!$Z$2:$Z$100,CONCATENATE(Worksheet!$AN46,$B51,F$7)))))","v":""},{"$f":"IF(Worksheet!$AN46=\"\",\"\",IF(Worksheet!$AN46=\"Overall Total\",SUMIFS(Worksheet!$X$2:$X$100,Worksheet!$W$2:$W$100,G$7),IF(RIGHT(Worksheet!$AN46,5)=\"Total\",SUM(OFFSET(G51,-COUNTIF(Worksheet!$AM$1:$AM$98,Worksheet!$AM46)+1,0,COUNTIF(Worksheet!$AM$1:$AM$98,Worksheet!$AM46)-1)),SUMIFS(Worksheet!$X$2:$X$100,Worksheet!$Z$2:$Z$100,CONCATENATE(Worksheet!$AN46,$B51,G$7)))))","v":""},{"$f":"IF(Worksheet!$AN46=\"\",\"\",IF(Worksheet!$AN46=\"Overall Total\",SUMIFS(Worksheet!$X$2:$X$100,Worksheet!$W$2:$W$100,H$7),IF(RIGHT(Worksheet!$AN46,5)=\"Total\",SUM(OFFSET(H51,-COUNTIF(Worksheet!$AM$1:$AM$98,Worksheet!$AM46)+1,0,COUNTIF(Worksheet!$AM$1:$AM$98,Worksheet!$AM46)-1)),SUMIFS(Worksheet!$X$2:$X$100,Worksheet!$Z$2:$Z$100,CONCATENATE(Worksheet!$AN46,$B51,H$7)))))","v":""},{"$f":"IF(Worksheet!$AN46=\"\",\"\",IF(Worksheet!$AN46=\"Overall Total\",SUMIFS(Worksheet!$X$2:$X$100,Worksheet!$W$2:$W$100,I$7),IF(RIGHT(Worksheet!$AN46,5)=\"Total\",SUM(OFFSET(I51,-COUNTIF(Worksheet!$AM$1:$AM$98,Worksheet!$AM46)+1,0,COUNTIF(Worksheet!$AM$1:$AM$98,Worksheet!$AM46)-1)),SUMIFS(Worksheet!$X$2:$X$100,Worksheet!$Z$2:$Z$100,CONCATENATE(Worksheet!$AN46,$B51,I$7)))))","v":""},{"$f":"IF(Worksheet!$AN46=\"\",\"\",IF(Worksheet!$AN46=\"Overall Total\",SUMIFS(Worksheet!$X$2:$X$100,Worksheet!$W$2:$W$100,J$7),IF(RIGHT(Worksheet!$AN46,5)=\"Total\",SUM(OFFSET(J51,-COUNTIF(Worksheet!$AM$1:$AM$98,Worksheet!$AM46)+1,0,COUNTIF(Worksheet!$AM$1:$AM$98,Worksheet!$AM46)-1)),SUMIFS(Worksheet!$X$2:$X$100,Worksheet!$Z$2:$Z$100,CONCATENATE(Worksheet!$AN46,$B51,J$7)))))","v":""},{"$f":"IF(Worksheet!$AN46=\"\",\"\",IF(Worksheet!$AN46=\"Overall Total\",SUMIFS(Worksheet!$X$2:$X$100,Worksheet!$W$2:$W$100,K$7),IF(RIGHT(Worksheet!$AN46,5)=\"Total\",SUM(OFFSET(K51,-COUNTIF(Worksheet!$AM$1:$AM$98,Worksheet!$AM46)+1,0,COUNTIF(Worksheet!$AM$1:$AM$98,Worksheet!$AM46)-1)),SUMIFS(Worksheet!$X$2:$X$100,Worksheet!$Z$2:$Z$100,CONCATENATE(Worksheet!$AN46,$B51,K$7)))))","v":""},{"$f":"IF(Worksheet!$AN46=\"\",\"\",IF(Worksheet!$AN46=\"Overall Total\",SUMIFS(Worksheet!$X$2:$X$100,Worksheet!$W$2:$W$100,L$7),IF(RIGHT(Worksheet!$AN46,5)=\"Total\",SUM(OFFSET(L51,-COUNTIF(Worksheet!$AM$1:$AM$98,Worksheet!$AM46)+1,0,COUNTIF(Worksheet!$AM$1:$AM$98,Worksheet!$AM46)-1)),SUMIFS(Worksheet!$X$2:$X$100,Worksheet!$Z$2:$Z$100,CONCATENATE(Worksheet!$AN46,$B51,L$7)))))","v":""},{"$f":"IF(Worksheet!$AN46=\"\",\"\",IF(Worksheet!$AN46=\"Overall Total\",SUMIFS(Worksheet!$X$2:$X$100,Worksheet!$W$2:$W$100,M$7),IF(RIGHT(Worksheet!$AN46,5)=\"Total\",SUM(OFFSET(M51,-COUNTIF(Worksheet!$AM$1:$AM$98,Worksheet!$AM46)+1,0,COUNTIF(Worksheet!$AM$1:$AM$98,Worksheet!$AM46)-1)),SUMIFS(Worksheet!$X$2:$X$100,Worksheet!$Z$2:$Z$100,CONCATENATE(Worksheet!$AN46,$B51,M$7)))))","v":""},{"$f":"IF(Worksheet!$AN46=\"\",\"\",IF(Worksheet!$AN46=\"Overall Total\",$N$1,IF(RIGHT(Worksheet!$AN46,5)=\"Total\",SUM(OFFSET(N51,-COUNTIF(Worksheet!$AM$1:$AM$98,Worksheet!$AM46)+1,0,COUNTIF(Worksheet!$AM$1:$AM$98,Worksheet!$AM46)-1)),SUM(D51:M51))))","v":""}]
[{"$f":"IF(Worksheet!AN47=Worksheet!AN46,\"\",Worksheet!AN47)","v":""},{"$f":"IF(OR(Worksheet!AL47=\"\",Worksheet!AN46=\"\"),\"\",IF(RIGHT(Worksheet!AN47,5)=\"Total\",\"\",OFFSET(Worksheet!$AE$1,Worksheet!AL47,0)))","v":""},null,{"$f":"IF(Worksheet!$AN47=\"\",\"\",IF(Worksheet!$AN47=\"Overall Total\",SUMIFS(Worksheet!$X$2:$X$100,Worksheet!$W$2:$W$100,D$7),IF(RIGHT(Worksheet!$AN47,5)=\"Total\",SUM(OFFSET(D52,-COUNTIF(Worksheet!$AM$1:$AM$98,Worksheet!$AM47)+1,0,COUNTIF(Worksheet!$AM$1:$AM$98,Worksheet!$AM47)-1)),SUMIFS(Worksheet!$X$2:$X$100,Worksheet!$Z$2:$Z$100,CONCATENATE(Worksheet!$AN47,$B52,D$7)))))","v":""},{"$f":"IF(Worksheet!$AN47=\"\",\"\",IF(Worksheet!$AN47=\"Overall Total\",SUMIFS(Worksheet!$X$2:$X$100,Worksheet!$W$2:$W$100,E$7),IF(RIGHT(Worksheet!$AN47,5)=\"Total\",SUM(OFFSET(E52,-COUNTIF(Worksheet!$AM$1:$AM$98,Worksheet!$AM47)+1,0,COUNTIF(Worksheet!$AM$1:$AM$98,Worksheet!$AM47)-1)),SUMIFS(Worksheet!$X$2:$X$100,Worksheet!$Z$2:$Z$100,CONCATENATE(Worksheet!$AN47,$B52,E$7)))))","v":""},{"$f":"IF(Worksheet!$AN47=\"\",\"\",IF(Worksheet!$AN47=\"Overall Total\",SUMIFS(Worksheet!$X$2:$X$100,Worksheet!$W$2:$W$100,F$7),IF(RIGHT(Worksheet!$AN47,5)=\"Total\",SUM(OFFSET(F52,-COUNTIF(Worksheet!$AM$1:$AM$98,Worksheet!$AM47)+1,0,COUNTIF(Worksheet!$AM$1:$AM$98,Worksheet!$AM47)-1)),SUMIFS(Worksheet!$X$2:$X$100,Worksheet!$Z$2:$Z$100,CONCATENATE(Worksheet!$AN47,$B52,F$7)))))","v":""},{"$f":"IF(Worksheet!$AN47=\"\",\"\",IF(Worksheet!$AN47=\"Overall Total\",SUMIFS(Worksheet!$X$2:$X$100,Worksheet!$W$2:$W$100,G$7),IF(RIGHT(Worksheet!$AN47,5)=\"Total\",SUM(OFFSET(G52,-COUNTIF(Worksheet!$AM$1:$AM$98,Worksheet!$AM47)+1,0,COUNTIF(Worksheet!$AM$1:$AM$98,Worksheet!$AM47)-1)),SUMIFS(Worksheet!$X$2:$X$100,Worksheet!$Z$2:$Z$100,CONCATENATE(Worksheet!$AN47,$B52,G$7)))))","v":""},{"$f":"IF(Worksheet!$AN47=\"\",\"\",IF(Worksheet!$AN47=\"Overall Total\",SUMIFS(Worksheet!$X$2:$X$100,Worksheet!$W$2:$W$100,H$7),IF(RIGHT(Worksheet!$AN47,5)=\"Total\",SUM(OFFSET(H52,-COUNTIF(Worksheet!$AM$1:$AM$98,Worksheet!$AM47)+1,0,COUNTIF(Worksheet!$AM$1:$AM$98,Worksheet!$AM47)-1)),SUMIFS(Worksheet!$X$2:$X$100,Worksheet!$Z$2:$Z$100,CONCATENATE(Worksheet!$AN47,$B52,H$7)))))","v":""},{"$f":"IF(Worksheet!$AN47=\"\",\"\",IF(Worksheet!$AN47=\"Overall Total\",SUMIFS(Worksheet!$X$2:$X$100,Worksheet!$W$2:$W$100,I$7),IF(RIGHT(Worksheet!$AN47,5)=\"Total\",SUM(OFFSET(I52,-COUNTIF(Worksheet!$AM$1:$AM$98,Worksheet!$AM47)+1,0,COUNTIF(Worksheet!$AM$1:$AM$98,Worksheet!$AM47)-1)),SUMIFS(Worksheet!$X$2:$X$100,Worksheet!$Z$2:$Z$100,CONCATENATE(Worksheet!$AN47,$B52,I$7)))))","v":""},{"$f":"IF(Worksheet!$AN47=\"\",\"\",IF(Worksheet!$AN47=\"Overall Total\",SUMIFS(Worksheet!$X$2:$X$100,Worksheet!$W$2:$W$100,J$7),IF(RIGHT(Worksheet!$AN47,5)=\"Total\",SUM(OFFSET(J52,-COUNTIF(Worksheet!$AM$1:$AM$98,Worksheet!$AM47)+1,0,COUNTIF(Worksheet!$AM$1:$AM$98,Worksheet!$AM47)-1)),SUMIFS(Worksheet!$X$2:$X$100,Worksheet!$Z$2:$Z$100,CONCATENATE(Worksheet!$AN47,$B52,J$7)))))","v":""},{"$f":"IF(Worksheet!$AN47=\"\",\"\",IF(Worksheet!$AN47=\"Overall Total\",SUMIFS(Worksheet!$X$2:$X$100,Worksheet!$W$2:$W$100,K$7),IF(RIGHT(Worksheet!$AN47,5)=\"Total\",SUM(OFFSET(K52,-COUNTIF(Worksheet!$AM$1:$AM$98,Worksheet!$AM47)+1,0,COUNTIF(Worksheet!$AM$1:$AM$98,Worksheet!$AM47)-1)),SUMIFS(Worksheet!$X$2:$X$100,Worksheet!$Z$2:$Z$100,CONCATENATE(Worksheet!$AN47,$B52,K$7)))))","v":""},{"$f":"IF(Worksheet!$AN47=\"\",\"\",IF(Worksheet!$AN47=\"Overall Total\",SUMIFS(Worksheet!$X$2:$X$100,Worksheet!$W$2:$W$100,L$7),IF(RIGHT(Worksheet!$AN47,5)=\"Total\",SUM(OFFSET(L52,-COUNTIF(Worksheet!$AM$1:$AM$98,Worksheet!$AM47)+1,0,COUNTIF(Worksheet!$AM$1:$AM$98,Worksheet!$AM47)-1)),SUMIFS(Worksheet!$X$2:$X$100,Worksheet!$Z$2:$Z$100,CONCATENATE(Worksheet!$AN47,$B52,L$7)))))","v":""},{"$f":"IF(Worksheet!$AN47=\"\",\"\",IF(Worksheet!$AN47=\"Overall Total\",SUMIFS(Worksheet!$X$2:$X$100,Worksheet!$W$2:$W$100,M$7),IF(RIGHT(Worksheet!$AN47,5)=\"Total\",SUM(OFFSET(M52,-COUNTIF(Worksheet!$AM$1:$AM$98,Worksheet!$AM47)+1,0,COUNTIF(Worksheet!$AM$1:$AM$98,Worksheet!$AM47)-1)),SUMIFS(Worksheet!$X$2:$X$100,Worksheet!$Z$2:$Z$100,CONCATENATE(Worksheet!$AN47,$B52,M$7)))))","v":""},{"$f":"IF(Worksheet!$AN47=\"\",\"\",IF(Worksheet!$AN47=\"Overall Total\",$N$1,IF(RIGHT(Worksheet!$AN47,5)=\"Total\",SUM(OFFSET(N52,-COUNTIF(Worksheet!$AM$1:$AM$98,Worksheet!$AM47)+1,0,COUNTIF(Worksheet!$AM$1:$AM$98,Worksheet!$AM47)-1)),SUM(D52:M52))))","v":""}]
[{"$f":"IF(Worksheet!AN48=Worksheet!AN47,\"\",Worksheet!AN48)","v":""},{"$f":"IF(OR(Worksheet!AL48=\"\",Worksheet!AN47=\"\"),\"\",IF(RIGHT(Worksheet!AN48,5)=\"Total\",\"\",OFFSET(Worksheet!$AE$1,Worksheet!AL48,0)))","v":""},null,{"$f":"IF(Worksheet!$AN48=\"\",\"\",IF(Worksheet!$AN48=\"Overall Total\",SUMIFS(Worksheet!$X$2:$X$100,Worksheet!$W$2:$W$100,D$7),IF(RIGHT(Worksheet!$AN48,5)=\"Total\",SUM(OFFSET(D53,-COUNTIF(Worksheet!$AM$1:$AM$98,Worksheet!$AM48)+1,0,COUNTIF(Worksheet!$AM$1:$AM$98,Worksheet!$AM48)-1)),SUMIFS(Worksheet!$X$2:$X$100,Worksheet!$Z$2:$Z$100,CONCATENATE(Worksheet!$AN48,$B53,D$7)))))","v":""},{"$f":"IF(Worksheet!$AN48=\"\",\"\",IF(Worksheet!$AN48=\"Overall Total\",SUMIFS(Worksheet!$X$2:$X$100,Worksheet!$W$2:$W$100,E$7),IF(RIGHT(Worksheet!$AN48,5)=\"Total\",SUM(OFFSET(E53,-COUNTIF(Worksheet!$AM$1:$AM$98,Worksheet!$AM48)+1,0,COUNTIF(Worksheet!$AM$1:$AM$98,Worksheet!$AM48)-1)),SUMIFS(Worksheet!$X$2:$X$100,Worksheet!$Z$2:$Z$100,CONCATENATE(Worksheet!$AN48,$B53,E$7)))))","v":""},{"$f":"IF(Worksheet!$AN48=\"\",\"\",IF(Worksheet!$AN48=\"Overall Total\",SUMIFS(Worksheet!$X$2:$X$100,Worksheet!$W$2:$W$100,F$7),IF(RIGHT(Worksheet!$AN48,5)=\"Total\",SUM(OFFSET(F53,-COUNTIF(Worksheet!$AM$1:$AM$98,Worksheet!$AM48)+1,0,COUNTIF(Worksheet!$AM$1:$AM$98,Worksheet!$AM48)-1)),SUMIFS(Worksheet!$X$2:$X$100,Worksheet!$Z$2:$Z$100,CONCATENATE(Worksheet!$AN48,$B53,F$7)))))","v":""},{"$f":"IF(Worksheet!$AN48=\"\",\"\",IF(Worksheet!$AN48=\"Overall Total\",SUMIFS(Worksheet!$X$2:$X$100,Worksheet!$W$2:$W$100,G$7),IF(RIGHT(Worksheet!$AN48,5)=\"Total\",SUM(OFFSET(G53,-COUNTIF(Worksheet!$AM$1:$AM$98,Worksheet!$AM48)+1,0,COUNTIF(Worksheet!$AM$1:$AM$98,Worksheet!$AM48)-1)),SUMIFS(Worksheet!$X$2:$X$100,Worksheet!$Z$2:$Z$100,CONCATENATE(Worksheet!$AN48,$B53,G$7)))))","v":""},{"$f":"IF(Worksheet!$AN48=\"\",\"\",IF(Worksheet!$AN48=\"Overall Total\",SUMIFS(Worksheet!$X$2:$X$100,Worksheet!$W$2:$W$100,H$7),IF(RIGHT(Worksheet!$AN48,5)=\"Total\",SUM(OFFSET(H53,-COUNTIF(Worksheet!$AM$1:$AM$98,Worksheet!$AM48)+1,0,COUNTIF(Worksheet!$AM$1:$AM$98,Worksheet!$AM48)-1)),SUMIFS(Worksheet!$X$2:$X$100,Worksheet!$Z$2:$Z$100,CONCATENATE(Worksheet!$AN48,$B53,H$7)))))","v":""},{"$f":"IF(Worksheet!$AN48=\"\",\"\",IF(Worksheet!$AN48=\"Overall Total\",SUMIFS(Worksheet!$X$2:$X$100,Worksheet!$W$2:$W$100,I$7),IF(RIGHT(Worksheet!$AN48,5)=\"Total\",SUM(OFFSET(I53,-COUNTIF(Worksheet!$AM$1:$AM$98,Worksheet!$AM48)+1,0,COUNTIF(Worksheet!$AM$1:$AM$98,Worksheet!$AM48)-1)),SUMIFS(Worksheet!$X$2:$X$100,Worksheet!$Z$2:$Z$100,CONCATENATE(Worksheet!$AN48,$B53,I$7)))))","v":""},{"$f":"IF(Worksheet!$AN48=\"\",\"\",IF(Worksheet!$AN48=\"Overall Total\",SUMIFS(Worksheet!$X$2:$X$100,Worksheet!$W$2:$W$100,J$7),IF(RIGHT(Worksheet!$AN48,5)=\"Total\",SUM(OFFSET(J53,-COUNTIF(Worksheet!$AM$1:$AM$98,Worksheet!$AM48)+1,0,COUNTIF(Worksheet!$AM$1:$AM$98,Worksheet!$AM48)-1)),SUMIFS(Worksheet!$X$2:$X$100,Worksheet!$Z$2:$Z$100,CONCATENATE(Worksheet!$AN48,$B53,J$7)))))","v":""},{"$f":"IF(Worksheet!$AN48=\"\",\"\",IF(Worksheet!$AN48=\"Overall Total\",SUMIFS(Worksheet!$X$2:$X$100,Worksheet!$W$2:$W$100,K$7),IF(RIGHT(Worksheet!$AN48,5)=\"Total\",SUM(OFFSET(K53,-COUNTIF(Worksheet!$AM$1:$AM$98,Worksheet!$AM48)+1,0,COUNTIF(Worksheet!$AM$1:$AM$98,Worksheet!$AM48)-1)),SUMIFS(Worksheet!$X$2:$X$100,Worksheet!$Z$2:$Z$100,CONCATENATE(Worksheet!$AN48,$B53,K$7)))))","v":""},{"$f":"IF(Worksheet!$AN48=\"\",\"\",IF(Worksheet!$AN48=\"Overall Total\",SUMIFS(Worksheet!$X$2:$X$100,Worksheet!$W$2:$W$100,L$7),IF(RIGHT(Worksheet!$AN48,5)=\"Total\",SUM(OFFSET(L53,-COUNTIF(Worksheet!$AM$1:$AM$98,Worksheet!$AM48)+1,0,COUNTIF(Worksheet!$AM$1:$AM$98,Worksheet!$AM48)-1)),SUMIFS(Worksheet!$X$2:$X$100,Worksheet!$Z$2:$Z$100,CONCATENATE(Worksheet!$AN48,$B53,L$7)))))","v":""},{"$f":"IF(Worksheet!$AN48=\"\",\"\",IF(Worksheet!$AN48=\"Overall Total\",SUMIFS(Worksheet!$X$2:$X$100,Worksheet!$W$2:$W$100,M$7),IF(RIGHT(Worksheet!$AN48,5)=\"Total\",SUM(OFFSET(M53,-COUNTIF(Worksheet!$AM$1:$AM$98,Worksheet!$AM48)+1,0,COUNTIF(Worksheet!$AM$1:$AM$98,Worksheet!$AM48)-1)),SUMIFS(Worksheet!$X$2:$X$100,Worksheet!$Z$2:$Z$100,CONCATENATE(Worksheet!$AN48,$B53,M$7)))))","v":""},{"$f":"IF(Worksheet!$AN48=\"\",\"\",IF(Worksheet!$AN48=\"Overall Total\",$N$1,IF(RIGHT(Worksheet!$AN48,5)=\"Total\",SUM(OFFSET(N53,-COUNTIF(Worksheet!$AM$1:$AM$98,Worksheet!$AM48)+1,0,COUNTIF(Worksheet!$AM$1:$AM$98,Worksheet!$AM48)-1)),SUM(D53:M53))))","v":""}]
[{"$f":"IF(Worksheet!AN49=Worksheet!AN48,\"\",Worksheet!AN49)","v":""},{"$f":"IF(OR(Worksheet!AL49=\"\",Worksheet!AN48=\"\"),\"\",IF(RIGHT(Worksheet!AN49,5)=\"Total\",\"\",OFFSET(Worksheet!$AE$1,Worksheet!AL49,0)))","v":""},null,{"$f":"IF(Worksheet!$AN49=\"\",\"\",IF(Worksheet!$AN49=\"Overall Total\",SUMIFS(Worksheet!$X$2:$X$100,Worksheet!$W$2:$W$100,D$7),IF(RIGHT(Worksheet!$AN49,5)=\"Total\",SUM(OFFSET(D54,-COUNTIF(Worksheet!$AM$1:$AM$98,Worksheet!$AM49)+1,0,COUNTIF(Worksheet!$AM$1:$AM$98,Worksheet!$AM49)-1)),SUMIFS(Worksheet!$X$2:$X$100,Worksheet!$Z$2:$Z$100,CONCATENATE(Worksheet!$AN49,$B54,D$7)))))","v":""},{"$f":"IF(Worksheet!$AN49=\"\",\"\",IF(Worksheet!$AN49=\"Overall Total\",SUMIFS(Worksheet!$X$2:$X$100,Worksheet!$W$2:$W$100,E$7),IF(RIGHT(Worksheet!$AN49,5)=\"Total\",SUM(OFFSET(E54,-COUNTIF(Worksheet!$AM$1:$AM$98,Worksheet!$AM49)+1,0,COUNTIF(Worksheet!$AM$1:$AM$98,Worksheet!$AM49)-1)),SUMIFS(Worksheet!$X$2:$X$100,Worksheet!$Z$2:$Z$100,CONCATENATE(Worksheet!$AN49,$B54,E$7)))))","v":""},{"$f":"IF(Worksheet!$AN49=\"\",\"\",IF(Worksheet!$AN49=\"Overall Total\",SUMIFS(Worksheet!$X$2:$X$100,Worksheet!$W$2:$W$100,F$7),IF(RIGHT(Worksheet!$AN49,5)=\"Total\",SUM(OFFSET(F54,-COUNTIF(Worksheet!$AM$1:$AM$98,Worksheet!$AM49)+1,0,COUNTIF(Worksheet!$AM$1:$AM$98,Worksheet!$AM49)-1)),SUMIFS(Worksheet!$X$2:$X$100,Worksheet!$Z$2:$Z$100,CONCATENATE(Worksheet!$AN49,$B54,F$7)))))","v":""},{"$f":"IF(Worksheet!$AN49=\"\",\"\",IF(Worksheet!$AN49=\"Overall Total\",SUMIFS(Worksheet!$X$2:$X$100,Worksheet!$W$2:$W$100,G$7),IF(RIGHT(Worksheet!$AN49,5)=\"Total\",SUM(OFFSET(G54,-COUNTIF(Worksheet!$AM$1:$AM$98,Worksheet!$AM49)+1,0,COUNTIF(Worksheet!$AM$1:$AM$98,Worksheet!$AM49)-1)),SUMIFS(Worksheet!$X$2:$X$100,Worksheet!$Z$2:$Z$100,CONCATENATE(Worksheet!$AN49,$B54,G$7)))))","v":""},{"$f":"IF(Worksheet!$AN49=\"\",\"\",IF(Worksheet!$AN49=\"Overall Total\",SUMIFS(Worksheet!$X$2:$X$100,Worksheet!$W$2:$W$100,H$7),IF(RIGHT(Worksheet!$AN49,5)=\"Total\",SUM(OFFSET(H54,-COUNTIF(Worksheet!$AM$1:$AM$98,Worksheet!$AM49)+1,0,COUNTIF(Worksheet!$AM$1:$AM$98,Worksheet!$AM49)-1)),SUMIFS(Worksheet!$X$2:$X$100,Worksheet!$Z$2:$Z$100,CONCATENATE(Worksheet!$AN49,$B54,H$7)))))","v":""},{"$f":"IF(Worksheet!$AN49=\"\",\"\",IF(Worksheet!$AN49=\"Overall Total\",SUMIFS(Worksheet!$X$2:$X$100,Worksheet!$W$2:$W$100,I$7),IF(RIGHT(Worksheet!$AN49,5)=\"Total\",SUM(OFFSET(I54,-COUNTIF(Worksheet!$AM$1:$AM$98,Worksheet!$AM49)+1,0,COUNTIF(Worksheet!$AM$1:$AM$98,Worksheet!$AM49)-1)),SUMIFS(Worksheet!$X$2:$X$100,Worksheet!$Z$2:$Z$100,CONCATENATE(Worksheet!$AN49,$B54,I$7)))))","v":""},{"$f":"IF(Worksheet!$AN49=\"\",\"\",IF(Worksheet!$AN49=\"Overall Total\",SUMIFS(Worksheet!$X$2:$X$100,Worksheet!$W$2:$W$100,J$7),IF(RIGHT(Worksheet!$AN49,5)=\"Total\",SUM(OFFSET(J54,-COUNTIF(Worksheet!$AM$1:$AM$98,Worksheet!$AM49)+1,0,COUNTIF(Worksheet!$AM$1:$AM$98,Worksheet!$AM49)-1)),SUMIFS(Worksheet!$X$2:$X$100,Worksheet!$Z$2:$Z$100,CONCATENATE(Worksheet!$AN49,$B54,J$7)))))","v":""},{"$f":"IF(Worksheet!$AN49=\"\",\"\",IF(Worksheet!$AN49=\"Overall Total\",SUMIFS(Worksheet!$X$2:$X$100,Worksheet!$W$2:$W$100,K$7),IF(RIGHT(Worksheet!$AN49,5)=\"Total\",SUM(OFFSET(K54,-COUNTIF(Worksheet!$AM$1:$AM$98,Worksheet!$AM49)+1,0,COUNTIF(Worksheet!$AM$1:$AM$98,Worksheet!$AM49)-1)),SUMIFS(Worksheet!$X$2:$X$100,Worksheet!$Z$2:$Z$100,CONCATENATE(Worksheet!$AN49,$B54,K$7)))))","v":""},{"$f":"IF(Worksheet!$AN49=\"\",\"\",IF(Worksheet!$AN49=\"Overall Total\",SUMIFS(Worksheet!$X$2:$X$100,Worksheet!$W$2:$W$100,L$7),IF(RIGHT(Worksheet!$AN49,5)=\"Total\",SUM(OFFSET(L54,-COUNTIF(Worksheet!$AM$1:$AM$98,Worksheet!$AM49)+1,0,COUNTIF(Worksheet!$AM$1:$AM$98,Worksheet!$AM49)-1)),SUMIFS(Worksheet!$X$2:$X$100,Worksheet!$Z$2:$Z$100,CONCATENATE(Worksheet!$AN49,$B54,L$7)))))","v":""},{"$f":"IF(Worksheet!$AN49=\"\",\"\",IF(Worksheet!$AN49=\"Overall Total\",SUMIFS(Worksheet!$X$2:$X$100,Worksheet!$W$2:$W$100,M$7),IF(RIGHT(Worksheet!$AN49,5)=\"Total\",SUM(OFFSET(M54,-COUNTIF(Worksheet!$AM$1:$AM$98,Worksheet!$AM49)+1,0,COUNTIF(Worksheet!$AM$1:$AM$98,Worksheet!$AM49)-1)),SUMIFS(Worksheet!$X$2:$X$100,Worksheet!$Z$2:$Z$100,CONCATENATE(Worksheet!$AN49,$B54,M$7)))))","v":""},{"$f":"IF(Worksheet!$AN49=\"\",\"\",IF(Worksheet!$AN49=\"Overall Total\",$N$1,IF(RIGHT(Worksheet!$AN49,5)=\"Total\",SUM(OFFSET(N54,-COUNTIF(Worksheet!$AM$1:$AM$98,Worksheet!$AM49)+1,0,COUNTIF(Worksheet!$AM$1:$AM$98,Worksheet!$AM49)-1)),SUM(D54:M54))))","v":""}]
[{"$f":"IF(Worksheet!AN50=Worksheet!AN49,\"\",Worksheet!AN50)","v":""},{"$f":"IF(OR(Worksheet!AL50=\"\",Worksheet!AN49=\"\"),\"\",IF(RIGHT(Worksheet!AN50,5)=\"Total\",\"\",OFFSET(Worksheet!$AE$1,Worksheet!AL50,0)))","v":""},null,{"$f":"IF(Worksheet!$AN50=\"\",\"\",IF(Worksheet!$AN50=\"Overall Total\",SUMIFS(Worksheet!$X$2:$X$100,Worksheet!$W$2:$W$100,D$7),IF(RIGHT(Worksheet!$AN50,5)=\"Total\",SUM(OFFSET(D55,-COUNTIF(Worksheet!$AM$1:$AM$98,Worksheet!$AM50)+1,0,COUNTIF(Worksheet!$AM$1:$AM$98,Worksheet!$AM50)-1)),SUMIFS(Worksheet!$X$2:$X$100,Worksheet!$Z$2:$Z$100,CONCATENATE(Worksheet!$AN50,$B55,D$7)))))","v":""},{"$f":"IF(Worksheet!$AN50=\"\",\"\",IF(Worksheet!$AN50=\"Overall Total\",SUMIFS(Worksheet!$X$2:$X$100,Worksheet!$W$2:$W$100,E$7),IF(RIGHT(Worksheet!$AN50,5)=\"Total\",SUM(OFFSET(E55,-COUNTIF(Worksheet!$AM$1:$AM$98,Worksheet!$AM50)+1,0,COUNTIF(Worksheet!$AM$1:$AM$98,Worksheet!$AM50)-1)),SUMIFS(Worksheet!$X$2:$X$100,Worksheet!$Z$2:$Z$100,CONCATENATE(Worksheet!$AN50,$B55,E$7)))))","v":""},{"$f":"IF(Worksheet!$AN50=\"\",\"\",IF(Worksheet!$AN50=\"Overall Total\",SUMIFS(Worksheet!$X$2:$X$100,Worksheet!$W$2:$W$100,F$7),IF(RIGHT(Worksheet!$AN50,5)=\"Total\",SUM(OFFSET(F55,-COUNTIF(Worksheet!$AM$1:$AM$98,Worksheet!$AM50)+1,0,COUNTIF(Worksheet!$AM$1:$AM$98,Worksheet!$AM50)-1)),SUMIFS(Worksheet!$X$2:$X$100,Worksheet!$Z$2:$Z$100,CONCATENATE(Worksheet!$AN50,$B55,F$7)))))","v":""},{"$f":"IF(Worksheet!$AN50=\"\",\"\",IF(Worksheet!$AN50=\"Overall Total\",SUMIFS(Worksheet!$X$2:$X$100,Worksheet!$W$2:$W$100,G$7),IF(RIGHT(Worksheet!$AN50,5)=\"Total\",SUM(OFFSET(G55,-COUNTIF(Worksheet!$AM$1:$AM$98,Worksheet!$AM50)+1,0,COUNTIF(Worksheet!$AM$1:$AM$98,Worksheet!$AM50)-1)),SUMIFS(Worksheet!$X$2:$X$100,Worksheet!$Z$2:$Z$100,CONCATENATE(Worksheet!$AN50,$B55,G$7)))))","v":""},{"$f":"IF(Worksheet!$AN50=\"\",\"\",IF(Worksheet!$AN50=\"Overall Total\",SUMIFS(Worksheet!$X$2:$X$100,Worksheet!$W$2:$W$100,H$7),IF(RIGHT(Worksheet!$AN50,5)=\"Total\",SUM(OFFSET(H55,-COUNTIF(Worksheet!$AM$1:$AM$98,Worksheet!$AM50)+1,0,COUNTIF(Worksheet!$AM$1:$AM$98,Worksheet!$AM50)-1)),SUMIFS(Worksheet!$X$2:$X$100,Worksheet!$Z$2:$Z$100,CONCATENATE(Worksheet!$AN50,$B55,H$7)))))","v":""},{"$f":"IF(Worksheet!$AN50=\"\",\"\",IF(Worksheet!$AN50=\"Overall Total\",SUMIFS(Worksheet!$X$2:$X$100,Worksheet!$W$2:$W$100,I$7),IF(RIGHT(Worksheet!$AN50,5)=\"Total\",SUM(OFFSET(I55,-COUNTIF(Worksheet!$AM$1:$AM$98,Worksheet!$AM50)+1,0,COUNTIF(Worksheet!$AM$1:$AM$98,Worksheet!$AM50)-1)),SUMIFS(Worksheet!$X$2:$X$100,Worksheet!$Z$2:$Z$100,CONCATENATE(Worksheet!$AN50,$B55,I$7)))))","v":""},{"$f":"IF(Worksheet!$AN50=\"\",\"\",IF(Worksheet!$AN50=\"Overall Total\",SUMIFS(Worksheet!$X$2:$X$100,Worksheet!$W$2:$W$100,J$7),IF(RIGHT(Worksheet!$AN50,5)=\"Total\",SUM(OFFSET(J55,-COUNTIF(Worksheet!$AM$1:$AM$98,Worksheet!$AM50)+1,0,COUNTIF(Worksheet!$AM$1:$AM$98,Worksheet!$AM50)-1)),SUMIFS(Worksheet!$X$2:$X$100,Worksheet!$Z$2:$Z$100,CONCATENATE(Worksheet!$AN50,$B55,J$7)))))","v":""},{"$f":"IF(Worksheet!$AN50=\"\",\"\",IF(Worksheet!$AN50=\"Overall Total\",SUMIFS(Worksheet!$X$2:$X$100,Worksheet!$W$2:$W$100,K$7),IF(RIGHT(Worksheet!$AN50,5)=\"Total\",SUM(OFFSET(K55,-COUNTIF(Worksheet!$AM$1:$AM$98,Worksheet!$AM50)+1,0,COUNTIF(Worksheet!$AM$1:$AM$98,Worksheet!$AM50)-1)),SUMIFS(Worksheet!$X$2:$X$100,Worksheet!$Z$2:$Z$100,CONCATENATE(Worksheet!$AN50,$B55,K$7)))))","v":""},{"$f":"IF(Worksheet!$AN50=\"\",\"\",IF(Worksheet!$AN50=\"Overall Total\",SUMIFS(Worksheet!$X$2:$X$100,Worksheet!$W$2:$W$100,L$7),IF(RIGHT(Worksheet!$AN50,5)=\"Total\",SUM(OFFSET(L55,-COUNTIF(Worksheet!$AM$1:$AM$98,Worksheet!$AM50)+1,0,COUNTIF(Worksheet!$AM$1:$AM$98,Worksheet!$AM50)-1)),SUMIFS(Worksheet!$X$2:$X$100,Worksheet!$Z$2:$Z$100,CONCATENATE(Worksheet!$AN50,$B55,L$7)))))","v":""},{"$f":"IF(Worksheet!$AN50=\"\",\"\",IF(Worksheet!$AN50=\"Overall Total\",SUMIFS(Worksheet!$X$2:$X$100,Worksheet!$W$2:$W$100,M$7),IF(RIGHT(Worksheet!$AN50,5)=\"Total\",SUM(OFFSET(M55,-COUNTIF(Worksheet!$AM$1:$AM$98,Worksheet!$AM50)+1,0,COUNTIF(Worksheet!$AM$1:$AM$98,Worksheet!$AM50)-1)),SUMIFS(Worksheet!$X$2:$X$100,Worksheet!$Z$2:$Z$100,CONCATENATE(Worksheet!$AN50,$B55,M$7)))))","v":""},{"$f":"IF(Worksheet!$AN50=\"\",\"\",IF(Worksheet!$AN50=\"Overall Total\",$N$1,IF(RIGHT(Worksheet!$AN50,5)=\"Total\",SUM(OFFSET(N55,-COUNTIF(Worksheet!$AM$1:$AM$98,Worksheet!$AM50)+1,0,COUNTIF(Worksheet!$AM$1:$AM$98,Worksheet!$AM50)-1)),SUM(D55:M55))))","v":""}]
[{"$f":"IF(Worksheet!AN51=Worksheet!AN50,\"\",Worksheet!AN51)","v":""},{"$f":"IF(OR(Worksheet!AL51=\"\",Worksheet!AN50=\"\"),\"\",IF(RIGHT(Worksheet!AN51,5)=\"Total\",\"\",OFFSET(Worksheet!$AE$1,Worksheet!AL51,0)))","v":""},null,{"$f":"IF(Worksheet!$AN51=\"\",\"\",IF(Worksheet!$AN51=\"Overall Total\",SUMIFS(Worksheet!$X$2:$X$100,Worksheet!$W$2:$W$100,D$7),IF(RIGHT(Worksheet!$AN51,5)=\"Total\",SUM(OFFSET(D56,-COUNTIF(Worksheet!$AM$1:$AM$98,Worksheet!$AM51)+1,0,COUNTIF(Worksheet!$AM$1:$AM$98,Worksheet!$AM51)-1)),SUMIFS(Worksheet!$X$2:$X$100,Worksheet!$Z$2:$Z$100,CONCATENATE(Worksheet!$AN51,$B56,D$7)))))","v":""},{"$f":"IF(Worksheet!$AN51=\"\",\"\",IF(Worksheet!$AN51=\"Overall Total\",SUMIFS(Worksheet!$X$2:$X$100,Worksheet!$W$2:$W$100,E$7),IF(RIGHT(Worksheet!$AN51,5)=\"Total\",SUM(OFFSET(E56,-COUNTIF(Worksheet!$AM$1:$AM$98,Worksheet!$AM51)+1,0,COUNTIF(Worksheet!$AM$1:$AM$98,Worksheet!$AM51)-1)),SUMIFS(Worksheet!$X$2:$X$100,Worksheet!$Z$2:$Z$100,CONCATENATE(Worksheet!$AN51,$B56,E$7)))))","v":""},{"$f":"IF(Worksheet!$AN51=\"\",\"\",IF(Worksheet!$AN51=\"Overall Total\",SUMIFS(Worksheet!$X$2:$X$100,Worksheet!$W$2:$W$100,F$7),IF(RIGHT(Worksheet!$AN51,5)=\"Total\",SUM(OFFSET(F56,-COUNTIF(Worksheet!$AM$1:$AM$98,Worksheet!$AM51)+1,0,COUNTIF(Worksheet!$AM$1:$AM$98,Worksheet!$AM51)-1)),SUMIFS(Worksheet!$X$2:$X$100,Worksheet!$Z$2:$Z$100,CONCATENATE(Worksheet!$AN51,$B56,F$7)))))","v":""},{"$f":"IF(Worksheet!$AN51=\"\",\"\",IF(Worksheet!$AN51=\"Overall Total\",SUMIFS(Worksheet!$X$2:$X$100,Worksheet!$W$2:$W$100,G$7),IF(RIGHT(Worksheet!$AN51,5)=\"Total\",SUM(OFFSET(G56,-COUNTIF(Worksheet!$AM$1:$AM$98,Worksheet!$AM51)+1,0,COUNTIF(Worksheet!$AM$1:$AM$98,Worksheet!$AM51)-1)),SUMIFS(Worksheet!$X$2:$X$100,Worksheet!$Z$2:$Z$100,CONCATENATE(Worksheet!$AN51,$B56,G$7)))))","v":""},{"$f":"IF(Worksheet!$AN51=\"\",\"\",IF(Worksheet!$AN51=\"Overall Total\",SUMIFS(Worksheet!$X$2:$X$100,Worksheet!$W$2:$W$100,H$7),IF(RIGHT(Worksheet!$AN51,5)=\"Total\",SUM(OFFSET(H56,-COUNTIF(Worksheet!$AM$1:$AM$98,Worksheet!$AM51)+1,0,COUNTIF(Worksheet!$AM$1:$AM$98,Worksheet!$AM51)-1)),SUMIFS(Worksheet!$X$2:$X$100,Worksheet!$Z$2:$Z$100,CONCATENATE(Worksheet!$AN51,$B56,H$7)))))","v":""},{"$f":"IF(Worksheet!$AN51=\"\",\"\",IF(Worksheet!$AN51=\"Overall Total\",SUMIFS(Worksheet!$X$2:$X$100,Worksheet!$W$2:$W$100,I$7),IF(RIGHT(Worksheet!$AN51,5)=\"Total\",SUM(OFFSET(I56,-COUNTIF(Worksheet!$AM$1:$AM$98,Worksheet!$AM51)+1,0,COUNTIF(Worksheet!$AM$1:$AM$98,Worksheet!$AM51)-1)),SUMIFS(Worksheet!$X$2:$X$100,Worksheet!$Z$2:$Z$100,CONCATENATE(Worksheet!$AN51,$B56,I$7)))))","v":""},{"$f":"IF(Worksheet!$AN51=\"\",\"\",IF(Worksheet!$AN51=\"Overall Total\",SUMIFS(Worksheet!$X$2:$X$100,Worksheet!$W$2:$W$100,J$7),IF(RIGHT(Worksheet!$AN51,5)=\"Total\",SUM(OFFSET(J56,-COUNTIF(Worksheet!$AM$1:$AM$98,Worksheet!$AM51)+1,0,COUNTIF(Worksheet!$AM$1:$AM$98,Worksheet!$AM51)-1)),SUMIFS(Worksheet!$X$2:$X$100,Worksheet!$Z$2:$Z$100,CONCATENATE(Worksheet!$AN51,$B56,J$7)))))","v":""},{"$f":"IF(Worksheet!$AN51=\"\",\"\",IF(Worksheet!$AN51=\"Overall Total\",SUMIFS(Worksheet!$X$2:$X$100,Worksheet!$W$2:$W$100,K$7),IF(RIGHT(Worksheet!$AN51,5)=\"Total\",SUM(OFFSET(K56,-COUNTIF(Worksheet!$AM$1:$AM$98,Worksheet!$AM51)+1,0,COUNTIF(Worksheet!$AM$1:$AM$98,Worksheet!$AM51)-1)),SUMIFS(Worksheet!$X$2:$X$100,Worksheet!$Z$2:$Z$100,CONCATENATE(Worksheet!$AN51,$B56,K$7)))))","v":""},{"$f":"IF(Worksheet!$AN51=\"\",\"\",IF(Worksheet!$AN51=\"Overall Total\",SUMIFS(Worksheet!$X$2:$X$100,Worksheet!$W$2:$W$100,L$7),IF(RIGHT(Worksheet!$AN51,5)=\"Total\",SUM(OFFSET(L56,-COUNTIF(Worksheet!$AM$1:$AM$98,Worksheet!$AM51)+1,0,COUNTIF(Worksheet!$AM$1:$AM$98,Worksheet!$AM51)-1)),SUMIFS(Worksheet!$X$2:$X$100,Worksheet!$Z$2:$Z$100,CONCATENATE(Worksheet!$AN51,$B56,L$7)))))","v":""},{"$f":"IF(Worksheet!$AN51=\"\",\"\",IF(Worksheet!$AN51=\"Overall Total\",SUMIFS(Worksheet!$X$2:$X$100,Worksheet!$W$2:$W$100,M$7),IF(RIGHT(Worksheet!$AN51,5)=\"Total\",SUM(OFFSET(M56,-COUNTIF(Worksheet!$AM$1:$AM$98,Worksheet!$AM51)+1,0,COUNTIF(Worksheet!$AM$1:$AM$98,Worksheet!$AM51)-1)),SUMIFS(Worksheet!$X$2:$X$100,Worksheet!$Z$2:$Z$100,CONCATENATE(Worksheet!$AN51,$B56,M$7)))))","v":""},{"$f":"IF(Worksheet!$AN51=\"\",\"\",IF(Worksheet!$AN51=\"Overall Total\",$N$1,IF(RIGHT(Worksheet!$AN51,5)=\"Total\",SUM(OFFSET(N56,-COUNTIF(Worksheet!$AM$1:$AM$98,Worksheet!$AM51)+1,0,COUNTIF(Worksheet!$AM$1:$AM$98,Worksheet!$AM51)-1)),SUM(D56:M56))))","v":""}]
[{"$f":"IF(Worksheet!AN52=Worksheet!AN51,\"\",Worksheet!AN52)","v":""},{"$f":"IF(OR(Worksheet!AL52=\"\",Worksheet!AN51=\"\"),\"\",IF(RIGHT(Worksheet!AN52,5)=\"Total\",\"\",OFFSET(Worksheet!$AE$1,Worksheet!AL52,0)))","v":""},null,{"$f":"IF(Worksheet!$AN52=\"\",\"\",IF(Worksheet!$AN52=\"Overall Total\",SUMIFS(Worksheet!$X$2:$X$100,Worksheet!$W$2:$W$100,D$7),IF(RIGHT(Worksheet!$AN52,5)=\"Total\",SUM(OFFSET(D57,-COUNTIF(Worksheet!$AM$1:$AM$98,Worksheet!$AM52)+1,0,COUNTIF(Worksheet!$AM$1:$AM$98,Worksheet!$AM52)-1)),SUMIFS(Worksheet!$X$2:$X$100,Worksheet!$Z$2:$Z$100,CONCATENATE(Worksheet!$AN52,$B57,D$7)))))","v":""},{"$f":"IF(Worksheet!$AN52=\"\",\"\",IF(Worksheet!$AN52=\"Overall Total\",SUMIFS(Worksheet!$X$2:$X$100,Worksheet!$W$2:$W$100,E$7),IF(RIGHT(Worksheet!$AN52,5)=\"Total\",SUM(OFFSET(E57,-COUNTIF(Worksheet!$AM$1:$AM$98,Worksheet!$AM52)+1,0,COUNTIF(Worksheet!$AM$1:$AM$98,Worksheet!$AM52)-1)),SUMIFS(Worksheet!$X$2:$X$100,Worksheet!$Z$2:$Z$100,CONCATENATE(Worksheet!$AN52,$B57,E$7)))))","v":""},{"$f":"IF(Worksheet!$AN52=\"\",\"\",IF(Worksheet!$AN52=\"Overall Total\",SUMIFS(Worksheet!$X$2:$X$100,Worksheet!$W$2:$W$100,F$7),IF(RIGHT(Worksheet!$AN52,5)=\"Total\",SUM(OFFSET(F57,-COUNTIF(Worksheet!$AM$1:$AM$98,Worksheet!$AM52)+1,0,COUNTIF(Worksheet!$AM$1:$AM$98,Worksheet!$AM52)-1)),SUMIFS(Worksheet!$X$2:$X$100,Worksheet!$Z$2:$Z$100,CONCATENATE(Worksheet!$AN52,$B57,F$7)))))","v":""},{"$f":"IF(Worksheet!$AN52=\"\",\"\",IF(Worksheet!$AN52=\"Overall Total\",SUMIFS(Worksheet!$X$2:$X$100,Worksheet!$W$2:$W$100,G$7),IF(RIGHT(Worksheet!$AN52,5)=\"Total\",SUM(OFFSET(G57,-COUNTIF(Worksheet!$AM$1:$AM$98,Worksheet!$AM52)+1,0,COUNTIF(Worksheet!$AM$1:$AM$98,Worksheet!$AM52)-1)),SUMIFS(Worksheet!$X$2:$X$100,Worksheet!$Z$2:$Z$100,CONCATENATE(Worksheet!$AN52,$B57,G$7)))))","v":""},{"$f":"IF(Worksheet!$AN52=\"\",\"\",IF(Worksheet!$AN52=\"Overall Total\",SUMIFS(Worksheet!$X$2:$X$100,Worksheet!$W$2:$W$100,H$7),IF(RIGHT(Worksheet!$AN52,5)=\"Total\",SUM(OFFSET(H57,-COUNTIF(Worksheet!$AM$1:$AM$98,Worksheet!$AM52)+1,0,COUNTIF(Worksheet!$AM$1:$AM$98,Worksheet!$AM52)-1)),SUMIFS(Worksheet!$X$2:$X$100,Worksheet!$Z$2:$Z$100,CONCATENATE(Worksheet!$AN52,$B57,H$7)))))","v":""},{"$f":"IF(Worksheet!$AN52=\"\",\"\",IF(Worksheet!$AN52=\"Overall Total\",SUMIFS(Worksheet!$X$2:$X$100,Worksheet!$W$2:$W$100,I$7),IF(RIGHT(Worksheet!$AN52,5)=\"Total\",SUM(OFFSET(I57,-COUNTIF(Worksheet!$AM$1:$AM$98,Worksheet!$AM52)+1,0,COUNTIF(Worksheet!$AM$1:$AM$98,Worksheet!$AM52)-1)),SUMIFS(Worksheet!$X$2:$X$100,Worksheet!$Z$2:$Z$100,CONCATENATE(Worksheet!$AN52,$B57,I$7)))))","v":""},{"$f":"IF(Worksheet!$AN52=\"\",\"\",IF(Worksheet!$AN52=\"Overall Total\",SUMIFS(Worksheet!$X$2:$X$100,Worksheet!$W$2:$W$100,J$7),IF(RIGHT(Worksheet!$AN52,5)=\"Total\",SUM(OFFSET(J57,-COUNTIF(Worksheet!$AM$1:$AM$98,Worksheet!$AM52)+1,0,COUNTIF(Worksheet!$AM$1:$AM$98,Worksheet!$AM52)-1)),SUMIFS(Worksheet!$X$2:$X$100,Worksheet!$Z$2:$Z$100,CONCATENATE(Worksheet!$AN52,$B57,J$7)))))","v":""},{"$f":"IF(Worksheet!$AN52=\"\",\"\",IF(Worksheet!$AN52=\"Overall Total\",SUMIFS(Worksheet!$X$2:$X$100,Worksheet!$W$2:$W$100,K$7),IF(RIGHT(Worksheet!$AN52,5)=\"Total\",SUM(OFFSET(K57,-COUNTIF(Worksheet!$AM$1:$AM$98,Worksheet!$AM52)+1,0,COUNTIF(Worksheet!$AM$1:$AM$98,Worksheet!$AM52)-1)),SUMIFS(Worksheet!$X$2:$X$100,Worksheet!$Z$2:$Z$100,CONCATENATE(Worksheet!$AN52,$B57,K$7)))))","v":""},{"$f":"IF(Worksheet!$AN52=\"\",\"\",IF(Worksheet!$AN52=\"Overall Total\",SUMIFS(Worksheet!$X$2:$X$100,Worksheet!$W$2:$W$100,L$7),IF(RIGHT(Worksheet!$AN52,5)=\"Total\",SUM(OFFSET(L57,-COUNTIF(Worksheet!$AM$1:$AM$98,Worksheet!$AM52)+1,0,COUNTIF(Worksheet!$AM$1:$AM$98,Worksheet!$AM52)-1)),SUMIFS(Worksheet!$X$2:$X$100,Worksheet!$Z$2:$Z$100,CONCATENATE(Worksheet!$AN52,$B57,L$7)))))","v":""},{"$f":"IF(Worksheet!$AN52=\"\",\"\",IF(Worksheet!$AN52=\"Overall Total\",SUMIFS(Worksheet!$X$2:$X$100,Worksheet!$W$2:$W$100,M$7),IF(RIGHT(Worksheet!$AN52,5)=\"Total\",SUM(OFFSET(M57,-COUNTIF(Worksheet!$AM$1:$AM$98,Worksheet!$AM52)+1,0,COUNTIF(Worksheet!$AM$1:$AM$98,Worksheet!$AM52)-1)),SUMIFS(Worksheet!$X$2:$X$100,Worksheet!$Z$2:$Z$100,CONCATENATE(Worksheet!$AN52,$B57,M$7)))))","v":""},{"$f":"IF(Worksheet!$AN52=\"\",\"\",IF(Worksheet!$AN52=\"Overall Total\",$N$1,IF(RIGHT(Worksheet!$AN52,5)=\"Total\",SUM(OFFSET(N57,-COUNTIF(Worksheet!$AM$1:$AM$98,Worksheet!$AM52)+1,0,COUNTIF(Worksheet!$AM$1:$AM$98,Worksheet!$AM52)-1)),SUM(D57:M57))))","v":""}]
[{"$f":"IF(Worksheet!AN53=Worksheet!AN52,\"\",Worksheet!AN53)","v":""},{"$f":"IF(OR(Worksheet!AL53=\"\",Worksheet!AN52=\"\"),\"\",IF(RIGHT(Worksheet!AN53,5)=\"Total\",\"\",OFFSET(Worksheet!$AE$1,Worksheet!AL53,0)))","v":""},null,{"$f":"IF(Worksheet!$AN53=\"\",\"\",IF(Worksheet!$AN53=\"Overall Total\",SUMIFS(Worksheet!$X$2:$X$100,Worksheet!$W$2:$W$100,D$7),IF(RIGHT(Worksheet!$AN53,5)=\"Total\",SUM(OFFSET(D58,-COUNTIF(Worksheet!$AM$1:$AM$98,Worksheet!$AM53)+1,0,COUNTIF(Worksheet!$AM$1:$AM$98,Worksheet!$AM53)-1)),SUMIFS(Worksheet!$X$2:$X$100,Worksheet!$Z$2:$Z$100,CONCATENATE(Worksheet!$AN53,$B58,D$7)))))","v":""},{"$f":"IF(Worksheet!$AN53=\"\",\"\",IF(Worksheet!$AN53=\"Overall Total\",SUMIFS(Worksheet!$X$2:$X$100,Worksheet!$W$2:$W$100,E$7),IF(RIGHT(Worksheet!$AN53,5)=\"Total\",SUM(OFFSET(E58,-COUNTIF(Worksheet!$AM$1:$AM$98,Worksheet!$AM53)+1,0,COUNTIF(Worksheet!$AM$1:$AM$98,Worksheet!$AM53)-1)),SUMIFS(Worksheet!$X$2:$X$100,Worksheet!$Z$2:$Z$100,CONCATENATE(Worksheet!$AN53,$B58,E$7)))))","v":""},{"$f":"IF(Worksheet!$AN53=\"\",\"\",IF(Worksheet!$AN53=\"Overall Total\",SUMIFS(Worksheet!$X$2:$X$100,Worksheet!$W$2:$W$100,F$7),IF(RIGHT(Worksheet!$AN53,5)=\"Total\",SUM(OFFSET(F58,-COUNTIF(Worksheet!$AM$1:$AM$98,Worksheet!$AM53)+1,0,COUNTIF(Worksheet!$AM$1:$AM$98,Worksheet!$AM53)-1)),SUMIFS(Worksheet!$X$2:$X$100,Worksheet!$Z$2:$Z$100,CONCATENATE(Worksheet!$AN53,$B58,F$7)))))","v":""},{"$f":"IF(Worksheet!$AN53=\"\",\"\",IF(Worksheet!$AN53=\"Overall Total\",SUMIFS(Worksheet!$X$2:$X$100,Worksheet!$W$2:$W$100,G$7),IF(RIGHT(Worksheet!$AN53,5)=\"Total\",SUM(OFFSET(G58,-COUNTIF(Worksheet!$AM$1:$AM$98,Worksheet!$AM53)+1,0,COUNTIF(Worksheet!$AM$1:$AM$98,Worksheet!$AM53)-1)),SUMIFS(Worksheet!$X$2:$X$100,Worksheet!$Z$2:$Z$100,CONCATENATE(Worksheet!$AN53,$B58,G$7)))))","v":""},{"$f":"IF(Worksheet!$AN53=\"\",\"\",IF(Worksheet!$AN53=\"Overall Total\",SUMIFS(Worksheet!$X$2:$X$100,Worksheet!$W$2:$W$100,H$7),IF(RIGHT(Worksheet!$AN53,5)=\"Total\",SUM(OFFSET(H58,-COUNTIF(Worksheet!$AM$1:$AM$98,Worksheet!$AM53)+1,0,COUNTIF(Worksheet!$AM$1:$AM$98,Worksheet!$AM53)-1)),SUMIFS(Worksheet!$X$2:$X$100,Worksheet!$Z$2:$Z$100,CONCATENATE(Worksheet!$AN53,$B58,H$7)))))","v":""},{"$f":"IF(Worksheet!$AN53=\"\",\"\",IF(Worksheet!$AN53=\"Overall Total\",SUMIFS(Worksheet!$X$2:$X$100,Worksheet!$W$2:$W$100,I$7),IF(RIGHT(Worksheet!$AN53,5)=\"Total\",SUM(OFFSET(I58,-COUNTIF(Worksheet!$AM$1:$AM$98,Worksheet!$AM53)+1,0,COUNTIF(Worksheet!$AM$1:$AM$98,Worksheet!$AM53)-1)),SUMIFS(Worksheet!$X$2:$X$100,Worksheet!$Z$2:$Z$100,CONCATENATE(Worksheet!$AN53,$B58,I$7)))))","v":""},{"$f":"IF(Worksheet!$AN53=\"\",\"\",IF(Worksheet!$AN53=\"Overall Total\",SUMIFS(Worksheet!$X$2:$X$100,Worksheet!$W$2:$W$100,J$7),IF(RIGHT(Worksheet!$AN53,5)=\"Total\",SUM(OFFSET(J58,-COUNTIF(Worksheet!$AM$1:$AM$98,Worksheet!$AM53)+1,0,COUNTIF(Worksheet!$AM$1:$AM$98,Worksheet!$AM53)-1)),SUMIFS(Worksheet!$X$2:$X$100,Worksheet!$Z$2:$Z$100,CONCATENATE(Worksheet!$AN53,$B58,J$7)))))","v":""},{"$f":"IF(Worksheet!$AN53=\"\",\"\",IF(Worksheet!$AN53=\"Overall Total\",SUMIFS(Worksheet!$X$2:$X$100,Worksheet!$W$2:$W$100,K$7),IF(RIGHT(Worksheet!$AN53,5)=\"Total\",SUM(OFFSET(K58,-COUNTIF(Worksheet!$AM$1:$AM$98,Worksheet!$AM53)+1,0,COUNTIF(Worksheet!$AM$1:$AM$98,Worksheet!$AM53)-1)),SUMIFS(Worksheet!$X$2:$X$100,Worksheet!$Z$2:$Z$100,CONCATENATE(Worksheet!$AN53,$B58,K$7)))))","v":""},{"$f":"IF(Worksheet!$AN53=\"\",\"\",IF(Worksheet!$AN53=\"Overall Total\",SUMIFS(Worksheet!$X$2:$X$100,Worksheet!$W$2:$W$100,L$7),IF(RIGHT(Worksheet!$AN53,5)=\"Total\",SUM(OFFSET(L58,-COUNTIF(Worksheet!$AM$1:$AM$98,Worksheet!$AM53)+1,0,COUNTIF(Worksheet!$AM$1:$AM$98,Worksheet!$AM53)-1)),SUMIFS(Worksheet!$X$2:$X$100,Worksheet!$Z$2:$Z$100,CONCATENATE(Worksheet!$AN53,$B58,L$7)))))","v":""},{"$f":"IF(Worksheet!$AN53=\"\",\"\",IF(Worksheet!$AN53=\"Overall Total\",SUMIFS(Worksheet!$X$2:$X$100,Worksheet!$W$2:$W$100,M$7),IF(RIGHT(Worksheet!$AN53,5)=\"Total\",SUM(OFFSET(M58,-COUNTIF(Worksheet!$AM$1:$AM$98,Worksheet!$AM53)+1,0,COUNTIF(Worksheet!$AM$1:$AM$98,Worksheet!$AM53)-1)),SUMIFS(Worksheet!$X$2:$X$100,Worksheet!$Z$2:$Z$100,CONCATENATE(Worksheet!$AN53,$B58,M$7)))))","v":""},{"$f":"IF(Worksheet!$AN53=\"\",\"\",IF(Worksheet!$AN53=\"Overall Total\",$N$1,IF(RIGHT(Worksheet!$AN53,5)=\"Total\",SUM(OFFSET(N58,-COUNTIF(Worksheet!$AM$1:$AM$98,Worksheet!$AM53)+1,0,COUNTIF(Worksheet!$AM$1:$AM$98,Worksheet!$AM53)-1)),SUM(D58:M58))))","v":""}]
[{"$f":"IF(Worksheet!AN54=Worksheet!AN53,\"\",Worksheet!AN54)","v":""},{"$f":"IF(OR(Worksheet!AL54=\"\",Worksheet!AN53=\"\"),\"\",IF(RIGHT(Worksheet!AN54,5)=\"Total\",\"\",OFFSET(Worksheet!$AE$1,Worksheet!AL54,0)))","v":""},null,{"$f":"IF(Worksheet!$AN54=\"\",\"\",IF(Worksheet!$AN54=\"Overall Total\",SUMIFS(Worksheet!$X$2:$X$100,Worksheet!$W$2:$W$100,D$7),IF(RIGHT(Worksheet!$AN54,5)=\"Total\",SUM(OFFSET(D59,-COUNTIF(Worksheet!$AM$1:$AM$98,Worksheet!$AM54)+1,0,COUNTIF(Worksheet!$AM$1:$AM$98,Worksheet!$AM54)-1)),SUMIFS(Worksheet!$X$2:$X$100,Worksheet!$Z$2:$Z$100,CONCATENATE(Worksheet!$AN54,$B59,D$7)))))","v":""},{"$f":"IF(Worksheet!$AN54=\"\",\"\",IF(Worksheet!$AN54=\"Overall Total\",SUMIFS(Worksheet!$X$2:$X$100,Worksheet!$W$2:$W$100,E$7),IF(RIGHT(Worksheet!$AN54,5)=\"Total\",SUM(OFFSET(E59,-COUNTIF(Worksheet!$AM$1:$AM$98,Worksheet!$AM54)+1,0,COUNTIF(Worksheet!$AM$1:$AM$98,Worksheet!$AM54)-1)),SUMIFS(Worksheet!$X$2:$X$100,Worksheet!$Z$2:$Z$100,CONCATENATE(Worksheet!$AN54,$B59,E$7)))))","v":""},{"$f":"IF(Worksheet!$AN54=\"\",\"\",IF(Worksheet!$AN54=\"Overall Total\",SUMIFS(Worksheet!$X$2:$X$100,Worksheet!$W$2:$W$100,F$7),IF(RIGHT(Worksheet!$AN54,5)=\"Total\",SUM(OFFSET(F59,-COUNTIF(Worksheet!$AM$1:$AM$98,Worksheet!$AM54)+1,0,COUNTIF(Worksheet!$AM$1:$AM$98,Worksheet!$AM54)-1)),SUMIFS(Worksheet!$X$2:$X$100,Worksheet!$Z$2:$Z$100,CONCATENATE(Worksheet!$AN54,$B59,F$7)))))","v":""},{"$f":"IF(Worksheet!$AN54=\"\",\"\",IF(Worksheet!$AN54=\"Overall Total\",SUMIFS(Worksheet!$X$2:$X$100,Worksheet!$W$2:$W$100,G$7),IF(RIGHT(Worksheet!$AN54,5)=\"Total\",SUM(OFFSET(G59,-COUNTIF(Worksheet!$AM$1:$AM$98,Worksheet!$AM54)+1,0,COUNTIF(Worksheet!$AM$1:$AM$98,Worksheet!$AM54)-1)),SUMIFS(Worksheet!$X$2:$X$100,Worksheet!$Z$2:$Z$100,CONCATENATE(Worksheet!$AN54,$B59,G$7)))))","v":""},{"$f":"IF(Worksheet!$AN54=\"\",\"\",IF(Worksheet!$AN54=\"Overall Total\",SUMIFS(Worksheet!$X$2:$X$100,Worksheet!$W$2:$W$100,H$7),IF(RIGHT(Worksheet!$AN54,5)=\"Total\",SUM(OFFSET(H59,-COUNTIF(Worksheet!$AM$1:$AM$98,Worksheet!$AM54)+1,0,COUNTIF(Worksheet!$AM$1:$AM$98,Worksheet!$AM54)-1)),SUMIFS(Worksheet!$X$2:$X$100,Worksheet!$Z$2:$Z$100,CONCATENATE(Worksheet!$AN54,$B59,H$7)))))","v":""},{"$f":"IF(Worksheet!$AN54=\"\",\"\",IF(Worksheet!$AN54=\"Overall Total\",SUMIFS(Worksheet!$X$2:$X$100,Worksheet!$W$2:$W$100,I$7),IF(RIGHT(Worksheet!$AN54,5)=\"Total\",SUM(OFFSET(I59,-COUNTIF(Worksheet!$AM$1:$AM$98,Worksheet!$AM54)+1,0,COUNTIF(Worksheet!$AM$1:$AM$98,Worksheet!$AM54)-1)),SUMIFS(Worksheet!$X$2:$X$100,Worksheet!$Z$2:$Z$100,CONCATENATE(Worksheet!$AN54,$B59,I$7)))))","v":""},{"$f":"IF(Worksheet!$AN54=\"\",\"\",IF(Worksheet!$AN54=\"Overall Total\",SUMIFS(Worksheet!$X$2:$X$100,Worksheet!$W$2:$W$100,J$7),IF(RIGHT(Worksheet!$AN54,5)=\"Total\",SUM(OFFSET(J59,-COUNTIF(Worksheet!$AM$1:$AM$98,Worksheet!$AM54)+1,0,COUNTIF(Worksheet!$AM$1:$AM$98,Worksheet!$AM54)-1)),SUMIFS(Worksheet!$X$2:$X$100,Worksheet!$Z$2:$Z$100,CONCATENATE(Worksheet!$AN54,$B59,J$7)))))","v":""},{"$f":"IF(Worksheet!$AN54=\"\",\"\",IF(Worksheet!$AN54=\"Overall Total\",SUMIFS(Worksheet!$X$2:$X$100,Worksheet!$W$2:$W$100,K$7),IF(RIGHT(Worksheet!$AN54,5)=\"Total\",SUM(OFFSET(K59,-COUNTIF(Worksheet!$AM$1:$AM$98,Worksheet!$AM54)+1,0,COUNTIF(Worksheet!$AM$1:$AM$98,Worksheet!$AM54)-1)),SUMIFS(Worksheet!$X$2:$X$100,Worksheet!$Z$2:$Z$100,CONCATENATE(Worksheet!$AN54,$B59,K$7)))))","v":""},{"$f":"IF(Worksheet!$AN54=\"\",\"\",IF(Worksheet!$AN54=\"Overall Total\",SUMIFS(Worksheet!$X$2:$X$100,Worksheet!$W$2:$W$100,L$7),IF(RIGHT(Worksheet!$AN54,5)=\"Total\",SUM(OFFSET(L59,-COUNTIF(Worksheet!$AM$1:$AM$98,Worksheet!$AM54)+1,0,COUNTIF(Worksheet!$AM$1:$AM$98,Worksheet!$AM54)-1)),SUMIFS(Worksheet!$X$2:$X$100,Worksheet!$Z$2:$Z$100,CONCATENATE(Worksheet!$AN54,$B59,L$7)))))","v":""},{"$f":"IF(Worksheet!$AN54=\"\",\"\",IF(Worksheet!$AN54=\"Overall Total\",SUMIFS(Worksheet!$X$2:$X$100,Worksheet!$W$2:$W$100,M$7),IF(RIGHT(Worksheet!$AN54,5)=\"Total\",SUM(OFFSET(M59,-COUNTIF(Worksheet!$AM$1:$AM$98,Worksheet!$AM54)+1,0,COUNTIF(Worksheet!$AM$1:$AM$98,Worksheet!$AM54)-1)),SUMIFS(Worksheet!$X$2:$X$100,Worksheet!$Z$2:$Z$100,CONCATENATE(Worksheet!$AN54,$B59,M$7)))))","v":""},{"$f":"IF(Worksheet!$AN54=\"\",\"\",IF(Worksheet!$AN54=\"Overall Total\",$N$1,IF(RIGHT(Worksheet!$AN54,5)=\"Total\",SUM(OFFSET(N59,-COUNTIF(Worksheet!$AM$1:$AM$98,Worksheet!$AM54)+1,0,COUNTIF(Worksheet!$AM$1:$AM$98,Worksheet!$AM54)-1)),SUM(D59:M59))))","v":""}]
[{"$f":"IF(Worksheet!AN55=Worksheet!AN54,\"\",Worksheet!AN55)","v":""},{"$f":"IF(OR(Worksheet!AL55=\"\",Worksheet!AN54=\"\"),\"\",IF(RIGHT(Worksheet!AN55,5)=\"Total\",\"\",OFFSET(Worksheet!$AE$1,Worksheet!AL55,0)))","v":""},null,{"$f":"IF(Worksheet!$AN55=\"\",\"\",IF(Worksheet!$AN55=\"Overall Total\",SUMIFS(Worksheet!$X$2:$X$100,Worksheet!$W$2:$W$100,D$7),IF(RIGHT(Worksheet!$AN55,5)=\"Total\",SUM(OFFSET(D60,-COUNTIF(Worksheet!$AM$1:$AM$98,Worksheet!$AM55)+1,0,COUNTIF(Worksheet!$AM$1:$AM$98,Worksheet!$AM55)-1)),SUMIFS(Worksheet!$X$2:$X$100,Worksheet!$Z$2:$Z$100,CONCATENATE(Worksheet!$AN55,$B60,D$7)))))","v":""},{"$f":"IF(Worksheet!$AN55=\"\",\"\",IF(Worksheet!$AN55=\"Overall Total\",SUMIFS(Worksheet!$X$2:$X$100,Worksheet!$W$2:$W$100,E$7),IF(RIGHT(Worksheet!$AN55,5)=\"Total\",SUM(OFFSET(E60,-COUNTIF(Worksheet!$AM$1:$AM$98,Worksheet!$AM55)+1,0,COUNTIF(Worksheet!$AM$1:$AM$98,Worksheet!$AM55)-1)),SUMIFS(Worksheet!$X$2:$X$100,Worksheet!$Z$2:$Z$100,CONCATENATE(Worksheet!$AN55,$B60,E$7)))))","v":""},{"$f":"IF(Worksheet!$AN55=\"\",\"\",IF(Worksheet!$AN55=\"Overall Total\",SUMIFS(Worksheet!$X$2:$X$100,Worksheet!$W$2:$W$100,F$7),IF(RIGHT(Worksheet!$AN55,5)=\"Total\",SUM(OFFSET(F60,-COUNTIF(Worksheet!$AM$1:$AM$98,Worksheet!$AM55)+1,0,COUNTIF(Worksheet!$AM$1:$AM$98,Worksheet!$AM55)-1)),SUMIFS(Worksheet!$X$2:$X$100,Worksheet!$Z$2:$Z$100,CONCATENATE(Worksheet!$AN55,$B60,F$7)))))","v":""},{"$f":"IF(Worksheet!$AN55=\"\",\"\",IF(Worksheet!$AN55=\"Overall Total\",SUMIFS(Worksheet!$X$2:$X$100,Worksheet!$W$2:$W$100,G$7),IF(RIGHT(Worksheet!$AN55,5)=\"Total\",SUM(OFFSET(G60,-COUNTIF(Worksheet!$AM$1:$AM$98,Worksheet!$AM55)+1,0,COUNTIF(Worksheet!$AM$1:$AM$98,Worksheet!$AM55)-1)),SUMIFS(Worksheet!$X$2:$X$100,Worksheet!$Z$2:$Z$100,CONCATENATE(Worksheet!$AN55,$B60,G$7)))))","v":""},{"$f":"IF(Worksheet!$AN55=\"\",\"\",IF(Worksheet!$AN55=\"Overall Total\",SUMIFS(Worksheet!$X$2:$X$100,Worksheet!$W$2:$W$100,H$7),IF(RIGHT(Worksheet!$AN55,5)=\"Total\",SUM(OFFSET(H60,-COUNTIF(Worksheet!$AM$1:$AM$98,Worksheet!$AM55)+1,0,COUNTIF(Worksheet!$AM$1:$AM$98,Worksheet!$AM55)-1)),SUMIFS(Worksheet!$X$2:$X$100,Worksheet!$Z$2:$Z$100,CONCATENATE(Worksheet!$AN55,$B60,H$7)))))","v":""},{"$f":"IF(Worksheet!$AN55=\"\",\"\",IF(Worksheet!$AN55=\"Overall Total\",SUMIFS(Worksheet!$X$2:$X$100,Worksheet!$W$2:$W$100,I$7),IF(RIGHT(Worksheet!$AN55,5)=\"Total\",SUM(OFFSET(I60,-COUNTIF(Worksheet!$AM$1:$AM$98,Worksheet!$AM55)+1,0,COUNTIF(Worksheet!$AM$1:$AM$98,Worksheet!$AM55)-1)),SUMIFS(Worksheet!$X$2:$X$100,Worksheet!$Z$2:$Z$100,CONCATENATE(Worksheet!$AN55,$B60,I$7)))))","v":""},{"$f":"IF(Worksheet!$AN55=\"\",\"\",IF(Worksheet!$AN55=\"Overall Total\",SUMIFS(Worksheet!$X$2:$X$100,Worksheet!$W$2:$W$100,J$7),IF(RIGHT(Worksheet!$AN55,5)=\"Total\",SUM(OFFSET(J60,-COUNTIF(Worksheet!$AM$1:$AM$98,Worksheet!$AM55)+1,0,COUNTIF(Worksheet!$AM$1:$AM$98,Worksheet!$AM55)-1)),SUMIFS(Worksheet!$X$2:$X$100,Worksheet!$Z$2:$Z$100,CONCATENATE(Worksheet!$AN55,$B60,J$7)))))","v":""},{"$f":"IF(Worksheet!$AN55=\"\",\"\",IF(Worksheet!$AN55=\"Overall Total\",SUMIFS(Worksheet!$X$2:$X$100,Worksheet!$W$2:$W$100,K$7),IF(RIGHT(Worksheet!$AN55,5)=\"Total\",SUM(OFFSET(K60,-COUNTIF(Worksheet!$AM$1:$AM$98,Worksheet!$AM55)+1,0,COUNTIF(Worksheet!$AM$1:$AM$98,Worksheet!$AM55)-1)),SUMIFS(Worksheet!$X$2:$X$100,Worksheet!$Z$2:$Z$100,CONCATENATE(Worksheet!$AN55,$B60,K$7)))))","v":""},{"$f":"IF(Worksheet!$AN55=\"\",\"\",IF(Worksheet!$AN55=\"Overall Total\",SUMIFS(Worksheet!$X$2:$X$100,Worksheet!$W$2:$W$100,L$7),IF(RIGHT(Worksheet!$AN55,5)=\"Total\",SUM(OFFSET(L60,-COUNTIF(Worksheet!$AM$1:$AM$98,Worksheet!$AM55)+1,0,COUNTIF(Worksheet!$AM$1:$AM$98,Worksheet!$AM55)-1)),SUMIFS(Worksheet!$X$2:$X$100,Worksheet!$Z$2:$Z$100,CONCATENATE(Worksheet!$AN55,$B60,L$7)))))","v":""},{"$f":"IF(Worksheet!$AN55=\"\",\"\",IF(Worksheet!$AN55=\"Overall Total\",SUMIFS(Worksheet!$X$2:$X$100,Worksheet!$W$2:$W$100,M$7),IF(RIGHT(Worksheet!$AN55,5)=\"Total\",SUM(OFFSET(M60,-COUNTIF(Worksheet!$AM$1:$AM$98,Worksheet!$AM55)+1,0,COUNTIF(Worksheet!$AM$1:$AM$98,Worksheet!$AM55)-1)),SUMIFS(Worksheet!$X$2:$X$100,Worksheet!$Z$2:$Z$100,CONCATENATE(Worksheet!$AN55,$B60,M$7)))))","v":""},{"$f":"IF(Worksheet!$AN55=\"\",\"\",IF(Worksheet!$AN55=\"Overall Total\",$N$1,IF(RIGHT(Worksheet!$AN55,5)=\"Total\",SUM(OFFSET(N60,-COUNTIF(Worksheet!$AM$1:$AM$98,Worksheet!$AM55)+1,0,COUNTIF(Worksheet!$AM$1:$AM$98,Worksheet!$AM55)-1)),SUM(D60:M60))))","v":""}]
[{"$f":"IF(Worksheet!AN56=Worksheet!AN55,\"\",Worksheet!AN56)","v":""},{"$f":"IF(OR(Worksheet!AL56=\"\",Worksheet!AN55=\"\"),\"\",IF(RIGHT(Worksheet!AN56,5)=\"Total\",\"\",OFFSET(Worksheet!$AE$1,Worksheet!AL56,0)))","v":""},null,{"$f":"IF(Worksheet!$AN56=\"\",\"\",IF(Worksheet!$AN56=\"Overall Total\",SUMIFS(Worksheet!$X$2:$X$100,Worksheet!$W$2:$W$100,D$7),IF(RIGHT(Worksheet!$AN56,5)=\"Total\",SUM(OFFSET(D61,-COUNTIF(Worksheet!$AM$1:$AM$98,Worksheet!$AM56)+1,0,COUNTIF(Worksheet!$AM$1:$AM$98,Worksheet!$AM56)-1)),SUMIFS(Worksheet!$X$2:$X$100,Worksheet!$Z$2:$Z$100,CONCATENATE(Worksheet!$AN56,$B61,D$7)))))","v":""},{"$f":"IF(Worksheet!$AN56=\"\",\"\",IF(Worksheet!$AN56=\"Overall Total\",SUMIFS(Worksheet!$X$2:$X$100,Worksheet!$W$2:$W$100,E$7),IF(RIGHT(Worksheet!$AN56,5)=\"Total\",SUM(OFFSET(E61,-COUNTIF(Worksheet!$AM$1:$AM$98,Worksheet!$AM56)+1,0,COUNTIF(Worksheet!$AM$1:$AM$98,Worksheet!$AM56)-1)),SUMIFS(Worksheet!$X$2:$X$100,Worksheet!$Z$2:$Z$100,CONCATENATE(Worksheet!$AN56,$B61,E$7)))))","v":""},{"$f":"IF(Worksheet!$AN56=\"\",\"\",IF(Worksheet!$AN56=\"Overall Total\",SUMIFS(Worksheet!$X$2:$X$100,Worksheet!$W$2:$W$100,F$7),IF(RIGHT(Worksheet!$AN56,5)=\"Total\",SUM(OFFSET(F61,-COUNTIF(Worksheet!$AM$1:$AM$98,Worksheet!$AM56)+1,0,COUNTIF(Worksheet!$AM$1:$AM$98,Worksheet!$AM56)-1)),SUMIFS(Worksheet!$X$2:$X$100,Worksheet!$Z$2:$Z$100,CONCATENATE(Worksheet!$AN56,$B61,F$7)))))","v":""},{"$f":"IF(Worksheet!$AN56=\"\",\"\",IF(Worksheet!$AN56=\"Overall Total\",SUMIFS(Worksheet!$X$2:$X$100,Worksheet!$W$2:$W$100,G$7),IF(RIGHT(Worksheet!$AN56,5)=\"Total\",SUM(OFFSET(G61,-COUNTIF(Worksheet!$AM$1:$AM$98,Worksheet!$AM56)+1,0,COUNTIF(Worksheet!$AM$1:$AM$98,Worksheet!$AM56)-1)),SUMIFS(Worksheet!$X$2:$X$100,Worksheet!$Z$2:$Z$100,CONCATENATE(Worksheet!$AN56,$B61,G$7)))))","v":""},{"$f":"IF(Worksheet!$AN56=\"\",\"\",IF(Worksheet!$AN56=\"Overall Total\",SUMIFS(Worksheet!$X$2:$X$100,Worksheet!$W$2:$W$100,H$7),IF(RIGHT(Worksheet!$AN56,5)=\"Total\",SUM(OFFSET(H61,-COUNTIF(Worksheet!$AM$1:$AM$98,Worksheet!$AM56)+1,0,COUNTIF(Worksheet!$AM$1:$AM$98,Worksheet!$AM56)-1)),SUMIFS(Worksheet!$X$2:$X$100,Worksheet!$Z$2:$Z$100,CONCATENATE(Worksheet!$AN56,$B61,H$7)))))","v":""},{"$f":"IF(Worksheet!$AN56=\"\",\"\",IF(Worksheet!$AN56=\"Overall Total\",SUMIFS(Worksheet!$X$2:$X$100,Worksheet!$W$2:$W$100,I$7),IF(RIGHT(Worksheet!$AN56,5)=\"Total\",SUM(OFFSET(I61,-COUNTIF(Worksheet!$AM$1:$AM$98,Worksheet!$AM56)+1,0,COUNTIF(Worksheet!$AM$1:$AM$98,Worksheet!$AM56)-1)),SUMIFS(Worksheet!$X$2:$X$100,Worksheet!$Z$2:$Z$100,CONCATENATE(Worksheet!$AN56,$B61,I$7)))))","v":""},{"$f":"IF(Worksheet!$AN56=\"\",\"\",IF(Worksheet!$AN56=\"Overall Total\",SUMIFS(Worksheet!$X$2:$X$100,Worksheet!$W$2:$W$100,J$7),IF(RIGHT(Worksheet!$AN56,5)=\"Total\",SUM(OFFSET(J61,-COUNTIF(Worksheet!$AM$1:$AM$98,Worksheet!$AM56)+1,0,COUNTIF(Worksheet!$AM$1:$AM$98,Worksheet!$AM56)-1)),SUMIFS(Worksheet!$X$2:$X$100,Worksheet!$Z$2:$Z$100,CONCATENATE(Worksheet!$AN56,$B61,J$7)))))","v":""},{"$f":"IF(Worksheet!$AN56=\"\",\"\",IF(Worksheet!$AN56=\"Overall Total\",SUMIFS(Worksheet!$X$2:$X$100,Worksheet!$W$2:$W$100,K$7),IF(RIGHT(Worksheet!$AN56,5)=\"Total\",SUM(OFFSET(K61,-COUNTIF(Worksheet!$AM$1:$AM$98,Worksheet!$AM56)+1,0,COUNTIF(Worksheet!$AM$1:$AM$98,Worksheet!$AM56)-1)),SUMIFS(Worksheet!$X$2:$X$100,Worksheet!$Z$2:$Z$100,CONCATENATE(Worksheet!$AN56,$B61,K$7)))))","v":""},{"$f":"IF(Worksheet!$AN56=\"\",\"\",IF(Worksheet!$AN56=\"Overall Total\",SUMIFS(Worksheet!$X$2:$X$100,Worksheet!$W$2:$W$100,L$7),IF(RIGHT(Worksheet!$AN56,5)=\"Total\",SUM(OFFSET(L61,-COUNTIF(Worksheet!$AM$1:$AM$98,Worksheet!$AM56)+1,0,COUNTIF(Worksheet!$AM$1:$AM$98,Worksheet!$AM56)-1)),SUMIFS(Worksheet!$X$2:$X$100,Worksheet!$Z$2:$Z$100,CONCATENATE(Worksheet!$AN56,$B61,L$7)))))","v":""},{"$f":"IF(Worksheet!$AN56=\"\",\"\",IF(Worksheet!$AN56=\"Overall Total\",SUMIFS(Worksheet!$X$2:$X$100,Worksheet!$W$2:$W$100,M$7),IF(RIGHT(Worksheet!$AN56,5)=\"Total\",SUM(OFFSET(M61,-COUNTIF(Worksheet!$AM$1:$AM$98,Worksheet!$AM56)+1,0,COUNTIF(Worksheet!$AM$1:$AM$98,Worksheet!$AM56)-1)),SUMIFS(Worksheet!$X$2:$X$100,Worksheet!$Z$2:$Z$100,CONCATENATE(Worksheet!$AN56,$B61,M$7)))))","v":""},{"$f":"IF(Worksheet!$AN56=\"\",\"\",IF(Worksheet!$AN56=\"Overall Total\",$N$1,IF(RIGHT(Worksheet!$AN56,5)=\"Total\",SUM(OFFSET(N61,-COUNTIF(Worksheet!$AM$1:$AM$98,Worksheet!$AM56)+1,0,COUNTIF(Worksheet!$AM$1:$AM$98,Worksheet!$AM56)-1)),SUM(D61:M61))))","v":""}]
[{"$f":"IF(Worksheet!AN57=Worksheet!AN56,\"\",Worksheet!AN57)","v":""},{"$f":"IF(OR(Worksheet!AL57=\"\",Worksheet!AN56=\"\"),\"\",IF(RIGHT(Worksheet!AN57,5)=\"Total\",\"\",OFFSET(Worksheet!$AE$1,Worksheet!AL57,0)))","v":""},null,{"$f":"IF(Worksheet!$AN57=\"\",\"\",IF(Worksheet!$AN57=\"Overall Total\",SUMIFS(Worksheet!$X$2:$X$100,Worksheet!$W$2:$W$100,D$7),IF(RIGHT(Worksheet!$AN57,5)=\"Total\",SUM(OFFSET(D62,-COUNTIF(Worksheet!$AM$1:$AM$98,Worksheet!$AM57)+1,0,COUNTIF(Worksheet!$AM$1:$AM$98,Worksheet!$AM57)-1)),SUMIFS(Worksheet!$X$2:$X$100,Worksheet!$Z$2:$Z$100,CONCATENATE(Worksheet!$AN57,$B62,D$7)))))","v":""},{"$f":"IF(Worksheet!$AN57=\"\",\"\",IF(Worksheet!$AN57=\"Overall Total\",SUMIFS(Worksheet!$X$2:$X$100,Worksheet!$W$2:$W$100,E$7),IF(RIGHT(Worksheet!$AN57,5)=\"Total\",SUM(OFFSET(E62,-COUNTIF(Worksheet!$AM$1:$AM$98,Worksheet!$AM57)+1,0,COUNTIF(Worksheet!$AM$1:$AM$98,Worksheet!$AM57)-1)),SUMIFS(Worksheet!$X$2:$X$100,Worksheet!$Z$2:$Z$100,CONCATENATE(Worksheet!$AN57,$B62,E$7)))))","v":""},{"$f":"IF(Worksheet!$AN57=\"\",\"\",IF(Worksheet!$AN57=\"Overall Total\",SUMIFS(Worksheet!$X$2:$X$100,Worksheet!$W$2:$W$100,F$7),IF(RIGHT(Worksheet!$AN57,5)=\"Total\",SUM(OFFSET(F62,-COUNTIF(Worksheet!$AM$1:$AM$98,Worksheet!$AM57)+1,0,COUNTIF(Worksheet!$AM$1:$AM$98,Worksheet!$AM57)-1)),SUMIFS(Worksheet!$X$2:$X$100,Worksheet!$Z$2:$Z$100,CONCATENATE(Worksheet!$AN57,$B62,F$7)))))","v":""},{"$f":"IF(Worksheet!$AN57=\"\",\"\",IF(Worksheet!$AN57=\"Overall Total\",SUMIFS(Worksheet!$X$2:$X$100,Worksheet!$W$2:$W$100,G$7),IF(RIGHT(Worksheet!$AN57,5)=\"Total\",SUM(OFFSET(G62,-COUNTIF(Worksheet!$AM$1:$AM$98,Worksheet!$AM57)+1,0,COUNTIF(Worksheet!$AM$1:$AM$98,Worksheet!$AM57)-1)),SUMIFS(Worksheet!$X$2:$X$100,Worksheet!$Z$2:$Z$100,CONCATENATE(Worksheet!$AN57,$B62,G$7)))))","v":""},{"$f":"IF(Worksheet!$AN57=\"\",\"\",IF(Worksheet!$AN57=\"Overall Total\",SUMIFS(Worksheet!$X$2:$X$100,Worksheet!$W$2:$W$100,H$7),IF(RIGHT(Worksheet!$AN57,5)=\"Total\",SUM(OFFSET(H62,-COUNTIF(Worksheet!$AM$1:$AM$98,Worksheet!$AM57)+1,0,COUNTIF(Worksheet!$AM$1:$AM$98,Worksheet!$AM57)-1)),SUMIFS(Worksheet!$X$2:$X$100,Worksheet!$Z$2:$Z$100,CONCATENATE(Worksheet!$AN57,$B62,H$7)))))","v":""},{"$f":"IF(Worksheet!$AN57=\"\",\"\",IF(Worksheet!$AN57=\"Overall Total\",SUMIFS(Worksheet!$X$2:$X$100,Worksheet!$W$2:$W$100,I$7),IF(RIGHT(Worksheet!$AN57,5)=\"Total\",SUM(OFFSET(I62,-COUNTIF(Worksheet!$AM$1:$AM$98,Worksheet!$AM57)+1,0,COUNTIF(Worksheet!$AM$1:$AM$98,Worksheet!$AM57)-1)),SUMIFS(Worksheet!$X$2:$X$100,Worksheet!$Z$2:$Z$100,CONCATENATE(Worksheet!$AN57,$B62,I$7)))))","v":""},{"$f":"IF(Worksheet!$AN57=\"\",\"\",IF(Worksheet!$AN57=\"Overall Total\",SUMIFS(Worksheet!$X$2:$X$100,Worksheet!$W$2:$W$100,J$7),IF(RIGHT(Worksheet!$AN57,5)=\"Total\",SUM(OFFSET(J62,-COUNTIF(Worksheet!$AM$1:$AM$98,Worksheet!$AM57)+1,0,COUNTIF(Worksheet!$AM$1:$AM$98,Worksheet!$AM57)-1)),SUMIFS(Worksheet!$X$2:$X$100,Worksheet!$Z$2:$Z$100,CONCATENATE(Worksheet!$AN57,$B62,J$7)))))","v":""},{"$f":"IF(Worksheet!$AN57=\"\",\"\",IF(Worksheet!$AN57=\"Overall Total\",SUMIFS(Worksheet!$X$2:$X$100,Worksheet!$W$2:$W$100,K$7),IF(RIGHT(Worksheet!$AN57,5)=\"Total\",SUM(OFFSET(K62,-COUNTIF(Worksheet!$AM$1:$AM$98,Worksheet!$AM57)+1,0,COUNTIF(Worksheet!$AM$1:$AM$98,Worksheet!$AM57)-1)),SUMIFS(Worksheet!$X$2:$X$100,Worksheet!$Z$2:$Z$100,CONCATENATE(Worksheet!$AN57,$B62,K$7)))))","v":""},{"$f":"IF(Worksheet!$AN57=\"\",\"\",IF(Worksheet!$AN57=\"Overall Total\",SUMIFS(Worksheet!$X$2:$X$100,Worksheet!$W$2:$W$100,L$7),IF(RIGHT(Worksheet!$AN57,5)=\"Total\",SUM(OFFSET(L62,-COUNTIF(Worksheet!$AM$1:$AM$98,Worksheet!$AM57)+1,0,COUNTIF(Worksheet!$AM$1:$AM$98,Worksheet!$AM57)-1)),SUMIFS(Worksheet!$X$2:$X$100,Worksheet!$Z$2:$Z$100,CONCATENATE(Worksheet!$AN57,$B62,L$7)))))","v":""},{"$f":"IF(Worksheet!$AN57=\"\",\"\",IF(Worksheet!$AN57=\"Overall Total\",SUMIFS(Worksheet!$X$2:$X$100,Worksheet!$W$2:$W$100,M$7),IF(RIGHT(Worksheet!$AN57,5)=\"Total\",SUM(OFFSET(M62,-COUNTIF(Worksheet!$AM$1:$AM$98,Worksheet!$AM57)+1,0,COUNTIF(Worksheet!$AM$1:$AM$98,Worksheet!$AM57)-1)),SUMIFS(Worksheet!$X$2:$X$100,Worksheet!$Z$2:$Z$100,CONCATENATE(Worksheet!$AN57,$B62,M$7)))))","v":""},{"$f":"IF(Worksheet!$AN57=\"\",\"\",IF(Worksheet!$AN57=\"Overall Total\",$N$1,IF(RIGHT(Worksheet!$AN57,5)=\"Total\",SUM(OFFSET(N62,-COUNTIF(Worksheet!$AM$1:$AM$98,Worksheet!$AM57)+1,0,COUNTIF(Worksheet!$AM$1:$AM$98,Worksheet!$AM57)-1)),SUM(D62:M62))))","v":""}]
[{"$f":"IF(Worksheet!AN58=Worksheet!AN57,\"\",Worksheet!AN58)","v":""},{"$f":"IF(OR(Worksheet!AL58=\"\",Worksheet!AN57=\"\"),\"\",IF(RIGHT(Worksheet!AN58,5)=\"Total\",\"\",OFFSET(Worksheet!$AE$1,Worksheet!AL58,0)))","v":""},null,{"$f":"IF(Worksheet!$AN58=\"\",\"\",IF(Worksheet!$AN58=\"Overall Total\",SUMIFS(Worksheet!$X$2:$X$100,Worksheet!$W$2:$W$100,D$7),IF(RIGHT(Worksheet!$AN58,5)=\"Total\",SUM(OFFSET(D63,-COUNTIF(Worksheet!$AM$1:$AM$98,Worksheet!$AM58)+1,0,COUNTIF(Worksheet!$AM$1:$AM$98,Worksheet!$AM58)-1)),SUMIFS(Worksheet!$X$2:$X$100,Worksheet!$Z$2:$Z$100,CONCATENATE(Worksheet!$AN58,$B63,D$7)))))","v":""},{"$f":"IF(Worksheet!$AN58=\"\",\"\",IF(Worksheet!$AN58=\"Overall Total\",SUMIFS(Worksheet!$X$2:$X$100,Worksheet!$W$2:$W$100,E$7),IF(RIGHT(Worksheet!$AN58,5)=\"Total\",SUM(OFFSET(E63,-COUNTIF(Worksheet!$AM$1:$AM$98,Worksheet!$AM58)+1,0,COUNTIF(Worksheet!$AM$1:$AM$98,Worksheet!$AM58)-1)),SUMIFS(Worksheet!$X$2:$X$100,Worksheet!$Z$2:$Z$100,CONCATENATE(Worksheet!$AN58,$B63,E$7)))))","v":""},{"$f":"IF(Worksheet!$AN58=\"\",\"\",IF(Worksheet!$AN58=\"Overall Total\",SUMIFS(Worksheet!$X$2:$X$100,Worksheet!$W$2:$W$100,F$7),IF(RIGHT(Worksheet!$AN58,5)=\"Total\",SUM(OFFSET(F63,-COUNTIF(Worksheet!$AM$1:$AM$98,Worksheet!$AM58)+1,0,COUNTIF(Worksheet!$AM$1:$AM$98,Worksheet!$AM58)-1)),SUMIFS(Worksheet!$X$2:$X$100,Worksheet!$Z$2:$Z$100,CONCATENATE(Worksheet!$AN58,$B63,F$7)))))","v":""},{"$f":"IF(Worksheet!$AN58=\"\",\"\",IF(Worksheet!$AN58=\"Overall Total\",SUMIFS(Worksheet!$X$2:$X$100,Worksheet!$W$2:$W$100,G$7),IF(RIGHT(Worksheet!$AN58,5)=\"Total\",SUM(OFFSET(G63,-COUNTIF(Worksheet!$AM$1:$AM$98,Worksheet!$AM58)+1,0,COUNTIF(Worksheet!$AM$1:$AM$98,Worksheet!$AM58)-1)),SUMIFS(Worksheet!$X$2:$X$100,Worksheet!$Z$2:$Z$100,CONCATENATE(Worksheet!$AN58,$B63,G$7)))))","v":""},{"$f":"IF(Worksheet!$AN58=\"\",\"\",IF(Worksheet!$AN58=\"Overall Total\",SUMIFS(Worksheet!$X$2:$X$100,Worksheet!$W$2:$W$100,H$7),IF(RIGHT(Worksheet!$AN58,5)=\"Total\",SUM(OFFSET(H63,-COUNTIF(Worksheet!$AM$1:$AM$98,Worksheet!$AM58)+1,0,COUNTIF(Worksheet!$AM$1:$AM$98,Worksheet!$AM58)-1)),SUMIFS(Worksheet!$X$2:$X$100,Worksheet!$Z$2:$Z$100,CONCATENATE(Worksheet!$AN58,$B63,H$7)))))","v":""},{"$f":"IF(Worksheet!$AN58=\"\",\"\",IF(Worksheet!$AN58=\"Overall Total\",SUMIFS(Worksheet!$X$2:$X$100,Worksheet!$W$2:$W$100,I$7),IF(RIGHT(Worksheet!$AN58,5)=\"Total\",SUM(OFFSET(I63,-COUNTIF(Worksheet!$AM$1:$AM$98,Worksheet!$AM58)+1,0,COUNTIF(Worksheet!$AM$1:$AM$98,Worksheet!$AM58)-1)),SUMIFS(Worksheet!$X$2:$X$100,Worksheet!$Z$2:$Z$100,CONCATENATE(Worksheet!$AN58,$B63,I$7)))))","v":""},{"$f":"IF(Worksheet!$AN58=\"\",\"\",IF(Worksheet!$AN58=\"Overall Total\",SUMIFS(Worksheet!$X$2:$X$100,Worksheet!$W$2:$W$100,J$7),IF(RIGHT(Worksheet!$AN58,5)=\"Total\",SUM(OFFSET(J63,-COUNTIF(Worksheet!$AM$1:$AM$98,Worksheet!$AM58)+1,0,COUNTIF(Worksheet!$AM$1:$AM$98,Worksheet!$AM58)-1)),SUMIFS(Worksheet!$X$2:$X$100,Worksheet!$Z$2:$Z$100,CONCATENATE(Worksheet!$AN58,$B63,J$7)))))","v":""},{"$f":"IF(Worksheet!$AN58=\"\",\"\",IF(Worksheet!$AN58=\"Overall Total\",SUMIFS(Worksheet!$X$2:$X$100,Worksheet!$W$2:$W$100,K$7),IF(RIGHT(Worksheet!$AN58,5)=\"Total\",SUM(OFFSET(K63,-COUNTIF(Worksheet!$AM$1:$AM$98,Worksheet!$AM58)+1,0,COUNTIF(Worksheet!$AM$1:$AM$98,Worksheet!$AM58)-1)),SUMIFS(Worksheet!$X$2:$X$100,Worksheet!$Z$2:$Z$100,CONCATENATE(Worksheet!$AN58,$B63,K$7)))))","v":""},{"$f":"IF(Worksheet!$AN58=\"\",\"\",IF(Worksheet!$AN58=\"Overall Total\",SUMIFS(Worksheet!$X$2:$X$100,Worksheet!$W$2:$W$100,L$7),IF(RIGHT(Worksheet!$AN58,5)=\"Total\",SUM(OFFSET(L63,-COUNTIF(Worksheet!$AM$1:$AM$98,Worksheet!$AM58)+1,0,COUNTIF(Worksheet!$AM$1:$AM$98,Worksheet!$AM58)-1)),SUMIFS(Worksheet!$X$2:$X$100,Worksheet!$Z$2:$Z$100,CONCATENATE(Worksheet!$AN58,$B63,L$7)))))","v":""},{"$f":"IF(Worksheet!$AN58=\"\",\"\",IF(Worksheet!$AN58=\"Overall Total\",SUMIFS(Worksheet!$X$2:$X$100,Worksheet!$W$2:$W$100,M$7),IF(RIGHT(Worksheet!$AN58,5)=\"Total\",SUM(OFFSET(M63,-COUNTIF(Worksheet!$AM$1:$AM$98,Worksheet!$AM58)+1,0,COUNTIF(Worksheet!$AM$1:$AM$98,Worksheet!$AM58)-1)),SUMIFS(Worksheet!$X$2:$X$100,Worksheet!$Z$2:$Z$100,CONCATENATE(Worksheet!$AN58,$B63,M$7)))))","v":""},{"$f":"IF(Worksheet!$AN58=\"\",\"\",IF(Worksheet!$AN58=\"Overall Total\",$N$1,IF(RIGHT(Worksheet!$AN58,5)=\"Total\",SUM(OFFSET(N63,-COUNTIF(Worksheet!$AM$1:$AM$98,Worksheet!$AM58)+1,0,COUNTIF(Worksheet!$AM$1:$AM$98,Worksheet!$AM58)-1)),SUM(D63:M63))))","v":""}]
[{"$f":"IF(Worksheet!AN59=Worksheet!AN58,\"\",Worksheet!AN59)","v":""},{"$f":"IF(OR(Worksheet!AL59=\"\",Worksheet!AN58=\"\"),\"\",IF(RIGHT(Worksheet!AN59,5)=\"Total\",\"\",OFFSET(Worksheet!$AE$1,Worksheet!AL59,0)))","v":""},null,{"$f":"IF(Worksheet!$AN59=\"\",\"\",IF(Worksheet!$AN59=\"Overall Total\",SUMIFS(Worksheet!$X$2:$X$100,Worksheet!$W$2:$W$100,D$7),IF(RIGHT(Worksheet!$AN59,5)=\"Total\",SUM(OFFSET(D64,-COUNTIF(Worksheet!$AM$1:$AM$98,Worksheet!$AM59)+1,0,COUNTIF(Worksheet!$AM$1:$AM$98,Worksheet!$AM59)-1)),SUMIFS(Worksheet!$X$2:$X$100,Worksheet!$Z$2:$Z$100,CONCATENATE(Worksheet!$AN59,$B64,D$7)))))","v":""},{"$f":"IF(Worksheet!$AN59=\"\",\"\",IF(Worksheet!$AN59=\"Overall Total\",SUMIFS(Worksheet!$X$2:$X$100,Worksheet!$W$2:$W$100,E$7),IF(RIGHT(Worksheet!$AN59,5)=\"Total\",SUM(OFFSET(E64,-COUNTIF(Worksheet!$AM$1:$AM$98,Worksheet!$AM59)+1,0,COUNTIF(Worksheet!$AM$1:$AM$98,Worksheet!$AM59)-1)),SUMIFS(Worksheet!$X$2:$X$100,Worksheet!$Z$2:$Z$100,CONCATENATE(Worksheet!$AN59,$B64,E$7)))))","v":""},{"$f":"IF(Worksheet!$AN59=\"\",\"\",IF(Worksheet!$AN59=\"Overall Total\",SUMIFS(Worksheet!$X$2:$X$100,Worksheet!$W$2:$W$100,F$7),IF(RIGHT(Worksheet!$AN59,5)=\"Total\",SUM(OFFSET(F64,-COUNTIF(Worksheet!$AM$1:$AM$98,Worksheet!$AM59)+1,0,COUNTIF(Worksheet!$AM$1:$AM$98,Worksheet!$AM59)-1)),SUMIFS(Worksheet!$X$2:$X$100,Worksheet!$Z$2:$Z$100,CONCATENATE(Worksheet!$AN59,$B64,F$7)))))","v":""},{"$f":"IF(Worksheet!$AN59=\"\",\"\",IF(Worksheet!$AN59=\"Overall Total\",SUMIFS(Worksheet!$X$2:$X$100,Worksheet!$W$2:$W$100,G$7),IF(RIGHT(Worksheet!$AN59,5)=\"Total\",SUM(OFFSET(G64,-COUNTIF(Worksheet!$AM$1:$AM$98,Worksheet!$AM59)+1,0,COUNTIF(Worksheet!$AM$1:$AM$98,Worksheet!$AM59)-1)),SUMIFS(Worksheet!$X$2:$X$100,Worksheet!$Z$2:$Z$100,CONCATENATE(Worksheet!$AN59,$B64,G$7)))))","v":""},{"$f":"IF(Worksheet!$AN59=\"\",\"\",IF(Worksheet!$AN59=\"Overall Total\",SUMIFS(Worksheet!$X$2:$X$100,Worksheet!$W$2:$W$100,H$7),IF(RIGHT(Worksheet!$AN59,5)=\"Total\",SUM(OFFSET(H64,-COUNTIF(Worksheet!$AM$1:$AM$98,Worksheet!$AM59)+1,0,COUNTIF(Worksheet!$AM$1:$AM$98,Worksheet!$AM59)-1)),SUMIFS(Worksheet!$X$2:$X$100,Worksheet!$Z$2:$Z$100,CONCATENATE(Worksheet!$AN59,$B64,H$7)))))","v":""},{"$f":"IF(Worksheet!$AN59=\"\",\"\",IF(Worksheet!$AN59=\"Overall Total\",SUMIFS(Worksheet!$X$2:$X$100,Worksheet!$W$2:$W$100,I$7),IF(RIGHT(Worksheet!$AN59,5)=\"Total\",SUM(OFFSET(I64,-COUNTIF(Worksheet!$AM$1:$AM$98,Worksheet!$AM59)+1,0,COUNTIF(Worksheet!$AM$1:$AM$98,Worksheet!$AM59)-1)),SUMIFS(Worksheet!$X$2:$X$100,Worksheet!$Z$2:$Z$100,CONCATENATE(Worksheet!$AN59,$B64,I$7)))))","v":""},{"$f":"IF(Worksheet!$AN59=\"\",\"\",IF(Worksheet!$AN59=\"Overall Total\",SUMIFS(Worksheet!$X$2:$X$100,Worksheet!$W$2:$W$100,J$7),IF(RIGHT(Worksheet!$AN59,5)=\"Total\",SUM(OFFSET(J64,-COUNTIF(Worksheet!$AM$1:$AM$98,Worksheet!$AM59)+1,0,COUNTIF(Worksheet!$AM$1:$AM$98,Worksheet!$AM59)-1)),SUMIFS(Worksheet!$X$2:$X$100,Worksheet!$Z$2:$Z$100,CONCATENATE(Worksheet!$AN59,$B64,J$7)))))","v":""},{"$f":"IF(Worksheet!$AN59=\"\",\"\",IF(Worksheet!$AN59=\"Overall Total\",SUMIFS(Worksheet!$X$2:$X$100,Worksheet!$W$2:$W$100,K$7),IF(RIGHT(Worksheet!$AN59,5)=\"Total\",SUM(OFFSET(K64,-COUNTIF(Worksheet!$AM$1:$AM$98,Worksheet!$AM59)+1,0,COUNTIF(Worksheet!$AM$1:$AM$98,Worksheet!$AM59)-1)),SUMIFS(Worksheet!$X$2:$X$100,Worksheet!$Z$2:$Z$100,CONCATENATE(Worksheet!$AN59,$B64,K$7)))))","v":""},{"$f":"IF(Worksheet!$AN59=\"\",\"\",IF(Worksheet!$AN59=\"Overall Total\",SUMIFS(Worksheet!$X$2:$X$100,Worksheet!$W$2:$W$100,L$7),IF(RIGHT(Worksheet!$AN59,5)=\"Total\",SUM(OFFSET(L64,-COUNTIF(Worksheet!$AM$1:$AM$98,Worksheet!$AM59)+1,0,COUNTIF(Worksheet!$AM$1:$AM$98,Worksheet!$AM59)-1)),SUMIFS(Worksheet!$X$2:$X$100,Worksheet!$Z$2:$Z$100,CONCATENATE(Worksheet!$AN59,$B64,L$7)))))","v":""},{"$f":"IF(Worksheet!$AN59=\"\",\"\",IF(Worksheet!$AN59=\"Overall Total\",SUMIFS(Worksheet!$X$2:$X$100,Worksheet!$W$2:$W$100,M$7),IF(RIGHT(Worksheet!$AN59,5)=\"Total\",SUM(OFFSET(M64,-COUNTIF(Worksheet!$AM$1:$AM$98,Worksheet!$AM59)+1,0,COUNTIF(Worksheet!$AM$1:$AM$98,Worksheet!$AM59)-1)),SUMIFS(Worksheet!$X$2:$X$100,Worksheet!$Z$2:$Z$100,CONCATENATE(Worksheet!$AN59,$B64,M$7)))))","v":""},{"$f":"IF(Worksheet!$AN59=\"\",\"\",IF(Worksheet!$AN59=\"Overall Total\",$N$1,IF(RIGHT(Worksheet!$AN59,5)=\"Total\",SUM(OFFSET(N64,-COUNTIF(Worksheet!$AM$1:$AM$98,Worksheet!$AM59)+1,0,COUNTIF(Worksheet!$AM$1:$AM$98,Worksheet!$AM59)-1)),SUM(D64:M64))))","v":""}]
[{"$f":"IF(Worksheet!AN60=Worksheet!AN59,\"\",Worksheet!AN60)","v":""},{"$f":"IF(OR(Worksheet!AL60=\"\",Worksheet!AN59=\"\"),\"\",IF(RIGHT(Worksheet!AN60,5)=\"Total\",\"\",OFFSET(Worksheet!$AE$1,Worksheet!AL60,0)))","v":""},null,{"$f":"IF(Worksheet!$AN60=\"\",\"\",IF(Worksheet!$AN60=\"Overall Total\",SUMIFS(Worksheet!$X$2:$X$100,Worksheet!$W$2:$W$100,D$7),IF(RIGHT(Worksheet!$AN60,5)=\"Total\",SUM(OFFSET(D65,-COUNTIF(Worksheet!$AM$1:$AM$98,Worksheet!$AM60)+1,0,COUNTIF(Worksheet!$AM$1:$AM$98,Worksheet!$AM60)-1)),SUMIFS(Worksheet!$X$2:$X$100,Worksheet!$Z$2:$Z$100,CONCATENATE(Worksheet!$AN60,$B65,D$7)))))","v":""},{"$f":"IF(Worksheet!$AN60=\"\",\"\",IF(Worksheet!$AN60=\"Overall Total\",SUMIFS(Worksheet!$X$2:$X$100,Worksheet!$W$2:$W$100,E$7),IF(RIGHT(Worksheet!$AN60,5)=\"Total\",SUM(OFFSET(E65,-COUNTIF(Worksheet!$AM$1:$AM$98,Worksheet!$AM60)+1,0,COUNTIF(Worksheet!$AM$1:$AM$98,Worksheet!$AM60)-1)),SUMIFS(Worksheet!$X$2:$X$100,Worksheet!$Z$2:$Z$100,CONCATENATE(Worksheet!$AN60,$B65,E$7)))))","v":""},{"$f":"IF(Worksheet!$AN60=\"\",\"\",IF(Worksheet!$AN60=\"Overall Total\",SUMIFS(Worksheet!$X$2:$X$100,Worksheet!$W$2:$W$100,F$7),IF(RIGHT(Worksheet!$AN60,5)=\"Total\",SUM(OFFSET(F65,-COUNTIF(Worksheet!$AM$1:$AM$98,Worksheet!$AM60)+1,0,COUNTIF(Worksheet!$AM$1:$AM$98,Worksheet!$AM60)-1)),SUMIFS(Worksheet!$X$2:$X$100,Worksheet!$Z$2:$Z$100,CONCATENATE(Worksheet!$AN60,$B65,F$7)))))","v":""},{"$f":"IF(Worksheet!$AN60=\"\",\"\",IF(Worksheet!$AN60=\"Overall Total\",SUMIFS(Worksheet!$X$2:$X$100,Worksheet!$W$2:$W$100,G$7),IF(RIGHT(Worksheet!$AN60,5)=\"Total\",SUM(OFFSET(G65,-COUNTIF(Worksheet!$AM$1:$AM$98,Worksheet!$AM60)+1,0,COUNTIF(Worksheet!$AM$1:$AM$98,Worksheet!$AM60)-1)),SUMIFS(Worksheet!$X$2:$X$100,Worksheet!$Z$2:$Z$100,CONCATENATE(Worksheet!$AN60,$B65,G$7)))))","v":""},{"$f":"IF(Worksheet!$AN60=\"\",\"\",IF(Worksheet!$AN60=\"Overall Total\",SUMIFS(Worksheet!$X$2:$X$100,Worksheet!$W$2:$W$100,H$7),IF(RIGHT(Worksheet!$AN60,5)=\"Total\",SUM(OFFSET(H65,-COUNTIF(Worksheet!$AM$1:$AM$98,Worksheet!$AM60)+1,0,COUNTIF(Worksheet!$AM$1:$AM$98,Worksheet!$AM60)-1)),SUMIFS(Worksheet!$X$2:$X$100,Worksheet!$Z$2:$Z$100,CONCATENATE(Worksheet!$AN60,$B65,H$7)))))","v":""},{"$f":"IF(Worksheet!$AN60=\"\",\"\",IF(Worksheet!$AN60=\"Overall Total\",SUMIFS(Worksheet!$X$2:$X$100,Worksheet!$W$2:$W$100,I$7),IF(RIGHT(Worksheet!$AN60,5)=\"Total\",SUM(OFFSET(I65,-COUNTIF(Worksheet!$AM$1:$AM$98,Worksheet!$AM60)+1,0,COUNTIF(Worksheet!$AM$1:$AM$98,Worksheet!$AM60)-1)),SUMIFS(Worksheet!$X$2:$X$100,Worksheet!$Z$2:$Z$100,CONCATENATE(Worksheet!$AN60,$B65,I$7)))))","v":""},{"$f":"IF(Worksheet!$AN60=\"\",\"\",IF(Worksheet!$AN60=\"Overall Total\",SUMIFS(Worksheet!$X$2:$X$100,Worksheet!$W$2:$W$100,J$7),IF(RIGHT(Worksheet!$AN60,5)=\"Total\",SUM(OFFSET(J65,-COUNTIF(Worksheet!$AM$1:$AM$98,Worksheet!$AM60)+1,0,COUNTIF(Worksheet!$AM$1:$AM$98,Worksheet!$AM60)-1)),SUMIFS(Worksheet!$X$2:$X$100,Worksheet!$Z$2:$Z$100,CONCATENATE(Worksheet!$AN60,$B65,J$7)))))","v":""},{"$f":"IF(Worksheet!$AN60=\"\",\"\",IF(Worksheet!$AN60=\"Overall Total\",SUMIFS(Worksheet!$X$2:$X$100,Worksheet!$W$2:$W$100,K$7),IF(RIGHT(Worksheet!$AN60,5)=\"Total\",SUM(OFFSET(K65,-COUNTIF(Worksheet!$AM$1:$AM$98,Worksheet!$AM60)+1,0,COUNTIF(Worksheet!$AM$1:$AM$98,Worksheet!$AM60)-1)),SUMIFS(Worksheet!$X$2:$X$100,Worksheet!$Z$2:$Z$100,CONCATENATE(Worksheet!$AN60,$B65,K$7)))))","v":""},{"$f":"IF(Worksheet!$AN60=\"\",\"\",IF(Worksheet!$AN60=\"Overall Total\",SUMIFS(Worksheet!$X$2:$X$100,Worksheet!$W$2:$W$100,L$7),IF(RIGHT(Worksheet!$AN60,5)=\"Total\",SUM(OFFSET(L65,-COUNTIF(Worksheet!$AM$1:$AM$98,Worksheet!$AM60)+1,0,COUNTIF(Worksheet!$AM$1:$AM$98,Worksheet!$AM60)-1)),SUMIFS(Worksheet!$X$2:$X$100,Worksheet!$Z$2:$Z$100,CONCATENATE(Worksheet!$AN60,$B65,L$7)))))","v":""},{"$f":"IF(Worksheet!$AN60=\"\",\"\",IF(Worksheet!$AN60=\"Overall Total\",SUMIFS(Worksheet!$X$2:$X$100,Worksheet!$W$2:$W$100,M$7),IF(RIGHT(Worksheet!$AN60,5)=\"Total\",SUM(OFFSET(M65,-COUNTIF(Worksheet!$AM$1:$AM$98,Worksheet!$AM60)+1,0,COUNTIF(Worksheet!$AM$1:$AM$98,Worksheet!$AM60)-1)),SUMIFS(Worksheet!$X$2:$X$100,Worksheet!$Z$2:$Z$100,CONCATENATE(Worksheet!$AN60,$B65,M$7)))))","v":""},{"$f":"IF(Worksheet!$AN60=\"\",\"\",IF(Worksheet!$AN60=\"Overall Total\",$N$1,IF(RIGHT(Worksheet!$AN60,5)=\"Total\",SUM(OFFSET(N65,-COUNTIF(Worksheet!$AM$1:$AM$98,Worksheet!$AM60)+1,0,COUNTIF(Worksheet!$AM$1:$AM$98,Worksheet!$AM60)-1)),SUM(D65:M65))))","v":""}]
[{"$f":"IF(Worksheet!AN61=Worksheet!AN60,\"\",Worksheet!AN61)","v":""},{"$f":"IF(OR(Worksheet!AL61=\"\",Worksheet!AN60=\"\"),\"\",IF(RIGHT(Worksheet!AN61,5)=\"Total\",\"\",OFFSET(Worksheet!$AE$1,Worksheet!AL61,0)))","v":""},null,{"$f":"IF(Worksheet!$AN61=\"\",\"\",IF(Worksheet!$AN61=\"Overall Total\",SUMIFS(Worksheet!$X$2:$X$100,Worksheet!$W$2:$W$100,D$7),IF(RIGHT(Worksheet!$AN61,5)=\"Total\",SUM(OFFSET(D66,-COUNTIF(Worksheet!$AM$1:$AM$98,Worksheet!$AM61)+1,0,COUNTIF(Worksheet!$AM$1:$AM$98,Worksheet!$AM61)-1)),SUMIFS(Worksheet!$X$2:$X$100,Worksheet!$Z$2:$Z$100,CONCATENATE(Worksheet!$AN61,$B66,D$7)))))","v":""},{"$f":"IF(Worksheet!$AN61=\"\",\"\",IF(Worksheet!$AN61=\"Overall Total\",SUMIFS(Worksheet!$X$2:$X$100,Worksheet!$W$2:$W$100,E$7),IF(RIGHT(Worksheet!$AN61,5)=\"Total\",SUM(OFFSET(E66,-COUNTIF(Worksheet!$AM$1:$AM$98,Worksheet!$AM61)+1,0,COUNTIF(Worksheet!$AM$1:$AM$98,Worksheet!$AM61)-1)),SUMIFS(Worksheet!$X$2:$X$100,Worksheet!$Z$2:$Z$100,CONCATENATE(Worksheet!$AN61,$B66,E$7)))))","v":""},{"$f":"IF(Worksheet!$AN61=\"\",\"\",IF(Worksheet!$AN61=\"Overall Total\",SUMIFS(Worksheet!$X$2:$X$100,Worksheet!$W$2:$W$100,F$7),IF(RIGHT(Worksheet!$AN61,5)=\"Total\",SUM(OFFSET(F66,-COUNTIF(Worksheet!$AM$1:$AM$98,Worksheet!$AM61)+1,0,COUNTIF(Worksheet!$AM$1:$AM$98,Worksheet!$AM61)-1)),SUMIFS(Worksheet!$X$2:$X$100,Worksheet!$Z$2:$Z$100,CONCATENATE(Worksheet!$AN61,$B66,F$7)))))","v":""},{"$f":"IF(Worksheet!$AN61=\"\",\"\",IF(Worksheet!$AN61=\"Overall Total\",SUMIFS(Worksheet!$X$2:$X$100,Worksheet!$W$2:$W$100,G$7),IF(RIGHT(Worksheet!$AN61,5)=\"Total\",SUM(OFFSET(G66,-COUNTIF(Worksheet!$AM$1:$AM$98,Worksheet!$AM61)+1,0,COUNTIF(Worksheet!$AM$1:$AM$98,Worksheet!$AM61)-1)),SUMIFS(Worksheet!$X$2:$X$100,Worksheet!$Z$2:$Z$100,CONCATENATE(Worksheet!$AN61,$B66,G$7)))))","v":""},{"$f":"IF(Worksheet!$AN61=\"\",\"\",IF(Worksheet!$AN61=\"Overall Total\",SUMIFS(Worksheet!$X$2:$X$100,Worksheet!$W$2:$W$100,H$7),IF(RIGHT(Worksheet!$AN61,5)=\"Total\",SUM(OFFSET(H66,-COUNTIF(Worksheet!$AM$1:$AM$98,Worksheet!$AM61)+1,0,COUNTIF(Worksheet!$AM$1:$AM$98,Worksheet!$AM61)-1)),SUMIFS(Worksheet!$X$2:$X$100,Worksheet!$Z$2:$Z$100,CONCATENATE(Worksheet!$AN61,$B66,H$7)))))","v":""},{"$f":"IF(Worksheet!$AN61=\"\",\"\",IF(Worksheet!$AN61=\"Overall Total\",SUMIFS(Worksheet!$X$2:$X$100,Worksheet!$W$2:$W$100,I$7),IF(RIGHT(Worksheet!$AN61,5)=\"Total\",SUM(OFFSET(I66,-COUNTIF(Worksheet!$AM$1:$AM$98,Worksheet!$AM61)+1,0,COUNTIF(Worksheet!$AM$1:$AM$98,Worksheet!$AM61)-1)),SUMIFS(Worksheet!$X$2:$X$100,Worksheet!$Z$2:$Z$100,CONCATENATE(Worksheet!$AN61,$B66,I$7)))))","v":""},{"$f":"IF(Worksheet!$AN61=\"\",\"\",IF(Worksheet!$AN61=\"Overall Total\",SUMIFS(Worksheet!$X$2:$X$100,Worksheet!$W$2:$W$100,J$7),IF(RIGHT(Worksheet!$AN61,5)=\"Total\",SUM(OFFSET(J66,-COUNTIF(Worksheet!$AM$1:$AM$98,Worksheet!$AM61)+1,0,COUNTIF(Worksheet!$AM$1:$AM$98,Worksheet!$AM61)-1)),SUMIFS(Worksheet!$X$2:$X$100,Worksheet!$Z$2:$Z$100,CONCATENATE(Worksheet!$AN61,$B66,J$7)))))","v":""},{"$f":"IF(Worksheet!$AN61=\"\",\"\",IF(Worksheet!$AN61=\"Overall Total\",SUMIFS(Worksheet!$X$2:$X$100,Worksheet!$W$2:$W$100,K$7),IF(RIGHT(Worksheet!$AN61,5)=\"Total\",SUM(OFFSET(K66,-COUNTIF(Worksheet!$AM$1:$AM$98,Worksheet!$AM61)+1,0,COUNTIF(Worksheet!$AM$1:$AM$98,Worksheet!$AM61)-1)),SUMIFS(Worksheet!$X$2:$X$100,Worksheet!$Z$2:$Z$100,CONCATENATE(Worksheet!$AN61,$B66,K$7)))))","v":""},{"$f":"IF(Worksheet!$AN61=\"\",\"\",IF(Worksheet!$AN61=\"Overall Total\",SUMIFS(Worksheet!$X$2:$X$100,Worksheet!$W$2:$W$100,L$7),IF(RIGHT(Worksheet!$AN61,5)=\"Total\",SUM(OFFSET(L66,-COUNTIF(Worksheet!$AM$1:$AM$98,Worksheet!$AM61)+1,0,COUNTIF(Worksheet!$AM$1:$AM$98,Worksheet!$AM61)-1)),SUMIFS(Worksheet!$X$2:$X$100,Worksheet!$Z$2:$Z$100,CONCATENATE(Worksheet!$AN61,$B66,L$7)))))","v":""},{"$f":"IF(Worksheet!$AN61=\"\",\"\",IF(Worksheet!$AN61=\"Overall Total\",SUMIFS(Worksheet!$X$2:$X$100,Worksheet!$W$2:$W$100,M$7),IF(RIGHT(Worksheet!$AN61,5)=\"Total\",SUM(OFFSET(M66,-COUNTIF(Worksheet!$AM$1:$AM$98,Worksheet!$AM61)+1,0,COUNTIF(Worksheet!$AM$1:$AM$98,Worksheet!$AM61)-1)),SUMIFS(Worksheet!$X$2:$X$100,Worksheet!$Z$2:$Z$100,CONCATENATE(Worksheet!$AN61,$B66,M$7)))))","v":""},{"$f":"IF(Worksheet!$AN61=\"\",\"\",IF(Worksheet!$AN61=\"Overall Total\",$N$1,IF(RIGHT(Worksheet!$AN61,5)=\"Total\",SUM(OFFSET(N66,-COUNTIF(Worksheet!$AM$1:$AM$98,Worksheet!$AM61)+1,0,COUNTIF(Worksheet!$AM$1:$AM$98,Worksheet!$AM61)-1)),SUM(D66:M66))))","v":""}]
[{"$f":"IF(Worksheet!AN62=Worksheet!AN61,\"\",Worksheet!AN62)","v":""},{"$f":"IF(OR(Worksheet!AL62=\"\",Worksheet!AN61=\"\"),\"\",IF(RIGHT(Worksheet!AN62,5)=\"Total\",\"\",OFFSET(Worksheet!$AE$1,Worksheet!AL62,0)))","v":""},null,{"$f":"IF(Worksheet!$AN62=\"\",\"\",IF(Worksheet!$AN62=\"Overall Total\",SUMIFS(Worksheet!$X$2:$X$100,Worksheet!$W$2:$W$100,D$7),IF(RIGHT(Worksheet!$AN62,5)=\"Total\",SUM(OFFSET(D67,-COUNTIF(Worksheet!$AM$1:$AM$98,Worksheet!$AM62)+1,0,COUNTIF(Worksheet!$AM$1:$AM$98,Worksheet!$AM62)-1)),SUMIFS(Worksheet!$X$2:$X$100,Worksheet!$Z$2:$Z$100,CONCATENATE(Worksheet!$AN62,$B67,D$7)))))","v":""},{"$f":"IF(Worksheet!$AN62=\"\",\"\",IF(Worksheet!$AN62=\"Overall Total\",SUMIFS(Worksheet!$X$2:$X$100,Worksheet!$W$2:$W$100,E$7),IF(RIGHT(Worksheet!$AN62,5)=\"Total\",SUM(OFFSET(E67,-COUNTIF(Worksheet!$AM$1:$AM$98,Worksheet!$AM62)+1,0,COUNTIF(Worksheet!$AM$1:$AM$98,Worksheet!$AM62)-1)),SUMIFS(Worksheet!$X$2:$X$100,Worksheet!$Z$2:$Z$100,CONCATENATE(Worksheet!$AN62,$B67,E$7)))))","v":""},{"$f":"IF(Worksheet!$AN62=\"\",\"\",IF(Worksheet!$AN62=\"Overall Total\",SUMIFS(Worksheet!$X$2:$X$100,Worksheet!$W$2:$W$100,F$7),IF(RIGHT(Worksheet!$AN62,5)=\"Total\",SUM(OFFSET(F67,-COUNTIF(Worksheet!$AM$1:$AM$98,Worksheet!$AM62)+1,0,COUNTIF(Worksheet!$AM$1:$AM$98,Worksheet!$AM62)-1)),SUMIFS(Worksheet!$X$2:$X$100,Worksheet!$Z$2:$Z$100,CONCATENATE(Worksheet!$AN62,$B67,F$7)))))","v":""},{"$f":"IF(Worksheet!$AN62=\"\",\"\",IF(Worksheet!$AN62=\"Overall Total\",SUMIFS(Worksheet!$X$2:$X$100,Worksheet!$W$2:$W$100,G$7),IF(RIGHT(Worksheet!$AN62,5)=\"Total\",SUM(OFFSET(G67,-COUNTIF(Worksheet!$AM$1:$AM$98,Worksheet!$AM62)+1,0,COUNTIF(Worksheet!$AM$1:$AM$98,Worksheet!$AM62)-1)),SUMIFS(Worksheet!$X$2:$X$100,Worksheet!$Z$2:$Z$100,CONCATENATE(Worksheet!$AN62,$B67,G$7)))))","v":""},{"$f":"IF(Worksheet!$AN62=\"\",\"\",IF(Worksheet!$AN62=\"Overall Total\",SUMIFS(Worksheet!$X$2:$X$100,Worksheet!$W$2:$W$100,H$7),IF(RIGHT(Worksheet!$AN62,5)=\"Total\",SUM(OFFSET(H67,-COUNTIF(Worksheet!$AM$1:$AM$98,Worksheet!$AM62)+1,0,COUNTIF(Worksheet!$AM$1:$AM$98,Worksheet!$AM62)-1)),SUMIFS(Worksheet!$X$2:$X$100,Worksheet!$Z$2:$Z$100,CONCATENATE(Worksheet!$AN62,$B67,H$7)))))","v":""},{"$f":"IF(Worksheet!$AN62=\"\",\"\",IF(Worksheet!$AN62=\"Overall Total\",SUMIFS(Worksheet!$X$2:$X$100,Worksheet!$W$2:$W$100,I$7),IF(RIGHT(Worksheet!$AN62,5)=\"Total\",SUM(OFFSET(I67,-COUNTIF(Worksheet!$AM$1:$AM$98,Worksheet!$AM62)+1,0,COUNTIF(Worksheet!$AM$1:$AM$98,Worksheet!$AM62)-1)),SUMIFS(Worksheet!$X$2:$X$100,Worksheet!$Z$2:$Z$100,CONCATENATE(Worksheet!$AN62,$B67,I$7)))))","v":""},{"$f":"IF(Worksheet!$AN62=\"\",\"\",IF(Worksheet!$AN62=\"Overall Total\",SUMIFS(Worksheet!$X$2:$X$100,Worksheet!$W$2:$W$100,J$7),IF(RIGHT(Worksheet!$AN62,5)=\"Total\",SUM(OFFSET(J67,-COUNTIF(Worksheet!$AM$1:$AM$98,Worksheet!$AM62)+1,0,COUNTIF(Worksheet!$AM$1:$AM$98,Worksheet!$AM62)-1)),SUMIFS(Worksheet!$X$2:$X$100,Worksheet!$Z$2:$Z$100,CONCATENATE(Worksheet!$AN62,$B67,J$7)))))","v":""},{"$f":"IF(Worksheet!$AN62=\"\",\"\",IF(Worksheet!$AN62=\"Overall Total\",SUMIFS(Worksheet!$X$2:$X$100,Worksheet!$W$2:$W$100,K$7),IF(RIGHT(Worksheet!$AN62,5)=\"Total\",SUM(OFFSET(K67,-COUNTIF(Worksheet!$AM$1:$AM$98,Worksheet!$AM62)+1,0,COUNTIF(Worksheet!$AM$1:$AM$98,Worksheet!$AM62)-1)),SUMIFS(Worksheet!$X$2:$X$100,Worksheet!$Z$2:$Z$100,CONCATENATE(Worksheet!$AN62,$B67,K$7)))))","v":""},{"$f":"IF(Worksheet!$AN62=\"\",\"\",IF(Worksheet!$AN62=\"Overall Total\",SUMIFS(Worksheet!$X$2:$X$100,Worksheet!$W$2:$W$100,L$7),IF(RIGHT(Worksheet!$AN62,5)=\"Total\",SUM(OFFSET(L67,-COUNTIF(Worksheet!$AM$1:$AM$98,Worksheet!$AM62)+1,0,COUNTIF(Worksheet!$AM$1:$AM$98,Worksheet!$AM62)-1)),SUMIFS(Worksheet!$X$2:$X$100,Worksheet!$Z$2:$Z$100,CONCATENATE(Worksheet!$AN62,$B67,L$7)))))","v":""},{"$f":"IF(Worksheet!$AN62=\"\",\"\",IF(Worksheet!$AN62=\"Overall Total\",SUMIFS(Worksheet!$X$2:$X$100,Worksheet!$W$2:$W$100,M$7),IF(RIGHT(Worksheet!$AN62,5)=\"Total\",SUM(OFFSET(M67,-COUNTIF(Worksheet!$AM$1:$AM$98,Worksheet!$AM62)+1,0,COUNTIF(Worksheet!$AM$1:$AM$98,Worksheet!$AM62)-1)),SUMIFS(Worksheet!$X$2:$X$100,Worksheet!$Z$2:$Z$100,CONCATENATE(Worksheet!$AN62,$B67,M$7)))))","v":""},{"$f":"IF(Worksheet!$AN62=\"\",\"\",IF(Worksheet!$AN62=\"Overall Total\",$N$1,IF(RIGHT(Worksheet!$AN62,5)=\"Total\",SUM(OFFSET(N67,-COUNTIF(Worksheet!$AM$1:$AM$98,Worksheet!$AM62)+1,0,COUNTIF(Worksheet!$AM$1:$AM$98,Worksheet!$AM62)-1)),SUM(D67:M67))))","v":""}]
[{"$f":"IF(Worksheet!AN63=Worksheet!AN62,\"\",Worksheet!AN63)","v":""},{"$f":"IF(OR(Worksheet!AL63=\"\",Worksheet!AN62=\"\"),\"\",IF(RIGHT(Worksheet!AN63,5)=\"Total\",\"\",OFFSET(Worksheet!$AE$1,Worksheet!AL63,0)))","v":""},null,{"$f":"IF(Worksheet!$AN63=\"\",\"\",IF(Worksheet!$AN63=\"Overall Total\",SUMIFS(Worksheet!$X$2:$X$100,Worksheet!$W$2:$W$100,D$7),IF(RIGHT(Worksheet!$AN63,5)=\"Total\",SUM(OFFSET(D68,-COUNTIF(Worksheet!$AM$1:$AM$98,Worksheet!$AM63)+1,0,COUNTIF(Worksheet!$AM$1:$AM$98,Worksheet!$AM63)-1)),SUMIFS(Worksheet!$X$2:$X$100,Worksheet!$Z$2:$Z$100,CONCATENATE(Worksheet!$AN63,$B68,D$7)))))","v":""},{"$f":"IF(Worksheet!$AN63=\"\",\"\",IF(Worksheet!$AN63=\"Overall Total\",SUMIFS(Worksheet!$X$2:$X$100,Worksheet!$W$2:$W$100,E$7),IF(RIGHT(Worksheet!$AN63,5)=\"Total\",SUM(OFFSET(E68,-COUNTIF(Worksheet!$AM$1:$AM$98,Worksheet!$AM63)+1,0,COUNTIF(Worksheet!$AM$1:$AM$98,Worksheet!$AM63)-1)),SUMIFS(Worksheet!$X$2:$X$100,Worksheet!$Z$2:$Z$100,CONCATENATE(Worksheet!$AN63,$B68,E$7)))))","v":""},{"$f":"IF(Worksheet!$AN63=\"\",\"\",IF(Worksheet!$AN63=\"Overall Total\",SUMIFS(Worksheet!$X$2:$X$100,Worksheet!$W$2:$W$100,F$7),IF(RIGHT(Worksheet!$AN63,5)=\"Total\",SUM(OFFSET(F68,-COUNTIF(Worksheet!$AM$1:$AM$98,Worksheet!$AM63)+1,0,COUNTIF(Worksheet!$AM$1:$AM$98,Worksheet!$AM63)-1)),SUMIFS(Worksheet!$X$2:$X$100,Worksheet!$Z$2:$Z$100,CONCATENATE(Worksheet!$AN63,$B68,F$7)))))","v":""},{"$f":"IF(Worksheet!$AN63=\"\",\"\",IF(Worksheet!$AN63=\"Overall Total\",SUMIFS(Worksheet!$X$2:$X$100,Worksheet!$W$2:$W$100,G$7),IF(RIGHT(Worksheet!$AN63,5)=\"Total\",SUM(OFFSET(G68,-COUNTIF(Worksheet!$AM$1:$AM$98,Worksheet!$AM63)+1,0,COUNTIF(Worksheet!$AM$1:$AM$98,Worksheet!$AM63)-1)),SUMIFS(Worksheet!$X$2:$X$100,Worksheet!$Z$2:$Z$100,CONCATENATE(Worksheet!$AN63,$B68,G$7)))))","v":""},{"$f":"IF(Worksheet!$AN63=\"\",\"\",IF(Worksheet!$AN63=\"Overall Total\",SUMIFS(Worksheet!$X$2:$X$100,Worksheet!$W$2:$W$100,H$7),IF(RIGHT(Worksheet!$AN63,5)=\"Total\",SUM(OFFSET(H68,-COUNTIF(Worksheet!$AM$1:$AM$98,Worksheet!$AM63)+1,0,COUNTIF(Worksheet!$AM$1:$AM$98,Worksheet!$AM63)-1)),SUMIFS(Worksheet!$X$2:$X$100,Worksheet!$Z$2:$Z$100,CONCATENATE(Worksheet!$AN63,$B68,H$7)))))","v":""},{"$f":"IF(Worksheet!$AN63=\"\",\"\",IF(Worksheet!$AN63=\"Overall Total\",SUMIFS(Worksheet!$X$2:$X$100,Worksheet!$W$2:$W$100,I$7),IF(RIGHT(Worksheet!$AN63,5)=\"Total\",SUM(OFFSET(I68,-COUNTIF(Worksheet!$AM$1:$AM$98,Worksheet!$AM63)+1,0,COUNTIF(Worksheet!$AM$1:$AM$98,Worksheet!$AM63)-1)),SUMIFS(Worksheet!$X$2:$X$100,Worksheet!$Z$2:$Z$100,CONCATENATE(Worksheet!$AN63,$B68,I$7)))))","v":""},{"$f":"IF(Worksheet!$AN63=\"\",\"\",IF(Worksheet!$AN63=\"Overall Total\",SUMIFS(Worksheet!$X$2:$X$100,Worksheet!$W$2:$W$100,J$7),IF(RIGHT(Worksheet!$AN63,5)=\"Total\",SUM(OFFSET(J68,-COUNTIF(Worksheet!$AM$1:$AM$98,Worksheet!$AM63)+1,0,COUNTIF(Worksheet!$AM$1:$AM$98,Worksheet!$AM63)-1)),SUMIFS(Worksheet!$X$2:$X$100,Worksheet!$Z$2:$Z$100,CONCATENATE(Worksheet!$AN63,$B68,J$7)))))","v":""},{"$f":"IF(Worksheet!$AN63=\"\",\"\",IF(Worksheet!$AN63=\"Overall Total\",SUMIFS(Worksheet!$X$2:$X$100,Worksheet!$W$2:$W$100,K$7),IF(RIGHT(Worksheet!$AN63,5)=\"Total\",SUM(OFFSET(K68,-COUNTIF(Worksheet!$AM$1:$AM$98,Worksheet!$AM63)+1,0,COUNTIF(Worksheet!$AM$1:$AM$98,Worksheet!$AM63)-1)),SUMIFS(Worksheet!$X$2:$X$100,Worksheet!$Z$2:$Z$100,CONCATENATE(Worksheet!$AN63,$B68,K$7)))))","v":""},{"$f":"IF(Worksheet!$AN63=\"\",\"\",IF(Worksheet!$AN63=\"Overall Total\",SUMIFS(Worksheet!$X$2:$X$100,Worksheet!$W$2:$W$100,L$7),IF(RIGHT(Worksheet!$AN63,5)=\"Total\",SUM(OFFSET(L68,-COUNTIF(Worksheet!$AM$1:$AM$98,Worksheet!$AM63)+1,0,COUNTIF(Worksheet!$AM$1:$AM$98,Worksheet!$AM63)-1)),SUMIFS(Worksheet!$X$2:$X$100,Worksheet!$Z$2:$Z$100,CONCATENATE(Worksheet!$AN63,$B68,L$7)))))","v":""},{"$f":"IF(Worksheet!$AN63=\"\",\"\",IF(Worksheet!$AN63=\"Overall Total\",SUMIFS(Worksheet!$X$2:$X$100,Worksheet!$W$2:$W$100,M$7),IF(RIGHT(Worksheet!$AN63,5)=\"Total\",SUM(OFFSET(M68,-COUNTIF(Worksheet!$AM$1:$AM$98,Worksheet!$AM63)+1,0,COUNTIF(Worksheet!$AM$1:$AM$98,Worksheet!$AM63)-1)),SUMIFS(Worksheet!$X$2:$X$100,Worksheet!$Z$2:$Z$100,CONCATENATE(Worksheet!$AN63,$B68,M$7)))))","v":""},{"$f":"IF(Worksheet!$AN63=\"\",\"\",IF(Worksheet!$AN63=\"Overall Total\",$N$1,IF(RIGHT(Worksheet!$AN63,5)=\"Total\",SUM(OFFSET(N68,-COUNTIF(Worksheet!$AM$1:$AM$98,Worksheet!$AM63)+1,0,COUNTIF(Worksheet!$AM$1:$AM$98,Worksheet!$AM63)-1)),SUM(D68:M68))))","v":""}]
[{"$f":"IF(Worksheet!AN64=Worksheet!AN63,\"\",Worksheet!AN64)","v":""},{"$f":"IF(OR(Worksheet!AL64=\"\",Worksheet!AN63=\"\"),\"\",IF(RIGHT(Worksheet!AN64,5)=\"Total\",\"\",OFFSET(Worksheet!$AE$1,Worksheet!AL64,0)))","v":""},null,{"$f":"IF(Worksheet!$AN64=\"\",\"\",IF(Worksheet!$AN64=\"Overall Total\",SUMIFS(Worksheet!$X$2:$X$100,Worksheet!$W$2:$W$100,D$7),IF(RIGHT(Worksheet!$AN64,5)=\"Total\",SUM(OFFSET(D69,-COUNTIF(Worksheet!$AM$1:$AM$98,Worksheet!$AM64)+1,0,COUNTIF(Worksheet!$AM$1:$AM$98,Worksheet!$AM64)-1)),SUMIFS(Worksheet!$X$2:$X$100,Worksheet!$Z$2:$Z$100,CONCATENATE(Worksheet!$AN64,$B69,D$7)))))","v":""},{"$f":"IF(Worksheet!$AN64=\"\",\"\",IF(Worksheet!$AN64=\"Overall Total\",SUMIFS(Worksheet!$X$2:$X$100,Worksheet!$W$2:$W$100,E$7),IF(RIGHT(Worksheet!$AN64,5)=\"Total\",SUM(OFFSET(E69,-COUNTIF(Worksheet!$AM$1:$AM$98,Worksheet!$AM64)+1,0,COUNTIF(Worksheet!$AM$1:$AM$98,Worksheet!$AM64)-1)),SUMIFS(Worksheet!$X$2:$X$100,Worksheet!$Z$2:$Z$100,CONCATENATE(Worksheet!$AN64,$B69,E$7)))))","v":""},{"$f":"IF(Worksheet!$AN64=\"\",\"\",IF(Worksheet!$AN64=\"Overall Total\",SUMIFS(Worksheet!$X$2:$X$100,Worksheet!$W$2:$W$100,F$7),IF(RIGHT(Worksheet!$AN64,5)=\"Total\",SUM(OFFSET(F69,-COUNTIF(Worksheet!$AM$1:$AM$98,Worksheet!$AM64)+1,0,COUNTIF(Worksheet!$AM$1:$AM$98,Worksheet!$AM64)-1)),SUMIFS(Worksheet!$X$2:$X$100,Worksheet!$Z$2:$Z$100,CONCATENATE(Worksheet!$AN64,$B69,F$7)))))","v":""},{"$f":"IF(Worksheet!$AN64=\"\",\"\",IF(Worksheet!$AN64=\"Overall Total\",SUMIFS(Worksheet!$X$2:$X$100,Worksheet!$W$2:$W$100,G$7),IF(RIGHT(Worksheet!$AN64,5)=\"Total\",SUM(OFFSET(G69,-COUNTIF(Worksheet!$AM$1:$AM$98,Worksheet!$AM64)+1,0,COUNTIF(Worksheet!$AM$1:$AM$98,Worksheet!$AM64)-1)),SUMIFS(Worksheet!$X$2:$X$100,Worksheet!$Z$2:$Z$100,CONCATENATE(Worksheet!$AN64,$B69,G$7)))))","v":""},{"$f":"IF(Worksheet!$AN64=\"\",\"\",IF(Worksheet!$AN64=\"Overall Total\",SUMIFS(Worksheet!$X$2:$X$100,Worksheet!$W$2:$W$100,H$7),IF(RIGHT(Worksheet!$AN64,5)=\"Total\",SUM(OFFSET(H69,-COUNTIF(Worksheet!$AM$1:$AM$98,Worksheet!$AM64)+1,0,COUNTIF(Worksheet!$AM$1:$AM$98,Worksheet!$AM64)-1)),SUMIFS(Worksheet!$X$2:$X$100,Worksheet!$Z$2:$Z$100,CONCATENATE(Worksheet!$AN64,$B69,H$7)))))","v":""},{"$f":"IF(Worksheet!$AN64=\"\",\"\",IF(Worksheet!$AN64=\"Overall Total\",SUMIFS(Worksheet!$X$2:$X$100,Worksheet!$W$2:$W$100,I$7),IF(RIGHT(Worksheet!$AN64,5)=\"Total\",SUM(OFFSET(I69,-COUNTIF(Worksheet!$AM$1:$AM$98,Worksheet!$AM64)+1,0,COUNTIF(Worksheet!$AM$1:$AM$98,Worksheet!$AM64)-1)),SUMIFS(Worksheet!$X$2:$X$100,Worksheet!$Z$2:$Z$100,CONCATENATE(Worksheet!$AN64,$B69,I$7)))))","v":""},{"$f":"IF(Worksheet!$AN64=\"\",\"\",IF(Worksheet!$AN64=\"Overall Total\",SUMIFS(Worksheet!$X$2:$X$100,Worksheet!$W$2:$W$100,J$7),IF(RIGHT(Worksheet!$AN64,5)=\"Total\",SUM(OFFSET(J69,-COUNTIF(Worksheet!$AM$1:$AM$98,Worksheet!$AM64)+1,0,COUNTIF(Worksheet!$AM$1:$AM$98,Worksheet!$AM64)-1)),SUMIFS(Worksheet!$X$2:$X$100,Worksheet!$Z$2:$Z$100,CONCATENATE(Worksheet!$AN64,$B69,J$7)))))","v":""},{"$f":"IF(Worksheet!$AN64=\"\",\"\",IF(Worksheet!$AN64=\"Overall Total\",SUMIFS(Worksheet!$X$2:$X$100,Worksheet!$W$2:$W$100,K$7),IF(RIGHT(Worksheet!$AN64,5)=\"Total\",SUM(OFFSET(K69,-COUNTIF(Worksheet!$AM$1:$AM$98,Worksheet!$AM64)+1,0,COUNTIF(Worksheet!$AM$1:$AM$98,Worksheet!$AM64)-1)),SUMIFS(Worksheet!$X$2:$X$100,Worksheet!$Z$2:$Z$100,CONCATENATE(Worksheet!$AN64,$B69,K$7)))))","v":""},{"$f":"IF(Worksheet!$AN64=\"\",\"\",IF(Worksheet!$AN64=\"Overall Total\",SUMIFS(Worksheet!$X$2:$X$100,Worksheet!$W$2:$W$100,L$7),IF(RIGHT(Worksheet!$AN64,5)=\"Total\",SUM(OFFSET(L69,-COUNTIF(Worksheet!$AM$1:$AM$98,Worksheet!$AM64)+1,0,COUNTIF(Worksheet!$AM$1:$AM$98,Worksheet!$AM64)-1)),SUMIFS(Worksheet!$X$2:$X$100,Worksheet!$Z$2:$Z$100,CONCATENATE(Worksheet!$AN64,$B69,L$7)))))","v":""},{"$f":"IF(Worksheet!$AN64=\"\",\"\",IF(Worksheet!$AN64=\"Overall Total\",SUMIFS(Worksheet!$X$2:$X$100,Worksheet!$W$2:$W$100,M$7),IF(RIGHT(Worksheet!$AN64,5)=\"Total\",SUM(OFFSET(M69,-COUNTIF(Worksheet!$AM$1:$AM$98,Worksheet!$AM64)+1,0,COUNTIF(Worksheet!$AM$1:$AM$98,Worksheet!$AM64)-1)),SUMIFS(Worksheet!$X$2:$X$100,Worksheet!$Z$2:$Z$100,CONCATENATE(Worksheet!$AN64,$B69,M$7)))))","v":""},{"$f":"IF(Worksheet!$AN64=\"\",\"\",IF(Worksheet!$AN64=\"Overall Total\",$N$1,IF(RIGHT(Worksheet!$AN64,5)=\"Total\",SUM(OFFSET(N69,-COUNTIF(Worksheet!$AM$1:$AM$98,Worksheet!$AM64)+1,0,COUNTIF(Worksheet!$AM$1:$AM$98,Worksheet!$AM64)-1)),SUM(D69:M69))))","v":""}]
[{"$f":"IF(Worksheet!AN65=Worksheet!AN64,\"\",Worksheet!AN65)","v":""},{"$f":"IF(OR(Worksheet!AL65=\"\",Worksheet!AN64=\"\"),\"\",IF(RIGHT(Worksheet!AN65,5)=\"Total\",\"\",OFFSET(Worksheet!$AE$1,Worksheet!AL65,0)))","v":""},null,{"$f":"IF(Worksheet!$AN65=\"\",\"\",IF(Worksheet!$AN65=\"Overall Total\",SUMIFS(Worksheet!$X$2:$X$100,Worksheet!$W$2:$W$100,D$7),IF(RIGHT(Worksheet!$AN65,5)=\"Total\",SUM(OFFSET(D70,-COUNTIF(Worksheet!$AM$1:$AM$98,Worksheet!$AM65)+1,0,COUNTIF(Worksheet!$AM$1:$AM$98,Worksheet!$AM65)-1)),SUMIFS(Worksheet!$X$2:$X$100,Worksheet!$Z$2:$Z$100,CONCATENATE(Worksheet!$AN65,$B70,D$7)))))","v":""},{"$f":"IF(Worksheet!$AN65=\"\",\"\",IF(Worksheet!$AN65=\"Overall Total\",SUMIFS(Worksheet!$X$2:$X$100,Worksheet!$W$2:$W$100,E$7),IF(RIGHT(Worksheet!$AN65,5)=\"Total\",SUM(OFFSET(E70,-COUNTIF(Worksheet!$AM$1:$AM$98,Worksheet!$AM65)+1,0,COUNTIF(Worksheet!$AM$1:$AM$98,Worksheet!$AM65)-1)),SUMIFS(Worksheet!$X$2:$X$100,Worksheet!$Z$2:$Z$100,CONCATENATE(Worksheet!$AN65,$B70,E$7)))))","v":""},{"$f":"IF(Worksheet!$AN65=\"\",\"\",IF(Worksheet!$AN65=\"Overall Total\",SUMIFS(Worksheet!$X$2:$X$100,Worksheet!$W$2:$W$100,F$7),IF(RIGHT(Worksheet!$AN65,5)=\"Total\",SUM(OFFSET(F70,-COUNTIF(Worksheet!$AM$1:$AM$98,Worksheet!$AM65)+1,0,COUNTIF(Worksheet!$AM$1:$AM$98,Worksheet!$AM65)-1)),SUMIFS(Worksheet!$X$2:$X$100,Worksheet!$Z$2:$Z$100,CONCATENATE(Worksheet!$AN65,$B70,F$7)))))","v":""},{"$f":"IF(Worksheet!$AN65=\"\",\"\",IF(Worksheet!$AN65=\"Overall Total\",SUMIFS(Worksheet!$X$2:$X$100,Worksheet!$W$2:$W$100,G$7),IF(RIGHT(Worksheet!$AN65,5)=\"Total\",SUM(OFFSET(G70,-COUNTIF(Worksheet!$AM$1:$AM$98,Worksheet!$AM65)+1,0,COUNTIF(Worksheet!$AM$1:$AM$98,Worksheet!$AM65)-1)),SUMIFS(Worksheet!$X$2:$X$100,Worksheet!$Z$2:$Z$100,CONCATENATE(Worksheet!$AN65,$B70,G$7)))))","v":""},{"$f":"IF(Worksheet!$AN65=\"\",\"\",IF(Worksheet!$AN65=\"Overall Total\",SUMIFS(Worksheet!$X$2:$X$100,Worksheet!$W$2:$W$100,H$7),IF(RIGHT(Worksheet!$AN65,5)=\"Total\",SUM(OFFSET(H70,-COUNTIF(Worksheet!$AM$1:$AM$98,Worksheet!$AM65)+1,0,COUNTIF(Worksheet!$AM$1:$AM$98,Worksheet!$AM65)-1)),SUMIFS(Worksheet!$X$2:$X$100,Worksheet!$Z$2:$Z$100,CONCATENATE(Worksheet!$AN65,$B70,H$7)))))","v":""},{"$f":"IF(Worksheet!$AN65=\"\",\"\",IF(Worksheet!$AN65=\"Overall Total\",SUMIFS(Worksheet!$X$2:$X$100,Worksheet!$W$2:$W$100,I$7),IF(RIGHT(Worksheet!$AN65,5)=\"Total\",SUM(OFFSET(I70,-COUNTIF(Worksheet!$AM$1:$AM$98,Worksheet!$AM65)+1,0,COUNTIF(Worksheet!$AM$1:$AM$98,Worksheet!$AM65)-1)),SUMIFS(Worksheet!$X$2:$X$100,Worksheet!$Z$2:$Z$100,CONCATENATE(Worksheet!$AN65,$B70,I$7)))))","v":""},{"$f":"IF(Worksheet!$AN65=\"\",\"\",IF(Worksheet!$AN65=\"Overall Total\",SUMIFS(Worksheet!$X$2:$X$100,Worksheet!$W$2:$W$100,J$7),IF(RIGHT(Worksheet!$AN65,5)=\"Total\",SUM(OFFSET(J70,-COUNTIF(Worksheet!$AM$1:$AM$98,Worksheet!$AM65)+1,0,COUNTIF(Worksheet!$AM$1:$AM$98,Worksheet!$AM65)-1)),SUMIFS(Worksheet!$X$2:$X$100,Worksheet!$Z$2:$Z$100,CONCATENATE(Worksheet!$AN65,$B70,J$7)))))","v":""},{"$f":"IF(Worksheet!$AN65=\"\",\"\",IF(Worksheet!$AN65=\"Overall Total\",SUMIFS(Worksheet!$X$2:$X$100,Worksheet!$W$2:$W$100,K$7),IF(RIGHT(Worksheet!$AN65,5)=\"Total\",SUM(OFFSET(K70,-COUNTIF(Worksheet!$AM$1:$AM$98,Worksheet!$AM65)+1,0,COUNTIF(Worksheet!$AM$1:$AM$98,Worksheet!$AM65)-1)),SUMIFS(Worksheet!$X$2:$X$100,Worksheet!$Z$2:$Z$100,CONCATENATE(Worksheet!$AN65,$B70,K$7)))))","v":""},{"$f":"IF(Worksheet!$AN65=\"\",\"\",IF(Worksheet!$AN65=\"Overall Total\",SUMIFS(Worksheet!$X$2:$X$100,Worksheet!$W$2:$W$100,L$7),IF(RIGHT(Worksheet!$AN65,5)=\"Total\",SUM(OFFSET(L70,-COUNTIF(Worksheet!$AM$1:$AM$98,Worksheet!$AM65)+1,0,COUNTIF(Worksheet!$AM$1:$AM$98,Worksheet!$AM65)-1)),SUMIFS(Worksheet!$X$2:$X$100,Worksheet!$Z$2:$Z$100,CONCATENATE(Worksheet!$AN65,$B70,L$7)))))","v":""},{"$f":"IF(Worksheet!$AN65=\"\",\"\",IF(Worksheet!$AN65=\"Overall Total\",SUMIFS(Worksheet!$X$2:$X$100,Worksheet!$W$2:$W$100,M$7),IF(RIGHT(Worksheet!$AN65,5)=\"Total\",SUM(OFFSET(M70,-COUNTIF(Worksheet!$AM$1:$AM$98,Worksheet!$AM65)+1,0,COUNTIF(Worksheet!$AM$1:$AM$98,Worksheet!$AM65)-1)),SUMIFS(Worksheet!$X$2:$X$100,Worksheet!$Z$2:$Z$100,CONCATENATE(Worksheet!$AN65,$B70,M$7)))))","v":""},{"$f":"IF(Worksheet!$AN65=\"\",\"\",IF(Worksheet!$AN65=\"Overall Total\",$N$1,IF(RIGHT(Worksheet!$AN65,5)=\"Total\",SUM(OFFSET(N70,-COUNTIF(Worksheet!$AM$1:$AM$98,Worksheet!$AM65)+1,0,COUNTIF(Worksheet!$AM$1:$AM$98,Worksheet!$AM65)-1)),SUM(D70:M70))))","v":""}]
[{"$f":"IF(Worksheet!AN66=Worksheet!AN65,\"\",Worksheet!AN66)","v":""},{"$f":"IF(OR(Worksheet!AL66=\"\",Worksheet!AN65=\"\"),\"\",IF(RIGHT(Worksheet!AN66,5)=\"Total\",\"\",OFFSET(Worksheet!$AE$1,Worksheet!AL66,0)))","v":""},null,{"$f":"IF(Worksheet!$AN66=\"\",\"\",IF(Worksheet!$AN66=\"Overall Total\",SUMIFS(Worksheet!$X$2:$X$100,Worksheet!$W$2:$W$100,D$7),IF(RIGHT(Worksheet!$AN66,5)=\"Total\",SUM(OFFSET(D71,-COUNTIF(Worksheet!$AM$1:$AM$98,Worksheet!$AM66)+1,0,COUNTIF(Worksheet!$AM$1:$AM$98,Worksheet!$AM66)-1)),SUMIFS(Worksheet!$X$2:$X$100,Worksheet!$Z$2:$Z$100,CONCATENATE(Worksheet!$AN66,$B71,D$7)))))","v":""},{"$f":"IF(Worksheet!$AN66=\"\",\"\",IF(Worksheet!$AN66=\"Overall Total\",SUMIFS(Worksheet!$X$2:$X$100,Worksheet!$W$2:$W$100,E$7),IF(RIGHT(Worksheet!$AN66,5)=\"Total\",SUM(OFFSET(E71,-COUNTIF(Worksheet!$AM$1:$AM$98,Worksheet!$AM66)+1,0,COUNTIF(Worksheet!$AM$1:$AM$98,Worksheet!$AM66)-1)),SUMIFS(Worksheet!$X$2:$X$100,Worksheet!$Z$2:$Z$100,CONCATENATE(Worksheet!$AN66,$B71,E$7)))))","v":""},{"$f":"IF(Worksheet!$AN66=\"\",\"\",IF(Worksheet!$AN66=\"Overall Total\",SUMIFS(Worksheet!$X$2:$X$100,Worksheet!$W$2:$W$100,F$7),IF(RIGHT(Worksheet!$AN66,5)=\"Total\",SUM(OFFSET(F71,-COUNTIF(Worksheet!$AM$1:$AM$98,Worksheet!$AM66)+1,0,COUNTIF(Worksheet!$AM$1:$AM$98,Worksheet!$AM66)-1)),SUMIFS(Worksheet!$X$2:$X$100,Worksheet!$Z$2:$Z$100,CONCATENATE(Worksheet!$AN66,$B71,F$7)))))","v":""},{"$f":"IF(Worksheet!$AN66=\"\",\"\",IF(Worksheet!$AN66=\"Overall Total\",SUMIFS(Worksheet!$X$2:$X$100,Worksheet!$W$2:$W$100,G$7),IF(RIGHT(Worksheet!$AN66,5)=\"Total\",SUM(OFFSET(G71,-COUNTIF(Worksheet!$AM$1:$AM$98,Worksheet!$AM66)+1,0,COUNTIF(Worksheet!$AM$1:$AM$98,Worksheet!$AM66)-1)),SUMIFS(Worksheet!$X$2:$X$100,Worksheet!$Z$2:$Z$100,CONCATENATE(Worksheet!$AN66,$B71,G$7)))))","v":""},{"$f":"IF(Worksheet!$AN66=\"\",\"\",IF(Worksheet!$AN66=\"Overall Total\",SUMIFS(Worksheet!$X$2:$X$100,Worksheet!$W$2:$W$100,H$7),IF(RIGHT(Worksheet!$AN66,5)=\"Total\",SUM(OFFSET(H71,-COUNTIF(Worksheet!$AM$1:$AM$98,Worksheet!$AM66)+1,0,COUNTIF(Worksheet!$AM$1:$AM$98,Worksheet!$AM66)-1)),SUMIFS(Worksheet!$X$2:$X$100,Worksheet!$Z$2:$Z$100,CONCATENATE(Worksheet!$AN66,$B71,H$7)))))","v":""},{"$f":"IF(Worksheet!$AN66=\"\",\"\",IF(Worksheet!$AN66=\"Overall Total\",SUMIFS(Worksheet!$X$2:$X$100,Worksheet!$W$2:$W$100,I$7),IF(RIGHT(Worksheet!$AN66,5)=\"Total\",SUM(OFFSET(I71,-COUNTIF(Worksheet!$AM$1:$AM$98,Worksheet!$AM66)+1,0,COUNTIF(Worksheet!$AM$1:$AM$98,Worksheet!$AM66)-1)),SUMIFS(Worksheet!$X$2:$X$100,Worksheet!$Z$2:$Z$100,CONCATENATE(Worksheet!$AN66,$B71,I$7)))))","v":""},{"$f":"IF(Worksheet!$AN66=\"\",\"\",IF(Worksheet!$AN66=\"Overall Total\",SUMIFS(Worksheet!$X$2:$X$100,Worksheet!$W$2:$W$100,J$7),IF(RIGHT(Worksheet!$AN66,5)=\"Total\",SUM(OFFSET(J71,-COUNTIF(Worksheet!$AM$1:$AM$98,Worksheet!$AM66)+1,0,COUNTIF(Worksheet!$AM$1:$AM$98,Worksheet!$AM66)-1)),SUMIFS(Worksheet!$X$2:$X$100,Worksheet!$Z$2:$Z$100,CONCATENATE(Worksheet!$AN66,$B71,J$7)))))","v":""},{"$f":"IF(Worksheet!$AN66=\"\",\"\",IF(Worksheet!$AN66=\"Overall Total\",SUMIFS(Worksheet!$X$2:$X$100,Worksheet!$W$2:$W$100,K$7),IF(RIGHT(Worksheet!$AN66,5)=\"Total\",SUM(OFFSET(K71,-COUNTIF(Worksheet!$AM$1:$AM$98,Worksheet!$AM66)+1,0,COUNTIF(Worksheet!$AM$1:$AM$98,Worksheet!$AM66)-1)),SUMIFS(Worksheet!$X$2:$X$100,Worksheet!$Z$2:$Z$100,CONCATENATE(Worksheet!$AN66,$B71,K$7)))))","v":""},{"$f":"IF(Worksheet!$AN66=\"\",\"\",IF(Worksheet!$AN66=\"Overall Total\",SUMIFS(Worksheet!$X$2:$X$100,Worksheet!$W$2:$W$100,L$7),IF(RIGHT(Worksheet!$AN66,5)=\"Total\",SUM(OFFSET(L71,-COUNTIF(Worksheet!$AM$1:$AM$98,Worksheet!$AM66)+1,0,COUNTIF(Worksheet!$AM$1:$AM$98,Worksheet!$AM66)-1)),SUMIFS(Worksheet!$X$2:$X$100,Worksheet!$Z$2:$Z$100,CONCATENATE(Worksheet!$AN66,$B71,L$7)))))","v":""},{"$f":"IF(Worksheet!$AN66=\"\",\"\",IF(Worksheet!$AN66=\"Overall Total\",SUMIFS(Worksheet!$X$2:$X$100,Worksheet!$W$2:$W$100,M$7),IF(RIGHT(Worksheet!$AN66,5)=\"Total\",SUM(OFFSET(M71,-COUNTIF(Worksheet!$AM$1:$AM$98,Worksheet!$AM66)+1,0,COUNTIF(Worksheet!$AM$1:$AM$98,Worksheet!$AM66)-1)),SUMIFS(Worksheet!$X$2:$X$100,Worksheet!$Z$2:$Z$100,CONCATENATE(Worksheet!$AN66,$B71,M$7)))))","v":""},{"$f":"IF(Worksheet!$AN66=\"\",\"\",IF(Worksheet!$AN66=\"Overall Total\",$N$1,IF(RIGHT(Worksheet!$AN66,5)=\"Total\",SUM(OFFSET(N71,-COUNTIF(Worksheet!$AM$1:$AM$98,Worksheet!$AM66)+1,0,COUNTIF(Worksheet!$AM$1:$AM$98,Worksheet!$AM66)-1)),SUM(D71:M71))))","v":""}]
[{"$f":"IF(Worksheet!AN67=Worksheet!AN66,\"\",Worksheet!AN67)","v":""},{"$f":"IF(OR(Worksheet!AL67=\"\",Worksheet!AN66=\"\"),\"\",IF(RIGHT(Worksheet!AN67,5)=\"Total\",\"\",OFFSET(Worksheet!$AE$1,Worksheet!AL67,0)))","v":""},null,{"$f":"IF(Worksheet!$AN67=\"\",\"\",IF(Worksheet!$AN67=\"Overall Total\",SUMIFS(Worksheet!$X$2:$X$100,Worksheet!$W$2:$W$100,D$7),IF(RIGHT(Worksheet!$AN67,5)=\"Total\",SUM(OFFSET(D72,-COUNTIF(Worksheet!$AM$1:$AM$98,Worksheet!$AM67)+1,0,COUNTIF(Worksheet!$AM$1:$AM$98,Worksheet!$AM67)-1)),SUMIFS(Worksheet!$X$2:$X$100,Worksheet!$Z$2:$Z$100,CONCATENATE(Worksheet!$AN67,$B72,D$7)))))","v":""},{"$f":"IF(Worksheet!$AN67=\"\",\"\",IF(Worksheet!$AN67=\"Overall Total\",SUMIFS(Worksheet!$X$2:$X$100,Worksheet!$W$2:$W$100,E$7),IF(RIGHT(Worksheet!$AN67,5)=\"Total\",SUM(OFFSET(E72,-COUNTIF(Worksheet!$AM$1:$AM$98,Worksheet!$AM67)+1,0,COUNTIF(Worksheet!$AM$1:$AM$98,Worksheet!$AM67)-1)),SUMIFS(Worksheet!$X$2:$X$100,Worksheet!$Z$2:$Z$100,CONCATENATE(Worksheet!$AN67,$B72,E$7)))))","v":""},{"$f":"IF(Worksheet!$AN67=\"\",\"\",IF(Worksheet!$AN67=\"Overall Total\",SUMIFS(Worksheet!$X$2:$X$100,Worksheet!$W$2:$W$100,F$7),IF(RIGHT(Worksheet!$AN67,5)=\"Total\",SUM(OFFSET(F72,-COUNTIF(Worksheet!$AM$1:$AM$98,Worksheet!$AM67)+1,0,COUNTIF(Worksheet!$AM$1:$AM$98,Worksheet!$AM67)-1)),SUMIFS(Worksheet!$X$2:$X$100,Worksheet!$Z$2:$Z$100,CONCATENATE(Worksheet!$AN67,$B72,F$7)))))","v":""},{"$f":"IF(Worksheet!$AN67=\"\",\"\",IF(Worksheet!$AN67=\"Overall Total\",SUMIFS(Worksheet!$X$2:$X$100,Worksheet!$W$2:$W$100,G$7),IF(RIGHT(Worksheet!$AN67,5)=\"Total\",SUM(OFFSET(G72,-COUNTIF(Worksheet!$AM$1:$AM$98,Worksheet!$AM67)+1,0,COUNTIF(Worksheet!$AM$1:$AM$98,Worksheet!$AM67)-1)),SUMIFS(Worksheet!$X$2:$X$100,Worksheet!$Z$2:$Z$100,CONCATENATE(Worksheet!$AN67,$B72,G$7)))))","v":""},{"$f":"IF(Worksheet!$AN67=\"\",\"\",IF(Worksheet!$AN67=\"Overall Total\",SUMIFS(Worksheet!$X$2:$X$100,Worksheet!$W$2:$W$100,H$7),IF(RIGHT(Worksheet!$AN67,5)=\"Total\",SUM(OFFSET(H72,-COUNTIF(Worksheet!$AM$1:$AM$98,Worksheet!$AM67)+1,0,COUNTIF(Worksheet!$AM$1:$AM$98,Worksheet!$AM67)-1)),SUMIFS(Worksheet!$X$2:$X$100,Worksheet!$Z$2:$Z$100,CONCATENATE(Worksheet!$AN67,$B72,H$7)))))","v":""},{"$f":"IF(Worksheet!$AN67=\"\",\"\",IF(Worksheet!$AN67=\"Overall Total\",SUMIFS(Worksheet!$X$2:$X$100,Worksheet!$W$2:$W$100,I$7),IF(RIGHT(Worksheet!$AN67,5)=\"Total\",SUM(OFFSET(I72,-COUNTIF(Worksheet!$AM$1:$AM$98,Worksheet!$AM67)+1,0,COUNTIF(Worksheet!$AM$1:$AM$98,Worksheet!$AM67)-1)),SUMIFS(Worksheet!$X$2:$X$100,Worksheet!$Z$2:$Z$100,CONCATENATE(Worksheet!$AN67,$B72,I$7)))))","v":""},{"$f":"IF(Worksheet!$AN67=\"\",\"\",IF(Worksheet!$AN67=\"Overall Total\",SUMIFS(Worksheet!$X$2:$X$100,Worksheet!$W$2:$W$100,J$7),IF(RIGHT(Worksheet!$AN67,5)=\"Total\",SUM(OFFSET(J72,-COUNTIF(Worksheet!$AM$1:$AM$98,Worksheet!$AM67)+1,0,COUNTIF(Worksheet!$AM$1:$AM$98,Worksheet!$AM67)-1)),SUMIFS(Worksheet!$X$2:$X$100,Worksheet!$Z$2:$Z$100,CONCATENATE(Worksheet!$AN67,$B72,J$7)))))","v":""},{"$f":"IF(Worksheet!$AN67=\"\",\"\",IF(Worksheet!$AN67=\"Overall Total\",SUMIFS(Worksheet!$X$2:$X$100,Worksheet!$W$2:$W$100,K$7),IF(RIGHT(Worksheet!$AN67,5)=\"Total\",SUM(OFFSET(K72,-COUNTIF(Worksheet!$AM$1:$AM$98,Worksheet!$AM67)+1,0,COUNTIF(Worksheet!$AM$1:$AM$98,Worksheet!$AM67)-1)),SUMIFS(Worksheet!$X$2:$X$100,Worksheet!$Z$2:$Z$100,CONCATENATE(Worksheet!$AN67,$B72,K$7)))))","v":""},{"$f":"IF(Worksheet!$AN67=\"\",\"\",IF(Worksheet!$AN67=\"Overall Total\",SUMIFS(Worksheet!$X$2:$X$100,Worksheet!$W$2:$W$100,L$7),IF(RIGHT(Worksheet!$AN67,5)=\"Total\",SUM(OFFSET(L72,-COUNTIF(Worksheet!$AM$1:$AM$98,Worksheet!$AM67)+1,0,COUNTIF(Worksheet!$AM$1:$AM$98,Worksheet!$AM67)-1)),SUMIFS(Worksheet!$X$2:$X$100,Worksheet!$Z$2:$Z$100,CONCATENATE(Worksheet!$AN67,$B72,L$7)))))","v":""},{"$f":"IF(Worksheet!$AN67=\"\",\"\",IF(Worksheet!$AN67=\"Overall Total\",SUMIFS(Worksheet!$X$2:$X$100,Worksheet!$W$2:$W$100,M$7),IF(RIGHT(Worksheet!$AN67,5)=\"Total\",SUM(OFFSET(M72,-COUNTIF(Worksheet!$AM$1:$AM$98,Worksheet!$AM67)+1,0,COUNTIF(Worksheet!$AM$1:$AM$98,Worksheet!$AM67)-1)),SUMIFS(Worksheet!$X$2:$X$100,Worksheet!$Z$2:$Z$100,CONCATENATE(Worksheet!$AN67,$B72,M$7)))))","v":""},{"$f":"IF(Worksheet!$AN67=\"\",\"\",IF(Worksheet!$AN67=\"Overall Total\",$N$1,IF(RIGHT(Worksheet!$AN67,5)=\"Total\",SUM(OFFSET(N72,-COUNTIF(Worksheet!$AM$1:$AM$98,Worksheet!$AM67)+1,0,COUNTIF(Worksheet!$AM$1:$AM$98,Worksheet!$AM67)-1)),SUM(D72:M72))))","v":""}]
[{"$f":"IF(Worksheet!AN68=Worksheet!AN67,\"\",Worksheet!AN68)","v":""},{"$f":"IF(OR(Worksheet!AL68=\"\",Worksheet!AN67=\"\"),\"\",IF(RIGHT(Worksheet!AN68,5)=\"Total\",\"\",OFFSET(Worksheet!$AE$1,Worksheet!AL68,0)))","v":""},null,{"$f":"IF(Worksheet!$AN68=\"\",\"\",IF(Worksheet!$AN68=\"Overall Total\",SUMIFS(Worksheet!$X$2:$X$100,Worksheet!$W$2:$W$100,D$7),IF(RIGHT(Worksheet!$AN68,5)=\"Total\",SUM(OFFSET(D73,-COUNTIF(Worksheet!$AM$1:$AM$98,Worksheet!$AM68)+1,0,COUNTIF(Worksheet!$AM$1:$AM$98,Worksheet!$AM68)-1)),SUMIFS(Worksheet!$X$2:$X$100,Worksheet!$Z$2:$Z$100,CONCATENATE(Worksheet!$AN68,$B73,D$7)))))","v":""},{"$f":"IF(Worksheet!$AN68=\"\",\"\",IF(Worksheet!$AN68=\"Overall Total\",SUMIFS(Worksheet!$X$2:$X$100,Worksheet!$W$2:$W$100,E$7),IF(RIGHT(Worksheet!$AN68,5)=\"Total\",SUM(OFFSET(E73,-COUNTIF(Worksheet!$AM$1:$AM$98,Worksheet!$AM68)+1,0,COUNTIF(Worksheet!$AM$1:$AM$98,Worksheet!$AM68)-1)),SUMIFS(Worksheet!$X$2:$X$100,Worksheet!$Z$2:$Z$100,CONCATENATE(Worksheet!$AN68,$B73,E$7)))))","v":""},{"$f":"IF(Worksheet!$AN68=\"\",\"\",IF(Worksheet!$AN68=\"Overall Total\",SUMIFS(Worksheet!$X$2:$X$100,Worksheet!$W$2:$W$100,F$7),IF(RIGHT(Worksheet!$AN68,5)=\"Total\",SUM(OFFSET(F73,-COUNTIF(Worksheet!$AM$1:$AM$98,Worksheet!$AM68)+1,0,COUNTIF(Worksheet!$AM$1:$AM$98,Worksheet!$AM68)-1)),SUMIFS(Worksheet!$X$2:$X$100,Worksheet!$Z$2:$Z$100,CONCATENATE(Worksheet!$AN68,$B73,F$7)))))","v":""},{"$f":"IF(Worksheet!$AN68=\"\",\"\",IF(Worksheet!$AN68=\"Overall Total\",SUMIFS(Worksheet!$X$2:$X$100,Worksheet!$W$2:$W$100,G$7),IF(RIGHT(Worksheet!$AN68,5)=\"Total\",SUM(OFFSET(G73,-COUNTIF(Worksheet!$AM$1:$AM$98,Worksheet!$AM68)+1,0,COUNTIF(Worksheet!$AM$1:$AM$98,Worksheet!$AM68)-1)),SUMIFS(Worksheet!$X$2:$X$100,Worksheet!$Z$2:$Z$100,CONCATENATE(Worksheet!$AN68,$B73,G$7)))))","v":""},{"$f":"IF(Worksheet!$AN68=\"\",\"\",IF(Worksheet!$AN68=\"Overall Total\",SUMIFS(Worksheet!$X$2:$X$100,Worksheet!$W$2:$W$100,H$7),IF(RIGHT(Worksheet!$AN68,5)=\"Total\",SUM(OFFSET(H73,-COUNTIF(Worksheet!$AM$1:$AM$98,Worksheet!$AM68)+1,0,COUNTIF(Worksheet!$AM$1:$AM$98,Worksheet!$AM68)-1)),SUMIFS(Worksheet!$X$2:$X$100,Worksheet!$Z$2:$Z$100,CONCATENATE(Worksheet!$AN68,$B73,H$7)))))","v":""},{"$f":"IF(Worksheet!$AN68=\"\",\"\",IF(Worksheet!$AN68=\"Overall Total\",SUMIFS(Worksheet!$X$2:$X$100,Worksheet!$W$2:$W$100,I$7),IF(RIGHT(Worksheet!$AN68,5)=\"Total\",SUM(OFFSET(I73,-COUNTIF(Worksheet!$AM$1:$AM$98,Worksheet!$AM68)+1,0,COUNTIF(Worksheet!$AM$1:$AM$98,Worksheet!$AM68)-1)),SUMIFS(Worksheet!$X$2:$X$100,Worksheet!$Z$2:$Z$100,CONCATENATE(Worksheet!$AN68,$B73,I$7)))))","v":""},{"$f":"IF(Worksheet!$AN68=\"\",\"\",IF(Worksheet!$AN68=\"Overall Total\",SUMIFS(Worksheet!$X$2:$X$100,Worksheet!$W$2:$W$100,J$7),IF(RIGHT(Worksheet!$AN68,5)=\"Total\",SUM(OFFSET(J73,-COUNTIF(Worksheet!$AM$1:$AM$98,Worksheet!$AM68)+1,0,COUNTIF(Worksheet!$AM$1:$AM$98,Worksheet!$AM68)-1)),SUMIFS(Worksheet!$X$2:$X$100,Worksheet!$Z$2:$Z$100,CONCATENATE(Worksheet!$AN68,$B73,J$7)))))","v":""},{"$f":"IF(Worksheet!$AN68=\"\",\"\",IF(Worksheet!$AN68=\"Overall Total\",SUMIFS(Worksheet!$X$2:$X$100,Worksheet!$W$2:$W$100,K$7),IF(RIGHT(Worksheet!$AN68,5)=\"Total\",SUM(OFFSET(K73,-COUNTIF(Worksheet!$AM$1:$AM$98,Worksheet!$AM68)+1,0,COUNTIF(Worksheet!$AM$1:$AM$98,Worksheet!$AM68)-1)),SUMIFS(Worksheet!$X$2:$X$100,Worksheet!$Z$2:$Z$100,CONCATENATE(Worksheet!$AN68,$B73,K$7)))))","v":""},{"$f":"IF(Worksheet!$AN68=\"\",\"\",IF(Worksheet!$AN68=\"Overall Total\",SUMIFS(Worksheet!$X$2:$X$100,Worksheet!$W$2:$W$100,L$7),IF(RIGHT(Worksheet!$AN68,5)=\"Total\",SUM(OFFSET(L73,-COUNTIF(Worksheet!$AM$1:$AM$98,Worksheet!$AM68)+1,0,COUNTIF(Worksheet!$AM$1:$AM$98,Worksheet!$AM68)-1)),SUMIFS(Worksheet!$X$2:$X$100,Worksheet!$Z$2:$Z$100,CONCATENATE(Worksheet!$AN68,$B73,L$7)))))","v":""},{"$f":"IF(Worksheet!$AN68=\"\",\"\",IF(Worksheet!$AN68=\"Overall Total\",SUMIFS(Worksheet!$X$2:$X$100,Worksheet!$W$2:$W$100,M$7),IF(RIGHT(Worksheet!$AN68,5)=\"Total\",SUM(OFFSET(M73,-COUNTIF(Worksheet!$AM$1:$AM$98,Worksheet!$AM68)+1,0,COUNTIF(Worksheet!$AM$1:$AM$98,Worksheet!$AM68)-1)),SUMIFS(Worksheet!$X$2:$X$100,Worksheet!$Z$2:$Z$100,CONCATENATE(Worksheet!$AN68,$B73,M$7)))))","v":""},{"$f":"IF(Worksheet!$AN68=\"\",\"\",IF(Worksheet!$AN68=\"Overall Total\",$N$1,IF(RIGHT(Worksheet!$AN68,5)=\"Total\",SUM(OFFSET(N73,-COUNTIF(Worksheet!$AM$1:$AM$98,Worksheet!$AM68)+1,0,COUNTIF(Worksheet!$AM$1:$AM$98,Worksheet!$AM68)-1)),SUM(D73:M73))))","v":""}]
[{"$f":"IF(Worksheet!AN69=Worksheet!AN68,\"\",Worksheet!AN69)","v":""},{"$f":"IF(OR(Worksheet!AL69=\"\",Worksheet!AN68=\"\"),\"\",IF(RIGHT(Worksheet!AN69,5)=\"Total\",\"\",OFFSET(Worksheet!$AE$1,Worksheet!AL69,0)))","v":""},null,{"$f":"IF(Worksheet!$AN69=\"\",\"\",IF(Worksheet!$AN69=\"Overall Total\",SUMIFS(Worksheet!$X$2:$X$100,Worksheet!$W$2:$W$100,D$7),IF(RIGHT(Worksheet!$AN69,5)=\"Total\",SUM(OFFSET(D74,-COUNTIF(Worksheet!$AM$1:$AM$98,Worksheet!$AM69)+1,0,COUNTIF(Worksheet!$AM$1:$AM$98,Worksheet!$AM69)-1)),SUMIFS(Worksheet!$X$2:$X$100,Worksheet!$Z$2:$Z$100,CONCATENATE(Worksheet!$AN69,$B74,D$7)))))","v":""},{"$f":"IF(Worksheet!$AN69=\"\",\"\",IF(Worksheet!$AN69=\"Overall Total\",SUMIFS(Worksheet!$X$2:$X$100,Worksheet!$W$2:$W$100,E$7),IF(RIGHT(Worksheet!$AN69,5)=\"Total\",SUM(OFFSET(E74,-COUNTIF(Worksheet!$AM$1:$AM$98,Worksheet!$AM69)+1,0,COUNTIF(Worksheet!$AM$1:$AM$98,Worksheet!$AM69)-1)),SUMIFS(Worksheet!$X$2:$X$100,Worksheet!$Z$2:$Z$100,CONCATENATE(Worksheet!$AN69,$B74,E$7)))))","v":""},{"$f":"IF(Worksheet!$AN69=\"\",\"\",IF(Worksheet!$AN69=\"Overall Total\",SUMIFS(Worksheet!$X$2:$X$100,Worksheet!$W$2:$W$100,F$7),IF(RIGHT(Worksheet!$AN69,5)=\"Total\",SUM(OFFSET(F74,-COUNTIF(Worksheet!$AM$1:$AM$98,Worksheet!$AM69)+1,0,COUNTIF(Worksheet!$AM$1:$AM$98,Worksheet!$AM69)-1)),SUMIFS(Worksheet!$X$2:$X$100,Worksheet!$Z$2:$Z$100,CONCATENATE(Worksheet!$AN69,$B74,F$7)))))","v":""},{"$f":"IF(Worksheet!$AN69=\"\",\"\",IF(Worksheet!$AN69=\"Overall Total\",SUMIFS(Worksheet!$X$2:$X$100,Worksheet!$W$2:$W$100,G$7),IF(RIGHT(Worksheet!$AN69,5)=\"Total\",SUM(OFFSET(G74,-COUNTIF(Worksheet!$AM$1:$AM$98,Worksheet!$AM69)+1,0,COUNTIF(Worksheet!$AM$1:$AM$98,Worksheet!$AM69)-1)),SUMIFS(Worksheet!$X$2:$X$100,Worksheet!$Z$2:$Z$100,CONCATENATE(Worksheet!$AN69,$B74,G$7)))))","v":""},{"$f":"IF(Worksheet!$AN69=\"\",\"\",IF(Worksheet!$AN69=\"Overall Total\",SUMIFS(Worksheet!$X$2:$X$100,Worksheet!$W$2:$W$100,H$7),IF(RIGHT(Worksheet!$AN69,5)=\"Total\",SUM(OFFSET(H74,-COUNTIF(Worksheet!$AM$1:$AM$98,Worksheet!$AM69)+1,0,COUNTIF(Worksheet!$AM$1:$AM$98,Worksheet!$AM69)-1)),SUMIFS(Worksheet!$X$2:$X$100,Worksheet!$Z$2:$Z$100,CONCATENATE(Worksheet!$AN69,$B74,H$7)))))","v":""},{"$f":"IF(Worksheet!$AN69=\"\",\"\",IF(Worksheet!$AN69=\"Overall Total\",SUMIFS(Worksheet!$X$2:$X$100,Worksheet!$W$2:$W$100,I$7),IF(RIGHT(Worksheet!$AN69,5)=\"Total\",SUM(OFFSET(I74,-COUNTIF(Worksheet!$AM$1:$AM$98,Worksheet!$AM69)+1,0,COUNTIF(Worksheet!$AM$1:$AM$98,Worksheet!$AM69)-1)),SUMIFS(Worksheet!$X$2:$X$100,Worksheet!$Z$2:$Z$100,CONCATENATE(Worksheet!$AN69,$B74,I$7)))))","v":""},{"$f":"IF(Worksheet!$AN69=\"\",\"\",IF(Worksheet!$AN69=\"Overall Total\",SUMIFS(Worksheet!$X$2:$X$100,Worksheet!$W$2:$W$100,J$7),IF(RIGHT(Worksheet!$AN69,5)=\"Total\",SUM(OFFSET(J74,-COUNTIF(Worksheet!$AM$1:$AM$98,Worksheet!$AM69)+1,0,COUNTIF(Worksheet!$AM$1:$AM$98,Worksheet!$AM69)-1)),SUMIFS(Worksheet!$X$2:$X$100,Worksheet!$Z$2:$Z$100,CONCATENATE(Worksheet!$AN69,$B74,J$7)))))","v":""},{"$f":"IF(Worksheet!$AN69=\"\",\"\",IF(Worksheet!$AN69=\"Overall Total\",SUMIFS(Worksheet!$X$2:$X$100,Worksheet!$W$2:$W$100,K$7),IF(RIGHT(Worksheet!$AN69,5)=\"Total\",SUM(OFFSET(K74,-COUNTIF(Worksheet!$AM$1:$AM$98,Worksheet!$AM69)+1,0,COUNTIF(Worksheet!$AM$1:$AM$98,Worksheet!$AM69)-1)),SUMIFS(Worksheet!$X$2:$X$100,Worksheet!$Z$2:$Z$100,CONCATENATE(Worksheet!$AN69,$B74,K$7)))))","v":""},{"$f":"IF(Worksheet!$AN69=\"\",\"\",IF(Worksheet!$AN69=\"Overall Total\",SUMIFS(Worksheet!$X$2:$X$100,Worksheet!$W$2:$W$100,L$7),IF(RIGHT(Worksheet!$AN69,5)=\"Total\",SUM(OFFSET(L74,-COUNTIF(Worksheet!$AM$1:$AM$98,Worksheet!$AM69)+1,0,COUNTIF(Worksheet!$AM$1:$AM$98,Worksheet!$AM69)-1)),SUMIFS(Worksheet!$X$2:$X$100,Worksheet!$Z$2:$Z$100,CONCATENATE(Worksheet!$AN69,$B74,L$7)))))","v":""},{"$f":"IF(Worksheet!$AN69=\"\",\"\",IF(Worksheet!$AN69=\"Overall Total\",SUMIFS(Worksheet!$X$2:$X$100,Worksheet!$W$2:$W$100,M$7),IF(RIGHT(Worksheet!$AN69,5)=\"Total\",SUM(OFFSET(M74,-COUNTIF(Worksheet!$AM$1:$AM$98,Worksheet!$AM69)+1,0,COUNTIF(Worksheet!$AM$1:$AM$98,Worksheet!$AM69)-1)),SUMIFS(Worksheet!$X$2:$X$100,Worksheet!$Z$2:$Z$100,CONCATENATE(Worksheet!$AN69,$B74,M$7)))))","v":""},{"$f":"IF(Worksheet!$AN69=\"\",\"\",IF(Worksheet!$AN69=\"Overall Total\",$N$1,IF(RIGHT(Worksheet!$AN69,5)=\"Total\",SUM(OFFSET(N74,-COUNTIF(Worksheet!$AM$1:$AM$98,Worksheet!$AM69)+1,0,COUNTIF(Worksheet!$AM$1:$AM$98,Worksheet!$AM69)-1)),SUM(D74:M74))))","v":""}]
[{"$f":"IF(Worksheet!AN70=Worksheet!AN69,\"\",Worksheet!AN70)","v":""},{"$f":"IF(OR(Worksheet!AL70=\"\",Worksheet!AN69=\"\"),\"\",IF(RIGHT(Worksheet!AN70,5)=\"Total\",\"\",OFFSET(Worksheet!$AE$1,Worksheet!AL70,0)))","v":""},null,{"$f":"IF(Worksheet!$AN70=\"\",\"\",IF(Worksheet!$AN70=\"Overall Total\",SUMIFS(Worksheet!$X$2:$X$100,Worksheet!$W$2:$W$100,D$7),IF(RIGHT(Worksheet!$AN70,5)=\"Total\",SUM(OFFSET(D75,-COUNTIF(Worksheet!$AM$1:$AM$98,Worksheet!$AM70)+1,0,COUNTIF(Worksheet!$AM$1:$AM$98,Worksheet!$AM70)-1)),SUMIFS(Worksheet!$X$2:$X$100,Worksheet!$Z$2:$Z$100,CONCATENATE(Worksheet!$AN70,$B75,D$7)))))","v":""},{"$f":"IF(Worksheet!$AN70=\"\",\"\",IF(Worksheet!$AN70=\"Overall Total\",SUMIFS(Worksheet!$X$2:$X$100,Worksheet!$W$2:$W$100,E$7),IF(RIGHT(Worksheet!$AN70,5)=\"Total\",SUM(OFFSET(E75,-COUNTIF(Worksheet!$AM$1:$AM$98,Worksheet!$AM70)+1,0,COUNTIF(Worksheet!$AM$1:$AM$98,Worksheet!$AM70)-1)),SUMIFS(Worksheet!$X$2:$X$100,Worksheet!$Z$2:$Z$100,CONCATENATE(Worksheet!$AN70,$B75,E$7)))))","v":""},{"$f":"IF(Worksheet!$AN70=\"\",\"\",IF(Worksheet!$AN70=\"Overall Total\",SUMIFS(Worksheet!$X$2:$X$100,Worksheet!$W$2:$W$100,F$7),IF(RIGHT(Worksheet!$AN70,5)=\"Total\",SUM(OFFSET(F75,-COUNTIF(Worksheet!$AM$1:$AM$98,Worksheet!$AM70)+1,0,COUNTIF(Worksheet!$AM$1:$AM$98,Worksheet!$AM70)-1)),SUMIFS(Worksheet!$X$2:$X$100,Worksheet!$Z$2:$Z$100,CONCATENATE(Worksheet!$AN70,$B75,F$7)))))","v":""},{"$f":"IF(Worksheet!$AN70=\"\",\"\",IF(Worksheet!$AN70=\"Overall Total\",SUMIFS(Worksheet!$X$2:$X$100,Worksheet!$W$2:$W$100,G$7),IF(RIGHT(Worksheet!$AN70,5)=\"Total\",SUM(OFFSET(G75,-COUNTIF(Worksheet!$AM$1:$AM$98,Worksheet!$AM70)+1,0,COUNTIF(Worksheet!$AM$1:$AM$98,Worksheet!$AM70)-1)),SUMIFS(Worksheet!$X$2:$X$100,Worksheet!$Z$2:$Z$100,CONCATENATE(Worksheet!$AN70,$B75,G$7)))))","v":""},{"$f":"IF(Worksheet!$AN70=\"\",\"\",IF(Worksheet!$AN70=\"Overall Total\",SUMIFS(Worksheet!$X$2:$X$100,Worksheet!$W$2:$W$100,H$7),IF(RIGHT(Worksheet!$AN70,5)=\"Total\",SUM(OFFSET(H75,-COUNTIF(Worksheet!$AM$1:$AM$98,Worksheet!$AM70)+1,0,COUNTIF(Worksheet!$AM$1:$AM$98,Worksheet!$AM70)-1)),SUMIFS(Worksheet!$X$2:$X$100,Worksheet!$Z$2:$Z$100,CONCATENATE(Worksheet!$AN70,$B75,H$7)))))","v":""},{"$f":"IF(Worksheet!$AN70=\"\",\"\",IF(Worksheet!$AN70=\"Overall Total\",SUMIFS(Worksheet!$X$2:$X$100,Worksheet!$W$2:$W$100,I$7),IF(RIGHT(Worksheet!$AN70,5)=\"Total\",SUM(OFFSET(I75,-COUNTIF(Worksheet!$AM$1:$AM$98,Worksheet!$AM70)+1,0,COUNTIF(Worksheet!$AM$1:$AM$98,Worksheet!$AM70)-1)),SUMIFS(Worksheet!$X$2:$X$100,Worksheet!$Z$2:$Z$100,CONCATENATE(Worksheet!$AN70,$B75,I$7)))))","v":""},{"$f":"IF(Worksheet!$AN70=\"\",\"\",IF(Worksheet!$AN70=\"Overall Total\",SUMIFS(Worksheet!$X$2:$X$100,Worksheet!$W$2:$W$100,J$7),IF(RIGHT(Worksheet!$AN70,5)=\"Total\",SUM(OFFSET(J75,-COUNTIF(Worksheet!$AM$1:$AM$98,Worksheet!$AM70)+1,0,COUNTIF(Worksheet!$AM$1:$AM$98,Worksheet!$AM70)-1)),SUMIFS(Worksheet!$X$2:$X$100,Worksheet!$Z$2:$Z$100,CONCATENATE(Worksheet!$AN70,$B75,J$7)))))","v":""},{"$f":"IF(Worksheet!$AN70=\"\",\"\",IF(Worksheet!$AN70=\"Overall Total\",SUMIFS(Worksheet!$X$2:$X$100,Worksheet!$W$2:$W$100,K$7),IF(RIGHT(Worksheet!$AN70,5)=\"Total\",SUM(OFFSET(K75,-COUNTIF(Worksheet!$AM$1:$AM$98,Worksheet!$AM70)+1,0,COUNTIF(Worksheet!$AM$1:$AM$98,Worksheet!$AM70)-1)),SUMIFS(Worksheet!$X$2:$X$100,Worksheet!$Z$2:$Z$100,CONCATENATE(Worksheet!$AN70,$B75,K$7)))))","v":""},{"$f":"IF(Worksheet!$AN70=\"\",\"\",IF(Worksheet!$AN70=\"Overall Total\",SUMIFS(Worksheet!$X$2:$X$100,Worksheet!$W$2:$W$100,L$7),IF(RIGHT(Worksheet!$AN70,5)=\"Total\",SUM(OFFSET(L75,-COUNTIF(Worksheet!$AM$1:$AM$98,Worksheet!$AM70)+1,0,COUNTIF(Worksheet!$AM$1:$AM$98,Worksheet!$AM70)-1)),SUMIFS(Worksheet!$X$2:$X$100,Worksheet!$Z$2:$Z$100,CONCATENATE(Worksheet!$AN70,$B75,L$7)))))","v":""},{"$f":"IF(Worksheet!$AN70=\"\",\"\",IF(Worksheet!$AN70=\"Overall Total\",SUMIFS(Worksheet!$X$2:$X$100,Worksheet!$W$2:$W$100,M$7),IF(RIGHT(Worksheet!$AN70,5)=\"Total\",SUM(OFFSET(M75,-COUNTIF(Worksheet!$AM$1:$AM$98,Worksheet!$AM70)+1,0,COUNTIF(Worksheet!$AM$1:$AM$98,Worksheet!$AM70)-1)),SUMIFS(Worksheet!$X$2:$X$100,Worksheet!$Z$2:$Z$100,CONCATENATE(Worksheet!$AN70,$B75,M$7)))))","v":""},{"$f":"IF(Worksheet!$AN70=\"\",\"\",IF(Worksheet!$AN70=\"Overall Total\",$N$1,IF(RIGHT(Worksheet!$AN70,5)=\"Total\",SUM(OFFSET(N75,-COUNTIF(Worksheet!$AM$1:$AM$98,Worksheet!$AM70)+1,0,COUNTIF(Worksheet!$AM$1:$AM$98,Worksheet!$AM70)-1)),SUM(D75:M75))))","v":""}]

{"sheet":"Worksheet","index":1,"n_rows":200,"n_cols":41,"rows_kept":200,"cut":false,"hidden":true,"merged":[[0,20,0,24],[0,29,0,30],[0,37,0,39]]}
["Camp/Base abbreviation menu",null,null,null,"Sheet #","Sheetname","#sheets","Categories","Damage","Investigations","Medical","Penalties","Productivity","Site","Staff","Other",null,null,0,null,"complete item list",null,null,null,null,"Concat incl. group",null,"Unique list","Sorted unique list","Associated columns",null,null,null,null,null,null,null,"Summary Page Controls",null,null,"# lines"]
["Camp Base","Abbreviation",null,null,1,{"$f":"IFERROR(INDEX(Sheetnames,E2),\"\")","v":""},{"$f":"150-COUNTBLANK($F$1:$F$151)-3","v":-3},null,null,null,null,null,null,null,null,null,null,null,{"$f":"IFERROR(IF(INDIRECT(\"'\"&OFFSET($F$4,S1,0)&\"'!B\"&COUNTIF($S$1:S1,S1)+11)=\"\",$S1+1,S1),\"\")","v":""},{"$f":"COUNTIF(U2:U200,\">a\")","v":0},{"$f":"IF($S2=\"\",\"\",IFERROR(INDIRECT(\"'\"&OFFSET($F$4,$S2,0)&\"'!B\"&COUNTIF($S$1:$S2,$S2)+10),\"\"))","v":""},{"$f":"IF($S2=\"\",\"\",IFERROR(INDIRECT(\"'\"&OFFSET($F$4,$S2,0)&\"'!c\"&COUNTIF($S$1:$S2,$S2)+10),\"\"))","v":""},{"$f":"IF(S2=\"\",\"\",IFERROR(OFFSET($F$4,S2,0),\"\"))","v":""},{"$f":"IF($S2=\"\",\"\",IFERROR(INDIRECT(\"'\"&OFFSET($F$4,$S2,0)&\"'!o\"&COUNTIF($S$1:$S2,$S2)+10),\"\"))","v":""},{"$f":"CONCATENATE($U2,$V2)","v":""},{"$f":"CONCATENATE($U2,$V2,$W2)","v":""},{"$f":"COUNTIF(AB2:AB200,\">a\")","v":0},{"$f":"IFERROR(LOOKUP(2,1/(COUNTIF($AB$1:AB1,OFFSET($Y$2,0,0,$T$2))=0),OFFSET($Y$2,0,0,$T$2)),\"\")","v":""},{"$f":"IFERROR(INDEX(OFFSET($AB$2,0,0,$AA$2),MATCH(SMALL(NOT(OFFSET($AB$2,0,0,$AA$2)=\"\")*IF(ISNUMBER(OFFSET($AB$2,0,0,$AA$2)),COUNTIF(OFFSET($AB$2,0,0,$AA$2),\"<=\"& OFFSET($AB$2,0,0,$AA$2)),COUNTIF(OFFSET($AB$2,0,0,$AA$2),\"<=\"& OFFSET($AB$2,0,0,$AA$2))+SUM(--ISNUMBER(OFFSET($AB$2,0,0,$AA$2)))),ROWS(A$2:$AB2)+SUM(--ISBLANK(OFFSET($AB$2,0,0,$AA$2)))),NOT(OFFSET($AB$2,0,0,$AA$2)=\"\")*IF(ISNUMBER(OFFSET($AB$2,0,0,$AA$2)),COUNTIF(OFFSET($AB$2,0,0,$AA$2),\"<=\"& OFFSET($AB$2,0,0,$AA$2)),COUNTIF(OFFSET($AB$2,0,0,$AA$2),\"<=\"& OFFSET($AB$2,0,0,$AA$2))+SUM(--ISNUMBER(OFFSET($AB$2,0,0,$AA$2)))),0)),\"\")","v":""},{"$f":"INDEX(U:U,MATCH(AC2,Y:Y,0),0)","v":""},{"$f":"INDEX(V:V,MATCH(AC2,Y:Y,0),0)","v":""},null,null,null,null,null,null,0,null,null,{"$f":"COUNTIF(AN:AN,\">a\")","v":1}]
[null,null,null,null,2,{"$f":"IFERROR(INDEX(Sheetnames,E3),\"\")","v":""},null,{"$f":"TRANSPOSE(IF($I$1:$R$1=\"\",\"\",$I$1:$R$1))","v":"Damage"},"Damage Assessment","Investigation","Provide first aid","Compensation","Work Time Lost","Make site safe","Staff replacement","Other",null,null,{"$f":"IFERROR(IF(INDIRECT(\"'\"&OFFSET($F$4,S2,0)&\"'!B\"&COUNTIF($S$1:S2,S2)+11)=\"\",$S2+1,S2),\"\")","v":""},null,{"$f":"IF($S3=\"\",\"\",IFERROR(INDIRECT(\"'\"&OFFSET($F$4,$S3,0)&\"'!B\"&COUNTIF($S$1:$S3,$S3)+10),\"\"))","v":""},{"$f":"IF($S3=\"\",\"\",IFERROR(INDIRECT(\"'\"&OFFSET($F$4,$S3,0)&\"'!c\"&COUNTIF($S$1:$S3,$S3)+10),\"\"))","v":""},"",{"$f":"IF($S3=\"\",\"\",IFERROR(INDIRECT(\"'\"&OFFSET($F$4,$S3,0)&\"'!o\"&COUNTIF($S$1:$S3,$S3)+10),\"\"))","v":""},{"$f":"CONCATENATE($U3,$V3)","v":""},{"$f":"CONCATENATE($U3,$V3,$W3)","v":""},null,{"$f":"IFERROR(LOOKUP(2,1/(COUNTIF($AB$1:AB2,OFFSET($Y$2,0,0,$T$2))=0),OFFSET($Y$2,0,0,$T$2)),\"\")","v":""},{"$f":"IFERROR(INDEX(OFFSET($AB$2,0,0,$AA$2),MATCH(SMALL(NOT(OFFSET($AB$2,0,0,$AA$2)=\"\")*IF(ISNUMBER(OFFSET($AB$2,0,0,$AA$2)),COUNTIF(OFFSET($AB$2,0,0,$AA$2),\"<=\"& OFFSET($AB$2,0,0,$AA$2)),COUNTIF(OFFSET($AB$2,0,0,$AA$2),\"<=\"& OFFSET($AB$2,0,0,$AA$2))+SUM(--ISNUMBER(OFFSET($AB$2,0,0,$AA$2)))),ROWS(A$2:$AB3)+SUM(--ISBLANK(OFFSET($AB$2,0,0,$AA$2)))),NOT(OFFSET($AB$2,0,0,$AA$2)=\"\")*IF(ISNUMBER(OFFSET($AB$2,0,0,$AA$2)),COUNTIF(OFFSET($AB$2,0,0,$AA$2),\"<=\"& OFFSET($AB$2,0,0,$AA$2)),COUNTIF(OFFSET($AB$2,0,0,$AA$2),\"<=\"& OFFSET($AB$2,0,0,$AA$2))+SUM(--ISNUMBER(OFFSET($AB$2,0,0,$AA$2)))),0)),\"\")","v":""},{"$f":"INDEX(U:U,MATCH(AC3,Y:Y,0),0)","v":""},{"$f":"INDEX(V:V,MATCH(AC3,Y:Y,0),0)","v":""},null,null,null,null,null,null,{"$f":"IF(OR(AL2=\"\",AND(RIGHT('SIS Summary'!A7,5)=\"Total\",AL2>(Worksheet!$AA$2)+1)),\"\",IF(OR('SIS Summary'!A7=\"Category\",RIGHT('SIS Summary'!A7,5)<>\"Total\"),$AL2+1,$AL2))","v":1},{"$f":"IF(AL3=\"\",\"\",IF(OR('SIS Summary'!A7=\"Category\",RIGHT('SIS Summary'!A7,5)=\"Total\"),$AM2+1,$AM2))","v":1},{"$f":"IF(AL3=Worksheet!$AA$2+2,\"Overall Total\",IF(OR(AL3=\"\",'SIS Summary'!A7=\"\"),\"\",IF(AND(AL2<>0,AL3<>AL2,OFFSET(Worksheet!$AD$1,AL3,0)<>'SIS Summary'!A7),'SIS Summary'!A7&\" Total\",OFFSET(Worksheet!$AD$1,AL3,0))))","v":""}]
["Arch Hill","ARH",null,null,3,"",null,"Investigations","Repair/Replace equipment","Investigation report","First Aid Supplies","Fines","Rehabilitation time lost","Site preservation","Staff relocation",null,null,null,{"$f":"IFERROR(IF(INDIRECT(\"'\"&OFFSET($F$4,S3,0)&\"'!B\"&COUNTIF($S$1:S3,S3)+11)=\"\",$S3+1,S3),\"\")","v":""},null,{"$f":"IF($S4=\"\",\"\",IFERROR(INDIRECT(\"'\"&OFFSET($F$4,$S4,0)&\"'!B\"&COUNTIF($S$1:$S4,$S4)+10),\"\"))","v":""},{"$f":"IF($S4=\"\",\"\",IFERROR(INDIRECT(\"'\"&OFFSET($F$4,$S4,0)&\"'!c\"&COUNTIF($S$1:$S4,$S4)+10),\"\"))","v":""},"",{"$f":"IF($S4=\"\",\"\",IFERROR(INDIRECT(\"'\"&OFFSET($F$4,$S4,0)&\"'!o\"&COUNTIF($S$1:$S4,$S4)+10),\"\"))","v":""},"","",null,{"$f":"IFERROR(LOOKUP(2,1/(COUNTIF($AB$1:AB3,OFFSET($Y$2,0,0,$T$2))=0),OFFSET($Y$2,0,0,$T$2)),\"\")","v":""},{"$f":"IFERROR(INDEX(OFFSET($AB$2,0,0,$AA$2),MATCH(SMALL(NOT(OFFSET($AB$2,0,0,$AA$2)=\"\")*IF(ISNUMBER(OFFSET($AB$2,0,0,$AA$2)),COUNTIF(OFFSET($AB$2,0,0,$AA$2),\"<=\"& OFFSET($AB$2,0,0,$AA$2)),COUNTIF(OFFSET($AB$2,0,0,$AA$2),\"<=\"& OFFSET($AB$2,0,0,$AA$2))+SUM(--ISNUMBER(OFFSET($AB$2,0,0,$AA$2)))),ROWS(A$2:$AB4)+SUM(--ISBLANK(OFFSET($AB$2,0,0,$AA$2)))),NOT(OFFSET($AB$2,0,0,$AA$2)=\"\")*IF(ISNUMBER(OFFSET($AB$2,0,0,$AA$2)),COUNTIF(OFFSET($AB$2,0,0,$AA$2),\"<=\"& OFFSET($AB$2,0,0,$AA$2)),COUNTIF(OFFSET($AB$2,0,0,$AA$2),\"<=\"& OFFSET($AB$2,0,0,$AA$2))+SUM(--ISNUMBER(OFFSET($AB$2,0,0,$AA$2)))),0)),\"\")","v":""},"","",null,null,null,null,null,null,{"$f":"IF(OR(AL3=\"\",AND(RIGHT(AN3,5)=\"Total\",AL3>(Worksheet!$AA$2)+1)),\"\",IF(OR(AN3=\"Category\",RIGHT(AN3,5)<>\"Total\"),$AL3+1,$AL3))","v":2},{"$f":"IF(AL4=\"\",\"\",IF(OR(AN3=\"Category\",RIGHT(AN3,5)=\"Total\"),$AM3+1,$AM3))","v":1},{"$f":"IF(AL4=Worksheet!$AA$2+2,\"Overall Total\",IF(OR(AL4=\"\",AN3=\"\"),\"\",IF(AND(AL3<>0,AL4<>AL3,OFFSET(Worksheet!$AD$1,AL4,0)<>AN3),AN3&\" Total\",OFFSET(Worksheet!$AD$1,AL4,0))))","v":"Overall Total"}]
["Ardmore","ARD",null,null,4,"",null,"Medical","Labour","Incident paperwork","Ambulance/Taxi","Other","Injury management","Barriers/fences","Staff training time",null,null,null,{"$f":"IFERROR(IF(INDIRECT(\"'\"&OFFSET($F$4,S4,0)&\"'!B\"&COUNTIF($S$1:S4,S4)+11)=\"\",$S4+1,S4),\"\")","v":""},null,{"$f":"IF($S5=\"\",\"\",IFERROR(INDIRECT(\"'\"&OFFSET($F$4,$S5,0)&\"'!B\"&COUNTIF($S$1:$S5,$S5)+10),\"\"))","v":""},{"$f":"IF($S5=\"\",\"\",IFERROR(INDIRECT(\"'\"&OFFSET($F$4,$S5,0)&\"'!c\"&COUNTIF($S$1:$S5,$S5)+10),\"\"))","v":""},"",{"$f":"IF($S5=\"\",\"\",IFERROR(INDIRECT(\"'\"&OFFSET($F$4,$S5,0)&\"'!o\"&COUNTIF($S$1:$S5,$S5)+10),\"\"))","v":""},"","",null,{"$f":"IFERROR(LOOKUP(2,1/(COUNTIF($AB$1:AB4,OFFSET($Y$2,0,0,$T$2))=0),OFFSET($Y$2,0,0,$T$2)),\"\")","v":""},{"$f":"IFERROR(INDEX(OFFSET($AB$2,0,0,$AA$2),MATCH(SMALL(NOT(OFFSET($AB$2,0,0,$AA$2)=\"\")*IF(ISNUMBER(OFFSET($AB$2,0,0,$AA$2)),COUNTIF(OFFSET($AB$2,0,0,$AA$2),\"<=\"& OFFSET($AB$2,0,0,$AA$2)),COUNTIF(OFFSET($AB$2,0,0,$AA$2),\"<=\"& OFFSET($AB$2,0,0,$AA$2))+SUM(--ISNUMBER(OFFSET($AB$2,0,0,$AA$2)))),ROWS(A$2:$AB5)+SUM(--ISBLANK(OFFSET($AB$2,0,0,$AA$2)))),NOT(OFFSET($AB$2,0,0,$AA$2)=\"\")*IF(ISNUMBER(OFFSET($AB$2,0,0,$AA$2)),COUNTIF(OFFSET($AB$2,0,0,$AA$2),\"<=\"& OFFSET($AB$2,0,0,$AA$2)),COUNTIF(OFFSET($AB$2,0,0,$AA$2),\"<=\"& OFFSET($AB$2,0,0,$AA$2))+SUM(--ISNUMBER(OFFSET($AB$2,0,0,$AA$2)))),0)),\"\")","v":""},"","",null,null,null,null,null,null,{"$f":"IF(OR(AL4=\"\",AND(RIGHT(AN4,5)=\"Total\",AL4>(Worksheet!$AA$2)+1)),\"\",IF(OR(AN4=\"Category\",RIGHT(AN4,5)<>\"Total\"),$AL4+1,$AL4))","v":""},"",{"$f":"IF(AL5=Worksheet!$AA$2+2,\"Overall Total\",IF(OR(AL5=\"\",AN4=\"\"),\"\",IF(AND(AL4<>0,AL5<>AL4,OFFSET(Worksheet!$AD$1,AL5,0)<>AN4),AN4&\" Total\",OFFSET(Worksheet!$AD$1,AL5,0))))","v":""}]
["Auckland","AKL",null,null,5,"",null,"Penalties","Disposal","DEI investigation assistance","Rehabilitation",null,"Reduced productivity","Clean up site","Staff trainer Time",null,null,null,{"$f":"IFERROR(IF(INDIRECT(\"'\"&OFFSET($F$4,S5,0)&\"'!B\"&COUNTIF($S$1:S5,S5)+11)=\"\",$S5+1,S5),\"\")","v":""},null,{"$f":"IF($S6=\"\",\"\",IFERROR(INDIRECT(\"'\"&OFFSET($F$4,$S6,0)&\"'!B\"&COUNTIF($S$1:$S6,$S6)+10),\"\"))","v":""},{"$f":"IF($S6=\"\",\"\",IFERROR(INDIRECT(\"'\"&OFFSET($F$4,$S6,0)&\"'!c\"&COUNTIF($S$1:$S6,$S6)+10),\"\"))","v":""},"",{"$f":"IF($S6=\"\",\"\",IFERROR(INDIRECT(\"'\"&OFFSET($F$4,$S6,0)&\"'!o\"&COUNTIF($S$1:$S6,$S6)+10),\"\"))","v":""},"","",null,{"$f":"IFERROR(LOOKUP(2,1/(COUNTIF($AB$1:AB5,OFFSET($Y$2,0,0,$T$2))=0),OFFSET($Y$2,0,0,$T$2)),\"\")","v":""},{"$f":"IFERROR(INDEX(OFFSET($AB$2,0,0,$AA$2),MATCH(SMALL(NOT(OFFSET($AB$2,0,0,$AA$2)=\"\")*IF(ISNUMBER(OFFSET($AB$2,0,0,$AA$2)),COUNTIF(OFFSET($AB$2,0,0,$AA$2),\"<=\"& OFFSET($AB$2,0,0,$AA$2)),COUNTIF(OFFSET($AB$2,0,0,$AA$2),\"<=\"& OFFSET($AB$2,0,0,$AA$2))+SUM(--ISNUMBER(OFFSET($AB$2,0,0,$AA$2)))),ROWS(A$2:$AB6)+SUM(--ISBLANK(OFFSET($AB$2,0,0,$AA$2)))),NOT(OFFSET($AB$2,0,0,$AA$2)=\"\")*IF(ISNUMBER(OFFSET($AB$2,0,0,$AA$2)),COUNTIF(OFFSET($AB$2,0,0,$AA$2),\"<=\"& OFFSET($AB$2,0,0,$AA$2)),COUNTIF(OFFSET($AB$2,0,0,$AA$2),\"<=\"& OFFSET($AB$2,0,0,$AA$2))+SUM(--ISNUMBER(OFFSET($AB$2,0,0,$AA$2)))),0)),\"\")","v":""},"","",null,null,null,null,null,null,{"$f":"IF(OR(AL5=\"\",AND(RIGHT(AN5,5)=\"Total\",AL5>(Worksheet!$AA$2)+1)),\"\",IF(OR(AN5=\"Category\",RIGHT(AN5,5)<>\"Total\"),$AL5+1,$AL5))","v":""},"",{"$f":"IF(AL6=Worksheet!$AA$2+2,\"Overall Total\",IF(OR(AL6=\"\",AN5=\"\"),\"\",IF(AND(AL5<>0,AL6<>AL5,OFFSET(Worksheet!$AD$1,AL6,0)<>AN5),AN5&\" Total\",OFFSET(Worksheet!$AD$1,AL6,0))))","v":""}]
["Bulls","BUL",null,null,6,"",null,"Productivity","Parts","Follow-up Meetings - Employer","Other",null,"Court appearances","Other","Staff Hiring",null,null,null,{"$f":"IFERROR(IF(INDIRECT(\"'\"&OFFSET($F$4,S6,0)&\"'!B\"&COUNTIF($S$1:S6,S6)+11)=\"\",$S6+1,S6),\"\")","v":""},null,{"$f":"IF($S7=\"\",\"\",IFERROR(INDIRECT(\"'\"&OFFSET($F$4,$S7,0)&\"'!B\"&COUNTIF($S$1:$S7,$S7)+10),\"\"))","v":""},{"$f":"IF($S7=\"\",\"\",IFERROR(INDIRECT(\"'\"&OFFSET($F$4,$S7,0)&\"'!c\"&COUNTIF($S$1:$S7,$S7)+10),\"\"))","v":""},"",{"$f":"IF($S7=\"\",\"\",IFERROR(INDIRECT(\"'\"&OFFSET($F$4,$S7,0)&\"'!o\"&COUNTIF($S$1:$S7,$S7)+10),\"\"))","v":""},"","",null,{"$f":"IFERROR(LOOKUP(2,1/(COUNTIF($AB$1:AB6,OFFSET($Y$2,0,0,$T$2))=0),OFFSET($Y$2,0,0,$T$2)),\"\")","v":""},{"$f":"IFERROR(INDEX(OFFSET($AB$2,0,0,$AA$2),MATCH(SMALL(NOT(OFFSET($AB$2,0,0,$AA$2)=\"\")*IF(ISNUMBER(OFFSET($AB$2,0,0,$AA$2)),COUNTIF(OFFSET($AB$2,0,0,$AA$2),\"<=\"& OFFSET($AB$2,0,0,$AA$2)),COUNTIF(OFFSET($AB$2,0,0,$AA$2),\"<=\"& OFFSET($AB$2,0,0,$AA$2))+SUM(--ISNUMBER(OFFSET($AB$2,0,0,$AA$2)))),ROWS(A$2:$AB7)+SUM(--ISBLANK(OFFSET($AB$2,0,0,$AA$2)))),NOT(OFFSET($AB$2,0,0,$AA$2)=\"\")*IF(ISNUMBER(OFFSET($AB$2,0,0,$AA$2)),COUNTIF(OFFSET($AB$2,0,0,$AA$2),\"<=\"& OFFSET($AB$2,0,0,$AA$2)),COUNTIF(OFFSET($AB$2,0,0,$AA$2),\"<=\"& OFFSET($AB$2,0,0,$AA$2))+SUM(--ISNUMBER(OFFSET($AB$2,0,0,$AA$2)))),0)),\"\")","v":""},"","",null,null,null,null,null,null,{"$f":"IF(OR(AL6=\"\",AND(RIGHT(AN6,5)=\"Total\",AL6>(Worksheet!$AA$2)+1)),\"\",IF(OR(AN6=\"Category\",RIGHT(AN6,5)<>\"Total\"),$AL6+1,$AL6))","v":""},"",{"$f":"IF(AL7=Worksheet!$AA$2+2,\"Overall Total\",IF(OR(AL7=\"\",AN6=\"\"),\"\",IF(AND(AL6<>0,AL7<>AL6,OFFSET(Worksheet!$AD$1,AL7,0)<>AN6),AN6&\" Total\",OFFSET(Worksheet!$AD$1,AL7,0))))","v":""}]
["Burnham","BHM",null,null,7,"",null,"Site","Other","Follow-up Meetings - Worker",null,null,"Other",null,"Other",null,null,null,{"$f":"IFERROR(IF(INDIRECT(\"'\"&OFFSET($F$4,S7,0)&\"'!B\"&COUNTIF($S$1:S7,S7)+11)=\"\",$S7+1,S7),\"\")","v":""},null,{"$f":"IF($S8=\"\",\"\",IFERROR(INDIRECT(\"'\"&OFFSET($F$4,$S8,0)&\"'!B\"&COUNTIF($S$1:$S8,$S8)+10),\"\"))","v":""},{"$f":"IF($S8=\"\",\"\",IFERROR(INDIRECT(\"'\"&OFFSET($F$4,$S8,0)&\"'!c\"&COUNTIF($S$1:$S8,$S8)+10),\"\"))","v":""},"",{"$f":"IF($S8=\"\",\"\",IFERROR(INDIRECT(\"'\"&OFFSET($F$4,$S8,0)&\"'!o\"&COUNTIF($S$1:$S8,$S8)+10),\"\"))","v":""},"","",null,{"$f":"IFERROR(LOOKUP(2,1/(COUNTIF($AB$1:AB7,OFFSET($Y$2,0,0,$T$2))=0),OFFSET($Y$2,0,0,$T$2)),\"\")","v":""},{"$f":"IFERROR(INDEX(OFFSET($AB$2,0,0,$AA$2),MATCH(SMALL(NOT(OFFSET($AB$2,0,0,$AA$2)=\"\")*IF(ISNUMBER(OFFSET($AB$2,0,0,$AA$2)),COUNTIF(OFFSET($AB$2,0,0,$AA$2),\"<=\"& OFFSET($AB$2,0,0,$AA$2)),COUNTIF(OFFSET($AB$2,0,0,$AA$2),\"<=\"& OFFSET($AB$2,0,0,$AA$2))+SUM(--ISNUMBER(OFFSET($AB$2,0,0,$AA$2)))),ROWS(A$2:$AB8)+SUM(--ISBLANK(OFFSET($AB$2,0,0,$AA$2)))),NOT(OFFSET($AB$2,0,0,$AA$2)=\"\")*IF(ISNUMBER(OFFSET($AB$2,0,0,$AA$2)),COUNTIF(OFFSET($AB$2,0,0,$AA$2),\"<=\"& OFFSET($AB$2,0,0,$AA$2)),COUNTIF(OFFSET($AB$2,0,0,$AA$2),\"<=\"& OFFSET($AB$2,0,0,$AA$2))+SUM(--ISNUMBER(OFFSET($AB$2,0,0,$AA$2)))),0)),\"\")","v":""},"","",null,null,null,null,null,null,{"$f":"IF(OR(AL7=\"\",AND(RIGHT(AN7,5)=\"Total\",AL7>(Worksheet!$AA$2)+1)),\"\",IF(OR(AN7=\"Category\",RIGHT(AN7,5)<>\"Total\"),$AL7+1,$AL7))","v":""},"",{"$f":"IF(AL8=Worksheet!$AA$2+2,\"Overall Total\",IF(OR(AL8=\"\",AN7=\"\"),\"\",IF(AND(AL7<>0,AL8<>AL7,OFFSET(Worksheet!$AD$1,AL8,0)<>AN7),AN7&\" Total\",OFFSET(Worksheet!$AD$1,AL8,0))))","v":""}]
["Christchurch","CHC",null,null,8,"",null,"Staff",null,"Court appearances",null,null,null,null,null,null,null,null,{"$f":"IFERROR(IF(INDIRECT(\"'\"&OFFSET($F$4,S8,0)&\"'!B\"&COUNTIF($S$1:S8,S8)+11)=\"\",$S8+1,S8),\"\")","v":""},null,{"$f":"IF($S9=\"\",\"\",IFERROR(INDIRECT(\"'\"&OFFSET($F$4,$S9,0)&\"'!B\"&COUNTIF($S$1:$S9,$S9)+10),\"\"))","v":""},{"$f":"IF($S9=\"\",\"\",IFERROR(INDIRECT(\"'\"&OFFSET($F$4,$S9,0)&\"'!c\"&COUNTIF($S$1:$S9,$S9)+10),\"\"))","v":""},"",{"$f":"IF($S9=\"\",\"\",IFERROR(INDIRECT(\"'\"&OFFSET($F$4,$S9,0)&\"'!o\"&COUNTIF($S$1:$S9,$S9)+10),\"\"))","v":""},"","",null,{"$f":"IFERROR(LOOKUP(2,1/(COUNTIF($AB$1:AB8,OFFSET($Y$2,0,0,$T$2))=0),OFFSET($Y$2,0,0,$T$2)),\"\")","v":""},{"$f":"IFERROR(INDEX(OFFSET($AB$2,0,0,$AA$2),MATCH(SMALL(NOT(OFFSET($AB$2,0,0,$AA$2)=\"\")*IF(ISNUMBER(OFFSET($AB$2,0,0,$AA$2)),COUNTIF(OFFSET($AB$2,0,0,$AA$2),\"<=\"& OFFSET($AB$2,0,0,$AA$2)),COUNTIF(OFFSET($AB$2,0,0,$AA$2),\"<=\"& OFFSET($AB$2,0,0,$AA$2))+SUM(--ISNUMBER(OFFSET($AB$2,0,0,$AA$2)))),ROWS(A$2:$AB9)+SUM(--ISBLANK(OFFSET($AB$2,0,0,$AA$2)))),NOT(OFFSET($AB$2,0,0,$AA$2)=\"\")*IF(ISNUMBER(OFFSET($AB$2,0,0,$AA$2)),COUNTIF(OFFSET($AB$2,0,0,$AA$2),\"<=\"& OFFSET($AB$2,0,0,$AA$2)),COUNTIF(OFFSET($AB$2,0,0,$AA$2),\"<=\"& OFFSET($AB$2,0,0,$AA$2))+SUM(--ISNUMBER(OFFSET($AB$2,0,0,$AA$2)))),0)),\"\")","v":""},"","",null,null,null,null,null,null,{"$f":"IF(OR(AL8=\"\",AND(RIGHT(AN8,5)=\"Total\",AL8>(Worksheet!$AA$2)+1)),\"\",IF(OR(AN8=\"Category\",RIGHT(AN8,5)<>\"Total\"),$AL8+1,$AL8))","v":""},"",{"$f":"IF(AL9=Worksheet!$AA$2+2,\"Overall Total\",IF(OR(AL9=\"\",AN8=\"\"),\"\",IF(AND(AL8<>0,AL9<>AL8,OFFSET(Worksheet!$AD$1,AL9,0)<>AN8),AN8&\" Total\",OFFSET(Worksheet!$AD$1,AL9,0))))","v":""}]
["Cook Islands","COK",null,null,9,"",null,"Other",null,"Other",null,null,null,null,null,null,null,null,{"$f":"IFERROR(IF(INDIRECT(\"'\"&OFFSET($F$4,S9,0)&\"'!B\"&COUNTIF($S$1:S9,S9)+11)=\"\",$S9+1,S9),\"\")","v":""},null,{"$f":"IF($S10=\"\",\"\",IFERROR(INDIRECT(\"'\"&OFFSET($F$4,$S10,0)&\"'!B\"&COUNTIF($S$1:$S10,$S10)+10),\"\"))","v":""},{"$f":"IF($S10=\"\",\"\",IFERROR(INDIRECT(\"'\"&OFFSET($F$4,$S10,0)&\"'!c\"&COUNTIF($S$1:$S10,$S10)+10),\"\"))","v":""},"",{"$f":"IF($S10=\"\",\"\",IFERROR(INDIRECT(\"'\"&OFFSET($F$4,$S10,0)&\"'!o\"&COUNTIF($S$1:$S10,$S10)+10),\"\"))","v":""},"","",null,{"$f":"IFERROR(LOOKUP(2,1/(COUNTIF($AB$1:AB9,OFFSET($Y$2,0,0,$T$2))=0),OFFSET($Y$2,0,0,$T$2)),\"\")","v":""},{"$f":"IFERROR(INDEX(OFFSET($AB$2,0,0,$AA$2),MATCH(SMALL(NOT(OFFSET($AB$2,0,0,$AA$2)=\"\")*IF(ISNUMBER(OFFSET($AB$2,0,0,$AA$2)),COUNTIF(OFFSET($AB$2,0,0,$AA$2),\"<=\"& OFFSET($AB$2,0,0,$AA$2)),COUNTIF(OFFSET($AB$2,0,0,$AA$2),\"<=\"& OFFSET($AB$2,0,0,$AA$2))+SUM(--ISNUMBER(OFFSET($AB$2,0,0,$AA$2)))),ROWS(A$2:$AB10)+SUM(--ISBLANK(OFFSET($AB$2,0,0,$AA$2)))),NOT(OFFSET($AB$2,0,0,$AA$2)=\"\")*IF(ISNUMBER(OFFSET($AB$2,0,0,$AA$2)),COUNTIF(OFFSET($AB$2,0,0,$AA$2),\"<=\"& OFFSET($AB$2,0,0,$AA$2)),COUNTIF(OFFSET($AB$2,0,0,$AA$2),\"<=\"& OFFSET($AB$2,0,0,$AA$2))+SUM(--ISNUMBER(OFFSET($AB$2,0,0,$AA$2)))),0)),\"\")","v":""},"","",null,null,null,null,null,null,{"$f":"IF(OR(AL9=\"\",AND(RIGHT(AN9,5)=\"Total\",AL9>(Worksheet!$AA$2)+1)),\"\",IF(OR(AN9=\"Category\",RIGHT(AN9,5)<>\"Total\"),$AL9+1,$AL9))","v":""},"",{"$f":"IF(AL10=Worksheet!$AA$2+2,\"Overall Total\",IF(OR(AL10=\"\",AN9=\"\"),\"\",IF(AND(AL9<>0,AL10<>AL9,OFFSET(Worksheet!$AD$1,AL10,0)<>AN9),AN9&\" Total\",OFFSET(Worksheet!$AD$1,AL10,0))))","v":""}]
["Devonport","DPT",null,null,10,"",null,"",null,null,null,null,null,null,null,null,null,null,{"$f":"IFERROR(IF(INDIRECT(\"'\"&OFFSET($F$4,S10,0)&\"'!B\"&COUNTIF($S$1:S10,S10)+11)=\"\",$S10+1,S10),\"\")","v":""},null,{"$f":"IF($S11=\"\",\"\",IFERROR(INDIRECT(\"'\"&OFFSET($F$4,$S11,0)&\"'!B\"&COUNTIF($S$1:$S11,$S11)+10),\"\"))","v":""},{"$f":"IF($S11=\"\",\"\",IFERROR(INDIRECT(\"'\"&OFFSET($F$4,$S11,0)&\"'!c\"&COUNTIF($S$1:$S11,$S11)+10),\"\"))","v":""},"",{"$f":"IF($S11=\"\",\"\",IFERROR(INDIRECT(\"'\"&OFFSET($F$4,$S11,0)&\"'!o\"&COUNTIF($S$1:$S11,$S11)+10),\"\"))","v":""},"","",null,{"$f":"IFERROR(LOOKUP(2,1/(COUNTIF($AB$1:AB10,OFFSET($Y$2,0,0,$T$2))=0),OFFSET($Y$2,0,0,$T$2)),\"\")","v":""},{"$f":"IFERROR(INDEX(OFFSET($AB$2,0,0,$AA$2),MATCH(SMALL(NOT(OFFSET($AB$2,0,0,$AA$2)=\"\")*IF(ISNUMBER(OFFSET($AB$2,0,0,$AA$2)),COUNTIF(OFFSET($AB$2,0,0,$AA$2),\"<=\"& OFFSET($AB$2,0,0,$AA$2)),COUNTIF(OFFSET($AB$2,0,0,$AA$2),\"<=\"& OFFSET($AB$2,0,0,$AA$2))+SUM(--ISNUMBER(OFFSET($AB$2,0,0,$AA$2)))),ROWS(A$2:$AB11)+SUM(--ISBLANK(OFFSET($AB$2,0,0,$AA$2)))),NOT(OFFSET($AB$2,0,0,$AA$2)=\"\")*IF(ISNUMBER(OFFSET($AB$2,0,0,$AA$2)),COUNTIF(OFFSET($AB$2,0,0,$AA$2),\"<=\"& OFFSET($AB$2,0,0,$AA$2)),COUNTIF(OFFSET($AB$2,0,0,$AA$2),\"<=\"& OFFSET($AB$2,0,0,$AA$2))+SUM(--ISNUMBER(OFFSET($AB$2,0,0,$AA$2)))),0)),\"\")","v":""},"","",null,null,null,null,null,null,{"$f":"IF(OR(AL10=\"\",AND(RIGHT(AN10,5)=\"Total\",AL10>(Worksheet!$AA$2)+1)),\"\",IF(OR(AN10=\"Category\",RIGHT(AN10,5)<>\"Total\"),$AL10+1,$AL10))","v":""},"",{"$f":"IF(AL11=Worksheet!$AA$2+2,\"Overall Total\",IF(OR(AL11=\"\",AN10=\"\"),\"\",IF(AND(AL10<>0,AL11<>AL10,OFFSET(Worksheet!$AD$1,AL11,0)<>AN10),AN10&\" Total\",OFFSET(Worksheet!$AD$1,AL11,0))))","v":""}]
["Dip Flat","DIP",null,null,11,"",null,"",null,null,null,null,null,null,null,null,null,null,{"$f":"IFERROR(IF(INDIRECT(\"'\"&OFFSET($F$4,S11,0)&\"'!B\"&COUNTIF($S$1:S11,S11)+11)=\"\",$S11+1,S11),\"\")","v":""},null,{"$f":"IF($S12=\"\",\"\",IFERROR(INDIRECT(\"'\"&OFFSET($F$4,$S12,0)&\"'!B\"&COUNTIF($S$1:$S12,$S12)+10),\"\"))","v":""},{"$f":"IF($S12=\"\",\"\",IFERROR(INDIRECT(\"'\"&OFFSET($F$4,$S12,0)&\"'!c\"&COUNTIF($S$1:$S12,$S12)+10),\"\"))","v":""},"",{"$f":"IF($S12=\"\",\"\",IFERROR(INDIRECT(\"'\"&OFFSET($F$4,$S12,0)&\"'!o\"&COUNTIF($S$1:$S12,$S12)+10),\"\"))","v":""},"","",null,{"$f":"IFERROR(LOOKUP(2,1/(COUNTIF($AB$1:AB11,OFFSET($Y$2,0,0,$T$2))=0),OFFSET($Y$2,0,0,$T$2)),\"\")","v":""},{"$f":"IFERROR(INDEX(OFFSET($AB$2,0,0,$AA$2),MATCH(SMALL(NOT(OFFSET($AB$2,0,0,$AA$2)=\"\")*IF(ISNUMBER(OFFSET($AB$2,0,0,$AA$2)),COUNTIF(OFFSET($AB$2,0,0,$AA$2),\"<=\"& OFFSET($AB$2,0,0,$AA$2)),COUNTIF(OFFSET($AB$2,0,0,$AA$2),\"<=\"& OFFSET($AB$2,0,0,$AA$2))+SUM(--ISNUMBER(OFFSET($AB$2,0,0,$AA$2)))),ROWS(A$2:$AB12)+SUM(--ISBLANK(OFFSET($AB$2,0,0,$AA$2)))),NOT(OFFSET($AB$2,0,0,$AA$2)=\"\")*IF(ISNUMBER(OFFSET($AB$2,0,0,$AA$2)),COUNTIF(OFFSET($AB$2,0,0,$AA$2),\"<=\"& OFFSET($AB$2,0,0,$AA$2)),COUNTIF(OFFSET($AB$2,0,0,$AA$2),\"<=\"& OFFSET($AB$2,0,0,$AA$2))+SUM(--ISNUMBER(OFFSET($AB$2,0,0,$AA$2)))),0)),\"\")","v":""},"","",null,null,null,null,null,null,{"$f":"IF(OR(AL11=\"\",AND(RIGHT(AN11,5)=\"Total\",AL11>(Worksheet!$AA$2)+1)),\"\",IF(OR(AN11=\"Category\",RIGHT(AN11,5)<>\"Total\"),$AL11+1,$AL11))","v":""},"",{"$f":"IF(AL12=Worksheet!$AA$2+2,\"Overall Total\",IF(OR(AL12=\"\",AN11=\"\"),\"\",IF(AND(AL11<>0,AL12<>AL11,OFFSET(Worksheet!$AD$1,AL12,0)<>AN11),AN11&\" Total\",OFFSET(Worksheet!$AD$1,AL12,0))))","v":""}]
["Dunedin","DUN",null,null,12,"",null,null,null,null,null,null,null,null,null,null,null,null,{"$f":"IFERROR(IF(INDIRECT(\"'\"&OFFSET($F$4,S12,0)&\"'!B\"&COUNTIF($S$1:S12,S12)+11)=\"\",$S12+1,S12),\"\")","v":""},null,{"$f":"IF($S13=\"\",\"\",IFERROR(INDIRECT(\"'\"&OFFSET($F$4,$S13,0)&\"'!B\"&COUNTIF($S$1:$S13,$S13)+10),\"\"))","v":""},{"$f":"IF($S13=\"\",\"\",IFERROR(INDIRECT(\"'\"&OFFSET($F$4,$S13,0)&\"'!c\"&COUNTIF($S$1:$S13,$S13)+10),\"\"))","v":""},"",{"$f":"IF($S13=\"\",\"\",IFERROR(INDIRECT(\"'\"&OFFSET($F$4,$S13,0)&\"'!o\"&COUNTIF($S$1:$S13,$S13)+10),\"\"))","v":""},"","",null,{"$f":"IFERROR(LOOKUP(2,1/(COUNTIF($AB$1:AB12,OFFSET($Y$2,0,0,$T$2))=0),OFFSET($Y$2,0,0,$T$2)),\"\")","v":""},{"$f":"IFERROR(INDEX(OFFSET($AB$2,0,0,$AA$2),MATCH(SMALL(NOT(OFFSET($AB$2,0,0,$AA$2)=\"\")*IF(ISNUMBER(OFFSET($AB$2,0,0,$AA$2)),COUNTIF(OFFSET($AB$2,0,0,$AA$2),\"<=\"& OFFSET($AB$2,0,0,$AA$2)),COUNTIF(OFFSET($AB$2,0,0,$AA$2),\"<=\"& OFFSET($AB$2,0,0,$AA$2))+SUM(--ISNUMBER(OFFSET($AB$2,0,0,$AA$2)))),ROWS(A$2:$AB13)+SUM(--ISBLANK(OFFSET($AB$2,0,0,$AA$2)))),NOT(OFFSET($AB$2,0,0,$AA$2)=\"\")*IF(ISNUMBER(OFFSET($AB$2,0,0,$AA$2)),COUNTIF(OFFSET($AB$2,0,0,$AA$2),\"<=\"& OFFSET($AB$2,0,0,$AA$2)),COUNTIF(OFFSET($AB$2,0,0,$AA$2),\"<=\"& OFFSET($AB$2,0,0,$AA$2))+SUM(--ISNUMBER(OFFSET($AB$2,0,0,$AA$2)))),0)),\"\")","v":""},"","",null,null,null,null,null,null,{"$f":"IF(OR(AL12=\"\",AND(RIGHT(AN12,5)=\"Total\",AL12>(Worksheet!$AA$2)+1)),\"\",IF(OR(AN12=\"Category\",RIGHT(AN12,5)<>\"Total\"),$AL12+1,$AL12))","v":""},"",{"$f":"IF(AL13=Worksheet!$AA$2+2,\"Overall Total\",IF(OR(AL13=\"\",AN12=\"\"),\"\",IF(AND(AL12<>0,AL13<>AL12,OFFSET(Worksheet!$AD$1,AL13,0)<>AN12),AN12&\" Total\",OFFSET(Worksheet!$AD$1,AL13,0))))","v":""}]
["Gisborne","GIS",null,null,13,"",null,null,null,null,null,null,null,null,null,null,null,null,{"$f":"IFERROR(IF(INDIRECT(\"'\"&OFFSET($F$4,S13,0)&\"'!B\"&COUNTIF($S$1:S13,S13)+11)=\"\",$S13+1,S13),\"\")","v":""},null,{"$f":"IF($S14=\"\",\"\",IFERROR(INDIRECT(\"'\"&OFFSET($F$4,$S14,0)&\"'!B\"&COUNTIF($S$1:$S14,$S14)+10),\"\"))","v":""},{"$f":"IF($S14=\"\",\"\",IFERROR(INDIRECT(\"'\"&OFFSET($F$4,$S14,0)&\"'!c\"&COUNTIF($S$1:$S14,$S14)+10),\"\"))","v":""},"",{"$f":"IF($S14=\"\",\"\",IFERROR(INDIRECT(\"'\"&OFFSET($F$4,$S14,0)&\"'!o\"&COUNTIF($S$1:$S14,$S14)+10),\"\"))","v":""},"","",null,{"$f":"IFERROR(LOOKUP(2,1/(COUNTIF($AB$1:AB13,OFFSET($Y$2,0,0,$T$2))=0),OFFSET($Y$2,0,0,$T$2)),\"\")","v":""},{"$f":"IFERROR(INDEX(OFFSET($AB$2,0,0,$AA$2),MATCH(SMALL(NOT(OFFSET($AB$2,0,0,$AA$2)=\"\")*IF(ISNUMBER(OFFSET($AB$2,0,0,$AA$2)),COUNTIF(OFFSET($AB$2,0,0,$AA$2),\"<=\"& OFFSET($AB$2,0,0,$AA$2)),COUNTIF(OFFSET($AB$2,0,0,$AA$2),\"<=\"& OFFSET($AB$2,0,0,$AA$2))+SUM(--ISNUMBER(OFFSET($AB$2,0,0,$AA$2)))),ROWS(A$2:$AB14)+SUM(--ISBLANK(OFFSET($AB$2,0,0,$AA$2)))),NOT(OFFSET($AB$2,0,0,$AA$2)=\"\")*IF(ISNUMBER(OFFSET($AB$2,0,0,$AA$2)),COUNTIF(OFFSET($AB$2,0,0,$AA$2),\"<=\"& OFFSET($AB$2,0,0,$AA$2)),COUNTIF(OFFSET($AB$2,0,0,$AA$2),\"<=\"& OFFSET($AB$2,0,0,$AA$2))+SUM(--ISNUMBER(OFFSET($AB$2,0,0,$AA$2)))),0)),\"\")","v":""},"","",null,null,null,null,null,null,{"$f":"IF(OR(AL13=\"\",AND(RIGHT(AN13,5)=\"Total\",AL13>(Worksheet!$AA$2)+1)),\"\",IF(OR(AN13=\"Category\",RIGHT(AN13,5)<>\"Total\"),$AL13+1,$AL13))","v":""},"",{"$f":"IF(AL14=Worksheet!$AA$2+2,\"Overall Total\",IF(OR(AL14=\"\",AN13=\"\"),\"\",IF(AND(AL13<>0,AL14<>AL13,OFFSET(Worksheet!$AD$1,AL14,0)<>AN13),AN13&\" Total\",OFFSET(Worksheet!$AD$1,AL14,0))))","v":""}]
["Glentunnel","GTN",null,null,14,"",null,null,null,null,null,null,null,null,null,null,null,null,{"$f":"IFERROR(IF(INDIRECT(\"'\"&OFFSET($F$4,S14,0)&\"'!B\"&COUNTIF($S$1:S14,S14)+11)=\"\",$S14+1,S14),\"\")","v":""},null,{"$f":"IF($S15=\"\",\"\",IFERROR(INDIRECT(\"'\"&OFFSET($F$4,$S15,0)&\"'!B\"&COUNTIF($S$1:$S15,$S15)+10),\"\"))","v":""},{"$f":"IF($S15=\"\",\"\",IFERROR(INDIRECT(\"'\"&OFFSET($F$4,$S15,0)&\"'!c\"&COUNTIF($S$1:$S15,$S15)+10),\"\"))","v":""},"",{"$f":"IF($S15=\"\",\"\",IFERROR(INDIRECT(\"'\"&OFFSET($F$4,$S15,0)&\"'!o\"&COUNTIF($S$1:$S15,$S15)+10),\"\"))","v":""},"","",null,{"$f":"IFERROR(LOOKUP(2,1/(COUNTIF($AB$1:AB14,OFFSET($Y$2,0,0,$T$2))=0),OFFSET($Y$2,0,0,$T$2)),\"\")","v":""},{"$f":"IFERROR(INDEX(OFFSET($AB$2,0,0,$AA$2),MATCH(SMALL(NOT(OFFSET($AB$2,0,0,$AA$2)=\"\")*IF(ISNUMBER(OFFSET($AB$2,0,0,$AA$2)),COUNTIF(OFFSET($AB$2,0,0,$AA$2),\"<=\"& OFFSET($AB$2,0,0,$AA$2)),COUNTIF(OFFSET($AB$2,0,0,$AA$2),\"<=\"& OFFSET($AB$2,0,0,$AA$2))+SUM(--ISNUMBER(OFFSET($AB$2,0,0,$AA$2)))),ROWS(A$2:$AB15)+SUM(--ISBLANK(OFFSET($AB$2,0,0,$AA$2)))),NOT(OFFSET($AB$2,0,0,$AA$2)=\"\")*IF(ISNUMBER(OFFSET($AB$2,0,0,$AA$2)),COUNTIF(OFFSET($AB$2,0,0,$AA$2),\"<=\"& OFFSET($AB$2,0,0,$AA$2)),COUNTIF(OFFSET($AB$2,0,0,$AA$2),\"<=\"& OFFSET($AB$2,0,0,$AA$2))+SUM(--ISNUMBER(OFFSET($AB$2,0,0,$AA$2)))),0)),\"\")","v":""},"","",null,null,null,null,null,null,{"$f":"IF(OR(AL14=\"\",AND(RIGHT(AN14,5)=\"Total\",AL14>(Worksheet!$AA$2)+1)),\"\",IF(OR(AN14=\"Category\",RIGHT(AN14,5)<>\"Total\"),$AL14+1,$AL14))","v":""},"",{"$f":"IF(AL15=Worksheet!$AA$2+2,\"Overall Total\",IF(OR(AL15=\"\",AN14=\"\"),\"\",IF(AND(AL14<>0,AL15<>AL14,OFFSET(Worksheet!$AD$1,AL15,0)<>AN14),AN14&\" Total\",OFFSET(Worksheet!$AD$1,AL15,0))))","v":""}]
["Great Barrier Island","GBI",null,null,15,"",null,null,null,null,null,null,null,null,null,null,null,null,{"$f":"IFERROR(IF(INDIRECT(\"'\"&OFFSET($F$4,S15,0)&\"'!B\"&COUNTIF($S$1:S15,S15)+11)=\"\",$S15+1,S15),\"\")","v":""},null,{"$f":"IF($S16=\"\",\"\",IFERROR(INDIRECT(\"'\"&OFFSET($F$4,$S16,0)&\"'!B\"&COUNTIF($S$1:$S16,$S16)+10),\"\"))","v":""},{"$f":"IF($S16=\"\",\"\",IFERROR(INDIRECT(\"'\"&OFFSET($F$4,$S16,0)&\"'!c\"&COUNTIF($S$1:$S16,$S16)+10),\"\"))","v":""},"",{"$f":"IF($S16=\"\",\"\",IFERROR(INDIRECT(\"'\"&OFFSET($F$4,$S16,0)&\"'!o\"&COUNTIF($S$1:$S16,$S16)+10),\"\"))","v":""},"","",null,{"$f":"IFERROR(LOOKUP(2,1/(COUNTIF($AB$1:AB15,OFFSET($Y$2,0,0,$T$2))=0),OFFSET($Y$2,0,0,$T$2)),\"\")","v":""},{"$f":"IFERROR(INDEX(OFFSET($AB$2,0,0,$AA$2),MATCH(SMALL(NOT(OFFSET($AB$2,0,0,$AA$2)=\"\")*IF(ISNUMBER(OFFSET($AB$2,0,0,$AA$2)),COUNTIF(OFFSET($AB$2,0,0,$AA$2),\"<=\"& OFFSET($AB$2,0,0,$AA$2)),COUNTIF(OFFSET($AB$2,0,0,$AA$2),\"<=\"& OFFSET($AB$2,0,0,$AA$2))+SUM(--ISNUMBER(OFFSET($AB$2,0,0,$AA$2)))),ROWS(A$2:$AB16)+SUM(--ISBLANK(OFFSET($AB$2,0,0,$AA$2)))),NOT(OFFSET($AB$2,0,0,$AA$2)=\"\")*IF(ISNUMBER(OFFSET($AB$2,0,0,$AA$2)),COUNTIF(OFFSET($AB$2,0,0,$AA$2),\"<=\"& OFFSET($AB$2,0,0,$AA$2)),COUNTIF(OFFSET($AB$2,0,0,$AA$2),\"<=\"& OFFSET($AB$2,0,0,$AA$2))+SUM(--ISNUMBER(OFFSET($AB$2,0,0,$AA$2)))),0)),\"\")","v":""},"","",null,null,null,null,null,null,{"$f":"IF(OR(AL15=\"\",AND(RIGHT(AN15,5)=\"Total\",AL15>(Worksheet!$AA$2)+1)),\"\",IF(OR(AN15=\"Category\",RIGHT(AN15,5)<>\"Total\"),$AL15+1,$AL15))","v":""},"",{"$f":"IF(AL16=Worksheet!$AA$2+2,\"Overall Total\",IF(OR(AL16=\"\",AN15=\"\"),\"\",IF(AND(AL15<>0,AL16<>AL15,OFFSET(Worksheet!$AD$1,AL16,0)<>AN15),AN15&\" Total\",OFFSET(Worksheet!$AD$1,AL16,0))))","v":""}]
["Greymouth","GRM",null,null,16,null,null,null,null,null,null,null,null,null,null,null,null,null,{"$f":"IFERROR(IF(INDIRECT(\"'\"&OFFSET($F$4,S16,0)&\"'!B\"&COUNTIF($S$1:S16,S16)+11)=\"\",$S16+1,S16),\"\")","v":""},null,{"$f":"IF($S17=\"\",\"\",IFERROR(INDIRECT(\"'\"&OFFSET($F$4,$S17,0)&\"'!B\"&COUNTIF($S$1:$S17,$S17)+10),\"\"))","v":""},{"$f":"IF($S17=\"\",\"\",IFERROR(INDIRECT(\"'\"&OFFSET($F$4,$S17,0)&\"'!c\"&COUNTIF($S$1:$S17,$S17)+10),\"\"))","v":""},"",{"$f":"IF($S17=\"\",\"\",IFERROR(INDIRECT(\"'\"&OFFSET($F$4,$S17,0)&\"'!o\"&COUNTIF($S$1:$S17,$S17)+10),\"\"))","v":""},"","",null,{"$f":"IFERROR(LOOKUP(2,1/(COUNTIF($AB$1:AB16,OFFSET($Y$2,0,0,$T$2))=0),OFFSET($Y$2,0,0,$T$2)),\"\")","v":""},{"$f":"IFERROR(INDEX(OFFSET($AB$2,0,0,$AA$2),MATCH(SMALL(NOT(OFFSET($AB$2,0,0,$AA$2)=\"\")*IF(ISNUMBER(OFFSET($AB$2,0,0,$AA$2)),COUNTIF(OFFSET($AB$2,0,0,$AA$2),\"<=\"& OFFSET($AB$2,0,0,$AA$2)),COUNTIF(OFFSET($AB$2,0,0,$AA$2),\"<=\"& OFFSET($AB$2,0,0,$AA$2))+SUM(--ISNUMBER(OFFSET($AB$2,0,0,$AA$2)))),ROWS(A$2:$AB17)+SUM(--ISBLANK(OFFSET($AB$2,0,0,$AA$2)))),NOT(OFFSET($AB$2,0,0,$AA$2)=\"\")*IF(ISNUMBER(OFFSET($AB$2,0,0,$AA$2)),COUNTIF(OFFSET($AB$2,0,0,$AA$2),\"<=\"& OFFSET($AB$2,0,0,$AA$2)),COUNTIF(OFFSET($AB$2,0,0,$AA$2),\"<=\"& OFFSET($AB$2,0,0,$AA$2))+SUM(--ISNUMBER(OFFSET($AB$2,0,0,$AA$2)))),0)),\"\")","v":""},"","",null,null,null,null,null,null,{"$f":"IF(OR(AL16=\"\",AND(RIGHT(AN16,5)=\"Total\",AL16>(Worksheet!$AA$2)+1)),\"\",IF(OR(AN16=\"Category\",RIGHT(AN16,5)<>\"Total\"),$AL16+1,$AL16))","v":""},"",{"$f":"IF(AL17=Worksheet!$AA$2+2,\"Overall Total\",IF(OR(AL17=\"\",AN16=\"\"),\"\",IF(AND(AL16<>0,AL17<>AL16,OFFSET(Worksheet!$AD$1,AL17,0)<>AN16),AN16&\" Total\",OFFSET(Worksheet!$AD$1,AL17,0))))","v":""}]
["Hamilton","HAM",null,null,17,null,null,null,null,null,null,null,null,null,null,null,null,null,{"$f":"IFERROR(IF(INDIRECT(\"'\"&OFFSET($F$4,S17,0)&\"'!B\"&COUNTIF($S$1:S17,S17)+11)=\"\",$S17+1,S17),\"\")","v":""},null,{"$f":"IF($S18=\"\",\"\",IFERROR(INDIRECT(\"'\"&OFFSET($F$4,$S18,0)&\"'!B\"&COUNTIF($S$1:$S18,$S18)+10),\"\"))","v":""},{"$f":"IF($S18=\"\",\"\",IFERROR(INDIRECT(\"'\"&OFFSET($F$4,$S18,0)&\"'!c\"&COUNTIF($S$1:$S18,$S18)+10),\"\"))","v":""},"",{"$f":"IF($S18=\"\",\"\",IFERROR(INDIRECT(\"'\"&OFFSET($F$4,$S18,0)&\"'!o\"&COUNTIF($S$1:$S18,$S18)+10),\"\"))","v":""},"","",null,{"$f":"IFERROR(LOOKUP(2,1/(COUNTIF($AB$1:AB17,OFFSET($Y$2,0,0,$T$2))=0),OFFSET($Y$2,0,0,$T$2)),\"\")","v":""},{"$f":"IFERROR(INDEX(OFFSET($AB$2,0,0,$AA$2),MATCH(SMALL(NOT(OFFSET($AB$2,0,0,$AA$2)=\"\")*IF(ISNUMBER(OFFSET($AB$2,0,0,$AA$2)),COUNTIF(OFFSET($AB$2,0,0,$AA$2),\"<=\"& OFFSET($AB$2,0,0,$AA$2)),COUNTIF(OFFSET($AB$2,0,0,$AA$2),\"<=\"& OFFSET($AB$2,0,0,$AA$2))+SUM(--ISNUMBER(OFFSET($AB$2,0,0,$AA$2)))),ROWS(A$2:$AB18)+SUM(--ISBLANK(OFFSET($AB$2,0,0,$AA$2)))),NOT(OFFSET($AB$2,0,0,$AA$2)=\"\")*IF(ISNUMBER(OFFSET($AB$2,0,0,$AA$2)),COUNTIF(OFFSET($AB$2,0,0,$AA$2),\"<=\"& OFFSET($AB$2,0,0,$AA$2)),COUNTIF(OFFSET($AB$2,0,0,$AA$2),\"<=\"& OFFSET($AB$2,0,0,$AA$2))+SUM(--ISNUMBER(OFFSET($AB$2,0,0,$AA$2)))),0)),\"\")","v":""},"","",null,null,null,null,null,null,{"$f":"IF(OR(AL17=\"\",AND(RIGHT(AN17,5)=\"Total\",AL17>(Worksheet!$AA$2)+1)),\"\",IF(OR(AN17=\"Category\",RIGHT(AN17,5)<>\"Total\"),$AL17+1,$AL17))","v":""},"",{"$f":"IF(AL18=Worksheet!$AA$2+2,\"Overall Total\",IF(OR(AL18=\"\",AN17=\"\"),\"\",IF(AND(AL17<>0,AL18<>AL17,OFFSET(Worksheet!$AD$1,AL18,0)<>AN17),AN17&\" Total\",OFFSET(Worksheet!$AD$1,AL18,0))))","v":""}]
["Hastings","HAS",null,null,18,null,null,null,null,null,null,null,null,null,null,null,null,null,{"$f":"IFERROR(IF(INDIRECT(\"'\"&OFFSET($F$4,S18,0)&\"'!B\"&COUNTIF($S$1:S18,S18)+11)=\"\",$S18+1,S18),\"\")","v":""},null,{"$f":"IF($S19=\"\",\"\",IFERROR(INDIRECT(\"'\"&OFFSET($F$4,$S19,0)&\"'!B\"&COUNTIF($S$1:$S19,$S19)+10),\"\"))","v":""},{"$f":"IF($S19=\"\",\"\",IFERROR(INDIRECT(\"'\"&OFFSET($F$4,$S19,0)&\"'!c\"&COUNTIF($S$1:$S19,$S19)+10),\"\"))","v":""},"",{"$f":"IF($S19=\"\",\"\",IFERROR(INDIRECT(\"'\"&OFFSET($F$4,$S19,0)&\"'!o\"&COUNTIF($S$1:$S19,$S19)+10),\"\"))","v":""},"","",null,{"$f":"IFERROR(LOOKUP(2,1/(COUNTIF($AB$1:AB18,OFFSET($Y$2,0,0,$T$2))=0),OFFSET($Y$2,0,0,$T$2)),\"\")","v":""},{"$f":"IFERROR(INDEX(OFFSET($AB$2,0,0,$AA$2),MATCH(SMALL(NOT(OFFSET($AB$2,0,0,$AA$2)=\"\")*IF(ISNUMBER(OFFSET($AB$2,0,0,$AA$2)),COUNTIF(OFFSET($AB$2,0,0,$AA$2),\"<=\"& OFFSET($AB$2,0,0,$AA$2)),COUNTIF(OFFSET($AB$2,0,0,$AA$2),\"<=\"& OFFSET($AB$2,0,0,$AA$2))+SUM(--ISNUMBER(OFFSET($AB$2,0,0,$AA$2)))),ROWS(A$2:$AB19)+SUM(--ISBLANK(OFFSET($AB$2,0,0,$AA$2)))),NOT(OFFSET($AB$2,0,0,$AA$2)=\"\")*IF(ISNUMBER(OFFSET($AB$2,0,0,$AA$2)),COUNTIF(OFFSET($AB$2,0,0,$AA$2),\"<=\"& OFFSET($AB$2,0,0,$AA$2)),COUNTIF(OFFSET($AB$2,0,0,$AA$2),\"<=\"& OFFSET($AB$2,0,0,$AA$2))+SUM(--ISNUMBER(OFFSET($AB$2,0,0,$AA$2)))),0)),\"\")","v":""},"","",null,null,null,null,null,null,{"$f":"IF(OR(AL18=\"\",AND(RIGHT(AN18,5)=\"Total\",AL18>(Worksheet!$AA$2)+1)),\"\",IF(OR(AN18=\"Category\",RIGHT(AN18,5)<>\"Total\"),$AL18+1,$AL18))","v":""},"",{"$f":"IF(AL19=Worksheet!$AA$2+2,\"Overall Total\",IF(OR(AL19=\"\",AN18=\"\"),\"\",IF(AND(AL18<>0,AL19<>AL18,OFFSET(Worksheet!$AD$1,AL19,0)<>AN18),AN18&\" Total\",OFFSET(Worksheet!$AD$1,AL19,0))))","v":""}]
["HMNZS Olphert","OLP",null,null,19,null,null,null,null,null,null,null,null,null,null,null,null,null,{"$f":"IFERROR(IF(INDIRECT(\"'\"&OFFSET($F$4,S19,0)&\"'!B\"&COUNTIF($S$1:S19,S19)+11)=\"\",$S19+1,S19),\"\")","v":""},null,{"$f":"IF($S20=\"\",\"\",IFERROR(INDIRECT(\"'\"&OFFSET($F$4,$S20,0)&\"'!B\"&COUNTIF($S$1:$S20,$S20)+10),\"\"))","v":""},{"$f":"IF($S20=\"\",\"\",IFERROR(INDIRECT(\"'\"&OFFSET($F$4,$S20,0)&\"'!c\"&COUNTIF($S$1:$S20,$S20)+10),\"\"))","v":""},"",{"$f":"IF($S20=\"\",\"\",IFERROR(INDIRECT(\"'\"&OFFSET($F$4,$S20,0)&\"'!o\"&COUNTIF($S$1:$S20,$S20)+10),\"\"))","v":""},"","",null,{"$f":"IFERROR(LOOKUP(2,1/(COUNTIF($AB$1:AB19,OFFSET($Y$2,0,0,$T$2))=0),OFFSET($Y$2,0,0,$T$2)),\"\")","v":""},{"$f":"IFERROR(INDEX(OFFSET($AB$2,0,0,$AA$2),MATCH(SMALL(NOT(OFFSET($AB$2,0,0,$AA$2)=\"\")*IF(ISNUMBER(OFFSET($AB$2,0,0,$AA$2)),COUNTIF(OFFSET($AB$2,0,0,$AA$2),\"<=\"& OFFSET($AB$2,0,0,$AA$2)),COUNTIF(OFFSET($AB$2,0,0,$AA$2),\"<=\"& OFFSET($AB$2,0,0,$AA$2))+SUM(--ISNUMBER(OFFSET($AB$2,0,0,$AA$2)))),ROWS(A$2:$AB20)+SUM(--ISBLANK(OFFSET($AB$2,0,0,$AA$2)))),NOT(OFFSET($AB$2,0,0,$AA$2)=\"\")*IF(ISNUMBER(OFFSET($AB$2,0,0,$AA$2)),COUNTIF(OFFSET($AB$2,0,0,$AA$2),\"<=\"& OFFSET($AB$2,0,0,$AA$2)),COUNTIF(OFFSET($AB$2,0,0,$AA$2),\"<=\"& OFFSET($AB$2,0,0,$AA$2))+SUM(--ISNUMBER(OFFSET($AB$2,0,0,$AA$2)))),0)),\"\")","v":""},"","",null,null,null,null,null,null,{"$f":"IF(OR(AL19=\"\",AND(RIGHT(AN19,5)=\"Total\",AL19>(Worksheet!$AA$2)+1)),\"\",IF(OR(AN19=\"Category\",RIGHT(AN19,5)<>\"Total\"),$AL19+1,$AL19))","v":""},"",{"$f":"IF(AL20=Worksheet!$AA$2+2,\"Overall Total\",IF(OR(AL20=\"\",AN19=\"\"),\"\",IF(AND(AL19<>0,AL20<>AL19,OFFSET(Worksheet!$AD$1,AL20,0)<>AN19),AN19&\" Total\",OFFSET(Worksheet!$AD$1,AL20,0))))","v":""}]
["Hobsonville","HOB",null,null,20,null,null,null,null,null,null,null,null,null,null,null,null,null,{"$f":"IFERROR(IF(INDIRECT(\"'\"&OFFSET($F$4,S20,0)&\"'!B\"&COUNTIF($S$1:S20,S20)+11)=\"\",$S20+1,S20),\"\")","v":""},null,{"$f":"IF($S21=\"\",\"\",IFERROR(INDIRECT(\"'\"&OFFSET($F$4,$S21,0)&\"'!B\"&COUNTIF($S$1:$S21,$S21)+10),\"\"))","v":""},{"$f":"IF($S21=\"\",\"\",IFERROR(INDIRECT(\"'\"&OFFSET($F$4,$S21,0)&\"'!c\"&COUNTIF($S$1:$S21,$S21)+10),\"\"))","v":""},"",{"$f":"IF($S21=\"\",\"\",IFERROR(INDIRECT(\"'\"&OFFSET($F$4,$S21,0)&\"'!o\"&COUNTIF($S$1:$S21,$S21)+10),\"\"))","v":""},"","",null,{"$f":"IFERROR(LOOKUP(2,1/(COUNTIF($AB$1:AB20,OFFSET($Y$2,0,0,$T$2))=0),OFFSET($Y$2,0,0,$T$2)),\"\")","v":""},{"$f":"IFERROR(INDEX(OFFSET($AB$2,0,0,$AA$2),MATCH(SMALL(NOT(OFFSET($AB$2,0,0,$AA$2)=\"\")*IF(ISNUMBER(OFFSET($AB$2,0,0,$AA$2)),COUNTIF(OFFSET($AB$2,0,0,$AA$2),\"<=\"& OFFSET($AB$2,0,0,$AA$2)),COUNTIF(OFFSET($AB$2,0,0,$AA$2),\"<=\"& OFFSET($AB$2,0,0,$AA$2))+SUM(--ISNUMBER(OFFSET($AB$2,0,0,$AA$2)))),ROWS(A$2:$AB21)+SUM(--ISBLANK(OFFSET($AB$2,0,0,$AA$2)))),NOT(OFFSET($AB$2,0,0,$AA$2)=\"\")*IF(ISNUMBER(OFFSET($AB$2,0,0,$AA$2)),COUNTIF(OFFSET($AB$2,0,0,$AA$2),\"<=\"& OFFSET($AB$2,0,0,$AA$2)),COUNTIF(OFFSET($AB$2,0,0,$AA$2),\"<=\"& OFFSET($AB$2,0,0,$AA$2))+SUM(--ISNUMBER(OFFSET($AB$2,0,0,$AA$2)))),0)),\"\")","v":""},"","",null,null,null,null,null,null,{"$f":"IF(OR(AL20=\"\",AND(RIGHT(AN20,5)=\"Total\",AL20>(Worksheet!$AA$2)+1)),\"\",IF(OR(AN20=\"Category\",RIGHT(AN20,5)<>\"Total\"),$AL20+1,$AL20))","v":""},"",{"$f":"IF(AL21=Worksheet!$AA$2+2,\"Overall Total\",IF(OR(AL21=\"\",AN20=\"\"),\"\",IF(AND(AL20<>0,AL21<>AL20,OFFSET(Worksheet!$AD$1,AL21,0)<>AN20),AN20&\" Total\",OFFSET(Worksheet!$AD$1,AL21,0))))","v":""}]
["Invercargill","INV",null,null,21,null,null,null,null,null,null,null,null,null,null,null,null,null,{"$f":"IFERROR(IF(INDIRECT(\"'\"&OFFSET($F$4,S21,0)&\"'!B\"&COUNTIF($S$1:S21,S21)+11)=\"\",$S21+1,S21),\"\")","v":""},null,{"$f":"IF($S22=\"\",\"\",IFERROR(INDIRECT(\"'\"&OFFSET($F$4,$S22,0)&\"'!B\"&COUNTIF($S$1:$S22,$S22)+10),\"\"))","v":""},{"$f":"IF($S22=\"\",\"\",IFERROR(INDIRECT(\"'\"&OFFSET($F$4,$S22,0)&\"'!c\"&COUNTIF($S$1:$S22,$S22)+10),\"\"))","v":""},"",{"$f":"IF($S22=\"\",\"\",IFERROR(INDIRECT(\"'\"&OFFSET($F$4,$S22,0)&\"'!o\"&COUNTIF($S$1:$S22,$S22)+10),\"\"))","v":""},"","",null,{"$f":"IFERROR(LOOKUP(2,1/(COUNTIF($AB$1:AB21,OFFSET($Y$2,0,0,$T$2))=0),OFFSET($Y$2,0,0,$T$2)),\"\")","v":""},{"$f":"IFERROR(INDEX(OFFSET($AB$2,0,0,$AA$2),MATCH(SMALL(NOT(OFFSET($AB$2,0,0,$AA$2)=\"\")*IF(ISNUMBER(OFFSET($AB$2,0,0,$AA$2)),COUNTIF(OFFSET($AB$2,0,0,$AA$2),\"<=\"& OFFSET($AB$2,0,0,$AA$2)),COUNTIF(OFFSET($AB$2,0,0,$AA$2),\"<=\"& OFFSET($AB$2,0,0,$AA$2))+SUM(--ISNUMBER(OFFSET($AB$2,0,0,$AA$2)))),ROWS(A$2:$AB22)+SUM(--ISBLANK(OFFSET($AB$2,0,0,$AA$2)))),NOT(OFFSET($AB$2,0,0,$AA$2)=\"\")*IF(ISNUMBER(OFFSET($AB$2,0,0,$AA$2)),COUNTIF(OFFSET($AB$2,0,0,$AA$2),\"<=\"& OFFSET($AB$2,0,0,$AA$2)),COUNTIF(OFFSET($AB$2,0,0,$AA$2),\"<=\"& OFFSET($AB$2,0,0,$AA$2))+SUM(--ISNUMBER(OFFSET($AB$2,0,0,$AA$2)))),0)),\"\")","v":""},"","",null,null,null,null,null,null,{"$f":"IF(OR(AL21=\"\",AND(RIGHT(AN21,5)=\"Total\",AL21>(Worksheet!$AA$2)+1)),\"\",IF(OR(AN21=\"Category\",RIGHT(AN21,5)<>\"Total\"),$AL21+1,$AL21))","v":""},"",{"$f":"IF(AL22=Worksheet!$AA$2+2,\"Overall Total\",IF(OR(AL22=\"\",AN21=\"\"),\"\",IF(AND(AL21<>0,AL22<>AL21,OFFSET(Worksheet!$AD$1,AL22,0)<>AN21),AN21&\" Total\",OFFSET(Worksheet!$AD$1,AL22,0))))","v":""}]
["Irirangi","IRI",null,null,22,null,null,null,null,null,null,null,null,null,null,null,null,null,{"$f":"IFERROR(IF(INDIRECT(\"'\"&OFFSET($F$4,S22,0)&\"'!B\"&COUNTIF($S$1:S22,S22)+11)=\"\",$S22+1,S22),\"\")","v":""},null,{"$f":"IF($S23=\"\",\"\",IFERROR(INDIRECT(\"'\"&OFFSET($F$4,$S23,0)&\"'!B\"&COUNTIF($S$1:$S23,$S23)+10),\"\"))","v":""},{"$f":"IF($S23=\"\",\"\",IFERROR(INDIRECT(\"'\"&OFFSET($F$4,$S23,0)&\"'!c\"&COUNTIF($S$1:$S23,$S23)+10),\"\"))","v":""},"",{"$f":"IF($S23=\"\",\"\",IFERROR(INDIRECT(\"'\"&OFFSET($F$4,$S23,0)&\"'!o\"&COUNTIF($S$1:$S23,$S23)+10),\"\"))","v":""},"","",null,{"$f":"IFERROR(LOOKUP(2,1/(COUNTIF($AB$1:AB22,OFFSET($Y$2,0,0,$T$2))=0),OFFSET($Y$2,0,0,$T$2)),\"\")","v":""},{"$f":"IFERROR(INDEX(OFFSET($AB$2,0,0,$AA$2),MATCH(SMALL(NOT(OFFSET($AB$2,0,0,$AA$2)=\"\")*IF(ISNUMBER(OFFSET($AB$2,0,0,$AA$2)),COUNTIF(OFFSET($AB$2,0,0,$AA$2),\"<=\"& OFFSET($AB$2,0,0,$AA$2)),COUNTIF(OFFSET($AB$2,0,0,$AA$2),\"<=\"& OFFSET($AB$2,0,0,$AA$2))+SUM(--ISNUMBER(OFFSET($AB$2,0,0,$AA$2)))),ROWS(A$2:$AB23)+SUM(--ISBLANK(OFFSET($AB$2,0,0,$AA$2)))),NOT(OFFSET($AB$2,0,0,$AA$2)=\"\")*IF(ISNUMBER(OFFSET($AB$2,0,0,$AA$2)),COUNTIF(OFFSET($AB$2,0,0,$AA$2),\"<=\"& OFFSET($AB$2,0,0,$AA$2)),COUNTIF(OFFSET($AB$2,0,0,$AA$2),\"<=\"& OFFSET($AB$2,0,0,$AA$2))+SUM(--ISNUMBER(OFFSET($AB$2,0,0,$AA$2)))),0)),\"\")","v":""},"","",null,null,null,null,null,null,{"$f":"IF(OR(AL22=\"\",AND(RIGHT(AN22,5)=\"Total\",AL22>(Worksheet!$AA$2)+1)),\"\",IF(OR(AN22=\"Category\",RIGHT(AN22,5)<>\"Total\"),$AL22+1,$AL22))","v":""},"",{"$f":"IF(AL23=Worksheet!$AA$2+2,\"Overall Total\",IF(OR(AL23=\"\",AN22=\"\"),\"\",IF(AND(AL22<>0,AL23<>AL22,OFFSET(Worksheet!$AD$1,AL23,0)<>AN22),AN22&\" Total\",OFFSET(Worksheet!$AD$1,AL23,0))))","v":""}]
["Kaipara","KAI",null,null,23,null,null,null,null,null,null,null,null,null,null,null,null,null,{"$f":"IFERROR(IF(INDIRECT(\"'\"&OFFSET($F$4,S23,0)&\"'!B\"&COUNTIF($S$1:S23,S23)+11)=\"\",$S23+1,S23),\"\")","v":""},null,{"$f":"IF($S24=\"\",\"\",IFERROR(INDIRECT(\"'\"&OFFSET($F$4,$S24,0)&\"'!B\"&COUNTIF($S$1:$S24,$S24)+10),\"\"))","v":""},{"$f":"IF($S24=\"\",\"\",IFERROR(INDIRECT(\"'\"&OFFSET($F$4,$S24,0)&\"'!c\"&COUNTIF($S$1:$S24,$S24)+10),\"\"))","v":""},"",{"$f":"IF($S24=\"\",\"\",IFERROR(INDIRECT(\"'\"&OFFSET($F$4,$S24,0)&\"'!o\"&COUNTIF($S$1:$S24,$S24)+10),\"\"))","v":""},"","",null,{"$f":"IFERROR(LOOKUP(2,1/(COUNTIF($AB$1:AB23,OFFSET($Y$2,0,0,$T$2))=0),OFFSET($Y$2,0,0,$T$2)),\"\")","v":""},{"$f":"IFERROR(INDEX(OFFSET($AB$2,0,0,$AA$2),MATCH(SMALL(NOT(OFFSET($AB$2,0,0,$AA$2)=\"\")*IF(ISNUMBER(OFFSET($AB$2,0,0,$AA$2)),COUNTIF(OFFSET($AB$2,0,0,$AA$2),\"<=\"& OFFSET($AB$2,0,0,$AA$2)),COUNTIF(OFFSET($AB$2,0,0,$AA$2),\"<=\"& OFFSET($AB$2,0,0,$AA$2))+SUM(--ISNUMBER(OFFSET($AB$2,0,0,$AA$2)))),ROWS(A$2:$AB24)+SUM(--ISBLANK(OFFSET($AB$2,0,0,$AA$2)))),NOT(OFFSET($AB$2,0,0,$AA$2)=\"\")*IF(ISNUMBER(OFFSET($AB$2,0,0,$AA$2)),COUNTIF(OFFSET($AB$2,0,0,$AA$2),\"<=\"& OFFSET($AB$2,0,0,$AA$2)),COUNTIF(OFFSET($AB$2,0,0,$AA$2),\"<=\"& OFFSET($AB$2,0,0,$AA$2))+SUM(--ISNUMBER(OFFSET($AB$2,0,0,$AA$2)))),0)),\"\")","v":""},"","",null,null,null,null,null,null,{"$f":"IF(OR(AL23=\"\",AND(RIGHT(AN23,5)=\"Total\",AL23>(Worksheet!$AA$2)+1)),\"\",IF(OR(AN23=\"Category\",RIGHT(AN23,5)<>\"Total\"),$AL23+1,$AL23))","v":""},"",{"$f":"IF(AL24=Worksheet!$AA$2+2,\"Overall Total\",IF(OR(AL24=\"\",AN23=\"\"),\"\",IF(AND(AL23<>0,AL24<>AL23,OFFSET(Worksheet!$AD$1,AL24,0)<>AN23),AN23&\" Total\",OFFSET(Worksheet!$AD$1,AL24,0))))","v":""}]
["Kauri Point","KPT",null,null,24,null,null,null,null,null,null,null,null,null,null,null,null,null,{"$f":"IFERROR(IF(INDIRECT(\"'\"&OFFSET($F$4,S24,0)&\"'!B\"&COUNTIF($S$1:S24,S24)+11)=\"\",$S24+1,S24),\"\")","v":""},null,{"$f":"IF($S25=\"\",\"\",IFERROR(INDIRECT(\"'\"&OFFSET($F$4,$S25,0)&\"'!B\"&COUNTIF($S$1:$S25,$S25)+10),\"\"))","v":""},{"$f":"IF($S25=\"\",\"\",IFERROR(INDIRECT(\"'\"&OFFSET($F$4,$S25,0)&\"'!c\"&COUNTIF($S$1:$S25,$S25)+10),\"\"))","v":""},"",{"$f":"IF($S25=\"\",\"\",IFERROR(INDIRECT(\"'\"&OFFSET($F$4,$S25,0)&\"'!o\"&COUNTIF($S$1:$S25,$S25)+10),\"\"))","v":""},"","",null,{"$f":"IFERROR(LOOKUP(2,1/(COUNTIF($AB$1:AB24,OFFSET($Y$2,0,0,$T$2))=0),OFFSET($Y$2,0,0,$T$2)),\"\")","v":""},{"$f":"IFERROR(INDEX(OFFSET($AB$2,0,0,$AA$2),MATCH(SMALL(NOT(OFFSET($AB$2,0,0,$AA$2)=\"\")*IF(ISNUMBER(OFFSET($AB$2,0,0,$AA$2)),COUNTIF(OFFSET($AB$2,0,0,$AA$2),\"<=\"& OFFSET($AB$2,0,0,$AA$2)),COUNTIF(OFFSET($AB$2,0,0,$AA$2),\"<=\"& OFFSET($AB$2,0,0,$AA$2))+SUM(--ISNUMBER(OFFSET($AB$2,0,0,$AA$2)))),ROWS(A$2:$AB25)+SUM(--ISBLANK(OFFSET($AB$2,0,0,$AA$2)))),NOT(OFFSET($AB$2,0,0,$AA$2)=\"\")*IF(ISNUMBER(OFFSET($AB$2,0,0,$AA$2)),COUNTIF(OFFSET($AB$2,0,0,$AA$2),\"<=\"& OFFSET($AB$2,0,0,$AA$2)),COUNTIF(OFFSET($AB$2,0,0,$AA$2),\"<=\"& OFFSET($AB$2,0,0,$AA$2))+SUM(--ISNUMBER(OFFSET($AB$2,0,0,$AA$2)))),0)),\"\")","v":""},"","",null,null,null,null,null,null,{"$f":"IF(OR(AL24=\"\",AND(RIGHT(AN24,5)=\"Total\",AL24>(Worksheet!$AA$2)+1)),\"\",IF(OR(AN24=\"Category\",RIGHT(AN24,5)<>\"Total\"),$AL24+1,$AL24))","v":""},"",{"$f":"IF(AL25=Worksheet!$AA$2+2,\"Overall Total\",IF(OR(AL25=\"\",AN24=\"\"),\"\",IF(AND(AL24<>0,AL25<>AL24,OFFSET(Worksheet!$AD$1,AL25,0)<>AN24),AN24&\" Total\",OFFSET(Worksheet!$AD$1,AL25,0))))","v":""}]
["Kensington Army Hall (Dunedin City)","KAH",null,null,25,null,null,null,null,null,null,null,null,null,null,null,null,null,{"$f":"IFERROR(IF(INDIRECT(\"'\"&OFFSET($F$4,S25,0)&\"'!B\"&COUNTIF($S$1:S25,S25)+11)=\"\",$S25+1,S25),\"\")","v":""},null,{"$f":"IF($S26=\"\",\"\",IFERROR(INDIRECT(\"'\"&OFFSET($F$4,$S26,0)&\"'!B\"&COUNTIF($S$1:$S26,$S26)+10),\"\"))","v":""},{"$f":"IF($S26=\"\",\"\",IFERROR(INDIRECT(\"'\"&OFFSET($F$4,$S26,0)&\"'!c\"&COUNTIF($S$1:$S26,$S26)+10),\"\"))","v":""},"",{"$f":"IF($S26=\"\",\"\",IFERROR(INDIRECT(\"'\"&OFFSET($F$4,$S26,0)&\"'!o\"&COUNTIF($S$1:$S26,$S26)+10),\"\"))","v":""},"","",null,{"$f":"IFERROR(LOOKUP(2,1/(COUNTIF($AB$1:AB25,OFFSET($Y$2,0,0,$T$2))=0),OFFSET($Y$2,0,0,$T$2)),\"\")","v":""},{"$f":"IFERROR(INDEX(OFFSET($AB$2,0,0,$AA$2),MATCH(SMALL(NOT(OFFSET($AB$2,0,0,$AA$2)=\"\")*IF(ISNUMBER(OFFSET($AB$2,0,0,$AA$2)),COUNTIF(OFFSET($AB$2,0,0,$AA$2),\"<=\"& OFFSET($AB$2,0,0,$AA$2)),COUNTIF(OFFSET($AB$2,0,0,$AA$2),\"<=\"& OFFSET($AB$2,0,0,$AA$2))+SUM(--ISNUMBER(OFFSET($AB$2,0,0,$AA$2)))),ROWS(A$2:$AB26)+SUM(--ISBLANK(OFFSET($AB$2,0,0,$AA$2)))),NOT(OFFSET($AB$2,0,0,$AA$2)=\"\")*IF(ISNUMBER(OFFSET($AB$2,0,0,$AA$2)),COUNTIF(OFFSET($AB$2,0,0,$AA$2),\"<=\"& OFFSET($AB$2,0,0,$AA$2)),COUNTIF(OFFSET($AB$2,0,0,$AA$2),\"<=\"& OFFSET($AB$2,0,0,$AA$2))+SUM(--ISNUMBER(OFFSET($AB$2,0,0,$AA$2)))),0)),\"\")","v":""},"","",null,null,null,null,null,null,{"$f":"IF(OR(AL25=\"\",AND(RIGHT(AN25,5)=\"Total\",AL25>(Worksheet!$AA$2)+1)),\"\",IF(OR(AN25=\"Category\",RIGHT(AN25,5)<>\"Total\"),$AL25+1,$AL25))","v":""},"",{"$f":"IF(AL26=Worksheet!$AA$2+2,\"Overall Total\",IF(OR(AL26=\"\",AN25=\"\"),\"\",IF(AND(AL25<>0,AL26<>AL25,OFFSET(Worksheet!$AD$1,AL26,0)<>AN25),AN25&\" Total\",OFFSET(Worksheet!$AD$1,AL26,0))))","v":""}]
["Landguard Bluff","LAN",null,null,26,null,null,null,null,null,null,null,null,null,null,null,null,null,{"$f":"IFERROR(IF(INDIRECT(\"'\"&OFFSET($F$4,S26,0)&\"'!B\"&COUNTIF($S$1:S26,S26)+11)=\"\",$S26+1,S26),\"\")","v":""},null,{"$f":"IF($S27=\"\",\"\",IFERROR(INDIRECT(\"'\"&OFFSET($F$4,$S27,0)&\"'!B\"&COUNTIF($S$1:$S27,$S27)+10),\"\"))","v":""},{"$f":"IF($S27=\"\",\"\",IFERROR(INDIRECT(\"'\"&OFFSET($F$4,$S27,0)&\"'!c\"&COUNTIF($S$1:$S27,$S27)+10),\"\"))","v":""},"",{"$f":"IF($S27=\"\",\"\",IFERROR(INDIRECT(\"'\"&OFFSET($F$4,$S27,0)&\"'!o\"&COUNTIF($S$1:$S27,$S27)+10),\"\"))","v":""},"","",null,{"$f":"IFERROR(LOOKUP(2,1/(COUNTIF($AB$1:AB26,OFFSET($Y$2,0,0,$T$2))=0),OFFSET($Y$2,0,0,$T$2)),\"\")","v":""},{"$f":"IFERROR(INDEX(OFFSET($AB$2,0,0,$AA$2),MATCH(SMALL(NOT(OFFSET($AB$2,0,0,$AA$2)=\"\")*IF(ISNUMBER(OFFSET($AB$2,0,0,$AA$2)),COUNTIF(OFFSET($AB$2,0,0,$AA$2),\"<=\"& OFFSET($AB$2,0,0,$AA$2)),COUNTIF(OFFSET($AB$2,0,0,$AA$2),\"<=\"& OFFSET($AB$2,0,0,$AA$2))+SUM(--ISNUMBER(OFFSET($AB$2,0,0,$AA$2)))),ROWS(A$2:$AB27)+SUM(--ISBLANK(OFFSET($AB$2,0,0,$AA$2)))),NOT(OFFSET($AB$2,0,0,$AA$2)=\"\")*IF(ISNUMBER(OFFSET($AB$2,0,0,$AA$2)),COUNTIF(OFFSET($AB$2,0,0,$AA$2),\"<=\"& OFFSET($AB$2,0,0,$AA$2)),COUNTIF(OFFSET($AB$2,0,0,$AA$2),\"<=\"& OFFSET($AB$2,0,0,$AA$2))+SUM(--ISNUMBER(OFFSET($AB$2,0,0,$AA$2)))),0)),\"\")","v":""},"","",null,null,null,null,null,null,{"$f":"IF(OR(AL26=\"\",AND(RIGHT(AN26,5)=\"Total\",AL26>(Worksheet!$AA$2)+1)),\"\",IF(OR(AN26=\"Category\",RIGHT(AN26,5)<>\"Total\"),$AL26+1,$AL26))","v":""},"",{"$f":"IF(AL27=Worksheet!$AA$2+2,\"Overall Total\",IF(OR(AL27=\"\",AN26=\"\"),\"\",IF(AND(AL26<>0,AL27<>AL26,OFFSET(Worksheet!$AD$1,AL27,0)<>AN26),AN26&\" Total\",OFFSET(Worksheet!$AD$1,AL27,0))))","v":""}]
["Linton","LIN",null,null,27,null,null,null,null,null,null,null,null,null,null,null,null,null,{"$f":"IFERROR(IF(INDIRECT(\"'\"&OFFSET($F$4,S27,0)&\"'!B\"&COUNTIF($S$1:S27,S27)+11)=\"\",$S27+1,S27),\"\")","v":""},null,{"$f":"IF($S28=\"\",\"\",IFERROR(INDIRECT(\"'\"&OFFSET($F$4,$S28,0)&\"'!B\"&COUNTIF($S$1:$S28,$S28)+10),\"\"))","v":""},{"$f":"IF($S28=\"\",\"\",IFERROR(INDIRECT(\"'\"&OFFSET($F$4,$S28,0)&\"'!c\"&COUNTIF($S$1:$S28,$S28)+10),\"\"))","v":""},"",{"$f":"IF($S28=\"\",\"\",IFERROR(INDIRECT(\"'\"&OFFSET($F$4,$S28,0)&\"'!o\"&COUNTIF($S$1:$S28,$S28)+10),\"\"))","v":""},"","",null,{"$f":"IFERROR(LOOKUP(2,1/(COUNTIF($AB$1:AB27,OFFSET($Y$2,0,0,$T$2))=0),OFFSET($Y$2,0,0,$T$2)),\"\")","v":""},{"$f":"IFERROR(INDEX(OFFSET($AB$2,0,0,$AA$2),MATCH(SMALL(NOT(OFFSET($AB$2,0,0,$AA$2)=\"\")*IF(ISNUMBER(OFFSET($AB$2,0,0,$AA$2)),COUNTIF(OFFSET($AB$2,0,0,$AA$2),\"<=\"& OFFSET($AB$2,0,0,$AA$2)),COUNTIF(OFFSET($AB$2,0,0,$AA$2),\"<=\"& OFFSET($AB$2,0,0,$AA$2))+SUM(--ISNUMBER(OFFSET($AB$2,0,0,$AA$2)))),ROWS(A$2:$AB28)+SUM(--ISBLANK(OFFSET($AB$2,0,0,$AA$2)))),NOT(OFFSET($AB$2,0,0,$AA$2)=\"\")*IF(ISNUMBER(OFFSET($AB$2,0,0,$AA$2)),COUNTIF(OFFSET($AB$2,0,0,$AA$2),\"<=\"& OFFSET($AB$2,0,0,$AA$2)),COUNTIF(OFFSET($AB$2,0,0,$AA$2),\"<=\"& OFFSET($AB$2,0,0,$AA$2))+SUM(--ISNUMBER(OFFSET($AB$2,0,0,$AA$2)))),0)),\"\")","v":""},"","",null,null,null,null,null,null,{"$f":"IF(OR(AL27=\"\",AND(RIGHT(AN27,5)=\"Total\",AL27>(Worksheet!$AA$2)+1)),\"\",IF(OR(AN27=\"Category\",RIGHT(AN27,5)<>\"Total\"),$AL27+1,$AL27))","v":""},"",{"$f":"IF(AL28=Worksheet!$AA$2+2,\"Overall Total\",IF(OR(AL28=\"\",AN27=\"\"),\"\",IF(AND(AL27<>0,AL28<>AL27,OFFSET(Worksheet!$AD$1,AL28,0)<>AN27),AN27&\" Total\",OFFSET(Worksheet!$AD$1,AL28,0))))","v":""}]
["MakoMako","MAK",null,null,28,null,null,null,null,null,null,null,null,null,null,null,null,null,{"$f":"IFERROR(IF(INDIRECT(\"'\"&OFFSET($F$4,S28,0)&\"'!B\"&COUNTIF($S$1:S28,S28)+11)=\"\",$S28+1,S28),\"\")","v":""},null,{"$f":"IF($S29=\"\",\"\",IFERROR(INDIRECT(\"'\"&OFFSET($F$4,$S29,0)&\"'!B\"&COUNTIF($S$1:$S29,$S29)+10),\"\"))","v":""},{"$f":"IF($S29=\"\",\"\",IFERROR(INDIRECT(\"'\"&OFFSET($F$4,$S29,0)&\"'!c\"&COUNTIF($S$1:$S29,$S29)+10),\"\"))","v":""},"",{"$f":"IF($S29=\"\",\"\",IFERROR(INDIRECT(\"'\"&OFFSET($F$4,$S29,0)&\"'!o\"&COUNTIF($S$1:$S29,$S29)+10),\"\"))","v":""},"","",null,{"$f":"IFERROR(LOOKUP(2,1/(COUNTIF($AB$1:AB28,OFFSET($Y$2,0,0,$T$2))=0),OFFSET($Y$2,0,0,$T$2)),\"\")","v":""},{"$f":"IFERROR(INDEX(OFFSET($AB$2,0,0,$AA$2),MATCH(SMALL(NOT(OFFSET($AB$2,0,0,$AA$2)=\"\")*IF(ISNUMBER(OFFSET($AB$2,0,0,$AA$2)),COUNTIF(OFFSET($AB$2,0,0,$AA$2),\"<=\"& OFFSET($AB$2,0,0,$AA$2)),COUNTIF(OFFSET($AB$2,0,0,$AA$2),\"<=\"& OFFSET($AB$2,0,0,$AA$2))+SUM(--ISNUMBER(OFFSET($AB$2,0,0,$AA$2)))),ROWS(A$2:$AB29)+SUM(--ISBLANK(OFFSET($AB$2,0,0,$AA$2)))),NOT(OFFSET($AB$2,0,0,$AA$2)=\"\")*IF(ISNUMBER(OFFSET($AB$2,0,0,$AA$2)),COUNTIF(OFFSET($AB$2,0,0,$AA$2),\"<=\"& OFFSET($AB$2,0,0,$AA$2)),COUNTIF(OFFSET($AB$2,0,0,$AA$2),\"<=\"& OFFSET($AB$2,0,0,$AA$2))+SUM(--ISNUMBER(OFFSET($AB$2,0,0,$AA$2)))),0)),\"\")","v":""},"","",null,null,null,null,null,null,{"$f":"IF(OR(AL28=\"\",AND(RIGHT(AN28,5)=\"Total\",AL28>(Worksheet!$AA$2)+1)),\"\",IF(OR(AN28=\"Category\",RIGHT(AN28,5)<>\"Total\"),$AL28+1,$AL28))","v":""},"",{"$f":"IF(AL29=Worksheet!$AA$2+2,\"Overall Total\",IF(OR(AL29=\"\",AN28=\"\"),\"\",IF(AND(AL28<>0,AL29<>AL28,OFFSET(Worksheet!$AD$1,AL29,0)<>AN28),AN28&\" Total\",OFFSET(Worksheet!$AD$1,AL29,0))))","v":""}]
["Mangaroa","MGA",null,null,29,null,null,null,null,null,null,null,null,null,null,null,null,null,{"$f":"IFERROR(IF(INDIRECT(\"'\"&OFFSET($F$4,S29,0)&\"'!B\"&COUNTIF($S$1:S29,S29)+11)=\"\",$S29+1,S29),\"\")","v":""},null,{"$f":"IF($S30=\"\",\"\",IFERROR(INDIRECT(\"'\"&OFFSET($F$4,$S30,0)&\"'!B\"&COUNTIF($S$1:$S30,$S30)+10),\"\"))","v":""},{"$f":"IF($S30=\"\",\"\",IFERROR(INDIRECT(\"'\"&OFFSET($F$4,$S30,0)&\"'!c\"&COUNTIF($S$1:$S30,$S30)+10),\"\"))","v":""},"",{"$f":"IF($S30=\"\",\"\",IFERROR(INDIRECT(\"'\"&OFFSET($F$4,$S30,0)&\"'!o\"&COUNTIF($S$1:$S30,$S30)+10),\"\"))","v":""},"","",null,{"$f":"IFERROR(LOOKUP(2,1/(COUNTIF($AB$1:AB29,OFFSET($Y$2,0,0,$T$2))=0),OFFSET($Y$2,0,0,$T$2)),\"\")","v":""},{"$f":"IFERROR(INDEX(OFFSET($AB$2,0,0,$AA$2),MATCH(SMALL(NOT(OFFSET($AB$2,0,0,$AA$2)=\"\")*IF(ISNUMBER(OFFSET($AB$2,0,0,$AA$2)),COUNTIF(OFFSET($AB$2,0,0,$AA$2),\"<=\"& OFFSET($AB$2,0,0,$AA$2)),COUNTIF(OFFSET($AB$2,0,0,$AA$2),\"<=\"& OFFSET($AB$2,0,0,$AA$2))+SUM(--ISNUMBER(OFFSET($AB$2,0,0,$AA$2)))),ROWS(A$2:$AB30)+SUM(--ISBLANK(OFFSET($AB$2,0,0,$AA$2)))),NOT(OFFSET($AB$2,0,0,$AA$2)=\"\")*IF(ISNUMBER(OFFSET($AB$2,0,0,$AA$2)),COUNTIF(OFFSET($AB$2,0,0,$AA$2),\"<=\"& OFFSET($AB$2,0,0,$AA$2)),COUNTIF(OFFSET($AB$2,0,0,$AA$2),\"<=\"& OFFSET($AB$2,0,0,$AA$2))+SUM(--ISNUMBER(OFFSET($AB$2,0,0,$AA$2)))),0)),\"\")","v":""},"","",null,null,null,null,null,null,{"$f":"IF(OR(AL29=\"\",AND(RIGHT(AN29,5)=\"Total\",AL29>(Worksheet!$AA$2)+1)),\"\",IF(OR(AN29=\"Category\",RIGHT(AN29,5)<>\"Total\"),$AL29+1,$AL29))","v":""},"",{"$f":"IF(AL30=Worksheet!$AA$2+2,\"Overall Total\",IF(OR(AL30=\"\",AN29=\"\"),\"\",IF(AND(AL29<>0,AL30<>AL29,OFFSET(Worksheet!$AD$1,AL30,0)<>AN29),AN29&\" Total\",OFFSET(Worksheet!$AD$1,AL30,0))))","v":""}]
["Manukau","MAN",null,null,30,null,null,null,null,null,null,null,null,null,null,null,null,null,{"$f":"IFERROR(IF(INDIRECT(\"'\"&OFFSET($F$4,S30,0)&\"'!B\"&COUNTIF($S$1:S30,S30)+11)=\"\",$S30+1,S30),\"\")","v":""},null,{"$f":"IF($S31=\"\",\"\",IFERROR(INDIRECT(\"'\"&OFFSET($F$4,$S31,0)&\"'!B\"&COUNTIF($S$1:$S31,$S31)+10),\"\"))","v":""},{"$f":"IF($S31=\"\",\"\",IFERROR(INDIRECT(\"'\"&OFFSET($F$4,$S31,0)&\"'!c\"&COUNTIF($S$1:$S31,$S31)+10),\"\"))","v":""},"",{"$f":"IF($S31=\"\",\"\",IFERROR(INDIRECT(\"'\"&OFFSET($F$4,$S31,0)&\"'!o\"&COUNTIF($S$1:$S31,$S31)+10),\"\"))","v":""},"","",null,{"$f":"IFERROR(LOOKUP(2,1/(COUNTIF($AB$1:AB30,OFFSET($Y$2,0,0,$T$2))=0),OFFSET($Y$2,0,0,$T$2)),\"\")","v":""},{"$f":"IFERROR(INDEX(OFFSET($AB$2,0,0,$AA$2),MATCH(SMALL(NOT(OFFSET($AB$2,0,0,$AA$2)=\"\")*IF(ISNUMBER(OFFSET($AB$2,0,0,$AA$2)),COUNTIF(OFFSET($AB$2,0,0,$AA$2),\"<=\"& OFFSET($AB$2,0,0,$AA$2)),COUNTIF(OFFSET($AB$2,0,0,$AA$2),\"<=\"& OFFSET($AB$2,0,0,$AA$2))+SUM(--ISNUMBER(OFFSET($AB$2,0,0,$AA$2)))),ROWS(A$2:$AB31)+SUM(--ISBLANK(OFFSET($AB$2,0,0,$AA$2)))),NOT(OFFSET($AB$2,0,0,$AA$2)=\"\")*IF(ISNUMBER(OFFSET($AB$2,0,0,$AA$2)),COUNTIF(OFFSET($AB$2,0,0,$AA$2),\"<=\"& OFFSET($AB$2,0,0,$AA$2)),COUNTIF(OFFSET($AB$2,0,0,$AA$2),\"<=\"& OFFSET($AB$2,0,0,$AA$2))+SUM(--ISNUMBER(OFFSET($AB$2,0,0,$AA$2)))),0)),\"\")","v":""},"","",null,null,null,null,null,null,{"$f":"IF(OR(AL30=\"\",AND(RIGHT(AN30,5)=\"Total\",AL30>(Worksheet!$AA$2)+1)),\"\",IF(OR(AN30=\"Category\",RIGHT(AN30,5)<>\"Total\"),$AL30+1,$AL30))","v":""},"",{"$f":"IF(AL31=Worksheet!$AA$2+2,\"Overall Total\",IF(OR(AL31=\"\",AN30=\"\"),\"\",IF(AND(AL30<>0,AL31<>AL30,OFFSET(Worksheet!$AD$1,AL31,0)<>AN30),AN30&\" Total\",OFFSET(Worksheet!$AD$1,AL31,0))))","v":""}]
["Mt Maunganui","MTM",null,null,31,null,null,null,null,null,null,null,null,null,null,null,null,null,{"$f":"IFERROR(IF(INDIRECT(\"'\"&OFFSET($F$4,S31,0)&\"'!B\"&COUNTIF($S$1:S31,S31)+11)=\"\",$S31+1,S31),\"\")","v":""},null,{"$f":"IF($S32=\"\",\"\",IFERROR(INDIRECT(\"'\"&OFFSET($F$4,$S32,0)&\"'!B\"&COUNTIF($S$1:$S32,$S32)+10),\"\"))","v":""},{"$f":"IF($S32=\"\",\"\",IFERROR(INDIRECT(\"'\"&OFFSET($F$4,$S32,0)&\"'!c\"&COUNTIF($S$1:$S32,$S32)+10),\"\"))","v":""},"",{"$f":"IF($S32=\"\",\"\",IFERROR(INDIRECT(\"'\"&OFFSET($F$4,$S32,0)&\"'!o\"&COUNTIF($S$1:$S32,$S32)+10),\"\"))","v":""},"","",null,{"$f":"IFERROR(LOOKUP(2,1/(COUNTIF($AB$1:AB31,OFFSET($Y$2,0,0,$T$2))=0),OFFSET($Y$2,0,0,$T$2)),\"\")","v":""},{"$f":"IFERROR(INDEX(OFFSET($AB$2,0,0,$AA$2),MATCH(SMALL(NOT(OFFSET($AB$2,0,0,$AA$2)=\"\")*IF(ISNUMBER(OFFSET($AB$2,0,0,$AA$2)),COUNTIF(OFFSET($AB$2,0,0,$AA$2),\"<=\"& OFFSET($AB$2,0,0,$AA$2)),COUNTIF(OFFSET($AB$2,0,0,$AA$2),\"<=\"& OFFSET($AB$2,0,0,$AA$2))+SUM(--ISNUMBER(OFFSET($AB$2,0,0,$AA$2)))),ROWS(A$2:$AB32)+SUM(--ISBLANK(OFFSET($AB$2,0,0,$AA$2)))),NOT(OFFSET($AB$2,0,0,$AA$2)=\"\")*IF(ISNUMBER(OFFSET($AB$2,0,0,$AA$2)),COUNTIF(OFFSET($AB$2,0,0,$AA$2),\"<=\"& OFFSET($AB$2,0,0,$AA$2)),COUNTIF(OFFSET($AB$2,0,0,$AA$2),\"<=\"& OFFSET($AB$2,0,0,$AA$2))+SUM(--ISNUMBER(OFFSET($AB$2,0,0,$AA$2)))),0)),\"\")","v":""},"","",null,null,null,null,null,null,{"$f":"IF(OR(AL31=\"\",AND(RIGHT(AN31,5)=\"Total\",AL31>(Worksheet!$AA$2)+1)),\"\",IF(OR(AN31=\"Category\",RIGHT(AN31,5)<>\"Total\"),$AL31+1,$AL31))","v":""},"",{"$f":"IF(AL32=Worksheet!$AA$2+2,\"Overall Total\",IF(OR(AL32=\"\",AN31=\"\"),\"\",IF(AND(AL31<>0,AL32<>AL31,OFFSET(Worksheet!$AD$1,AL32,0)<>AN31),AN31&\" Total\",OFFSET(Worksheet!$AD$1,AL32,0))))","v":""}]
["Napier","NPN",null,null,32,null,null,null,null,null,null,null,null,null,null,null,null,null,{"$f":"IFERROR(IF(INDIRECT(\"'\"&OFFSET($F$4,S32,0)&\"'!B\"&COUNTIF($S$1:S32,S32)+11)=\"\",$S32+1,S32),\"\")","v":""},null,{"$f":"IF($S33=\"\",\"\",IFERROR(INDIRECT(\"'\"&OFFSET($F$4,$S33,0)&\"'!B\"&COUNTIF($S$1:$S33,$S33)+10),\"\"))","v":""},{"$f":"IF($S33=\"\",\"\",IFERROR(INDIRECT(\"'\"&OFFSET($F$4,$S33,0)&\"'!c\"&COUNTIF($S$1:$S33,$S33)+10),\"\"))","v":""},"",{"$f":"IF($S33=\"\",\"\",IFERROR(INDIRECT(\"'\"&OFFSET($F$4,$S33,0)&\"'!o\"&COUNTIF($S$1:$S33,$S33)+10),\"\"))","v":""},"","",null,{"$f":"IFERROR(LOOKUP(2,1/(COUNTIF($AB$1:AB32,OFFSET($Y$2,0,0,$T$2))=0),OFFSET($Y$2,0,0,$T$2)),\"\")","v":""},{"$f":"IFERROR(INDEX(OFFSET($AB$2,0,0,$AA$2),MATCH(SMALL(NOT(OFFSET($AB$2,0,0,$AA$2)=\"\")*IF(ISNUMBER(OFFSET($AB$2,0,0,$AA$2)),COUNTIF(OFFSET($AB$2,0,0,$AA$2),\"<=\"& OFFSET($AB$2,0,0,$AA$2)),COUNTIF(OFFSET($AB$2,0,0,$AA$2),\"<=\"& OFFSET($AB$2,0,0,$AA$2))+SUM(--ISNUMBER(OFFSET($AB$2,0,0,$AA$2)))),ROWS(A$2:$AB33)+SUM(--ISBLANK(OFFSET($AB$2,0,0,$AA$2)))),NOT(OFFSET($AB$2,0,0,$AA$2)=\"\")*IF(ISNUMBER(OFFSET($AB$2,0,0,$AA$2)),COUNTIF(OFFSET($AB$2,0,0,$AA$2),\"<=\"& OFFSET($AB$2,0,0,$AA$2)),COUNTIF(OFFSET($AB$2,0,0,$AA$2),\"<=\"& OFFSET($AB$2,0,0,$AA$2))+SUM(--ISNUMBER(OFFSET($AB$2,0,0,$AA$2)))),0)),\"\")","v":""},"","",null,null,null,null,null,null,{"$f":"IF(OR(AL32=\"\",AND(RIGHT(AN32,5)=\"Total\",AL32>(Worksheet!$AA$2)+1)),\"\",IF(OR(AN32=\"Category\",RIGHT(AN32,5)<>\"Total\"),$AL32+1,$AL32))","v":""},"",{"$f":"IF(AL33=Worksheet!$AA$2+2,\"Overall Total\",IF(OR(AL33=\"\",AN32=\"\"),\"\",IF(AND(AL32<>0,AL33<>AL32,OFFSET(Worksheet!$AD$1,AL33,0)<>AN32),AN32&\" Total\",OFFSET(Worksheet!$AD$1,AL33,0))))","v":""}]
["Narrow Neck","NNK",null,null,33,null,null,null,null,null,null,null,null,null,null,null,null,null,{"$f":"IFERROR(IF(INDIRECT(\"'\"&OFFSET($F$4,S33,0)&\"'!B\"&COUNTIF($S$1:S33,S33)+11)=\"\",$S33+1,S33),\"\")","v":""},null,{"$f":"IF($S34=\"\",\"\",IFERROR(INDIRECT(\"'\"&OFFSET($F$4,$S34,0)&\"'!B\"&COUNTIF($S$1:$S34,$S34)+10),\"\"))","v":""},{"$f":"IF($S34=\"\",\"\",IFERROR(INDIRECT(\"'\"&OFFSET($F$4,$S34,0)&\"'!c\"&COUNTIF($S$1:$S34,$S34)+10),\"\"))","v":""},{"$f":"IF(S34=\"\",\"\",IFERROR(OFFSET($F$4,S34,0),\"\"))","v":""},{"$f":"IF($S34=\"\",\"\",IFERROR(INDIRECT(\"'\"&OFFSET($F$4,$S34,0)&\"'!o\"&COUNTIF($S$1:$S34,$S34)+10),\"\"))","v":""},"","",null,{"$f":"IFERROR(LOOKUP(2,1/(COUNTIF($AB$1:AB33,OFFSET($Y$2,0,0,$T$2))=0),OFFSET($Y$2,0,0,$T$2)),\"\")","v":""},{"$f":"IFERROR(INDEX(OFFSET($AB$2,0,0,$AA$2),MATCH(SMALL(NOT(OFFSET($AB$2,0,0,$AA$2)=\"\")*IF(ISNUMBER(OFFSET($AB$2,0,0,$AA$2)),COUNTIF(OFFSET($AB$2,0,0,$AA$2),\"<=\"& OFFSET($AB$2,0,0,$AA$2)),COUNTIF(OFFSET($AB$2,0,0,$AA$2),\"<=\"& OFFSET($AB$2,0,0,$AA$2))+SUM(--ISNUMBER(OFFSET($AB$2,0,0,$AA$2)))),ROWS(A$2:$AB34)+SUM(--ISBLANK(OFFSET($AB$2,0,0,$AA$2)))),NOT(OFFSET($AB$2,0,0,$AA$2)=\"\")*IF(ISNUMBER(OFFSET($AB$2,0,0,$AA$2)),COUNTIF(OFFSET($AB$2,0,0,$AA$2),\"<=\"& OFFSET($AB$2,0,0,$AA$2)),COUNTIF(OFFSET($AB$2,0,0,$AA$2),\"<=\"& OFFSET($AB$2,0,0,$AA$2))+SUM(--ISNUMBER(OFFSET($AB$2,0,0,$AA$2)))),0)),\"\")","v":""},"","",null,null,null,null,null,null,null,null,{"$f":"IF(AL34=Worksheet!$AA$2+2,\"Overall Total\",IF(OR(AL34=\"\",AN33=\"\"),\"\",IF(AND(AL33<>0,AL34<>AL33,OFFSET(Worksheet!$AD$1,AL34,0)<>AN33),AN33&\" Total\",OFFSET(Worksheet!$AD$1,AL34,0))))","v":""}]
["Nelson","NSN",null,null,null,null,null,null,null,null,null,null,null,null,null,null,null,null,{"$f":"IFERROR(IF(INDIRECT(\"'\"&OFFSET($F$4,S34,0)&\"'!B\"&COUNTIF($S$1:S34,S34)+11)=\"\",$S34+1,S34),\"\")","v":""},null,{"$f":"IF($S35=\"\",\"\",IFERROR(INDIRECT(\"'\"&OFFSET($F$4,$S35,0)&\"'!B\"&COUNTIF($S$1:$S35,$S35)+10),\"\"))","v":""},{"$f":"IF($S35=\"\",\"\",IFERROR(INDIRECT(\"'\"&OFFSET($F$4,$S35,0)&\"'!c\"&COUNTIF($S$1:$S35,$S35)+10),\"\"))","v":""},"",{"$f":"IF($S35=\"\",\"\",IFERROR(INDIRECT(\"'\"&OFFSET($F$4,$S35,0)&\"'!o\"&COUNTIF($S$1:$S35,$S35)+10),\"\"))","v":""},"","",null,{"$f":"IFERROR(LOOKUP(2,1/(COUNTIF($AB$1:AB34,OFFSET($Y$2,0,0,$T$2))=0),OFFSET($Y$2,0,0,$T$2)),\"\")","v":""},{"$f":"IFERROR(INDEX(OFFSET($AB$2,0,0,$AA$2),MATCH(SMALL(NOT(OFFSET($AB$2,0,0,$AA$2)=\"\")*IF(ISNUMBER(OFFSET($AB$2,0,0,$AA$2)),COUNTIF(OFFSET($AB$2,0,0,$AA$2),\"<=\"& OFFSET($AB$2,0,0,$AA$2)),COUNTIF(OFFSET($AB$2,0,0,$AA$2),\"<=\"& OFFSET($AB$2,0,0,$AA$2))+SUM(--ISNUMBER(OFFSET($AB$2,0,0,$AA$2)))),ROWS(A$2:$AB35)+SUM(--ISBLANK(OFFSET($AB$2,0,0,$AA$2)))),NOT(OFFSET($AB$2,0,0,$AA$2)=\"\")*IF(ISNUMBER(OFFSET($AB$2,0,0,$AA$2)),COUNTIF(OFFSET($AB$2,0,0,$AA$2),\"<=\"& OFFSET($AB$2,0,0,$AA$2)),COUNTIF(OFFSET($AB$2,0,0,$AA$2),\"<=\"& OFFSET($AB$2,0,0,$AA$2))+SUM(--ISNUMBER(OFFSET($AB$2,0,0,$AA$2)))),0)),\"\")","v":""},"","",null,null,null,null,null,null,null,null,{"$f":"IF(AL35=Worksheet!$AA$2+2,\"Overall Total\",IF(OR(AL35=\"\",AN34=\"\"),\"\",IF(AND(AL34<>0,AL35<>AL34,OFFSET(Worksheet!$AD$1,AL35,0)<>AN34),AN34&\" Total\",OFFSET(Worksheet!$AD$1,AL35,0))))","v":""}]
["New Plymouth","NPH",null,null,null,null,null,null,null,null,null,null,null,null,null,null,null,null,{"$f":"IFERROR(IF(INDIRECT(\"'\"&OFFSET($F$4,S35,0)&\"'!B\"&COUNTIF($S$1:S35,S35)+11)=\"\",$S35+1,S35),\"\")","v":""},null,{"$f":"IF($S36=\"\",\"\",IFERROR(INDIRECT(\"'\"&OFFSET($F$4,$S36,0)&\"'!B\"&COUNTIF($S$1:$S36,$S36)+10),\"\"))","v":""},{"$f":"IF($S36=\"\",\"\",IFERROR(INDIRECT(\"'\"&OFFSET($F$4,$S36,0)&\"'!c\"&COUNTIF($S$1:$S36,$S36)+10),\"\"))","v":""},"",{"$f":"IF($S36=\"\",\"\",IFERROR(INDIRECT(\"'\"&OFFSET($F$4,$S36,0)&\"'!o\"&COUNTIF($S$1:$S36,$S36)+10),\"\"))","v":""},"","",null,{"$f":"IFERROR(LOOKUP(2,1/(COUNTIF($AB$1:AB35,OFFSET($Y$2,0,0,$T$2))=0),OFFSET($Y$2,0,0,$T$2)),\"\")","v":""},{"$f":"IFERROR(INDEX(OFFSET($AB$2,0,0,$AA$2),MATCH(SMALL(NOT(OFFSET($AB$2,0,0,$AA$2)=\"\")*IF(ISNUMBER(OFFSET($AB$2,0,0,$AA$2)),COUNTIF(OFFSET($AB$2,0,0,$AA$2),\"<=\"& OFFSET($AB$2,0,0,$AA$2)),COUNTIF(OFFSET($AB$2,0,0,$AA$2),\"<=\"& OFFSET($AB$2,0,0,$AA$2))+SUM(--ISNUMBER(OFFSET($AB$2,0,0,$AA$2)))),ROWS(A$2:$AB36)+SUM(--ISBLANK(OFFSET($AB$2,0,0,$AA$2)))),NOT(OFFSET($AB$2,0,0,$AA$2)=\"\")*IF(ISNUMBER(OFFSET($AB$2,0,0,$AA$2)),COUNTIF(OFFSET($AB$2,0,0,$AA$2),\"<=\"& OFFSET($AB$2,0,0,$AA$2)),COUNTIF(OFFSET($AB$2,0,0,$AA$2),\"<=\"& OFFSET($AB$2,0,0,$AA$2))+SUM(--ISNUMBER(OFFSET($AB$2,0,0,$AA$2)))),0)),\"\")","v":""},"","",null,null,null,null,null,null,null,null,{"$f":"IF(AL36=Worksheet!$AA$2+2,\"Overall Total\",IF(OR(AL36=\"\",AN35=\"\"),\"\",IF(AND(AL35<>0,AL36<>AL35,OFFSET(Worksheet!$AD$1,AL36,0)<>AN35),AN35&\" Total\",OFFSET(Worksheet!$AD$1,AL36,0))))","v":""}]
["Ngataringa Bay","NGA",null,null,null,null,null,null,null,null,null,null,null,null,null,null,null,null,{"$f":"IFERROR(IF(INDIRECT(\"'\"&OFFSET($F$4,S36,0)&\"'!B\"&COUNTIF($S$1:S36,S36)+11)=\"\",$S36+1,S36),\"\")","v":""},null,{"$f":"IF($S37=\"\",\"\",IFERROR(INDIRECT(\"'\"&OFFSET($F$4,$S37,0)&\"'!B\"&COUNTIF($S$1:$S37,$S37)+10),\"\"))","v":""},{"$f":"IF($S37=\"\",\"\",IFERROR(INDIRECT(\"'\"&OFFSET($F$4,$S37,0)&\"'!c\"&COUNTIF($S$1:$S37,$S37)+10),\"\"))","v":""},"",{"$f":"IF($S37=\"\",\"\",IFERROR(INDIRECT(\"'\"&OFFSET($F$4,$S37,0)&\"'!o\"&COUNTIF($S$1:$S37,$S37)+10),\"\"))","v":""},"","",null,{"$f":"IFERROR(LOOKUP(2,1/(COUNTIF($AB$1:AB36,OFFSET($Y$2,0,0,$T$2))=0),OFFSET($Y$2,0,0,$T$2)),\"\")","v":""},{"$f":"IFERROR(INDEX(OFFSET($AB$2,0,0,$AA$2),MATCH(SMALL(NOT(OFFSET($AB$2,0,0,$AA$2)=\"\")*IF(ISNUMBER(OFFSET($AB$2,0,0,$AA$2)),COUNTIF(OFFSET($AB$2,0,0,$AA$2),\"<=\"& OFFSET($AB$2,0,0,$AA$2)),COUNTIF(OFFSET($AB$2,0,0,$AA$2),\"<=\"& OFFSET($AB$2,0,0,$AA$2))+SUM(--ISNUMBER(OFFSET($AB$2,0,0,$AA$2)))),ROWS(A$2:$AB37)+SUM(--ISBLANK(OFFSET($AB$2,0,0,$AA$2)))),NOT(OFFSET($AB$2,0,0,$AA$2)=\"\")*IF(ISNUMBER(OFFSET($AB$2,0,0,$AA$2)),COUNTIF(OFFSET($AB$2,0,0,$AA$2),\"<=\"& OFFSET($AB$2,0,0,$AA$2)),COUNTIF(OFFSET($AB$2,0,0,$AA$2),\"<=\"& OFFSET($AB$2,0,0,$AA$2))+SUM(--ISNUMBER(OFFSET($AB$2,0,0,$AA$2)))),0)),\"\")","v":""},"","",null,null,null,null,null,null,null,null,{"$f":"IF(AL37=Worksheet!$AA$2+2,\"Overall Total\",IF(OR(AL37=\"\",AN36=\"\"),\"\",IF(AND(AL36<>0,AL37<>AL36,OFFSET(Worksheet!$AD$1,AL37,0)<>AN36),AN36&\" Total\",OFFSET(Worksheet!$AD$1,AL37,0))))","v":""}]
["North Shore","NSH",null,null,null,null,null,null,null,null,null,null,null,null,null,null,null,null,{"$f":"IFERROR(IF(INDIRECT(\"'\"&OFFSET($F$4,S37,0)&\"'!B\"&COUNTIF($S$1:S37,S37)+11)=\"\",$S37+1,S37),\"\")","v":""},null,{"$f":"IF($S38=\"\",\"\",IFERROR(INDIRECT(\"'\"&OFFSET($F$4,$S38,0)&\"'!B\"&COUNTIF($S$1:$S38,$S38)+10),\"\"))","v":""},{"$f":"IF($S38=\"\",\"\",IFERROR(INDIRECT(\"'\"&OFFSET($F$4,$S38,0)&\"'!c\"&COUNTIF($S$1:$S38,$S38)+10),\"\"))","v":""},"",{"$f":"IF($S38=\"\",\"\",IFERROR(INDIRECT(\"'\"&OFFSET($F$4,$S38,0)&\"'!o\"&COUNTIF($S$1:$S38,$S38)+10),\"\"))","v":""},"","",null,{"$f":"IFERROR(LOOKUP(2,1/(COUNTIF($AB$1:AB37,OFFSET($Y$2,0,0,$T$2))=0),OFFSET($Y$2,0,0,$T$2)),\"\")","v":""},{"$f":"IFERROR(INDEX(OFFSET($AB$2,0,0,$AA$2),MATCH(SMALL(NOT(OFFSET($AB$2,0,0,$AA$2)=\"\")*IF(ISNUMBER(OFFSET($AB$2,0,0,$AA$2)),COUNTIF(OFFSET($AB$2,0,0,$AA$2),\"<=\"& OFFSET($AB$2,0,0,$AA$2)),COUNTIF(OFFSET($AB$2,0,0,$AA$2),\"<=\"& OFFSET($AB$2,0,0,$AA$2))+SUM(--ISNUMBER(OFFSET($AB$2,0,0,$AA$2)))),ROWS(A$2:$AB38)+SUM(--ISBLANK(OFFSET($AB$2,0,0,$AA$2)))),NOT(OFFSET($AB$2,0,0,$AA$2)=\"\")*IF(ISNUMBER(OFFSET($AB$2,0,0,$AA$2)),COUNTIF(OFFSET($AB$2,0,0,$AA$2),\"<=\"& OFFSET($AB$2,0,0,$AA$2)),COUNTIF(OFFSET($AB$2,0,0,$AA$2),\"<=\"& OFFSET($AB$2,0,0,$AA$2))+SUM(--ISNUMBER(OFFSET($AB$2,0,0,$AA$2)))),0)),\"\")","v":""},"","",null,null,null,null,null,null,null,null,{"$f":"IF(AL38=Worksheet!$AA$2+2,\"Overall Total\",IF(OR(AL38=\"\",AN37=\"\"),\"\",IF(AND(AL37<>0,AL38<>AL37,OFFSET(Worksheet!$AD$1,AL38,0)<>AN37),AN37&\" Total\",OFFSET(Worksheet!$AD$1,AL38,0))))","v":""}]
["Oamaru","OAM",null,null,null,null,null,null,null,null,null,null,null,null,null,null,null,null,{"$f":"IFERROR(IF(INDIRECT(\"'\"&OFFSET($F$4,S38,0)&\"'!B\"&COUNTIF($S$1:S38,S38)+11)=\"\",$S38+1,S38),\"\")","v":""},null,{"$f":"IF($S39=\"\",\"\",IFERROR(INDIRECT(\"'\"&OFFSET($F$4,$S39,0)&\"'!B\"&COUNTIF($S$1:$S39,$S39)+10),\"\"))","v":""},{"$f":"IF($S39=\"\",\"\",IFERROR(INDIRECT(\"'\"&OFFSET($F$4,$S39,0)&\"'!c\"&COUNTIF($S$1:$S39,$S39)+10),\"\"))","v":""},"",{"$f":"IF($S39=\"\",\"\",IFERROR(INDIRECT(\"'\"&OFFSET($F$4,$S39,0)&\"'!o\"&COUNTIF($S$1:$S39,$S39)+10),\"\"))","v":""},"","",null,{"$f":"IFERROR(LOOKUP(2,1/(COUNTIF($AB$1:AB38,OFFSET($Y$2,0,0,$T$2))=0),OFFSET($Y$2,0,0,$T$2)),\"\")","v":""},{"$f":"IFERROR(INDEX(OFFSET($AB$2,0,0,$AA$2),MATCH(SMALL(NOT(OFFSET($AB$2,0,0,$AA$2)=\"\")*IF(ISNUMBER(OFFSET($AB$2,0,0,$AA$2)),COUNTIF(OFFSET($AB$2,0,0,$AA$2),\"<=\"& OFFSET($AB$2,0,0,$AA$2)),COUNTIF(OFFSET($AB$2,0,0,$AA$2),\"<=\"& OFFSET($AB$2,0,0,$AA$2))+SUM(--ISNUMBER(OFFSET($AB$2,0,0,$AA$2)))),ROWS(A$2:$AB39)+SUM(--ISBLANK(OFFSET($AB$2,0,0,$AA$2)))),NOT(OFFSET($AB$2,0,0,$AA$2)=\"\")*IF(ISNUMBER(OFFSET($AB$2,0,0,$AA$2)),COUNTIF(OFFSET($AB$2,0,0,$AA$2),\"<=\"& OFFSET($AB$2,0,0,$AA$2)),COUNTIF(OFFSET($AB$2,0,0,$AA$2),\"<=\"& OFFSET($AB$2,0,0,$AA$2))+SUM(--ISNUMBER(OFFSET($AB$2,0,0,$AA$2)))),0)),\"\")","v":""},"","",null,null,null,null,null,null,null,null,{"$f":"IF(AL39=Worksheet!$AA$2+2,\"Overall Total\",IF(OR(AL39=\"\",AN38=\"\"),\"\",IF(AND(AL38<>0,AL39<>AL38,OFFSET(Worksheet!$AD$1,AL39,0)<>AN38),AN38&\" Total\",OFFSET(Worksheet!$AD$1,AL39,0))))","v":""}]
["Ohakea","OHA",null,null,null,null,null,null,null,null,null,null,null,null,null,null,null,null,{"$f":"IFERROR(IF(INDIRECT(\"'\"&OFFSET($F$4,S39,0)&\"'!B\"&COUNTIF($S$1:S39,S39)+11)=\"\",$S39+1,S39),\"\")","v":""},null,{"$f":"IF($S40=\"\",\"\",IFERROR(INDIRECT(\"'\"&OFFSET($F$4,$S40,0)&\"'!B\"&COUNTIF($S$1:$S40,$S40)+10),\"\"))","v":""},{"$f":"IF($S40=\"\",\"\",IFERROR(INDIRECT(\"'\"&OFFSET($F$4,$S40,0)&\"'!c\"&COUNTIF($S$1:$S40,$S40)+10),\"\"))","v":""},"",{"$f":"IF($S40=\"\",\"\",IFERROR(INDIRECT(\"'\"&OFFSET($F$4,$S40,0)&\"'!o\"&COUNTIF($S$1:$S40,$S40)+10),\"\"))","v":""},"","",null,{"$f":"IFERROR(LOOKUP(2,1/(COUNTIF($AB$1:AB39,OFFSET($Y$2,0,0,$T$2))=0),OFFSET($Y$2,0,0,$T$2)),\"\")","v":""},{"$f":"IFERROR(INDEX(OFFSET($AB$2,0,0,$AA$2),MATCH(SMALL(NOT(OFFSET($AB$2,0,0,$AA$2)=\"\")*IF(ISNUMBER(OFFSET($AB$2,0,0,$AA$2)),COUNTIF(OFFSET($AB$2,0,0,$AA$2),\"<=\"& OFFSET($AB$2,0,0,$AA$2)),COUNTIF(OFFSET($AB$2,0,0,$AA$2),\"<=\"& OFFSET($AB$2,0,0,$AA$2))+SUM(--ISNUMBER(OFFSET($AB$2,0,0,$AA$2)))),ROWS(A$2:$AB40)+SUM(--ISBLANK(OFFSET($AB$2,0,0,$AA$2)))),NOT(OFFSET($AB$2,0,0,$AA$2)=\"\")*IF(ISNUMBER(OFFSET($AB$2,0,0,$AA$2)),COUNTIF(OFFSET($AB$2,0,0,$AA$2),\"<=\"& OFFSET($AB$2,0,0,$AA$2)),COUNTIF(OFFSET($AB$2,0,0,$AA$2),\"<=\"& OFFSET($AB$2,0,0,$AA$2))+SUM(--ISNUMBER(OFFSET($AB$2,0,0,$AA$2)))),0)),\"\")","v":""},"","",null,null,null,null,null,null,null,null,{"$f":"IF(AL40=Worksheet!$AA$2+2,\"Overall Total\",IF(OR(AL40=\"\",AN39=\"\"),\"\",IF(AND(AL39<>0,AL40<>AL39,OFFSET(Worksheet!$AD$1,AL40,0)<>AN39),AN39&\" Total\",OFFSET(Worksheet!$AD$1,AL40,0))))","v":""}]
["Palmerston North","PNH",null,null,null,null,null,null,null,null,null,null,null,null,null,null,null,null,{"$f":"IFERROR(IF(INDIRECT(\"'\"&OFFSET($F$4,S40,0)&\"'!B\"&COUNTIF($S$1:S40,S40)+11)=\"\",$S40+1,S40),\"\")","v":""},null,{"$f":"IF($S41=\"\",\"\",IFERROR(INDIRECT(\"'\"&OFFSET($F$4,$S41,0)&\"'!B\"&COUNTIF($S$1:$S41,$S41)+10),\"\"))","v":""},{"$f":"IF($S41=\"\",\"\",IFERROR(INDIRECT(\"'\"&OFFSET($F$4,$S41,0)&\"'!c\"&COUNTIF($S$1:$S41,$S41)+10),\"\"))","v":""},"",{"$f":"IF($S41=\"\",\"\",IFERROR(INDIRECT(\"'\"&OFFSET($F$4,$S41,0)&\"'!o\"&COUNTIF($S$1:$S41,$S41)+10),\"\"))","v":""},"","",null,{"$f":"IFERROR(LOOKUP(2,1/(COUNTIF($AB$1:AB40,OFFSET($Y$2,0,0,$T$2))=0),OFFSET($Y$2,0,0,$T$2)),\"\")","v":""},{"$f":"IFERROR(INDEX(OFFSET($AB$2,0,0,$AA$2),MATCH(SMALL(NOT(OFFSET($AB$2,0,0,$AA$2)=\"\")*IF(ISNUMBER(OFFSET($AB$2,0,0,$AA$2)),COUNTIF(OFFSET($AB$2,0,0,$AA$2),\"<=\"& OFFSET($AB$2,0,0,$AA$2)),COUNTIF(OFFSET($AB$2,0,0,$AA$2),\"<=\"& OFFSET($AB$2,0,0,$AA$2))+SUM(--ISNUMBER(OFFSET($AB$2,0,0,$AA$2)))),ROWS(A$2:$AB41)+SUM(--ISBLANK(OFFSET($AB$2,0,0,$AA$2)))),NOT(OFFSET($AB$2,0,0,$AA$2)=\"\")*IF(ISNUMBER(OFFSET($AB$2,0,0,$AA$2)),COUNTIF(OFFSET($AB$2,0,0,$AA$2),\"<=\"& OFFSET($AB$2,0,0,$AA$2)),COUNTIF(OFFSET($AB$2,0,0,$AA$2),\"<=\"& OFFSET($AB$2,0,0,$AA$2))+SUM(--ISNUMBER(OFFSET($AB$2,0,0,$AA$2)))),0)),\"\")","v":""},"","",null,null,null,null,null,null,null,null,{"$f":"IF(AL41=Worksheet!$AA$2+2,\"Overall Total\",IF(OR(AL41=\"\",AN40=\"\"),\"\",IF(AND(AL40<>0,AL41<>AL40,OFFSET(Worksheet!$AD$1,AL41,0)<>AN40),AN40&\" Total\",OFFSET(Worksheet!$AD$1,AL41,0))))","v":""}]
["Papakura","PAP",null,null,null,null,null,null,null,null,null,null,null,null,null,null,null,null,{"$f":"IFERROR(IF(INDIRECT(\"'\"&OFFSET($F$4,S41,0)&\"'!B\"&COUNTIF($S$1:S41,S41)+11)=\"\",$S41+1,S41),\"\")","v":""},null,{"$f":"IF($S42=\"\",\"\",IFERROR(INDIRECT(\"'\"&OFFSET($F$4,$S42,0)&\"'!B\"&COUNTIF($S$1:$S42,$S42)+10),\"\"))","v":""},{"$f":"IF($S42=\"\",\"\",IFERROR(INDIRECT(\"'\"&OFFSET($F$4,$S42,0)&\"'!c\"&COUNTIF($S$1:$S42,$S42)+10),\"\"))","v":""},"",{"$f":"IF($S42=\"\",\"\",IFERROR(INDIRECT(\"'\"&OFFSET($F$4,$S42,0)&\"'!o\"&COUNTIF($S$1:$S42,$S42)+10),\"\"))","v":""},"","",null,{"$f":"IFERROR(LOOKUP(2,1/(COUNTIF($AB$1:AB41,OFFSET($Y$2,0,0,$T$2))=0),OFFSET($Y$2,0,0,$T$2)),\"\")","v":""},{"$f":"IFERROR(INDEX(OFFSET($AB$2,0,0,$AA$2),MATCH(SMALL(NOT(OFFSET($AB$2,0,0,$AA$2)=\"\")*IF(ISNUMBER(OFFSET($AB$2,0,0,$AA$2)),COUNTIF(OFFSET($AB$2,0,0,$AA$2),\"<=\"& OFFSET($AB$2,0,0,$AA$2)),COUNTIF(OFFSET($AB$2,0,0,$AA$2),\"<=\"& OFFSET($AB$2,0,0,$AA$2))+SUM(--ISNUMBER(OFFSET($AB$2,0,0,$AA$2)))),ROWS(A$2:$AB42)+SUM(--ISBLANK(OFFSET($AB$2,0,0,$AA$2)))),NOT(OFFSET($AB$2,0,0,$AA$2)=\"\")*IF(ISNUMBER(OFFSET($AB$2,0,0,$AA$2)),COUNTIF(OFFSET($AB$2,0,0,$AA$2),\"<=\"& OFFSET($AB$2,0,0,$AA$2)),COUNTIF(OFFSET($AB$2,0,0,$AA$2),\"<=\"& OFFSET($AB$2,0,0,$AA$2))+SUM(--ISNUMBER(OFFSET($AB$2,0,0,$AA$2)))),0)),\"\")","v":""},"","",null,null,null,null,null,null,null,null,{"$f":"IF(AL42=Worksheet!$AA$2+2,\"Overall Total\",IF(OR(AL42=\"\",AN41=\"\"),\"\",IF(AND(AL41<>0,AL42<>AL41,OFFSET(Worksheet!$AD$1,AL42,0)<>AN41),AN41&\" Total\",OFFSET(Worksheet!$AD$1,AL42,0))))","v":""}]
["Pegasus Facility (Christchurch City)","PEG",null,null,null,null,null,null,null,null,null,null,null,null,null,null,null,null,{"$f":"IFERROR(IF(INDIRECT(\"'\"&OFFSET($F$4,S42,0)&\"'!B\"&COUNTIF($S$1:S42,S42)+11)=\"\",$S42+1,S42),\"\")","v":""},null,{"$f":"IF($S43=\"\",\"\",IFERROR(INDIRECT(\"'\"&OFFSET($F$4,$S43,0)&\"'!B\"&COUNTIF($S$1:$S43,$S43)+10),\"\"))","v":""},{"$f":"IF($S43=\"\",\"\",IFERROR(INDIRECT(\"'\"&OFFSET($F$4,$S43,0)&\"'!c\"&COUNTIF($S$1:$S43,$S43)+10),\"\"))","v":""},"",{"$f":"IF($S43=\"\",\"\",IFERROR(INDIRECT(\"'\"&OFFSET($F$4,$S43,0)&\"'!o\"&COUNTIF($S$1:$S43,$S43)+10),\"\"))","v":""},"","",null,{"$f":"IFERROR(LOOKUP(2,1/(COUNTIF($AB$1:AB42,OFFSET($Y$2,0,0,$T$2))=0),OFFSET($Y$2,0,0,$T$2)),\"\")","v":""},{"$f":"IFERROR(INDEX(OFFSET($AB$2,0,0,$AA$2),MATCH(SMALL(NOT(OFFSET($AB$2,0,0,$AA$2)=\"\")*IF(ISNUMBER(OFFSET($AB$2,0,0,$AA$2)),COUNTIF(OFFSET($AB$2,0,0,$AA$2),\"<=\"& OFFSET($AB$2,0,0,$AA$2)),COUNTIF(OFFSET($AB$2,0,0,$AA$2),\"<=\"& OFFSET($AB$2,0,0,$AA$2))+SUM(--ISNUMBER(OFFSET($AB$2,0,0,$AA$2)))),ROWS(A$2:$AB43)+SUM(--ISBLANK(OFFSET($AB$2,0,0,$AA$2)))),NOT(OFFSET($AB$2,0,0,$AA$2)=\"\")*IF(ISNUMBER(OFFSET($AB$2,0,0,$AA$2)),COUNTIF(OFFSET($AB$2,0,0,$AA$2),\"<=\"& OFFSET($AB$2,0,0,$AA$2)),COUNTIF(OFFSET($AB$2,0,0,$AA$2),\"<=\"& OFFSET($AB$2,0,0,$AA$2))+SUM(--ISNUMBER(OFFSET($AB$2,0,0,$AA$2)))),0)),\"\")","v":""},"","",null,null,null,null,null,null,null,null,{"$f":"IF(AL43=Worksheet!$AA$2+2,\"Overall Total\",IF(OR(AL43=\"\",AN42=\"\"),\"\",IF(AND(AL42<>0,AL43<>AL42,OFFSET(Worksheet!$AD$1,AL43,0)<>AN42),AN42&\" Total\",OFFSET(Worksheet!$AD$1,AL43,0))))","v":""}]
["Raumai","RAU",null,null,null,null,null,null,null,null,null,null,null,null,null,null,null,null,{"$f":"IFERROR(IF(INDIRECT(\"'\"&OFFSET($F$4,S43,0)&\"'!B\"&COUNTIF($S$1:S43,S43)+11)=\"\",$S43+1,S43),\"\")","v":""},null,{"$f":"IF($S44=\"\",\"\",IFERROR(INDIRECT(\"'\"&OFFSET($F$4,$S44,0)&\"'!B\"&COUNTIF($S$1:$S44,$S44)+10),\"\"))","v":""},{"$f":"IF($S44=\"\",\"\",IFERROR(INDIRECT(\"'\"&OFFSET($F$4,$S44,0)&\"'!c\"&COUNTIF($S$1:$S44,$S44)+10),\"\"))","v":""},"",{"$f":"IF($S44=\"\",\"\",IFERROR(INDIRECT(\"'\"&OFFSET($F$4,$S44,0)&\"'!o\"&COUNTIF($S$1:$S44,$S44)+10),\"\"))","v":""},"","",null,{"$f":"IFERROR(LOOKUP(2,1/(COUNTIF($AB$1:AB43,OFFSET($Y$2,0,0,$T$2))=0),OFFSET($Y$2,0,0,$T$2)),\"\")","v":""},{"$f":"IFERROR(INDEX(OFFSET($AB$2,0,0,$AA$2),MATCH(SMALL(NOT(OFFSET($AB$2,0,0,$AA$2)=\"\")*IF(ISNUMBER(OFFSET($AB$2,0,0,$AA$2)),COUNTIF(OFFSET($AB$2,0,0,$AA$2),\"<=\"& OFFSET($AB$2,0,0,$AA$2)),COUNTIF(OFFSET($AB$2,0,0,$AA$2),\"<=\"& OFFSET($AB$2,0,0,$AA$2))+SUM(--ISNUMBER(OFFSET($AB$2,0,0,$AA$2)))),ROWS(A$2:$AB44)+SUM(--ISBLANK(OFFSET($AB$2,0,0,$AA$2)))),NOT(OFFSET($AB$2,0,0,$AA$2)=\"\")*IF(ISNUMBER(OFFSET($AB$2,0,0,$AA$2)),COUNTIF(OFFSET($AB$2,0,0,$AA$2),\"<=\"& OFFSET($AB$2,0,0,$AA$2)),COUNTIF(OFFSET($AB$2,0,0,$AA$2),\"<=\"& OFFSET($AB$2,0,0,$AA$2))+SUM(--ISNUMBER(OFFSET($AB$2,0,0,$AA$2)))),0)),\"\")","v":""},"","",null,null,null,null,null,null,null,null,{"$f":"IF(AL44=Worksheet!$AA$2+2,\"Overall Total\",IF(OR(AL44=\"\",AN43=\"\"),\"\",IF(AND(AL43<>0,AL44<>AL43,OFFSET(Worksheet!$AD$1,AL44,0)<>AN43),AN43&\" Total\",OFFSET(Worksheet!$AD$1,AL44,0))))","v":""}]
["Rotorua","ROT",null,null,null,null,null,null,null,null,null,null,null,null,null,null,null,null,{"$f":"IFERROR(IF(INDIRECT(\"'\"&OFFSET($F$4,S44,0)&\"'!B\"&COUNTIF($S$1:S44,S44)+11)=\"\",$S44+1,S44),\"\")","v":""},null,{"$f":"IF($S45=\"\",\"\",IFERROR(INDIRECT(\"'\"&OFFSET($F$4,$S45,0)&\"'!B\"&COUNTIF($S$1:$S45,$S45)+10),\"\"))","v":""},{"$f":"IF($S45=\"\",\"\",IFERROR(INDIRECT(\"'\"&OFFSET($F$4,$S45,0)&\"'!c\"&COUNTIF($S$1:$S45,$S45)+10),\"\"))","v":""},"",{"$f":"IF($S45=\"\",\"\",IFERROR(INDIRECT(\"'\"&OFFSET($F$4,$S45,0)&\"'!o\"&COUNTIF($S$1:$S45,$S45)+10),\"\"))","v":""},"","",null,{"$f":"IFERROR(LOOKUP(2,1/(COUNTIF($AB$1:AB44,OFFSET($Y$2,0,0,$T$2))=0),OFFSET($Y$2,0,0,$T$2)),\"\")","v":""},{"$f":"IFERROR(INDEX(OFFSET($AB$2,0,0,$AA$2),MATCH(SMALL(NOT(OFFSET($AB$2,0,0,$AA$2)=\"\")*IF(ISNUMBER(OFFSET($AB$2,0,0,$AA$2)),COUNTIF(OFFSET($AB$2,0,0,$AA$2),\"<=\"& OFFSET($AB$2,0,0,$AA$2)),COUNTIF(OFFSET($AB$2,0,0,$AA$2),\"<=\"& OFFSET($AB$2,0,0,$AA$2))+SUM(--ISNUMBER(OFFSET($AB$2,0,0,$AA$2)))),ROWS(A$2:$AB45)+SUM(--ISBLANK(OFFSET($AB$2,0,0,$AA$2)))),NOT(OFFSET($AB$2,0,0,$AA$2)=\"\")*IF(ISNUMBER(OFFSET($AB$2,0,0,$AA$2)),COUNTIF(OFFSET($AB$2,0,0,$AA$2),\"<=\"& OFFSET($AB$2,0,0,$AA$2)),COUNTIF(OFFSET($AB$2,0,0,$AA$2),\"<=\"& OFFSET($AB$2,0,0,$AA$2))+SUM(--ISNUMBER(OFFSET($AB$2,0,0,$AA$2)))),0)),\"\")","v":""},"","",null,null,null,null,null,null,null,null,{"$f":"IF(AL45=Worksheet!$AA$2+2,\"Overall Total\",IF(OR(AL45=\"\",AN44=\"\"),\"\",IF(AND(AL44<>0,AL45<>AL44,OFFSET(Worksheet!$AD$1,AL45,0)<>AN44),AN44&\" Total\",OFFSET(Worksheet!$AD$1,AL45,0))))","v":""}]
["Roys Rifle","ROY",null,null,null,null,null,null,null,null,null,null,null,null,null,null,null,null,{"$f":"IFERROR(IF(INDIRECT(\"'\"&OFFSET($F$4,S45,0)&\"'!B\"&COUNTIF($S$1:S45,S45)+11)=\"\",$S45+1,S45),\"\")","v":""},null,{"$f":"IF($S46=\"\",\"\",IFERROR(INDIRECT(\"'\"&OFFSET($F$4,$S46,0)&\"'!B\"&COUNTIF($S$1:$S46,$S46)+10),\"\"))","v":""},{"$f":"IF($S46=\"\",\"\",IFERROR(INDIRECT(\"'\"&OFFSET($F$4,$S46,0)&\"'!c\"&COUNTIF($S$1:$S46,$S46)+10),\"\"))","v":""},"",{"$f":"IF($S46=\"\",\"\",IFERROR(INDIRECT(\"'\"&OFFSET($F$4,$S46,0)&\"'!o\"&COUNTIF($S$1:$S46,$S46)+10),\"\"))","v":""},"","",null,{"$f":"IFERROR(LOOKUP(2,1/(COUNTIF($AB$1:AB45,OFFSET($Y$2,0,0,$T$2))=0),OFFSET($Y$2,0,0,$T$2)),\"\")","v":""},{"$f":"IFERROR(INDEX(OFFSET($AB$2,0,0,$AA$2),MATCH(SMALL(NOT(OFFSET($AB$2,0,0,$AA$2)=\"\")*IF(ISNUMBER(OFFSET($AB$2,0,0,$AA$2)),COUNTIF(OFFSET($AB$2,0,0,$AA$2),\"<=\"& OFFSET($AB$2,0,0,$AA$2)),COUNTIF(OFFSET($AB$2,0,0,$AA$2),\"<=\"& OFFSET($AB$2,0,0,$AA$2))+SUM(--ISNUMBER(OFFSET($AB$2,0,0,$AA$2)))),ROWS(A$2:$AB46)+SUM(--ISBLANK(OFFSET($AB$2,0,0,$AA$2)))),NOT(OFFSET($AB$2,0,0,$AA$2)=\"\")*IF(ISNUMBER(OFFSET($AB$2,0,0,$AA$2)),COUNTIF(OFFSET($AB$2,0,0,$AA$2),\"<=\"& OFFSET($AB$2,0,0,$AA$2)),COUNTIF(OFFSET($AB$2,0,0,$AA$2),\"<=\"& OFFSET($AB$2,0,0,$AA$2))+SUM(--ISNUMBER(OFFSET($AB$2,0,0,$AA$2)))),0)),\"\")","v":""},"","",null,null,null,null,null,null,null,null,{"$f":"IF(AL46=Worksheet!$AA$2+2,\"Overall Total\",IF(OR(AL46=\"\",AN45=\"\"),\"\",IF(AND(AL45<>0,AL46<>AL45,OFFSET(Worksheet!$AD$1,AL46,0)<>AN45),AN45&\" Total\",OFFSET(Worksheet!$AD$1,AL46,0))))","v":""}]
["Singapore","SIN",null,null,null,null,null,null,null,null,null,null,null,null,null,null,null,null,{"$f":"IFERROR(IF(INDIRECT(\"'\"&OFFSET($F$4,S46,0)&\"'!B\"&COUNTIF($S$1:S46,S46)+11)=\"\",$S46+1,S46),\"\")","v":""},null,{"$f":"IF($S47=\"\",\"\",IFERROR(INDIRECT(\"'\"&OFFSET($F$4,$S47,0)&\"'!B\"&COUNTIF($S$1:$S47,$S47)+10),\"\"))","v":""},{"$f":"IF($S47=\"\",\"\",IFERROR(INDIRECT(\"'\"&OFFSET($F$4,$S47,0)&\"'!c\"&COUNTIF($S$1:$S47,$S47)+10),\"\"))","v":""},"",{"$f":"IF($S47=\"\",\"\",IFERROR(INDIRECT(\"'\"&OFFSET($F$4,$S47,0)&\"'!o\"&COUNTIF($S$1:$S47,$S47)+10),\"\"))","v":""},"","",null,{"$f":"IFERROR(LOOKUP(2,1/(COUNTIF($AB$1:AB46,OFFSET($Y$2,0,0,$T$2))=0),OFFSET($Y$2,0,0,$T$2)),\"\")","v":""},{"$f":"IFERROR(INDEX(OFFSET($AB$2,0,0,$AA$2),MATCH(SMALL(NOT(OFFSET($AB$2,0,0,$AA$2)=\"\")*IF(ISNUMBER(OFFSET($AB$2,0,0,$AA$2)),COUNTIF(OFFSET($AB$2,0,0,$AA$2),\"<=\"& OFFSET($AB$2,0,0,$AA$2)),COUNTIF(OFFSET($AB$2,0,0,$AA$2),\"<=\"& OFFSET($AB$2,0,0,$AA$2))+SUM(--ISNUMBER(OFFSET($AB$2,0,0,$AA$2)))),ROWS(A$2:$AB47)+SUM(--ISBLANK(OFFSET($AB$2,0,0,$AA$2)))),NOT(OFFSET($AB$2,0,0,$AA$2)=\"\")*IF(ISNUMBER(OFFSET($AB$2,0,0,$AA$2)),COUNTIF(OFFSET($AB$2,0,0,$AA$2),\"<=\"& OFFSET($AB$2,0,0,$AA$2)),COUNTIF(OFFSET($AB$2,0,0,$AA$2),\"<=\"& OFFSET($AB$2,0,0,$AA$2))+SUM(--ISNUMBER(OFFSET($AB$2,0,0,$AA$2)))),0)),\"\")","v":""},"","",null,null,null,null,null,null,null,null,{"$f":"IF(AL47=Worksheet!$AA$2+2,\"Overall Total\",IF(OR(AL47=\"\",AN46=\"\"),\"\",IF(AND(AL46<>0,AL47<>AL46,OFFSET(Worksheet!$AD$1,AL47,0)<>AN46),AN46&\" Total\",OFFSET(Worksheet!$AD$1,AL47,0))))","v":""}]
["Tauranga","TGA",null,null,null,null,null,null,null,null,null,null,null,null,null,null,null,null,{"$f":"IFERROR(IF(INDIRECT(\"'\"&OFFSET($F$4,S47,0)&\"'!B\"&COUNTIF($S$1:S47,S47)+11)=\"\",$S47+1,S47),\"\")","v":""},null,{"$f":"IF($S48=\"\",\"\",IFERROR(INDIRECT(\"'\"&OFFSET($F$4,$S48,0)&\"'!B\"&COUNTIF($S$1:$S48,$S48)+10),\"\"))","v":""},{"$f":"IF($S48=\"\",\"\",IFERROR(INDIRECT(\"'\"&OFFSET($F$4,$S48,0)&\"'!c\"&COUNTIF($S$1:$S48,$S48)+10),\"\"))","v":""},"",{"$f":"IF($S48=\"\",\"\",IFERROR(INDIRECT(\"'\"&OFFSET($F$4,$S48,0)&\"'!o\"&COUNTIF($S$1:$S48,$S48)+10),\"\"))","v":""},"","",null,{"$f":"IFERROR(LOOKUP(2,1/(COUNTIF($AB$1:AB47,OFFSET($Y$2,0,0,$T$2))=0),OFFSET($Y$2,0,0,$T$2)),\"\")","v":""},{"$f":"IFERROR(INDEX(OFFSET($AB$2,0,0,$AA$2),MATCH(SMALL(NOT(OFFSET($AB$2,0,0,$AA$2)=\"\")*IF(ISNUMBER(OFFSET($AB$2,0,0,$AA$2)),COUNTIF(OFFSET($AB$2,0,0,$AA$2),\"<=\"& OFFSET($AB$2,0,0,$AA$2)),COUNTIF(OFFSET($AB$2,0,0,$AA$2),\"<=\"& OFFSET($AB$2,0,0,$AA$2))+SUM(--ISNUMBER(OFFSET($AB$2,0,0,$AA$2)))),ROWS(A$2:$AB48)+SUM(--ISBLANK(OFFSET($AB$2,0,0,$AA$2)))),NOT(OFFSET($AB$2,0,0,$AA$2)=\"\")*IF(ISNUMBER(OFFSET($AB$2,0,0,$AA$2)),COUNTIF(OFFSET($AB$2,0,0,$AA$2),\"<=\"& OFFSET($AB$2,0,0,$AA$2)),COUNTIF(OFFSET($AB$2,0,0,$AA$2),\"<=\"& OFFSET($AB$2,0,0,$AA$2))+SUM(--ISNUMBER(OFFSET($AB$2,0,0,$AA$2)))),0)),\"\")","v":""},"","",null,null,null,null,null,null,null,null,{"$f":"IF(AL48=Worksheet!$AA$2+2,\"Overall Total\",IF(OR(AL48=\"\",AN47=\"\"),\"\",IF(AND(AL47<>0,AL48<>AL47,OFFSET(Worksheet!$AD$1,AL48,0)<>AN47),AN47&\" Total\",OFFSET(Worksheet!$AD$1,AL48,0))))","v":""}]
["Tekapo","TEK",null,null,null,null,null,null,null,null,null,null,null,null,null,null,null,null,{"$f":"IFERROR(IF(INDIRECT(\"'\"&OFFSET($F$4,S48,0)&\"'!B\"&COUNTIF($S$1:S48,S48)+11)=\"\",$S48+1,S48),\"\")","v":""},null,{"$f":"IF($S49=\"\",\"\",IFERROR(INDIRECT(\"'\"&OFFSET($F$4,$S49,0)&\"'!B\"&COUNTIF($S$1:$S49,$S49)+10),\"\"))","v":""},{"$f":"IF($S49=\"\",\"\",IFERROR(INDIRECT(\"'\"&OFFSET($F$4,$S49,0)&\"'!c\"&COUNTIF($S$1:$S49,$S49)+10),\"\"))","v":""},"",{"$f":"IF($S49=\"\",\"\",IFERROR(INDIRECT(\"'\"&OFFSET($F$4,$S49,0)&\"'!o\"&COUNTIF($S$1:$S49,$S49)+10),\"\"))","v":""},"","",null,{"$f":"IFERROR(LOOKUP(2,1/(COUNTIF($AB$1:AB48,OFFSET($Y$2,0,0,$T$2))=0),OFFSET($Y$2,0,0,$T$2)),\"\")","v":""},{"$f":"IFERROR(INDEX(OFFSET($AB$2,0,0,$AA$2),MATCH(SMALL(NOT(OFFSET($AB$2,0,0,$AA$2)=\"\")*IF(ISNUMBER(OFFSET($AB$2,0,0,$AA$2)),COUNTIF(OFFSET($AB$2,0,0,$AA$2),\"<=\"& OFFSET($AB$2,0,0,$AA$2)),COUNTIF(OFFSET($AB$2,0,0,$AA$2),\"<=\"& OFFSET($AB$2,0,0,$AA$2))+SUM(--ISNUMBER(OFFSET($AB$2,0,0,$AA$2)))),ROWS(A$2:$AB49)+SUM(--ISBLANK(OFFSET($AB$2,0,0,$AA$2)))),NOT(OFFSET($AB$2,0,0,$AA$2)=\"\")*IF(ISNUMBER(OFFSET($AB$2,0,0,$AA$2)),COUNTIF(OFFSET($AB$2,0,0,$AA$2),\"<=\"& OFFSET($AB$2,0,0,$AA$2)),COUNTIF(OFFSET($AB$2,0,0,$AA$2),\"<=\"& OFFSET($AB$2,0,0,$AA$2))+SUM(--ISNUMBER(OFFSET($AB$2,0,0,$AA$2)))),0)),\"\")","v":""},"","",null,null,null,null,null,null,null,null,{"$f":"IF(AL49=Worksheet!$AA$2+2,\"Overall Total\",IF(OR(AL49=\"\",AN48=\"\"),\"\",IF(AND(AL48<>0,AL49<>AL48,OFFSET(Worksheet!$AD$1,AL49,0)<>AN48),AN48&\" Total\",OFFSET(Worksheet!$AD$1,AL49,0))))","v":""}]
["Timaru","TIM",null,null,null,null,null,null,null,null,null,null,null,null,null,null,null,null,{"$f":"IFERROR(IF(INDIRECT(\"'\"&OFFSET($F$4,S49,0)&\"'!B\"&COUNTIF($S$1:S49,S49)+11)=\"\",$S49+1,S49),\"\")","v":""},null,{"$f":"IF($S50=\"\",\"\",IFERROR(INDIRECT(\"'\"&OFFSET($F$4,$S50,0)&\"'!B\"&COUNTIF($S$1:$S50,$S50)+10),\"\"))","v":""},{"$f":"IF($S50=\"\",\"\",IFERROR(INDIRECT(\"'\"&OFFSET($F$4,$S50,0)&\"'!c\"&COUNTIF($S$1:$S50,$S50)+10),\"\"))","v":""},"",{"$f":"IF($S50=\"\",\"\",IFERROR(INDIRECT(\"'\"&OFFSET($F$4,$S50,0)&\"'!o\"&COUNTIF($S$1:$S50,$S50)+10),\"\"))","v":""},"","",null,{"$f":"IFERROR(LOOKUP(2,1/(COUNTIF($AB$1:AB49,OFFSET($Y$2,0,0,$T$2))=0),OFFSET($Y$2,0,0,$T$2)),\"\")","v":""},{"$f":"IFERROR(INDEX(OFFSET($AB$2,0,0,$AA$2),MATCH(SMALL(NOT(OFFSET($AB$2,0,0,$AA$2)=\"\")*IF(ISNUMBER(OFFSET($AB$2,0,0,$AA$2)),COUNTIF(OFFSET($AB$2,0,0,$AA$2),\"<=\"& OFFSET($AB$2,0,0,$AA$2)),COUNTIF(OFFSET($AB$2,0,0,$AA$2),\"<=\"& OFFSET($AB$2,0,0,$AA$2))+SUM(--ISNUMBER(OFFSET($AB$2,0,0,$AA$2)))),ROWS(A$2:$AB50)+SUM(--ISBLANK(OFFSET($AB$2,0,0,$AA$2)))),NOT(OFFSET($AB$2,0,0,$AA$2)=\"\")*IF(ISNUMBER(OFFSET($AB$2,0,0,$AA$2)),COUNTIF(OFFSET($AB$2,0,0,$AA$2),\"<=\"& OFFSET($AB$2,0,0,$AA$2)),COUNTIF(OFFSET($AB$2,0,0,$AA$2),\"<=\"& OFFSET($AB$2,0,0,$AA$2))+SUM(--ISNUMBER(OFFSET($AB$2,0,0,$AA$2)))),0)),\"\")","v":""},"","",null,null,null,null,null,null,null,null,{"$f":"IF(AL50=Worksheet!$AA$2+2,\"Overall Total\",IF(OR(AL50=\"\",AN49=\"\"),\"\",IF(AND(AL49<>0,AL50<>AL49,OFFSET(Worksheet!$AD$1,AL50,0)<>AN49),AN49&\" Total\",OFFSET(Worksheet!$AD$1,AL50,0))))","v":""}]
["Toroa Facility (Dunedin City)","TOR",null,null,null,null,null,null,null,null,null,null,null,null,null,null,null,null,{"$f":"IFERROR(IF(INDIRECT(\"'\"&OFFSET($F$4,S50,0)&\"'!B\"&COUNTIF($S$1:S50,S50)+11)=\"\",$S50+1,S50),\"\")","v":""},null,{"$f":"IF($S51=\"\",\"\",IFERROR(INDIRECT(\"'\"&OFFSET($F$4,$S51,0)&\"'!B\"&COUNTIF($S$1:$S51,$S51)+10),\"\"))","v":""},{"$f":"IF($S51=\"\",\"\",IFERROR(INDIRECT(\"'\"&OFFSET($F$4,$S51,0)&\"'!c\"&COUNTIF($S$1:$S51,$S51)+10),\"\"))","v":""},"",{"$f":"IF($S51=\"\",\"\",IFERROR(INDIRECT(\"'\"&OFFSET($F$4,$S51,0)&\"'!o\"&COUNTIF($S$1:$S51,$S51)+10),\"\"))","v":""},"","",null,{"$f":"IFERROR(LOOKUP(2,1/(COUNTIF($AB$1:AB50,OFFSET($Y$2,0,0,$T$2))=0),OFFSET($Y$2,0,0,$T$2)),\"\")","v":""},{"$f":"IFERROR(INDEX(OFFSET($AB$2,0,0,$AA$2),MATCH(SMALL(NOT(OFFSET($AB$2,0,0,$AA$2)=\"\")*IF(ISNUMBER(OFFSET($AB$2,0,0,$AA$2)),COUNTIF(OFFSET($AB$2,0,0,$AA$2),\"<=\"& OFFSET($AB$2,0,0,$AA$2)),COUNTIF(OFFSET($AB$2,0,0,$AA$2),\"<=\"& OFFSET($AB$2,0,0,$AA$2))+SUM(--ISNUMBER(OFFSET($AB$2,0,0,$AA$2)))),ROWS(A$2:$AB51)+SUM(--ISBLANK(OFFSET($AB$2,0,0,$AA$2)))),NOT(OFFSET($AB$2,0,0,$AA$2)=\"\")*IF(ISNUMBER(OFFSET($AB$2,0,0,$AA$2)),COUNTIF(OFFSET($AB$2,0,0,$AA$2),\"<=\"& OFFSET($AB$2,0,0,$AA$2)),COUNTIF(OFFSET($AB$2,0,0,$AA$2),\"<=\"& OFFSET($AB$2,0,0,$AA$2))+SUM(--ISNUMBER(OFFSET($AB$2,0,0,$AA$2)))),0)),\"\")","v":""},"","",null,null,null,null,null,null,null,null,{"$f":"IF(AL51=Worksheet!$AA$2+2,\"Overall Total\",IF(OR(AL51=\"\",AN50=\"\"),\"\",IF(AND(AL50<>0,AL51<>AL50,OFFSET(Worksheet!$AD$1,AL51,0)<>AN50),AN50&\" Total\",OFFSET(Worksheet!$AD$1,AL51,0))))","v":""}]
["Torpedo Bay","TOP",null,null,null,null,null,null,null,null,null,null,null,null,null,null,null,null,{"$f":"IFERROR(IF(INDIRECT(\"'\"&OFFSET($F$4,S51,0)&\"'!B\"&COUNTIF($S$1:S51,S51)+11)=\"\",$S51+1,S51),\"\")","v":""},null,{"$f":"IF($S52=\"\",\"\",IFERROR(INDIRECT(\"'\"&OFFSET($F$4,$S52,0)&\"'!B\"&COUNTIF($S$1:$S52,$S52)+10),\"\"))","v":""},{"$f":"IF($S52=\"\",\"\",IFERROR(INDIRECT(\"'\"&OFFSET($F$4,$S52,0)&\"'!c\"&COUNTIF($S$1:$S52,$S52)+10),\"\"))","v":""},"",{"$f":"IF($S52=\"\",\"\",IFERROR(INDIRECT(\"'\"&OFFSET($F$4,$S52,0)&\"'!o\"&COUNTIF($S$1:$S52,$S52)+10),\"\"))","v":""},"","",null,{"$f":"IFERROR(LOOKUP(2,1/(COUNTIF($AB$1:AB51,OFFSET($Y$2,0,0,$T$2))=0),OFFSET($Y$2,0,0,$T$2)),\"\")","v":""},{"$f":"IFERROR(INDEX(OFFSET($AB$2,0,0,$AA$2),MATCH(SMALL(NOT(OFFSET($AB$2,0,0,$AA$2)=\"\")*IF(ISNUMBER(OFFSET($AB$2,0,0,$AA$2)),COUNTIF(OFFSET($AB$2,0,0,$AA$2),\"<=\"& OFFSET($AB$2,0,0,$AA$2)),COUNTIF(OFFSET($AB$2,0,0,$AA$2),\"<=\"& OFFSET($AB$2,0,0,$AA$2))+SUM(--ISNUMBER(OFFSET($AB$2,0,0,$AA$2)))),ROWS(A$2:$AB52)+SUM(--ISBLANK(OFFSET($AB$2,0,0,$AA$2)))),NOT(OFFSET($AB$2,0,0,$AA$2)=\"\")*IF(ISNUMBER(OFFSET($AB$2,0,0,$AA$2)),COUNTIF(OFFSET($AB$2,0,0,$AA$2),\"<=\"& OFFSET($AB$2,0,0,$AA$2)),COUNTIF(OFFSET($AB$2,0,0,$AA$2),\"<=\"& OFFSET($AB$2,0,0,$AA$2))+SUM(--ISNUMBER(OFFSET($AB$2,0,0,$AA$2)))),0)),\"\")","v":""},"","",null,null,null,null,null,null,null,null,{"$f":"IF(AL52=Worksheet!$AA$2+2,\"Overall Total\",IF(OR(AL52=\"\",AN51=\"\"),\"\",IF(AND(AL51<>0,AL52<>AL51,OFFSET(Worksheet!$AD$1,AL52,0)<>AN51),AN51&\" Total\",OFFSET(Worksheet!$AD$1,AL52,0))))","v":""}]
["Trentham","TRN",null,null,null,null,null,null,null,null,null,null,null,null,null,null,null,null,{"$f":"IFERROR(IF(INDIRECT(\"'\"&OFFSET($F$4,S52,0)&\"'!B\"&COUNTIF($S$1:S52,S52)+11)=\"\",$S52+1,S52),\"\")","v":""},null,{"$f":"IF($S53=\"\",\"\",IFERROR(INDIRECT(\"'\"&OFFSET($F$4,$S53,0)&\"'!B\"&COUNTIF($S$1:$S53,$S53)+10),\"\"))","v":""},{"$f":"IF($S53=\"\",\"\",IFERROR(INDIRECT(\"'\"&OFFSET($F$4,$S53,0)&\"'!c\"&COUNTIF($S$1:$S53,$S53)+10),\"\"))","v":""},"",{"$f":"IF($S53=\"\",\"\",IFERROR(INDIRECT(\"'\"&OFFSET($F$4,$S53,0)&\"'!o\"&COUNTIF($S$1:$S53,$S53)+10),\"\"))","v":""},"","",null,{"$f":"IFERROR(LOOKUP(2,1/(COUNTIF($AB$1:AB52,OFFSET($Y$2,0,0,$T$2))=0),OFFSET($Y$2,0,0,$T$2)),\"\")","v":""},{"$f":"IFERROR(INDEX(OFFSET($AB$2,0,0,$AA$2),MATCH(SMALL(NOT(OFFSET($AB$2,0,0,$AA$2)=\"\")*IF(ISNUMBER(OFFSET($AB$2,0,0,$AA$2)),COUNTIF(OFFSET($AB$2,0,0,$AA$2),\"<=\"& OFFSET($AB$2,0,0,$AA$2)),COUNTIF(OFFSET($AB$2,0,0,$AA$2),\"<=\"& OFFSET($AB$2,0,0,$AA$2))+SUM(--ISNUMBER(OFFSET($AB$2,0,0,$AA$2)))),ROWS(A$2:$AB53)+SUM(--ISBLANK(OFFSET($AB$2,0,0,$AA$2)))),NOT(OFFSET($AB$2,0,0,$AA$2)=\"\")*IF(ISNUMBER(OFFSET($AB$2,0,0,$AA$2)),COUNTIF(OFFSET($AB$2,0,0,$AA$2),\"<=\"& OFFSET($AB$2,0,0,$AA$2)),COUNTIF(OFFSET($AB$2,0,0,$AA$2),\"<=\"& OFFSET($AB$2,0,0,$AA$2))+SUM(--ISNUMBER(OFFSET($AB$2,0,0,$AA$2)))),0)),\"\")","v":""},"","",null,null,null,null,null,null,null,null,{"$f":"IF(AL53=Worksheet!$AA$2+2,\"Overall Total\",IF(OR(AL53=\"\",AN52=\"\"),\"\",IF(AND(AL52<>0,AL53<>AL52,OFFSET(Worksheet!$AD$1,AL53,0)<>AN52),AN52&\" Total\",OFFSET(Worksheet!$AD$1,AL53,0))))","v":""}]
["Waiouru","WAI",null,null,null,null,null,null,null,null,null,null,null,null,null,null,null,null,{"$f":"IFERROR(IF(INDIRECT(\"'\"&OFFSET($F$4,S53,0)&\"'!B\"&COUNTIF($S$1:S53,S53)+11)=\"\",$S53+1,S53),\"\")","v":""},null,{"$f":"IF($S54=\"\",\"\",IFERROR(INDIRECT(\"'\"&OFFSET($F$4,$S54,0)&\"'!B\"&COUNTIF($S$1:$S54,$S54)+10),\"\"))","v":""},{"$f":"IF($S54=\"\",\"\",IFERROR(INDIRECT(\"'\"&OFFSET($F$4,$S54,0)&\"'!c\"&COUNTIF($S$1:$S54,$S54)+10),\"\"))","v":""},"",{"$f":"IF($S54=\"\",\"\",IFERROR(INDIRECT(\"'\"&OFFSET($F$4,$S54,0)&\"'!o\"&COUNTIF($S$1:$S54,$S54)+10),\"\"))","v":""},"","",null,{"$f":"IFERROR(LOOKUP(2,1/(COUNTIF($AB$1:AB53,OFFSET($Y$2,0,0,$T$2))=0),OFFSET($Y$2,0,0,$T$2)),\"\")","v":""},{"$f":"IFERROR(INDEX(OFFSET($AB$2,0,0,$AA$2),MATCH(SMALL(NOT(OFFSET($AB$2,0,0,$AA$2)=\"\")*IF(ISNUMBER(OFFSET($AB$2,0,0,$AA$2)),COUNTIF(OFFSET($AB$2,0,0,$AA$2),\"<=\"& OFFSET($AB$2,0,0,$AA$2)),COUNTIF(OFFSET($AB$2,0,0,$AA$2),\"<=\"& OFFSET($AB$2,0,0,$AA$2))+SUM(--ISNUMBER(OFFSET($AB$2,0,0,$AA$2)))),ROWS(A$2:$AB54)+SUM(--ISBLANK(OFFSET($AB$2,0,0,$AA$2)))),NOT(OFFSET($AB$2,0,0,$AA$2)=\"\")*IF(ISNUMBER(OFFSET($AB$2,0,0,$AA$2)),COUNTIF(OFFSET($AB$2,0,0,$AA$2),\"<=\"& OFFSET($AB$2,0,0,$AA$2)),COUNTIF(OFFSET($AB$2,0,0,$AA$2),\"<=\"& OFFSET($AB$2,0,0,$AA$2))+SUM(--ISNUMBER(OFFSET($AB$2,0,0,$AA$2)))),0)),\"\")","v":""},"","",null,null,null,null,null,null,null,null,{"$f":"IF(AL54=Worksheet!$AA$2+2,\"Overall Total\",IF(OR(AL54=\"\",AN53=\"\"),\"\",IF(AND(AL53<>0,AL54<>AL53,OFFSET(Worksheet!$AD$1,AL54,0)<>AN53),AN53&\" Total\",OFFSET(Worksheet!$AD$1,AL54,0))))","v":""}]
["Waitangi","WTG",null,null,null,null,null,null,null,null,null,null,null,null,null,null,null,null,{"$f":"IFERROR(IF(INDIRECT(\"'\"&OFFSET($F$4,S54,0)&\"'!B\"&COUNTIF($S$1:S54,S54)+11)=\"\",$S54+1,S54),\"\")","v":""},null,{"$f":"IF($S55=\"\",\"\",IFERROR(INDIRECT(\"'\"&OFFSET($F$4,$S55,0)&\"'!B\"&COUNTIF($S$1:$S55,$S55)+10),\"\"))","v":""},{"$f":"IF($S55=\"\",\"\",IFERROR(INDIRECT(\"'\"&OFFSET($F$4,$S55,0)&\"'!c\"&COUNTIF($S$1:$S55,$S55)+10),\"\"))","v":""},"",{"$f":"IF($S55=\"\",\"\",IFERROR(INDIRECT(\"'\"&OFFSET($F$4,$S55,0)&\"'!o\"&COUNTIF($S$1:$S55,$S55)+10),\"\"))","v":""},"","",null,{"$f":"IFERROR(LOOKUP(2,1/(COUNTIF($AB$1:AB54,OFFSET($Y$2,0,0,$T$2))=0),OFFSET($Y$2,0,0,$T$2)),\"\")","v":""},{"$f":"IFERROR(INDEX(OFFSET($AB$2,0,0,$AA$2),MATCH(SMALL(NOT(OFFSET($AB$2,0,0,$AA$2)=\"\")*IF(ISNUMBER(OFFSET($AB$2,0,0,$AA$2)),COUNTIF(OFFSET($AB$2,0,0,$AA$2),\"<=\"& OFFSET($AB$2,0,0,$AA$2)),COUNTIF(OFFSET($AB$2,0,0,$AA$2),\"<=\"& OFFSET($AB$2,0,0,$AA$2))+SUM(--ISNUMBER(OFFSET($AB$2,0,0,$AA$2)))),ROWS(A$2:$AB55)+SUM(--ISBLANK(OFFSET($AB$2,0,0,$AA$2)))),NOT(OFFSET($AB$2,0,0,$AA$2)=\"\")*IF(ISNUMBER(OFFSET($AB$2,0,0,$AA$2)),COUNTIF(OFFSET($AB$2,0,0,$AA$2),\"<=\"& OFFSET($AB$2,0,0,$AA$2)),COUNTIF(OFFSET($AB$2,0,0,$AA$2),\"<=\"& OFFSET($AB$2,0,0,$AA$2))+SUM(--ISNUMBER(OFFSET($AB$2,0,0,$AA$2)))),0)),\"\")","v":""},"","",null,null,null,null,null,null,null,null,{"$f":"IF(AL55=Worksheet!$AA$2+2,\"Overall Total\",IF(OR(AL55=\"\",AN54=\"\"),\"\",IF(AND(AL54<>0,AL55<>AL54,OFFSET(Worksheet!$AD$1,AL55,0)<>AN54),AN54&\" Total\",OFFSET(Worksheet!$AD$1,AL55,0))))","v":""}]
["Waitati","WAT",null,null,null,null,null,null,null,null,null,null,null,null,null,null,null,null,{"$f":"IFERROR(IF(INDIRECT(\"'\"&OFFSET($F$4,S55,0)&\"'!B\"&COUNTIF($S$1:S55,S55)+11)=\"\",$S55+1,S55),\"\")","v":""},null,{"$f":"IF($S56=\"\",\"\",IFERROR(INDIRECT(\"'\"&OFFSET($F$4,$S56,0)&\"'!B\"&COUNTIF($S$1:$S56,$S56)+10),\"\"))","v":""},{"$f":"IF($S56=\"\",\"\",IFERROR(INDIRECT(\"'\"&OFFSET($F$4,$S56,0)&\"'!c\"&COUNTIF($S$1:$S56,$S56)+10),\"\"))","v":""},"",{"$f":"IF($S56=\"\",\"\",IFERROR(INDIRECT(\"'\"&OFFSET($F$4,$S56,0)&\"'!o\"&COUNTIF($S$1:$S56,$S56)+10),\"\"))","v":""},"","",null,{"$f":"IFERROR(LOOKUP(2,1/(COUNTIF($AB$1:AB55,OFFSET($Y$2,0,0,$T$2))=0),OFFSET($Y$2,0,0,$T$2)),\"\")","v":""},{"$f":"IFERROR(INDEX(OFFSET($AB$2,0,0,$AA$2),MATCH(SMALL(NOT(OFFSET($AB$2,0,0,$AA$2)=\"\")*IF(ISNUMBER(OFFSET($AB$2,0,0,$AA$2)),COUNTIF(OFFSET($AB$2,0,0,$AA$2),\"<=\"& OFFSET($AB$2,0,0,$AA$2)),COUNTIF(OFFSET($AB$2,0,0,$AA$2),\"<=\"& OFFSET($AB$2,0,0,$AA$2))+SUM(--ISNUMBER(OFFSET($AB$2,0,0,$AA$2)))),ROWS(A$2:$AB56)+SUM(--ISBLANK(OFFSET($AB$2,0,0,$AA$2)))),NOT(OFFSET($AB$2,0,0,$AA$2)=\"\")*IF(ISNUMBER(OFFSET($AB$2,0,0,$AA$2)),COUNTIF(OFFSET($AB$2,0,0,$AA$2),\"<=\"& OFFSET($AB$2,0,0,$AA$2)),COUNTIF(OFFSET($AB$2,0,0,$AA$2),\"<=\"& OFFSET($AB$2,0,0,$AA$2))+SUM(--ISNUMBER(OFFSET($AB$2,0,0,$AA$2)))),0)),\"\")","v":""},"","",null,null,null,null,null,null,null,null,{"$f":"IF(AL56=Worksheet!$AA$2+2,\"Overall Total\",IF(OR(AL56=\"\",AN55=\"\"),\"\",IF(AND(AL55<>0,AL56<>AL55,OFFSET(Worksheet!$AD$1,AL56,0)<>AN55),AN55&\" Total\",OFFSET(Worksheet!$AD$1,AL56,0))))","v":""}]
["Weedons","WDN",null,null,null,null,null,null,null,null,null,null,null,null,null,null,null,null,{"$f":"IFERROR(IF(INDIRECT(\"'\"&OFFSET($F$4,S56,0)&\"'!B\"&COUNTIF($S$1:S56,S56)+11)=\"\",$S56+1,S56),\"\")","v":""},null,{"$f":"IF($S57=\"\",\"\",IFERROR(INDIRECT(\"'\"&OFFSET($F$4,$S57,0)&\"'!B\"&COUNTIF($S$1:$S57,$S57)+10),\"\"))","v":""},{"$f":"IF($S57=\"\",\"\",IFERROR(INDIRECT(\"'\"&OFFSET($F$4,$S57,0)&\"'!c\"&COUNTIF($S$1:$S57,$S57)+10),\"\"))","v":""},"",{"$f":"IF($S57=\"\",\"\",IFERROR(INDIRECT(\"'\"&OFFSET($F$4,$S57,0)&\"'!o\"&COUNTIF($S$1:$S57,$S57)+10),\"\"))","v":""},"","",null,{"$f":"IFERROR(LOOKUP(2,1/(COUNTIF($AB$1:AB56,OFFSET($Y$2,0,0,$T$2))=0),OFFSET($Y$2,0,0,$T$2)),\"\")","v":""},{"$f":"IFERROR(INDEX(OFFSET($AB$2,0,0,$AA$2),MATCH(SMALL(NOT(OFFSET($AB$2,0,0,$AA$2)=\"\")*IF(ISNUMBER(OFFSET($AB$2,0,0,$AA$2)),COUNTIF(OFFSET($AB$2,0,0,$AA$2),\"<=\"& OFFSET($AB$2,0,0,$AA$2)),COUNTIF(OFFSET($AB$2,0,0,$AA$2),\"<=\"& OFFSET($AB$2,0,0,$AA$2))+SUM(--ISNUMBER(OFFSET($AB$2,0,0,$AA$2)))),ROWS(A$2:$AB57)+SUM(--ISBLANK(OFFSET($AB$2,0,0,$AA$2)))),NOT(OFFSET($AB$2,0,0,$AA$2)=\"\")*IF(ISNUMBER(OFFSET($AB$2,0,0,$AA$2)),COUNTIF(OFFSET($AB$2,0,0,$AA$2),\"<=\"& OFFSET($AB$2,0,0,$AA$2)),COUNTIF(OFFSET($AB$2,0,0,$AA$2),\"<=\"& OFFSET($AB$2,0,0,$AA$2))+SUM(--ISNUMBER(OFFSET($AB$2,0,0,$AA$2)))),0)),\"\")","v":""},"","",null,null,null,null,null,null,null,null,{"$f":"IF(AL57=Worksheet!$AA$2+2,\"Overall Total\",IF(OR(AL57=\"\",AN56=\"\"),\"\",IF(AND(AL56<>0,AL57<>AL56,OFFSET(Worksheet!$AD$1,AL57,0)<>AN56),AN56&\" Total\",OFFSET(Worksheet!$AD$1,AL57,0))))","v":""}]
["Wellington","WLG",null,null,null,null,null,null,null,null,null,null,null,null,null,null,null,null,{"$f":"IFERROR(IF(INDIRECT(\"'\"&OFFSET($F$4,S57,0)&\"'!B\"&COUNTIF($S$1:S57,S57)+11)=\"\",$S57+1,S57),\"\")","v":""},null,{"$f":"IF($S58=\"\",\"\",IFERROR(INDIRECT(\"'\"&OFFSET($F$4,$S58,0)&\"'!B\"&COUNTIF($S$1:$S58,$S58)+10),\"\"))","v":""},{"$f":"IF($S58=\"\",\"\",IFERROR(INDIRECT(\"'\"&OFFSET($F$4,$S58,0)&\"'!c\"&COUNTIF($S$1:$S58,$S58)+10),\"\"))","v":""},"",{"$f":"IF($S58=\"\",\"\",IFERROR(INDIRECT(\"'\"&OFFSET($F$4,$S58,0)&\"'!o\"&COUNTIF($S$1:$S58,$S58)+10),\"\"))","v":""},"","",null,{"$f":"IFERROR(LOOKUP(2,1/(COUNTIF($AB$1:AB57,OFFSET($Y$2,0,0,$T$2))=0),OFFSET($Y$2,0,0,$T$2)),\"\")","v":""},{"$f":"IFERROR(INDEX(OFFSET($AB$2,0,0,$AA$2),MATCH(SMALL(NOT(OFFSET($AB$2,0,0,$AA$2)=\"\")*IF(ISNUMBER(OFFSET($AB$2,0,0,$AA$2)),COUNTIF(OFFSET($AB$2,0,0,$AA$2),\"<=\"& OFFSET($AB$2,0,0,$AA$2)),COUNTIF(OFFSET($AB$2,0,0,$AA$2),\"<=\"& OFFSET($AB$2,0,0,$AA$2))+SUM(--ISNUMBER(OFFSET($AB$2,0,0,$AA$2)))),ROWS(A$2:$AB58)+SUM(--ISBLANK(OFFSET($AB$2,0,0,$AA$2)))),NOT(OFFSET($AB$2,0,0,$AA$2)=\"\")*IF(ISNUMBER(OFFSET($AB$2,0,0,$AA$2)),COUNTIF(OFFSET($AB$2,0,0,$AA$2),\"<=\"& OFFSET($AB$2,0,0,$AA$2)),COUNTIF(OFFSET($AB$2,0,0,$AA$2),\"<=\"& OFFSET($AB$2,0,0,$AA$2))+SUM(--ISNUMBER(OFFSET($AB$2,0,0,$AA$2)))),0)),\"\")","v":""},"","",null,null,null,null,null,null,null,null,{"$f":"IF(AL58=Worksheet!$AA$2+2,\"Overall Total\",IF(OR(AL58=\"\",AN57=\"\"),\"\",IF(AND(AL57<>0,AL58<>AL57,OFFSET(Worksheet!$AD$1,AL58,0)<>AN57),AN57&\" Total\",OFFSET(Worksheet!$AD$1,AL58,0))))","v":""}]
["West Melton","WMN",null,null,null,null,null,null,null,null,null,null,null,null,null,null,null,null,{"$f":"IFERROR(IF(INDIRECT(\"'\"&OFFSET($F$4,S58,0)&\"'!B\"&COUNTIF($S$1:S58,S58)+11)=\"\",$S58+1,S58),\"\")","v":""},null,{"$f":"IF($S59=\"\",\"\",IFERROR(INDIRECT(\"'\"&OFFSET($F$4,$S59,0)&\"'!B\"&COUNTIF($S$1:$S59,$S59)+10),\"\"))","v":""},{"$f":"IF($S59=\"\",\"\",IFERROR(INDIRECT(\"'\"&OFFSET($F$4,$S59,0)&\"'!c\"&COUNTIF($S$1:$S59,$S59)+10),\"\"))","v":""},"",{"$f":"IF($S59=\"\",\"\",IFERROR(INDIRECT(\"'\"&OFFSET($F$4,$S59,0)&\"'!o\"&COUNTIF($S$1:$S59,$S59)+10),\"\"))","v":""},"","",null,{"$f":"IFERROR(LOOKUP(2,1/(COUNTIF($AB$1:AB58,OFFSET($Y$2,0,0,$T$2))=0),OFFSET($Y$2,0,0,$T$2)),\"\")","v":""},{"$f":"IFERROR(INDEX(OFFSET($AB$2,0,0,$AA$2),MATCH(SMALL(NOT(OFFSET($AB$2,0,0,$AA$2)=\"\")*IF(ISNUMBER(OFFSET($AB$2,0,0,$AA$2)),COUNTIF(OFFSET($AB$2,0,0,$AA$2),\"<=\"& OFFSET($AB$2,0,0,$AA$2)),COUNTIF(OFFSET($AB$2,0,0,$AA$2),\"<=\"& OFFSET($AB$2,0,0,$AA$2))+SUM(--ISNUMBER(OFFSET($AB$2,0,0,$AA$2)))),ROWS(A$2:$AB59)+SUM(--ISBLANK(OFFSET($AB$2,0,0,$AA$2)))),NOT(OFFSET($AB$2,0,0,$AA$2)=\"\")*IF(ISNUMBER(OFFSET($AB$2,0,0,$AA$2)),COUNTIF(OFFSET($AB$2,0,0,$AA$2),\"<=\"& OFFSET($AB$2,0,0,$AA$2)),COUNTIF(OFFSET($AB$2,0,0,$AA$2),\"<=\"& OFFSET($AB$2,0,0,$AA$2))+SUM(--ISNUMBER(OFFSET($AB$2,0,0,$AA$2)))),0)),\"\")","v":""},"","",null,null,null,null,null,null,null,null,{"$f":"IF(AL59=Worksheet!$AA$2+2,\"Overall Total\",IF(OR(AL59=\"\",AN58=\"\"),\"\",IF(AND(AL58<>0,AL59<>AL58,OFFSET(Worksheet!$AD$1,AL59,0)<>AN58),AN58&\" Total\",OFFSET(Worksheet!$AD$1,AL59,0))))","v":""}]
["Whanganui","WAN",null,null,null,null,null,null,null,null,null,null,null,null,null,null,null,null,{"$f":"IFERROR(IF(INDIRECT(\"'\"&OFFSET($F$4,S59,0)&\"'!B\"&COUNTIF($S$1:S59,S59)+11)=\"\",$S59+1,S59),\"\")","v":""},null,{"$f":"IF($S60=\"\",\"\",IFERROR(INDIRECT(\"'\"&OFFSET($F$4,$S60,0)&\"'!B\"&COUNTIF($S$1:$S60,$S60)+10),\"\"))","v":""},{"$f":"IF($S60=\"\",\"\",IFERROR(INDIRECT(\"'\"&OFFSET($F$4,$S60,0)&\"'!c\"&COUNTIF($S$1:$S60,$S60)+10),\"\"))","v":""},"",{"$f":"IF($S60=\"\",\"\",IFERROR(INDIRECT(\"'\"&OFFSET($F$4,$S60,0)&\"'!o\"&COUNTIF($S$1:$S60,$S60)+10),\"\"))","v":""},"","",null,{"$f":"IFERROR(LOOKUP(2,1/(COUNTIF($AB$1:AB59,OFFSET($Y$2,0,0,$T$2))=0),OFFSET($Y$2,0,0,$T$2)),\"\")","v":""},{"$f":"IFERROR(INDEX(OFFSET($AB$2,0,0,$AA$2),MATCH(SMALL(NOT(OFFSET($AB$2,0,0,$AA$2)=\"\")*IF(ISNUMBER(OFFSET($AB$2,0,0,$AA$2)),COUNTIF(OFFSET($AB$2,0,0,$AA$2),\"<=\"& OFFSET($AB$2,0,0,$AA$2)),COUNTIF(OFFSET($AB$2,0,0,$AA$2),\"<=\"& OFFSET($AB$2,0,0,$AA$2))+SUM(--ISNUMBER(OFFSET($AB$2,0,0,$AA$2)))),ROWS(A$2:$AB60)+SUM(--ISBLANK(OFFSET($AB$2,0,0,$AA$2)))),NOT(OFFSET($AB$2,0,0,$AA$2)=\"\")*IF(ISNUMBER(OFFSET($AB$2,0,0,$AA$2)),COUNTIF(OFFSET($AB$2,0,0,$AA$2),\"<=\"& OFFSET($AB$2,0,0,$AA$2)),COUNTIF(OFFSET($AB$2,0,0,$AA$2),\"<=\"& OFFSET($AB$2,0,0,$AA$2))+SUM(--ISNUMBER(OFFSET($AB$2,0,0,$AA$2)))),0)),\"\")","v":""},"","",null,null,null,null,null,null,null,null,{"$f":"IF(AL60=Worksheet!$AA$2+2,\"Overall Total\",IF(OR(AL60=\"\",AN59=\"\"),\"\",IF(AND(AL59<>0,AL60<>AL59,OFFSET(Worksheet!$AD$1,AL60,0)<>AN59),AN59&\" Total\",OFFSET(Worksheet!$AD$1,AL60,0))))","v":""}]
["Whangaparaoa","WHA",null,null,null,null,null,null,null,null,null,null,null,null,null,null,null,null,{"$f":"IFERROR(IF(INDIRECT(\"'\"&OFFSET($F$4,S60,0)&\"'!B\"&COUNTIF($S$1:S60,S60)+11)=\"\",$S60+1,S60),\"\")","v":""},null,{"$f":"IF($S61=\"\",\"\",IFERROR(INDIRECT(\"'\"&OFFSET($F$4,$S61,0)&\"'!B\"&COUNTIF($S$1:$S61,$S61)+10),\"\"))","v":""},{"$f":"IF($S61=\"\",\"\",IFERROR(INDIRECT(\"'\"&OFFSET($F$4,$S61,0)&\"'!c\"&COUNTIF($S$1:$S61,$S61)+10),\"\"))","v":""},"",{"$f":"IF($S61=\"\",\"\",IFERROR(INDIRECT(\"'\"&OFFSET($F$4,$S61,0)&\"'!o\"&COUNTIF($S$1:$S61,$S61)+10),\"\"))","v":""},"","",null,{"$f":"IFERROR(LOOKUP(2,1/(COUNTIF($AB$1:AB60,OFFSET($Y$2,0,0,$T$2))=0),OFFSET($Y$2,0,0,$T$2)),\"\")","v":""},{"$f":"IFERROR(INDEX(OFFSET($AB$2,0,0,$AA$2),MATCH(SMALL(NOT(OFFSET($AB$2,0,0,$AA$2)=\"\")*IF(ISNUMBER(OFFSET($AB$2,0,0,$AA$2)),COUNTIF(OFFSET($AB$2,0,0,$AA$2),\"<=\"& OFFSET($AB$2,0,0,$AA$2)),COUNTIF(OFFSET($AB$2,0,0,$AA$2),\"<=\"& OFFSET($AB$2,0,0,$AA$2))+SUM(--ISNUMBER(OFFSET($AB$2,0,0,$AA$2)))),ROWS(A$2:$AB61)+SUM(--ISBLANK(OFFSET($AB$2,0,0,$AA$2)))),NOT(OFFSET($AB$2,0,0,$AA$2)=\"\")*IF(ISNUMBER(OFFSET($AB$2,0,0,$AA$2)),COUNTIF(OFFSET($AB$2,0,0,$AA$2),\"<=\"& OFFSET($AB$2,0,0,$AA$2)),COUNTIF(OFFSET($AB$2,0,0,$AA$2),\"<=\"& OFFSET($AB$2,0,0,$AA$2))+SUM(--ISNUMBER(OFFSET($AB$2,0,0,$AA$2)))),0)),\"\")","v":""},"","",null,null,null,null,null,null,null,null,{"$f":"IF(AL61=Worksheet!$AA$2+2,\"Overall Total\",IF(OR(AL61=\"\",AN60=\"\"),\"\",IF(AND(AL60<>0,AL61<>AL60,OFFSET(Worksheet!$AD$1,AL61,0)<>AN60),AN60&\" Total\",OFFSET(Worksheet!$AD$1,AL61,0))))","v":""}]
["Whangarei","WEI",null,null,null,null,null,null,null,null,null,null,null,null,null,null,null,null,{"$f":"IFERROR(IF(INDIRECT(\"'\"&OFFSET($F$4,S61,0)&\"'!B\"&COUNTIF($S$1:S61,S61)+11)=\"\",$S61+1,S61),\"\")","v":""},null,{"$f":"IF($S62=\"\",\"\",IFERROR(INDIRECT(\"'\"&OFFSET($F$4,$S62,0)&\"'!B\"&COUNTIF($S$1:$S62,$S62)+10),\"\"))","v":""},{"$f":"IF($S62=\"\",\"\",IFERROR(INDIRECT(\"'\"&OFFSET($F$4,$S62,0)&\"'!c\"&COUNTIF($S$1:$S62,$S62)+10),\"\"))","v":""},"",{"$f":"IF($S62=\"\",\"\",IFERROR(INDIRECT(\"'\"&OFFSET($F$4,$S62,0)&\"'!o\"&COUNTIF($S$1:$S62,$S62)+10),\"\"))","v":""},"","",null,{"$f":"IFERROR(LOOKUP(2,1/(COUNTIF($AB$1:AB61,OFFSET($Y$2,0,0,$T$2))=0),OFFSET($Y$2,0,0,$T$2)),\"\")","v":""},{"$f":"IFERROR(INDEX(OFFSET($AB$2,0,0,$AA$2),MATCH(SMALL(NOT(OFFSET($AB$2,0,0,$AA$2)=\"\")*IF(ISNUMBER(OFFSET($AB$2,0,0,$AA$2)),COUNTIF(OFFSET($AB$2,0,0,$AA$2),\"<=\"& OFFSET($AB$2,0,0,$AA$2)),COUNTIF(OFFSET($AB$2,0,0,$AA$2),\"<=\"& OFFSET($AB$2,0,0,$AA$2))+SUM(--ISNUMBER(OFFSET($AB$2,0,0,$AA$2)))),ROWS(A$2:$AB62)+SUM(--ISBLANK(OFFSET($AB$2,0,0,$AA$2)))),NOT(OFFSET($AB$2,0,0,$AA$2)=\"\")*IF(ISNUMBER(OFFSET($AB$2,0,0,$AA$2)),COUNTIF(OFFSET($AB$2,0,0,$AA$2),\"<=\"& OFFSET($AB$2,0,0,$AA$2)),COUNTIF(OFFSET($AB$2,0,0,$AA$2),\"<=\"& OFFSET($AB$2,0,0,$AA$2))+SUM(--ISNUMBER(OFFSET($AB$2,0,0,$AA$2)))),0)),\"\")","v":""},"","",null,null,null,null,null,null,null,null,{"$f":"IF(AL62=Worksheet!$AA$2+2,\"Overall Total\",IF(OR(AL62=\"\",AN61=\"\"),\"\",IF(AND(AL61<>0,AL62<>AL61,OFFSET(Worksheet!$AD$1,AL62,0)<>AN61),AN61&\" Total\",OFFSET(Worksheet!$AD$1,AL62,0))))","v":""}]
["Whenuapai","WHP",null,null,null,null,null,null,null,null,null,null,null,null,null,null,null,null,{"$f":"IFERROR(IF(INDIRECT(\"'\"&OFFSET($F$4,S62,0)&\"'!B\"&COUNTIF($S$1:S62,S62)+11)=\"\",$S62+1,S62),\"\")","v":""},null,{"$f":"IF($S63=\"\",\"\",IFERROR(INDIRECT(\"'\"&OFFSET($F$4,$S63,0)&\"'!B\"&COUNTIF($S$1:$S63,$S63)+10),\"\"))","v":""},{"$f":"IF($S63=\"\",\"\",IFERROR(INDIRECT(\"'\"&OFFSET($F$4,$S63,0)&\"'!c\"&COUNTIF($S$1:$S63,$S63)+10),\"\"))","v":""},"",{"$f":"IF($S63=\"\",\"\",IFERROR(INDIRECT(\"'\"&OFFSET($F$4,$S63,0)&\"'!o\"&COUNTIF($S$1:$S63,$S63)+10),\"\"))","v":""},"","",null,{"$f":"IFERROR(LOOKUP(2,1/(COUNTIF($AB$1:AB62,OFFSET($Y$2,0,0,$T$2))=0),OFFSET($Y$2,0,0,$T$2)),\"\")","v":""},{"$f":"IFERROR(INDEX(OFFSET($AB$2,0,0,$AA$2),MATCH(SMALL(NOT(OFFSET($AB$2,0,0,$AA$2)=\"\")*IF(ISNUMBER(OFFSET($AB$2,0,0,$AA$2)),COUNTIF(OFFSET($AB$2,0,0,$AA$2),\"<=\"& OFFSET($AB$2,0,0,$AA$2)),COUNTIF(OFFSET($AB$2,0,0,$AA$2),\"<=\"& OFFSET($AB$2,0,0,$AA$2))+SUM(--ISNUMBER(OFFSET($AB$2,0,0,$AA$2)))),ROWS(A$2:$AB63)+SUM(--ISBLANK(OFFSET($AB$2,0,0,$AA$2)))),NOT(OFFSET($AB$2,0,0,$AA$2)=\"\")*IF(ISNUMBER(OFFSET($AB$2,0,0,$AA$2)),COUNTIF(OFFSET($AB$2,0,0,$AA$2),\"<=\"& OFFSET($AB$2,0,0,$AA$2)),COUNTIF(OFFSET($AB$2,0,0,$AA$2),\"<=\"& OFFSET($AB$2,0,0,$AA$2))+SUM(--ISNUMBER(OFFSET($AB$2,0,0,$AA$2)))),0)),\"\")","v":""},"","",null,null,null,null,null,null,null,null,{"$f":"IF(AL63=Worksheet!$AA$2+2,\"Overall Total\",IF(OR(AL63=\"\",AN62=\"\"),\"\",IF(AND(AL62<>0,AL63<>AL62,OFFSET(Worksheet!$AD$1,AL63,0)<>AN62),AN62&\" Total\",OFFSET(Worksheet!$AD$1,AL63,0))))","v":""}]
["Wigram","WIG",null,null,null,null,null,null,null,null,null,null,null,null,null,null,null,null,{"$f":"IFERROR(IF(INDIRECT(\"'\"&OFFSET($F$4,S63,0)&\"'!B\"&COUNTIF($S$1:S63,S63)+11)=\"\",$S63+1,S63),\"\")","v":""},null,{"$f":"IF($S64=\"\",\"\",IFERROR(INDIRECT(\"'\"&OFFSET($F$4,$S64,0)&\"'!B\"&COUNTIF($S$1:$S64,$S64)+10),\"\"))","v":""},{"$f":"IF($S64=\"\",\"\",IFERROR(INDIRECT(\"'\"&OFFSET($F$4,$S64,0)&\"'!c\"&COUNTIF($S$1:$S64,$S64)+10),\"\"))","v":""},"",{"$f":"IF($S64=\"\",\"\",IFERROR(INDIRECT(\"'\"&OFFSET($F$4,$S64,0)&\"'!o\"&COUNTIF($S$1:$S64,$S64)+10),\"\"))","v":""},"","",null,{"$f":"IFERROR(LOOKUP(2,1/(COUNTIF($AB$1:AB63,OFFSET($Y$2,0,0,$T$2))=0),OFFSET($Y$2,0,0,$T$2)),\"\")","v":""},{"$f":"IFERROR(INDEX(OFFSET($AB$2,0,0,$AA$2),MATCH(SMALL(NOT(OFFSET($AB$2,0,0,$AA$2)=\"\")*IF(ISNUMBER(OFFSET($AB$2,0,0,$AA$2)),COUNTIF(OFFSET($AB$2,0,0,$AA$2),\"<=\"& OFFSET($AB$2,0,0,$AA$2)),COUNTIF(OFFSET($AB$2,0,0,$AA$2),\"<=\"& OFFSET($AB$2,0,0,$AA$2))+SUM(--ISNUMBER(OFFSET($AB$2,0,0,$AA$2)))),ROWS(A$2:$AB64)+SUM(--ISBLANK(OFFSET($AB$2,0,0,$AA$2)))),NOT(OFFSET($AB$2,0,0,$AA$2)=\"\")*IF(ISNUMBER(OFFSET($AB$2,0,0,$AA$2)),COUNTIF(OFFSET($AB$2,0,0,$AA$2),\"<=\"& OFFSET($AB$2,0,0,$AA$2)),COUNTIF(OFFSET($AB$2,0,0,$AA$2),\"<=\"& OFFSET($AB$2,0,0,$AA$2))+SUM(--ISNUMBER(OFFSET($AB$2,0,0,$AA$2)))),0)),\"\")","v":""},"","",null,null,null,null,null,null,null,null,{"$f":"IF(AL64=Worksheet!$AA$2+2,\"Overall Total\",IF(OR(AL64=\"\",AN63=\"\"),\"\",IF(AND(AL63<>0,AL64<>AL63,OFFSET(Worksheet!$AD$1,AL64,0)<>AN63),AN63&\" Total\",OFFSET(Worksheet!$AD$1,AL64,0))))","v":""}]
["Woodbourne","WBN",null,null,null,null,null,null,null,null,null,null,null,null,null,null,null,null,{"$f":"IFERROR(IF(INDIRECT(\"'\"&OFFSET($F$4,S64,0)&\"'!B\"&COUNTIF($S$1:S64,S64)+11)=\"\",$S64+1,S64),\"\")","v":""},null,{"$f":"IF($S65=\"\",\"\",IFERROR(INDIRECT(\"'\"&OFFSET($F$4,$S65,0)&\"'!B\"&COUNTIF($S$1:$S65,$S65)+10),\"\"))","v":""},{"$f":"IF($S65=\"\",\"\",IFERROR(INDIRECT(\"'\"&OFFSET($F$4,$S65,0)&\"'!c\"&COUNTIF($S$1:$S65,$S65)+10),\"\"))","v":""},"",{"$f":"IF($S65=\"\",\"\",IFERROR(INDIRECT(\"'\"&OFFSET($F$4,$S65,0)&\"'!o\"&COUNTIF($S$1:$S65,$S65)+10),\"\"))","v":""},"","",null,{"$f":"IFERROR(LOOKUP(2,1/(COUNTIF($AB$1:AB64,OFFSET($Y$2,0,0,$T$2))=0),OFFSET($Y$2,0,0,$T$2)),\"\")","v":""},{"$f":"IFERROR(INDEX(OFFSET($AB$2,0,0,$AA$2),MATCH(SMALL(NOT(OFFSET($AB$2,0,0,$AA$2)=\"\")*IF(ISNUMBER(OFFSET($AB$2,0,0,$AA$2)),COUNTIF(OFFSET($AB$2,0,0,$AA$2),\"<=\"& OFFSET($AB$2,0,0,$AA$2)),COUNTIF(OFFSET($AB$2,0,0,$AA$2),\"<=\"& OFFSET($AB$2,0,0,$AA$2))+SUM(--ISNUMBER(OFFSET($AB$2,0,0,$AA$2)))),ROWS(A$2:$AB65)+SUM(--ISBLANK(OFFSET($AB$2,0,0,$AA$2)))),NOT(OFFSET($AB$2,0,0,$AA$2)=\"\")*IF(ISNUMBER(OFFSET($AB$2,0,0,$AA$2)),COUNTIF(OFFSET($AB$2,0,0,$AA$2),\"<=\"& OFFSET($AB$2,0,0,$AA$2)),COUNTIF(OFFSET($AB$2,0,0,$AA$2),\"<=\"& OFFSET($AB$2,0,0,$AA$2))+SUM(--ISNUMBER(OFFSET($AB$2,0,0,$AA$2)))),0)),\"\")","v":""},"","",null,null,null,null,null,null,null,null,{"$f":"IF(AL65=Worksheet!$AA$2+2,\"Overall Total\",IF(OR(AL65=\"\",AN64=\"\"),\"\",IF(AND(AL64<>0,AL65<>AL64,OFFSET(Worksheet!$AD$1,AL65,0)<>AN64),AN64&\" Total\",OFFSET(Worksheet!$AD$1,AL65,0))))","v":""}]
[null,null,null,null,null,null,null,null,null,null,null,null,null,null,null,null,null,null,{"$f":"IFERROR(IF(INDIRECT(\"'\"&OFFSET($F$4,S65,0)&\"'!B\"&COUNTIF($S$1:S65,S65)+11)=\"\",$S65+1,S65),\"\")","v":""},null,{"$f":"IF($S66=\"\",\"\",IFERROR(INDIRECT(\"'\"&OFFSET($F$4,$S66,0)&\"'!B\"&COUNTIF($S$1:$S66,$S66)+10),\"\"))","v":""},{"$f":"IF($S66=\"\",\"\",IFERROR(INDIRECT(\"'\"&OFFSET($F$4,$S66,0)&\"'!c\"&COUNTIF($S$1:$S66,$S66)+10),\"\"))","v":""},{"$f":"IF(S66=\"\",\"\",IFERROR(OFFSET($F$4,S66,0),\"\"))","v":""},{"$f":"IF($S66=\"\",\"\",IFERROR(INDIRECT(\"'\"&OFFSET($F$4,$S66,0)&\"'!o\"&COUNTIF($S$1:$S66,$S66)+10),\"\"))","v":""},"","",null,{"$f":"IFERROR(LOOKUP(2,1/(COUNTIF($AB$1:AB65,OFFSET($Y$2,0,0,$T$2))=0),OFFSET($Y$2,0,0,$T$2)),\"\")","v":""},{"$f":"IFERROR(INDEX(OFFSET($AB$2,0,0,$AA$2),MATCH(SMALL(NOT(OFFSET($AB$2,0,0,$AA$2)=\"\")*IF(ISNUMBER(OFFSET($AB$2,0,0,$AA$2)),COUNTIF(OFFSET($AB$2,0,0,$AA$2),\"<=\"& OFFSET($AB$2,0,0,$AA$2)),COUNTIF(OFFSET($AB$2,0,0,$AA$2),\"<=\"& OFFSET($AB$2,0,0,$AA$2))+SUM(--ISNUMBER(OFFSET($AB$2,0,0,$AA$2)))),ROWS(A$2:$AB66)+SUM(--ISBLANK(OFFSET($AB$2,0,0,$AA$2)))),NOT(OFFSET($AB$2,0,0,$AA$2)=\"\")*IF(ISNUMBER(OFFSET($AB$2,0,0,$AA$2)),COUNTIF(OFFSET($AB$2,0,0,$AA$2),\"<=\"& OFFSET($AB$2,0,0,$AA$2)),COUNTIF(OFFSET($AB$2,0,0,$AA$2),\"<=\"& OFFSET($AB$2,0,0,$AA$2))+SUM(--ISNUMBER(OFFSET($AB$2,0,0,$AA$2)))),0)),\"\")","v":""},"","",null,null,null,null,null,null,null,null,{"$f":"IF(AL66=Worksheet!$AA$2+2,\"Overall Total\",IF(OR(AL66=\"\",AN65=\"\"),\"\",IF(AND(AL65<>0,AL66<>AL65,OFFSET(Worksheet!$AD$1,AL66,0)<>AN65),AN65&\" Total\",OFFSET(Worksheet!$AD$1,AL66,0))))","v":""}]
[null,null,null,null,null,null,null,null,null,null,null,null,null,null,null,null,null,null,{"$f":"IFERROR(IF(INDIRECT(\"'\"&OFFSET($F$4,S66,0)&\"'!B\"&COUNTIF($S$1:S66,S66)+11)=\"\",$S66+1,S66),\"\")","v":""},null,{"$f":"IF($S67=\"\",\"\",IFERROR(INDIRECT(\"'\"&OFFSET($F$4,$S67,0)&\"'!B\"&COUNTIF($S$1:$S67,$S67)+10),\"\"))","v":""},{"$f":"IF($S67=\"\",\"\",IFERROR(INDIRECT(\"'\"&OFFSET($F$4,$S67,0)&\"'!c\"&COUNTIF($S$1:$S67,$S67)+10),\"\"))","v":""},"",{"$f":"IF($S67=\"\",\"\",IFERROR(INDIRECT(\"'\"&OFFSET($F$4,$S67,0)&\"'!o\"&COUNTIF($S$1:$S67,$S67)+10),\"\"))","v":""},{"$f":"CONCATENATE($U67,$V67)","v":""},{"$f":"CONCATENATE($U67,$V67,$W67)","v":""},null,{"$f":"IFERROR(LOOKUP(2,1/(COUNTIF($AB$1:AB66,OFFSET($Y$2,0,0,$T$2))=0),OFFSET($Y$2,0,0,$T$2)),\"\")","v":""},{"$f":"IFERROR(INDEX(OFFSET($AB$2,0,0,$AA$2),MATCH(SMALL(NOT(OFFSET($AB$2,0,0,$AA$2)=\"\")*IF(ISNUMBER(OFFSET($AB$2,0,0,$AA$2)),COUNTIF(OFFSET($AB$2,0,0,$AA$2),\"<=\"& OFFSET($AB$2,0,0,$AA$2)),COUNTIF(OFFSET($AB$2,0,0,$AA$2),\"<=\"& OFFSET($AB$2,0,0,$AA$2))+SUM(--ISNUMBER(OFFSET($AB$2,0,0,$AA$2)))),ROWS(A$2:$AB67)+SUM(--ISBLANK(OFFSET($AB$2,0,0,$AA$2)))),NOT(OFFSET($AB$2,0,0,$AA$2)=\"\")*IF(ISNUMBER(OFFSET($AB$2,0,0,$AA$2)),COUNTIF(OFFSET($AB$2,0,0,$AA$2),\"<=\"& OFFSET($AB$2,0,0,$AA$2)),COUNTIF(OFFSET($AB$2,0,0,$AA$2),\"<=\"& OFFSET($AB$2,0,0,$AA$2))+SUM(--ISNUMBER(OFFSET($AB$2,0,0,$AA$2)))),0)),\"\")","v":""},{"$f":"INDEX(U:U,MATCH(AC67,Y:Y,0),0)","v":""},{"$f":"INDEX(V:V,MATCH(AC67,Y:Y,0),0)","v":""},null,null,null,null,null,null,null,null,{"$f":"IF(AL67=Worksheet!$AA$2+2,\"Overall Total\",IF(OR(AL67=\"\",AN66=\"\"),\"\",IF(AND(AL66<>0,AL67<>AL66,OFFSET(Worksheet!$AD$1,AL67,0)<>AN66),AN66&\" Total\",OFFSET(Worksheet!$AD$1,AL67,0))))","v":""}]
[null,null,null,null,null,null,null,null,null,null,null,null,null,null,null,null,null,null,{"$f":"IFERROR(IF(INDIRECT(\"'\"&OFFSET($F$4,S67,0)&\"'!B\"&COUNTIF($S$1:S67,S67)+11)=\"\",$S67+1,S67),\"\")","v":""},null,{"$f":"IF($S68=\"\",\"\",IFERROR(INDIRECT(\"'\"&OFFSET($F$4,$S68,0)&\"'!B\"&COUNTIF($S$1:$S68,$S68)+10),\"\"))","v":""},{"$f":"IF($S68=\"\",\"\",IFERROR(INDIRECT(\"'\"&OFFSET($F$4,$S68,0)&\"'!c\"&COUNTIF($S$1:$S68,$S68)+10),\"\"))","v":""},"",{"$f":"IF($S68=\"\",\"\",IFERROR(INDIRECT(\"'\"&OFFSET($F$4,$S68,0)&\"'!o\"&COUNTIF($S$1:$S68,$S68)+10),\"\"))","v":""},"","",null,{"$f":"IFERROR(LOOKUP(2,1/(COUNTIF($AB$1:AB67,OFFSET($Y$2,0,0,$T$2))=0),OFFSET($Y$2,0,0,$T$2)),\"\")","v":""},{"$f":"IFERROR(INDEX(OFFSET($AB$2,0,0,$AA$2),MATCH(SMALL(NOT(OFFSET($AB$2,0,0,$AA$2)=\"\")*IF(ISNUMBER(OFFSET($AB$2,0,0,$AA$2)),COUNTIF(OFFSET($AB$2,0,0,$AA$2),\"<=\"& OFFSET($AB$2,0,0,$AA$2)),COUNTIF(OFFSET($AB$2,0,0,$AA$2),\"<=\"& OFFSET($AB$2,0,0,$AA$2))+SUM(--ISNUMBER(OFFSET($AB$2,0,0,$AA$2)))),ROWS(A$2:$AB68)+SUM(--ISBLANK(OFFSET($AB$2,0,0,$AA$2)))),NOT(OFFSET($AB$2,0,0,$AA$2)=\"\")*IF(ISNUMBER(OFFSET($AB$2,0,0,$AA$2)),COUNTIF(OFFSET($AB$2,0,0,$AA$2),\"<=\"& OFFSET($AB$2,0,0,$AA$2)),COUNTIF(OFFSET($AB$2,0,0,$AA$2),\"<=\"& OFFSET($AB$2,0,0,$AA$2))+SUM(--ISNUMBER(OFFSET($AB$2,0,0,$AA$2)))),0)),\"\")","v":""},"","",null,null,null,null,null,null,null,null,{"$f":"IF(AL68=Worksheet!$AA$2+2,\"Overall Total\",IF(OR(AL68=\"\",AN67=\"\"),\"\",IF(AND(AL67<>0,AL68<>AL67,OFFSET(Worksheet!$AD$1,AL68,0)<>AN67),AN67&\" Total\",OFFSET(Worksheet!$AD$1,AL68,0))))","v":""}]
[null,null,null,null,null,null,null,null,null,null,null,null,null,null,null,null,null,null,{"$f":"IFERROR(IF(INDIRECT(\"'\"&OFFSET($F$4,S68,0)&\"'!B\"&COUNTIF($S$1:S68,S68)+11)=\"\",$S68+1,S68),\"\")","v":""},null,{"$f":"IF($S69=\"\",\"\",IFERROR(INDIRECT(\"'\"&OFFSET($F$4,$S69,0)&\"'!B\"&COUNTIF($S$1:$S69,$S69)+10),\"\"))","v":""},{"$f":"IF($S69=\"\",\"\",IFERROR(INDIRECT(\"'\"&OFFSET($F$4,$S69,0)&\"'!c\"&COUNTIF($S$1:$S69,$S69)+10),\"\"))","v":""},"",{"$f":"IF($S69=\"\",\"\",IFERROR(INDIRECT(\"'\"&OFFSET($F$4,$S69,0)&\"'!o\"&COUNTIF($S$1:$S69,$S69)+10),\"\"))","v":""},"","",null,{"$f":"IFERROR(LOOKUP(2,1/(COUNTIF($AB$1:AB68,OFFSET($Y$2,0,0,$T$2))=0),OFFSET($Y$2,0,0,$T$2)),\"\")","v":""},{"$f":"IFERROR(INDEX(OFFSET($AB$2,0,0,$AA$2),MATCH(SMALL(NOT(OFFSET($AB$2,0,0,$AA$2)=\"\")*IF(ISNUMBER(OFFSET($AB$2,0,0,$AA$2)),COUNTIF(OFFSET($AB$2,0,0,$AA$2),\"<=\"& OFFSET($AB$2,0,0,$AA$2)),COUNTIF(OFFSET($AB$2,0,0,$AA$2),\"<=\"& OFFSET($AB$2,0,0,$AA$2))+SUM(--ISNUMBER(OFFSET($AB$2,0,0,$AA$2)))),ROWS(A$2:$AB69)+SUM(--ISBLANK(OFFSET($AB$2,0,0,$AA$2)))),NOT(OFFSET($AB$2,0,0,$AA$2)=\"\")*IF(ISNUMBER(OFFSET($AB$2,0,0,$AA$2)),COUNTIF(OFFSET($AB$2,0,0,$AA$2),\"<=\"& OFFSET($AB$2,0,0,$AA$2)),COUNTIF(OFFSET($AB$2,0,0,$AA$2),\"<=\"& OFFSET($AB$2,0,0,$AA$2))+SUM(--ISNUMBER(OFFSET($AB$2,0,0,$AA$2)))),0)),\"\")","v":""},"","",null,null,null,null,null,null,null,null,{"$f":"IF(AL69=Worksheet!$AA$2+2,\"Overall Total\",IF(OR(AL69=\"\",AN68=\"\"),\"\",IF(AND(AL68<>0,AL69<>AL68,OFFSET(Worksheet!$AD$1,AL69,0)<>AN68),AN68&\" Total\",OFFSET(Worksheet!$AD$1,AL69,0))))","v":""}]
[null,null,null,null,null,null,null,null,null,null,null,null,null,null,null,null,null,null,{"$f":"IFERROR(IF(INDIRECT(\"'\"&OFFSET($F$4,S69,0)&\"'!B\"&COUNTIF($S$1:S69,S69)+11)=\"\",$S69+1,S69),\"\")","v":""},null,{"$f":"IF($S70=\"\",\"\",IFERROR(INDIRECT(\"'\"&OFFSET($F$4,$S70,0)&\"'!B\"&COUNTIF($S$1:$S70,$S70)+10),\"\"))","v":""},{"$f":"IF($S70=\"\",\"\",IFERROR(INDIRECT(\"'\"&OFFSET($F$4,$S70,0)&\"'!c\"&COUNTIF($S$1:$S70,$S70)+10),\"\"))","v":""},"",{"$f":"IF($S70=\"\",\"\",IFERROR(INDIRECT(\"'\"&OFFSET($F$4,$S70,0)&\"'!o\"&COUNTIF($S$1:$S70,$S70)+10),\"\"))","v":""},"","",null,{"$f":"IFERROR(LOOKUP(2,1/(COUNTIF($AB$1:AB69,OFFSET($Y$2,0,0,$T$2))=0),OFFSET($Y$2,0,0,$T$2)),\"\")","v":""},{"$f":"IFERROR(INDEX(OFFSET($AB$2,0,0,$AA$2),MATCH(SMALL(NOT(OFFSET($AB$2,0,0,$AA$2)=\"\")*IF(ISNUMBER(OFFSET($AB$2,0,0,$AA$2)),COUNTIF(OFFSET($AB$2,0,0,$AA$2),\"<=\"& OFFSET($AB$2,0,0,$AA$2)),COUNTIF(OFFSET($AB$2,0,0,$AA$2),\"<=\"& OFFSET($AB$2,0,0,$AA$2))+SUM(--ISNUMBER(OFFSET($AB$2,0,0,$AA$2)))),ROWS(A$2:$AB70)+SUM(--ISBLANK(OFFSET($AB$2,0,0,$AA$2)))),NOT(OFFSET($AB$2,0,0,$AA$2)=\"\")*IF(ISNUMBER(OFFSET($AB$2,0,0,$AA$2)),COUNTIF(OFFSET($AB$2,0,0,$AA$2),\"<=\"& OFFSET($AB$2,0,0,$AA$2)),COUNTIF(OFFSET($AB$2,0,0,$AA$2),\"<=\"& OFFSET($AB$2,0,0,$AA$2))+SUM(--ISNUMBER(OFFSET($AB$2,0,0,$AA$2)))),0)),\"\")","v":""},"","",null,null,null,null,null,null,null,null,{"$f":"IF(AL70=Worksheet!$AA$2+2,\"Overall Total\",IF(OR(AL70=\"\",AN69=\"\"),\"\",IF(AND(AL69<>0,AL70<>AL69,OFFSET(Worksheet!$AD$1,AL70,0)<>AN69),AN69&\" Total\",OFFSET(Worksheet!$AD$1,AL70,0))))","v":""}]
[null,null,null,null,null,null,null,null,null,null,null,null,null,null,null,null,null,null,{"$f":"IFERROR(IF(INDIRECT(\"'\"&OFFSET($F$4,S70,0)&\"'!B\"&COUNTIF($S$1:S70,S70)+11)=\"\",$S70+1,S70),\"\")","v":""},null,{"$f":"IF($S71=\"\",\"\",IFERROR(INDIRECT(\"'\"&OFFSET($F$4,$S71,0)&\"'!B\"&COUNTIF($S$1:$S71,$S71)+10),\"\"))","v":""},{"$f":"IF($S71=\"\",\"\",IFERROR(INDIRECT(\"'\"&OFFSET($F$4,$S71,0)&\"'!c\"&COUNTIF($S$1:$S71,$S71)+10),\"\"))","v":""},"",{"$f":"IF($S71=\"\",\"\",IFERROR(INDIRECT(\"'\"&OFFSET($F$4,$S71,0)&\"'!o\"&COUNTIF($S$1:$S71,$S71)+10),\"\"))","v":""},"","",null,{"$f":"IFERROR(LOOKUP(2,1/(COUNTIF($AB$1:AB70,OFFSET($Y$2,0,0,$T$2))=0),OFFSET($Y$2,0,0,$T$2)),\"\")","v":""},{"$f":"IFERROR(INDEX(OFFSET($AB$2,0,0,$AA$2),MATCH(SMALL(NOT(OFFSET($AB$2,0,0,$AA$2)=\"\")*IF(ISNUMBER(OFFSET($AB$2,0,0,$AA$2)),COUNTIF(OFFSET($AB$2,0,0,$AA$2),\"<=\"& OFFSET($AB$2,0,0,$AA$2)),COUNTIF(OFFSET($AB$2,0,0,$AA$2),\"<=\"& OFFSET($AB$2,0,0,$AA$2))+SUM(--ISNUMBER(OFFSET($AB$2,0,0,$AA$2)))),ROWS(A$2:$AB71)+SUM(--ISBLANK(OFFSET($AB$2,0,0,$AA$2)))),NOT(OFFSET($AB$2,0,0,$AA$2)=\"\")*IF(ISNUMBER(OFFSET($AB$2,0,0,$AA$2)),COUNTIF(OFFSET($AB$2,0,0,$AA$2),\"<=\"& OFFSET($AB$2,0,0,$AA$2)),COUNTIF(OFFSET($AB$2,0,0,$AA$2),\"<=\"& OFFSET($AB$2,0,0,$AA$2))+SUM(--ISNUMBER(OFFSET($AB$2,0,0,$AA$2)))),0)),\"\")","v":""},"",""]
[null,null,null,null,null,null,null,null,null,null,null,null,null,null,null,null,null,null,{"$f":"IFERROR(IF(INDIRECT(\"'\"&OFFSET($F$4,S71,0)&\"'!B\"&COUNTIF($S$1:S71,S71)+11)=\"\",$S71+1,S71),\"\")","v":""},null,{"$f":"IF($S72=\"\",\"\",IFERROR(INDIRECT(\"'\"&OFFSET($F$4,$S72,0)&\"'!B\"&COUNTIF($S$1:$S72,$S72)+10),\"\"))","v":""},{"$f":"IF($S72=\"\",\"\",IFERROR(INDIRECT(\"'\"&OFFSET($F$4,$S72,0)&\"'!c\"&COUNTIF($S$1:$S72,$S72)+10),\"\"))","v":""},"",{"$f":"IF($S72=\"\",\"\",IFERROR(INDIRECT(\"'\"&OFFSET($F$4,$S72,0)&\"'!o\"&COUNTIF($S$1:$S72,$S72)+10),\"\"))","v":""},"","",null,{"$f":"IFERROR(LOOKUP(2,1/(COUNTIF($AB$1:AB71,OFFSET($Y$2,0,0,$T$2))=0),OFFSET($Y$2,0,0,$T$2)),\"\")","v":""},{"$f":"IFERROR(INDEX(OFFSET($AB$2,0,0,$AA$2),MATCH(SMALL(NOT(OFFSET($AB$2,0,0,$AA$2)=\"\")*IF(ISNUMBER(OFFSET($AB$2,0,0,$AA$2)),COUNTIF(OFFSET($AB$2,0,0,$AA$2),\"<=\"& OFFSET($AB$2,0,0,$AA$2)),COUNTIF(OFFSET($AB$2,0,0,$AA$2),\"<=\"& OFFSET($AB$2,0,0,$AA$2))+SUM(--ISNUMBER(OFFSET($AB$2,0,0,$AA$2)))),ROWS(A$2:$AB72)+SUM(--ISBLANK(OFFSET($AB$2,0,0,$AA$2)))),NOT(OFFSET($AB$2,0,0,$AA$2)=\"\")*IF(ISNUMBER(OFFSET($AB$2,0,0,$AA$2)),COUNTIF(OFFSET($AB$2,0,0,$AA$2),\"<=\"& OFFSET($AB$2,0,0,$AA$2)),COUNTIF(OFFSET($AB$2,0,0,$AA$2),\"<=\"& OFFSET($AB$2,0,0,$AA$2))+SUM(--ISNUMBER(OFFSET($AB$2,0,0,$AA$2)))),0)),\"\")","v":""},"",""]
[null,null,null,null,null,null,null,null,null,null,null,null,null,null,null,null,null,null,{"$f":"IFERROR(IF(INDIRECT(\"'\"&OFFSET($F$4,S72,0)&\"'!B\"&COUNTIF($S$1:S72,S72)+11)=\"\",$S72+1,S72),\"\")","v":""},null,{"$f":"IF($S73=\"\",\"\",IFERROR(INDIRECT(\"'\"&OFFSET($F$4,$S73,0)&\"'!B\"&COUNTIF($S$1:$S73,$S73)+10),\"\"))","v":""},{"$f":"IF($S73=\"\",\"\",IFERROR(INDIRECT(\"'\"&OFFSET($F$4,$S73,0)&\"'!c\"&COUNTIF($S$1:$S73,$S73)+10),\"\"))","v":""},"",{"$f":"IF($S73=\"\",\"\",IFERROR(INDIRECT(\"'\"&OFFSET($F$4,$S73,0)&\"'!o\"&COUNTIF($S$1:$S73,$S73)+10),\"\"))","v":""},"","",null,{"$f":"IFERROR(LOOKUP(2,1/(COUNTIF($AB$1:AB72,OFFSET($Y$2,0,0,$T$2))=0),OFFSET($Y$2,0,0,$T$2)),\"\")","v":""},{"$f":"IFERROR(INDEX(OFFSET($AB$2,0,0,$AA$2),MATCH(SMALL(NOT(OFFSET($AB$2,0,0,$AA$2)=\"\")*IF(ISNUMBER(OFFSET($AB$2,0,0,$AA$2)),COUNTIF(OFFSET($AB$2,0,0,$AA$2),\"<=\"& OFFSET($AB$2,0,0,$AA$2)),COUNTIF(OFFSET($AB$2,0,0,$AA$2),\"<=\"& OFFSET($AB$2,0,0,$AA$2))+SUM(--ISNUMBER(OFFSET($AB$2,0,0,$AA$2)))),ROWS(A$2:$AB73)+SUM(--ISBLANK(OFFSET($AB$2,0,0,$AA$2)))),NOT(OFFSET($AB$2,0,0,$AA$2)=\"\")*IF(ISNUMBER(OFFSET($AB$2,0,0,$AA$2)),COUNTIF(OFFSET($AB$2,0,0,$AA$2),\"<=\"& OFFSET($AB$2,0,0,$AA$2)),COUNTIF(OFFSET($AB$2,0,0,$AA$2),\"<=\"& OFFSET($AB$2,0,0,$AA$2))+SUM(--ISNUMBER(OFFSET($AB$2,0,0,$AA$2)))),0)),\"\")","v":""},"",""]
[null,null,null,null,null,null,null,null,null,null,null,null,null,null,null,null,null,null,{"$f":"IFERROR(IF(INDIRECT(\"'\"&OFFSET($F$4,S73,0)&\"'!B\"&COUNTIF($S$1:S73,S73)+11)=\"\",$S73+1,S73),\"\")","v":""},null,{"$f":"IF($S74=\"\",\"\",IFERROR(INDIRECT(\"'\"&OFFSET($F$4,$S74,0)&\"'!B\"&COUNTIF($S$1:$S74,$S74)+10),\"\"))","v":""},{"$f":"IF($S74=\"\",\"\",IFERROR(INDIRECT(\"'\"&OFFSET($F$4,$S74,0)&\"'!c\"&COUNTIF($S$1:$S74,$S74)+10),\"\"))","v":""},"",{"$f":"IF($S74=\"\",\"\",IFERROR(INDIRECT(\"'\"&OFFSET($F$4,$S74,0)&\"'!o\"&COUNTIF($S$1:$S74,$S74)+10),\"\"))","v":""},"","",null,{"$f":"IFERROR(LOOKUP(2,1/(COUNTIF($AB$1:AB73,OFFSET($Y$2,0,0,$T$2))=0),OFFSET($Y$2,0,0,$T$2)),\"\")","v":""},{"$f":"IFERROR(INDEX(OFFSET($AB$2,0,0,$AA$2),MATCH(SMALL(NOT(OFFSET($AB$2,0,0,$AA$2)=\"\")*IF(ISNUMBER(OFFSET($AB$2,0,0,$AA$2)),COUNTIF(OFFSET($AB$2,0,0,$AA$2),\"<=\"& OFFSET($AB$2,0,0,$AA$2)),COUNTIF(OFFSET($AB$2,0,0,$AA$2),\"<=\"& OFFSET($AB$2,0,0,$AA$2))+SUM(--ISNUMBER(OFFSET($AB$2,0,0,$AA$2)))),ROWS(A$2:$AB74)+SUM(--ISBLANK(OFFSET($AB$2,0,0,$AA$2)))),NOT(OFFSET($AB$2,0,0,$AA$2)=\"\")*IF(ISNUMBER(OFFSET($AB$2,0,0,$AA$2)),COUNTIF(OFFSET($AB$2,0,0,$AA$2),\"<=\"& OFFSET($AB$2,0,0,$AA$2)),COUNTIF(OFFSET($AB$2,0,0,$AA$2),\"<=\"& OFFSET($AB$2,0,0,$AA$2))+SUM(--ISNUMBER(OFFSET($AB$2,0,0,$AA$2)))),0)),\"\")","v":""},"",""]
[null,null,null,null,null,null,null,null,null,null,null,null,null,null,null,null,null,null,{"$f":"IFERROR(IF(INDIRECT(\"'\"&OFFSET($F$4,S74,0)&\"'!B\"&COUNTIF($S$1:S74,S74)+11)=\"\",$S74+1,S74),\"\")","v":""},null,{"$f":"IF($S75=\"\",\"\",IFERROR(INDIRECT(\"'\"&OFFSET($F$4,$S75,0)&\"'!B\"&COUNTIF($S$1:$S75,$S75)+10),\"\"))","v":""},{"$f":"IF($S75=\"\",\"\",IFERROR(INDIRECT(\"'\"&OFFSET($F$4,$S75,0)&\"'!c\"&COUNTIF($S$1:$S75,$S75)+10),\"\"))","v":""},"",{"$f":"IF($S75=\"\",\"\",IFERROR(INDIRECT(\"'\"&OFFSET($F$4,$S75,0)&\"'!o\"&COUNTIF($S$1:$S75,$S75)+10),\"\"))","v":""},"","",null,{"$f":"IFERROR(LOOKUP(2,1/(COUNTIF($AB$1:AB74,OFFSET($Y$2,0,0,$T$2))=0),OFFSET($Y$2,0,0,$T$2)),\"\")","v":""},{"$f":"IFERROR(INDEX(OFFSET($AB$2,0,0,$AA$2),MATCH(SMALL(NOT(OFFSET($AB$2,0,0,$AA$2)=\"\")*IF(ISNUMBER(OFFSET($AB$2,0,0,$AA$2)),COUNTIF(OFFSET($AB$2,0,0,$AA$2),\"<=\"& OFFSET($AB$2,0,0,$AA$2)),COUNTIF(OFFSET($AB$2,0,0,$AA$2),\"<=\"& OFFSET($AB$2,0,0,$AA$2))+SUM(--ISNUMBER(OFFSET($AB$2,0,0,$AA$2)))),ROWS(A$2:$AB75)+SUM(--ISBLANK(OFFSET($AB$2,0,0,$AA$2)))),NOT(OFFSET($AB$2,0,0,$AA$2)=\"\")*IF(ISNUMBER(OFFSET($AB$2,0,0,$AA$2)),COUNTIF(OFFSET($AB$2,0,0,$AA$2),\"<=\"& OFFSET($AB$2,0,0,$AA$2)),COUNTIF(OFFSET($AB$2,0,0,$AA$2),\"<=\"& OFFSET($AB$2,0,0,$AA$2))+SUM(--ISNUMBER(OFFSET($AB$2,0,0,$AA$2)))),0)),\"\")","v":""},"",""]
[null,null,null,null,null,null,null,null,null,null,null,null,null,null,null,null,null,null,{"$f":"IFERROR(IF(INDIRECT(\"'\"&OFFSET($F$4,S75,0)&\"'!B\"&COUNTIF($S$1:S75,S75)+11)=\"\",$S75+1,S75),\"\")","v":""},null,{"$f":"IF($S76=\"\",\"\",IFERROR(INDIRECT(\"'\"&OFFSET($F$4,$S76,0)&\"'!B\"&COUNTIF($S$1:$S76,$S76)+10),\"\"))","v":""},{"$f":"IF($S76=\"\",\"\",IFERROR(INDIRECT(\"'\"&OFFSET($F$4,$S76,0)&\"'!c\"&COUNTIF($S$1:$S76,$S76)+10),\"\"))","v":""},"",{"$f":"IF($S76=\"\",\"\",IFERROR(INDIRECT(\"'\"&OFFSET($F$4,$S76,0)&\"'!o\"&COUNTIF($S$1:$S76,$S76)+10),\"\"))","v":""},"","",null,{"$f":"IFERROR(LOOKUP(2,1/(COUNTIF($AB$1:AB75,OFFSET($Y$2,0,0,$T$2))=0),OFFSET($Y$2,0,0,$T$2)),\"\")","v":""},{"$f":"IFERROR(INDEX(OFFSET($AB$2,0,0,$AA$2),MATCH(SMALL(NOT(OFFSET($AB$2,0,0,$AA$2)=\"\")*IF(ISNUMBER(OFFSET($AB$2,0,0,$AA$2)),COUNTIF(OFFSET($AB$2,0,0,$AA$2),\"<=\"& OFFSET($AB$2,0,0,$AA$2)),COUNTIF(OFFSET($AB$2,0,0,$AA$2),\"<=\"& OFFSET($AB$2,0,0,$AA$2))+SUM(--ISNUMBER(OFFSET($AB$2,0,0,$AA$2)))),ROWS(A$2:$AB76)+SUM(--ISBLANK(OFFSET($AB$2,0,0,$AA$2)))),NOT(OFFSET($AB$2,0,0,$AA$2)=\"\")*IF(ISNUMBER(OFFSET($AB$2,0,0,$AA$2)),COUNTIF(OFFSET($AB$2,0,0,$AA$2),\"<=\"& OFFSET($AB$2,0,0,$AA$2)),COUNTIF(OFFSET($AB$2,0,0,$AA$2),\"<=\"& OFFSET($AB$2,0,0,$AA$2))+SUM(--ISNUMBER(OFFSET($AB$2,0,0,$AA$2)))),0)),\"\")","v":""},"",""]
[null,null,null,null,null,null,null,null,null,null,null,null,null,null,null,null,null,null,{"$f":"IFERROR(IF(INDIRECT(\"'\"&OFFSET($F$4,S76,0)&\"'!B\"&COUNTIF($S$1:S76,S76)+11)=\"\",$S76+1,S76),\"\")","v":""},null,{"$f":"IF($S77=\"\",\"\",IFERROR(INDIRECT(\"'\"&OFFSET($F$4,$S77,0)&\"'!B\"&COUNTIF($S$1:$S77,$S77)+10),\"\"))","v":""},{"$f":"IF($S77=\"\",\"\",IFERROR(INDIRECT(\"'\"&OFFSET($F$4,$S77,0)&\"'!c\"&COUNTIF($S$1:$S77,$S77)+10),\"\"))","v":""},"",{"$f":"IF($S77=\"\",\"\",IFERROR(INDIRECT(\"'\"&OFFSET($F$4,$S77,0)&\"'!o\"&COUNTIF($S$1:$S77,$S77)+10),\"\"))","v":""},"","",null,{"$f":"IFERROR(LOOKUP(2,1/(COUNTIF($AB$1:AB76,OFFSET($Y$2,0,0,$T$2))=0),OFFSET($Y$2,0,0,$T$2)),\"\")","v":""},{"$f":"IFERROR(INDEX(OFFSET($AB$2,0,0,$AA$2),MATCH(SMALL(NOT(OFFSET($AB$2,0,0,$AA$2)=\"\")*IF(ISNUMBER(OFFSET($AB$2,0,0,$AA$2)),COUNTIF(OFFSET($AB$2,0,0,$AA$2),\"<=\"& OFFSET($AB$2,0,0,$AA$2)),COUNTIF(OFFSET($AB$2,0,0,$AA$2),\"<=\"& OFFSET($AB$2,0,0,$AA$2))+SUM(--ISNUMBER(OFFSET($AB$2,0,0,$AA$2)))),ROWS(A$2:$AB77)+SUM(--ISBLANK(OFFSET($AB$2,0,0,$AA$2)))),NOT(OFFSET($AB$2,0,0,$AA$2)=\"\")*IF(ISNUMBER(OFFSET($AB$2,0,0,$AA$2)),COUNTIF(OFFSET($AB$2,0,0,$AA$2),\"<=\"& OFFSET($AB$2,0,0,$AA$2)),COUNTIF(OFFSET($AB$2,0,0,$AA$2),\"<=\"& OFFSET($AB$2,0,0,$AA$2))+SUM(--ISNUMBER(OFFSET($AB$2,0,0,$AA$2)))),0)),\"\")","v":""},"",""]
[null,null,null,null,null,null,null,null,null,null,null,null,null,null,null,null,null,null,{"$f":"IFERROR(IF(INDIRECT(\"'\"&OFFSET($F$4,S77,0)&\"'!B\"&COUNTIF($S$1:S77,S77)+11)=\"\",$S77+1,S77),\"\")","v":""},null,{"$f":"IF($S78=\"\",\"\",IFERROR(INDIRECT(\"'\"&OFFSET($F$4,$S78,0)&\"'!B\"&COUNTIF($S$1:$S78,$S78)+10),\"\"))","v":""},{"$f":"IF($S78=\"\",\"\",IFERROR(INDIRECT(\"'\"&OFFSET($F$4,$S78,0)&\"'!c\"&COUNTIF($S$1:$S78,$S78)+10),\"\"))","v":""},"",{"$f":"IF($S78=\"\",\"\",IFERROR(INDIRECT(\"'\"&OFFSET($F$4,$S78,0)&\"'!o\"&COUNTIF($S$1:$S78,$S78)+10),\"\"))","v":""},"","",null,{"$f":"IFERROR(LOOKUP(2,1/(COUNTIF($AB$1:AB77,OFFSET($Y$2,0,0,$T$2))=0),OFFSET($Y$2,0,0,$T$2)),\"\")","v":""},{"$f":"IFERROR(INDEX(OFFSET($AB$2,0,0,$AA$2),MATCH(SMALL(NOT(OFFSET($AB$2,0,0,$AA$2)=\"\")*IF(ISNUMBER(OFFSET($AB$2,0,0,$AA$2)),COUNTIF(OFFSET($AB$2,0,0,$AA$2),\"<=\"& OFFSET($AB$2,0,0,$AA$2)),COUNTIF(OFFSET($AB$2,0,0,$AA$2),\"<=\"& OFFSET($AB$2,0,0,$AA$2))+SUM(--ISNUMBER(OFFSET($AB$2,0,0,$AA$2)))),ROWS(A$2:$AB78)+SUM(--ISBLANK(OFFSET($AB$2,0,0,$AA$2)))),NOT(OFFSET($AB$2,0,0,$AA$2)=\"\")*IF(ISNUMBER(OFFSET($AB$2,0,0,$AA$2)),COUNTIF(OFFSET($AB$2,0,0,$AA$2),\"<=\"& OFFSET($AB$2,0,0,$AA$2)),COUNTIF(OFFSET($AB$2,0,0,$AA$2),\"<=\"& OFFSET($AB$2,0,0,$AA$2))+SUM(--ISNUMBER(OFFSET($AB$2,0,0,$AA$2)))),0)),\"\")","v":""},"",""]
[null,null,null,null,null,null,null,null,null,null,null,null,null,null,null,null,null,null,{"$f":"IFERROR(IF(INDIRECT(\"'\"&OFFSET($F$4,S78,0)&\"'!B\"&COUNTIF($S$1:S78,S78)+11)=\"\",$S78+1,S78),\"\")","v":""},null,{"$f":"IF($S79=\"\",\"\",IFERROR(INDIRECT(\"'\"&OFFSET($F$4,$S79,0)&\"'!B\"&COUNTIF($S$1:$S79,$S79)+10),\"\"))","v":""},{"$f":"IF($S79=\"\",\"\",IFERROR(INDIRECT(\"'\"&OFFSET($F$4,$S79,0)&\"'!c\"&COUNTIF($S$1:$S79,$S79)+10),\"\"))","v":""},"",{"$f":"IF($S79=\"\",\"\",IFERROR(INDIRECT(\"'\"&OFFSET($F$4,$S79,0)&\"'!o\"&COUNTIF($S$1:$S79,$S79)+10),\"\"))","v":""},"","",null,{"$f":"IFERROR(LOOKUP(2,1/(COUNTIF($AB$1:AB78,OFFSET($Y$2,0,0,$T$2))=0),OFFSET($Y$2,0,0,$T$2)),\"\")","v":""},{"$f":"IFERROR(INDEX(OFFSET($AB$2,0,0,$AA$2),MATCH(SMALL(NOT(OFFSET($AB$2,0,0,$AA$2)=\"\")*IF(ISNUMBER(OFFSET($AB$2,0,0,$AA$2)),COUNTIF(OFFSET($AB$2,0,0,$AA$2),\"<=\"& OFFSET($AB$2,0,0,$AA$2)),COUNTIF(OFFSET($AB$2,0,0,$AA$2),\"<=\"& OFFSET($AB$2,0,0,$AA$2))+SUM(--ISNUMBER(OFFSET($AB$2,0,0,$AA$2)))),ROWS(A$2:$AB79)+SUM(--ISBLANK(OFFSET($AB$2,0,0,$AA$2)))),NOT(OFFSET($AB$2,0,0,$AA$2)=\"\")*IF(ISNUMBER(OFFSET($AB$2,0,0,$AA$2)),COUNTIF(OFFSET($AB$2,0,0,$AA$2),\"<=\"& OFFSET($AB$2,0,0,$AA$2)),COUNTIF(OFFSET($AB$2,0,0,$AA$2),\"<=\"& OFFSET($AB$2,0,0,$AA$2))+SUM(--ISNUMBER(OFFSET($AB$2,0,0,$AA$2)))),0)),\"\")","v":""},"",""]
[null,null,null,null,null,null,null,null,null,null,null,null,null,null,null,null,null,null,{"$f":"IFERROR(IF(INDIRECT(\"'\"&OFFSET($F$4,S79,0)&\"'!B\"&COUNTIF($S$1:S79,S79)+11)=\"\",$S79+1,S79),\"\")","v":""},null,{"$f":"IF($S80=\"\",\"\",IFERROR(INDIRECT(\"'\"&OFFSET($F$4,$S80,0)&\"'!B\"&COUNTIF($S$1:$S80,$S80)+10),\"\"))","v":""},{"$f":"IF($S80=\"\",\"\",IFERROR(INDIRECT(\"'\"&OFFSET($F$4,$S80,0)&\"'!c\"&COUNTIF($S$1:$S80,$S80)+10),\"\"))","v":""},"",{"$f":"IF($S80=\"\",\"\",IFERROR(INDIRECT(\"'\"&OFFSET($F$4,$S80,0)&\"'!o\"&COUNTIF($S$1:$S80,$S80)+10),\"\"))","v":""},"","",null,{"$f":"IFERROR(LOOKUP(2,1/(COUNTIF($AB$1:AB79,OFFSET($Y$2,0,0,$T$2))=0),OFFSET($Y$2,0,0,$T$2)),\"\")","v":""},{"$f":"IFERROR(INDEX(OFFSET($AB$2,0,0,$AA$2),MATCH(SMALL(NOT(OFFSET($AB$2,0,0,$AA$2)=\"\")*IF(ISNUMBER(OFFSET($AB$2,0,0,$AA$2)),COUNTIF(OFFSET($AB$2,0,0,$AA$2),\"<=\"& OFFSET($AB$2,0,0,$AA$2)),COUNTIF(OFFSET($AB$2,0,0,$AA$2),\"<=\"& OFFSET($AB$2,0,0,$AA$2))+SUM(--ISNUMBER(OFFSET($AB$2,0,0,$AA$2)))),ROWS(A$2:$AB80)+SUM(--ISBLANK(OFFSET($AB$2,0,0,$AA$2)))),NOT(OFFSET($AB$2,0,0,$AA$2)=\"\")*IF(ISNUMBER(OFFSET($AB$2,0,0,$AA$2)),COUNTIF(OFFSET($AB$2,0,0,$AA$2),\"<=\"& OFFSET($AB$2,0,0,$AA$2)),COUNTIF(OFFSET($AB$2,0,0,$AA$2),\"<=\"& OFFSET($AB$2,0,0,$AA$2))+SUM(--ISNUMBER(OFFSET($AB$2,0,0,$AA$2)))),0)),\"\")","v":""},"",""]
[null,null,null,null,null,null,null,null,null,null,null,null,null,null,null,null,null,null,{"$f":"IFERROR(IF(INDIRECT(\"'\"&OFFSET($F$4,S80,0)&\"'!B\"&COUNTIF($S$1:S80,S80)+11)=\"\",$S80+1,S80),\"\")","v":""},null,{"$f":"IF($S81=\"\",\"\",IFERROR(INDIRECT(\"'\"&OFFSET($F$4,$S81,0)&\"'!B\"&COUNTIF($S$1:$S81,$S81)+10),\"\"))","v":""},{"$f":"IF($S81=\"\",\"\",IFERROR(INDIRECT(\"'\"&OFFSET($F$4,$S81,0)&\"'!c\"&COUNTIF($S$1:$S81,$S81)+10),\"\"))","v":""},"",{"$f":"IF($S81=\"\",\"\",IFERROR(INDIRECT(\"'\"&OFFSET($F$4,$S81,0)&\"'!o\"&COUNTIF($S$1:$S81,$S81)+10),\"\"))","v":""},"","",null,{"$f":"IFERROR(LOOKUP(2,1/(COUNTIF($AB$1:AB80,OFFSET($Y$2,0,0,$T$2))=0),OFFSET($Y$2,0,0,$T$2)),\"\")","v":""},{"$f":"IFERROR(INDEX(OFFSET($AB$2,0,0,$AA$2),MATCH(SMALL(NOT(OFFSET($AB$2,0,0,$AA$2)=\"\")*IF(ISNUMBER(OFFSET($AB$2,0,0,$AA$2)),COUNTIF(OFFSET($AB$2,0,0,$AA$2),\"<=\"& OFFSET($AB$2,0,0,$AA$2)),COUNTIF(OFFSET($AB$2,0,0,$AA$2),\"<=\"& OFFSET($AB$2,0,0,$AA$2))+SUM(--ISNUMBER(OFFSET($AB$2,0,0,$AA$2)))),ROWS(A$2:$AB81)+SUM(--ISBLANK(OFFSET($AB$2,0,0,$AA$2)))),NOT(OFFSET($AB$2,0,0,$AA$2)=\"\")*IF(ISNUMBER(OFFSET($AB$2,0,0,$AA$2)),COUNTIF(OFFSET($AB$2,0,0,$AA$2),\"<=\"& OFFSET($AB$2,0,0,$AA$2)),COUNTIF(OFFSET($AB$2,0,0,$AA$2),\"<=\"& OFFSET($AB$2,0,0,$AA$2))+SUM(--ISNUMBER(OFFSET($AB$2,0,0,$AA$2)))),0)),\"\")","v":""},"",""]
[null,null,null,null,null,null,null,null,null,null,null,null,null,null,null,null,null,null,{"$f":"IFERROR(IF(INDIRECT(\"'\"&OFFSET($F$4,S81,0)&\"'!B\"&COUNTIF($S$1:S81,S81)+11)=\"\",$S81+1,S81),\"\")","v":""},null,{"$f":"IF($S82=\"\",\"\",IFERROR(INDIRECT(\"'\"&OFFSET($F$4,$S82,0)&\"'!B\"&COUNTIF($S$1:$S82,$S82)+10),\"\"))","v":""},{"$f":"IF($S82=\"\",\"\",IFERROR(INDIRECT(\"'\"&OFFSET($F$4,$S82,0)&\"'!c\"&COUNTIF($S$1:$S82,$S82)+10),\"\"))","v":""},"",{"$f":"IF($S82=\"\",\"\",IFERROR(INDIRECT(\"'\"&OFFSET($F$4,$S82,0)&\"'!o\"&COUNTIF($S$1:$S82,$S82)+10),\"\"))","v":""},"","",null,{"$f":"IFERROR(LOOKUP(2,1/(COUNTIF($AB$1:AB81,OFFSET($Y$2,0,0,$T$2))=0),OFFSET($Y$2,0,0,$T$2)),\"\")","v":""},{"$f":"IFERROR(INDEX(OFFSET($AB$2,0,0,$AA$2),MATCH(SMALL(NOT(OFFSET($AB$2,0,0,$AA$2)=\"\")*IF(ISNUMBER(OFFSET($AB$2,0,0,$AA$2)),COUNTIF(OFFSET($AB$2,0,0,$AA$2),\"<=\"& OFFSET($AB$2,0,0,$AA$2)),COUNTIF(OFFSET($AB$2,0,0,$AA$2),\"<=\"& OFFSET($AB$2,0,0,$AA$2))+SUM(--ISNUMBER(OFFSET($AB$2,0,0,$AA$2)))),ROWS(A$2:$AB82)+SUM(--ISBLANK(OFFSET($AB$2,0,0,$AA$2)))),NOT(OFFSET($AB$2,0,0,$AA$2)=\"\")*IF(ISNUMBER(OFFSET($AB$2,0,0,$AA$2)),COUNTIF(OFFSET($AB$2,0,0,$AA$2),\"<=\"& OFFSET($AB$2,0,0,$AA$2)),COUNTIF(OFFSET($AB$2,0,0,$AA$2),\"<=\"& OFFSET($AB$2,0,0,$AA$2))+SUM(--ISNUMBER(OFFSET($AB$2,0,0,$AA$2)))),0)),\"\")","v":""},"",""]
[null,null,null,null,null,null,null,null,null,null,null,null,null,null,null,null,null,null,{"$f":"IFERROR(IF(INDIRECT(\"'\"&OFFSET($F$4,S82,0)&\"'!B\"&COUNTIF($S$1:S82,S82)+11)=\"\",$S82+1,S82),\"\")","v":""},null,{"$f":"IF($S83=\"\",\"\",IFERROR(INDIRECT(\"'\"&OFFSET($F$4,$S83,0)&\"'!B\"&COUNTIF($S$1:$S83,$S83)+10),\"\"))","v":""},{"$f":"IF($S83=\"\",\"\",IFERROR(INDIRECT(\"'\"&OFFSET($F$4,$S83,0)&\"'!c\"&COUNTIF($S$1:$S83,$S83)+10),\"\"))","v":""},"",{"$f":"IF($S83=\"\",\"\",IFERROR(INDIRECT(\"'\"&OFFSET($F$4,$S83,0)&\"'!o\"&COUNTIF($S$1:$S83,$S83)+10),\"\"))","v":""},"","",null,{"$f":"IFERROR(LOOKUP(2,1/(COUNTIF($AB$1:AB82,OFFSET($Y$2,0,0,$T$2))=0),OFFSET($Y$2,0,0,$T$2)),\"\")","v":""},{"$f":"IFERROR(INDEX(OFFSET($AB$2,0,0,$AA$2),MATCH(SMALL(NOT(OFFSET($AB$2,0,0,$AA$2)=\"\")*IF(ISNUMBER(OFFSET($AB$2,0,0,$AA$2)),COUNTIF(OFFSET($AB$2,0,0,$AA$2),\"<=\"& OFFSET($AB$2,0,0,$AA$2)),COUNTIF(OFFSET($AB$2,0,0,$AA$2),\"<=\"& OFFSET($AB$2,0,0,$AA$2))+SUM(--ISNUMBER(OFFSET($AB$2,0,0,$AA$2)))),ROWS(A$2:$AB83)+SUM(--ISBLANK(OFFSET($AB$2,0,0,$AA$2)))),NOT(OFFSET($AB$2,0,0,$AA$2)=\"\")*IF(ISNUMBER(OFFSET($AB$2,0,0,$AA$2)),COUNTIF(OFFSET($AB$2,0,0,$AA$2),\"<=\"& OFFSET($AB$2,0,0,$AA$2)),COUNTIF(OFFSET($AB$2,0,0,$AA$2),\"<=\"& OFFSET($AB$2,0,0,$AA$2))+SUM(--ISNUMBER(OFFSET($AB$2,0,0,$AA$2)))),0)),\"\")","v":""},"",""]
[null,null,null,null,null,null,null,null,null,null,null,null,null,null,null,null,null,null,{"$f":"IFERROR(IF(INDIRECT(\"'\"&OFFSET($F$4,S83,0)&\"'!B\"&COUNTIF($S$1:S83,S83)+11)=\"\",$S83+1,S83),\"\")","v":""},null,{"$f":"IF($S84=\"\",\"\",IFERROR(INDIRECT(\"'\"&OFFSET($F$4,$S84,0)&\"'!B\"&COUNTIF($S$1:$S84,$S84)+10),\"\"))","v":""},{"$f":"IF($S84=\"\",\"\",IFERROR(INDIRECT(\"'\"&OFFSET($F$4,$S84,0)&\"'!c\"&COUNTIF($S$1:$S84,$S84)+10),\"\"))","v":""},"",{"$f":"IF($S84=\"\",\"\",IFERROR(INDIRECT(\"'\"&OFFSET($F$4,$S84,0)&\"'!o\"&COUNTIF($S$1:$S84,$S84)+10),\"\"))","v":""},"","",null,{"$f":"IFERROR(LOOKUP(2,1/(COUNTIF($AB$1:AB83,OFFSET($Y$2,0,0,$T$2))=0),OFFSET($Y$2,0,0,$T$2)),\"\")","v":""},{"$f":"IFERROR(INDEX(OFFSET($AB$2,0,0,$AA$2),MATCH(SMALL(NOT(OFFSET($AB$2,0,0,$AA$2)=\"\")*IF(ISNUMBER(OFFSET($AB$2,0,0,$AA$2)),COUNTIF(OFFSET($AB$2,0,0,$AA$2),\"<=\"& OFFSET($AB$2,0,0,$AA$2)),COUNTIF(OFFSET($AB$2,0,0,$AA$2),\"<=\"& OFFSET($AB$2,0,0,$AA$2))+SUM(--ISNUMBER(OFFSET($AB$2,0,0,$AA$2)))),ROWS(A$2:$AB84)+SUM(--ISBLANK(OFFSET($AB$2,0,0,$AA$2)))),NOT(OFFSET($AB$2,0,0,$AA$2)=\"\")*IF(ISNUMBER(OFFSET($AB$2,0,0,$AA$2)),COUNTIF(OFFSET($AB$2,0,0,$AA$2),\"<=\"& OFFSET($AB$2,0,0,$AA$2)),COUNTIF(OFFSET($AB$2,0,0,$AA$2),\"<=\"& OFFSET($AB$2,0,0,$AA$2))+SUM(--ISNUMBER(OFFSET($AB$2,0,0,$AA$2)))),0)),\"\")","v":""},"",""]
[null,null,null,null,null,null,null,null,null,null,null,null,null,null,null,null,null,null,{"$f":"IFERROR(IF(INDIRECT(\"'\"&OFFSET($F$4,S84,0)&\"'!B\"&COUNTIF($S$1:S84,S84)+11)=\"\",$S84+1,S84),\"\")","v":""},null,{"$f":"IF($S85=\"\",\"\",IFERROR(INDIRECT(\"'\"&OFFSET($F$4,$S85,0)&\"'!B\"&COUNTIF($S$1:$S85,$S85)+10),\"\"))","v":""},{"$f":"IF($S85=\"\",\"\",IFERROR(INDIRECT(\"'\"&OFFSET($F$4,$S85,0)&\"'!c\"&COUNTIF($S$1:$S85,$S85)+10),\"\"))","v":""},"",{"$f":"IF($S85=\"\",\"\",IFERROR(INDIRECT(\"'\"&OFFSET($F$4,$S85,0)&\"'!o\"&COUNTIF($S$1:$S85,$S85)+10),\"\"))","v":""},"","",null,{"$f":"IFERROR(LOOKUP(2,1/(COUNTIF($AB$1:AB84,OFFSET($Y$2,0,0,$T$2))=0),OFFSET($Y$2,0,0,$T$2)),\"\")","v":""},{"$f":"IFERROR(INDEX(OFFSET($AB$2,0,0,$AA$2),MATCH(SMALL(NOT(OFFSET($AB$2,0,0,$AA$2)=\"\")*IF(ISNUMBER(OFFSET($AB$2,0,0,$AA$2)),COUNTIF(OFFSET($AB$2,0,0,$AA$2),\"<=\"& OFFSET($AB$2,0,0,$AA$2)),COUNTIF(OFFSET($AB$2,0,0,$AA$2),\"<=\"& OFFSET($AB$2,0,0,$AA$2))+SUM(--ISNUMBER(OFFSET($AB$2,0,0,$AA$2)))),ROWS(A$2:$AB85)+SUM(--ISBLANK(OFFSET($AB$2,0,0,$AA$2)))),NOT(OFFSET($AB$2,0,0,$AA$2)=\"\")*IF(ISNUMBER(OFFSET($AB$2,0,0,$AA$2)),COUNTIF(OFFSET($AB$2,0,0,$AA$2),\"<=\"& OFFSET($AB$2,0,0,$AA$2)),COUNTIF(OFFSET($AB$2,0,0,$AA$2),\"<=\"& OFFSET($AB$2,0,0,$AA$2))+SUM(--ISNUMBER(OFFSET($AB$2,0,0,$AA$2)))),0)),\"\")","v":""},"",""]
[null,null,null,null,null,null,null,null,null,null,null,null,null,null,null,null,null,null,{"$f":"IFERROR(IF(INDIRECT(\"'\"&OFFSET($F$4,S85,0)&\"'!B\"&COUNTIF($S$1:S85,S85)+11)=\"\",$S85+1,S85),\"\")","v":""},null,{"$f":"IF($S86=\"\",\"\",IFERROR(INDIRECT(\"'\"&OFFSET($F$4,$S86,0)&\"'!B\"&COUNTIF($S$1:$S86,$S86)+10),\"\"))","v":""},{"$f":"IF($S86=\"\",\"\",IFERROR(INDIRECT(\"'\"&OFFSET($F$4,$S86,0)&\"'!c\"&COUNTIF($S$1:$S86,$S86)+10),\"\"))","v":""},"",{"$f":"IF($S86=\"\",\"\",IFERROR(INDIRECT(\"'\"&OFFSET($F$4,$S86,0)&\"'!o\"&COUNTIF($S$1:$S86,$S86)+10),\"\"))","v":""},"","",null,{"$f":"IFERROR(LOOKUP(2,1/(COUNTIF($AB$1:AB85,OFFSET($Y$2,0,0,$T$2))=0),OFFSET($Y$2,0,0,$T$2)),\"\")","v":""},{"$f":"IFERROR(INDEX(OFFSET($AB$2,0,0,$AA$2),MATCH(SMALL(NOT(OFFSET($AB$2,0,0,$AA$2)=\"\")*IF(ISNUMBER(OFFSET($AB$2,0,0,$AA$2)),COUNTIF(OFFSET($AB$2,0,0,$AA$2),\"<=\"& OFFSET($AB$2,0,0,$AA$2)),COUNTIF(OFFSET($AB$2,0,0,$AA$2),\"<=\"& OFFSET($AB$2,0,0,$AA$2))+SUM(--ISNUMBER(OFFSET($AB$2,0,0,$AA$2)))),ROWS(A$2:$AB86)+SUM(--ISBLANK(OFFSET($AB$2,0,0,$AA$2)))),NOT(OFFSET($AB$2,0,0,$AA$2)=\"\")*IF(ISNUMBER(OFFSET($AB$2,0,0,$AA$2)),COUNTIF(OFFSET($AB$2,0,0,$AA$2),\"<=\"& OFFSET($AB$2,0,0,$AA$2)),COUNTIF(OFFSET($AB$2,0,0,$AA$2),\"<=\"& OFFSET($AB$2,0,0,$AA$2))+SUM(--ISNUMBER(OFFSET($AB$2,0,0,$AA$2)))),0)),\"\")","v":""},"",""]
[null,null,null,null,null,null,null,null,null,null,null,null,null,null,null,null,null,null,{"$f":"IFERROR(IF(INDIRECT(\"'\"&OFFSET($F$4,S86,0)&\"'!B\"&COUNTIF($S$1:S86,S86)+11)=\"\",$S86+1,S86),\"\")","v":""},null,{"$f":"IF($S87=\"\",\"\",IFERROR(INDIRECT(\"'\"&OFFSET($F$4,$S87,0)&\"'!B\"&COUNTIF($S$1:$S87,$S87)+10),\"\"))","v":""},{"$f":"IF($S87=\"\",\"\",IFERROR(INDIRECT(\"'\"&OFFSET($F$4,$S87,0)&\"'!c\"&COUNTIF($S$1:$S87,$S87)+10),\"\"))","v":""},"",{"$f":"IF($S87=\"\",\"\",IFERROR(INDIRECT(\"'\"&OFFSET($F$4,$S87,0)&\"'!o\"&COUNTIF($S$1:$S87,$S87)+10),\"\"))","v":""},"","",null,{"$f":"IFERROR(LOOKUP(2,1/(COUNTIF($AB$1:AB86,OFFSET($Y$2,0,0,$T$2))=0),OFFSET($Y$2,0,0,$T$2)),\"\")","v":""},{"$f":"IFERROR(INDEX(OFFSET($AB$2,0,0,$AA$2),MATCH(SMALL(NOT(OFFSET($AB$2,0,0,$AA$2)=\"\")*IF(ISNUMBER(OFFSET($AB$2,0,0,$AA$2)),COUNTIF(OFFSET($AB$2,0,0,$AA$2),\"<=\"& OFFSET($AB$2,0,0,$AA$2)),COUNTIF(OFFSET($AB$2,0,0,$AA$2),\"<=\"& OFFSET($AB$2,0,0,$AA$2))+SUM(--ISNUMBER(OFFSET($AB$2,0,0,$AA$2)))),ROWS(A$2:$AB87)+SUM(--ISBLANK(OFFSET($AB$2,0,0,$AA$2)))),NOT(OFFSET($AB$2,0,0,$AA$2)=\"\")*IF(ISNUMBER(OFFSET($AB$2,0,0,$AA$2)),COUNTIF(OFFSET($AB$2,0,0,$AA$2),\"<=\"& OFFSET($AB$2,0,0,$AA$2)),COUNTIF(OFFSET($AB$2,0,0,$AA$2),\"<=\"& OFFSET($AB$2,0,0,$AA$2))+SUM(--ISNUMBER(OFFSET($AB$2,0,0,$AA$2)))),0)),\"\")","v":""},"",""]
[null,null,null,null,null,null,null,null,null,null,null,null,null,null,null,null,null,null,{"$f":"IFERROR(IF(INDIRECT(\"'\"&OFFSET($F$4,S87,0)&\"'!B\"&COUNTIF($S$1:S87,S87)+11)=\"\",$S87+1,S87),\"\")","v":""},null,{"$f":"IF($S88=\"\",\"\",IFERROR(INDIRECT(\"'\"&OFFSET($F$4,$S88,0)&\"'!B\"&COUNTIF($S$1:$S88,$S88)+10),\"\"))","v":""},{"$f":"IF($S88=\"\",\"\",IFERROR(INDIRECT(\"'\"&OFFSET($F$4,$S88,0)&\"'!c\"&COUNTIF($S$1:$S88,$S88)+10),\"\"))","v":""},"",{"$f":"IF($S88=\"\",\"\",IFERROR(INDIRECT(\"'\"&OFFSET($F$4,$S88,0)&\"'!o\"&COUNTIF($S$1:$S88,$S88)+10),\"\"))","v":""},"","",null,{"$f":"IFERROR(LOOKUP(2,1/(COUNTIF($AB$1:AB87,OFFSET($Y$2,0,0,$T$2))=0),OFFSET($Y$2,0,0,$T$2)),\"\")","v":""},{"$f":"IFERROR(INDEX(OFFSET($AB$2,0,0,$AA$2),MATCH(SMALL(NOT(OFFSET($AB$2,0,0,$AA$2)=\"\")*IF(ISNUMBER(OFFSET($AB$2,0,0,$AA$2)),COUNTIF(OFFSET($AB$2,0,0,$AA$2),\"<=\"& OFFSET($AB$2,0,0,$AA$2)),COUNTIF(OFFSET($AB$2,0,0,$AA$2),\"<=\"& OFFSET($AB$2,0,0,$AA$2))+SUM(--ISNUMBER(OFFSET($AB$2,0,0,$AA$2)))),ROWS(A$2:$AB88)+SUM(--ISBLANK(OFFSET($AB$2,0,0,$AA$2)))),NOT(OFFSET($AB$2,0,0,$AA$2)=\"\")*IF(ISNUMBER(OFFSET($AB$2,0,0,$AA$2)),COUNTIF(OFFSET($AB$2,0,0,$AA$2),\"<=\"& OFFSET($AB$2,0,0,$AA$2)),COUNTIF(OFFSET($AB$2,0,0,$AA$2),\"<=\"& OFFSET($AB$2,0,0,$AA$2))+SUM(--ISNUMBER(OFFSET($AB$2,0,0,$AA$2)))),0)),\"\")","v":""},"",""]
[null,null,null,null,null,null,null,null,null,null,null,null,null,null,null,null,null,null,{"$f":"IFERROR(IF(INDIRECT(\"'\"&OFFSET($F$4,S88,0)&\"'!B\"&COUNTIF($S$1:S88,S88)+11)=\"\",$S88+1,S88),\"\")","v":""},null,{"$f":"IF($S89=\"\",\"\",IFERROR(INDIRECT(\"'\"&OFFSET($F$4,$S89,0)&\"'!B\"&COUNTIF($S$1:$S89,$S89)+10),\"\"))","v":""},{"$f":"IF($S89=\"\",\"\",IFERROR(INDIRECT(\"'\"&OFFSET($F$4,$S89,0)&\"'!c\"&COUNTIF($S$1:$S89,$S89)+10),\"\"))","v":""},"",{"$f":"IF($S89=\"\",\"\",IFERROR(INDIRECT(\"'\"&OFFSET($F$4,$S89,0)&\"'!o\"&COUNTIF($S$1:$S89,$S89)+10),\"\"))","v":""},"","",null,{"$f":"IFERROR(LOOKUP(2,1/(COUNTIF($AB$1:AB88,OFFSET($Y$2,0,0,$T$2))=0),OFFSET($Y$2,0,0,$T$2)),\"\")","v":""},{"$f":"IFERROR(INDEX(OFFSET($AB$2,0,0,$AA$2),MATCH(SMALL(NOT(OFFSET($AB$2,0,0,$AA$2)=\"\")*IF(ISNUMBER(OFFSET($AB$2,0,0,$AA$2)),COUNTIF(OFFSET($AB$2,0,0,$AA$2),\"<=\"& OFFSET($AB$2,0,0,$AA$2)),COUNTIF(OFFSET($AB$2,0,0,$AA$2),\"<=\"& OFFSET($AB$2,0,0,$AA$2))+SUM(--ISNUMBER(OFFSET($AB$2,0,0,$AA$2)))),ROWS(A$2:$AB89)+SUM(--ISBLANK(OFFSET($AB$2,0,0,$AA$2)))),NOT(OFFSET($AB$2,0,0,$AA$2)=\"\")*IF(ISNUMBER(OFFSET($AB$2,0,0,$AA$2)),COUNTIF(OFFSET($AB$2,0,0,$AA$2),\"<=\"& OFFSET($AB$2,0,0,$AA$2)),COUNTIF(OFFSET($AB$2,0,0,$AA$2),\"<=\"& OFFSET($AB$2,0,0,$AA$2))+SUM(--ISNUMBER(OFFSET($AB$2,0,0,$AA$2)))),0)),\"\")","v":""},"",""]
[null,null,null,null,null,null,null,null,null,null,null,null,null,null,null,null,null,null,{"$f":"IFERROR(IF(INDIRECT(\"'\"&OFFSET($F$4,S89,0)&\"'!B\"&COUNTIF($S$1:S89,S89)+11)=\"\",$S89+1,S89),\"\")","v":""},null,{"$f":"IF($S90=\"\",\"\",IFERROR(INDIRECT(\"'\"&OFFSET($F$4,$S90,0)&\"'!B\"&COUNTIF($S$1:$S90,$S90)+10),\"\"))","v":""},{"$f":"IF($S90=\"\",\"\",IFERROR(INDIRECT(\"'\"&OFFSET($F$4,$S90,0)&\"'!c\"&COUNTIF($S$1:$S90,$S90)+10),\"\"))","v":""},"",{"$f":"IF($S90=\"\",\"\",IFERROR(INDIRECT(\"'\"&OFFSET($F$4,$S90,0)&\"'!o\"&COUNTIF($S$1:$S90,$S90)+10),\"\"))","v":""},"","",null,{"$f":"IFERROR(LOOKUP(2,1/(COUNTIF($AB$1:AB89,OFFSET($Y$2,0,0,$T$2))=0),OFFSET($Y$2,0,0,$T$2)),\"\")","v":""},{"$f":"IFERROR(INDEX(OFFSET($AB$2,0,0,$AA$2),MATCH(SMALL(NOT(OFFSET($AB$2,0,0,$AA$2)=\"\")*IF(ISNUMBER(OFFSET($AB$2,0,0,$AA$2)),COUNTIF(OFFSET($AB$2,0,0,$AA$2),\"<=\"& OFFSET($AB$2,0,0,$AA$2)),COUNTIF(OFFSET($AB$2,0,0,$AA$2),\"<=\"& OFFSET($AB$2,0,0,$AA$2))+SUM(--ISNUMBER(OFFSET($AB$2,0,0,$AA$2)))),ROWS(A$2:$AB90)+SUM(--ISBLANK(OFFSET($AB$2,0,0,$AA$2)))),NOT(OFFSET($AB$2,0,0,$AA$2)=\"\")*IF(ISNUMBER(OFFSET($AB$2,0,0,$AA$2)),COUNTIF(OFFSET($AB$2,0,0,$AA$2),\"<=\"& OFFSET($AB$2,0,0,$AA$2)),COUNTIF(OFFSET($AB$2,0,0,$AA$2),\"<=\"& OFFSET($AB$2,0,0,$AA$2))+SUM(--ISNUMBER(OFFSET($AB$2,0,0,$AA$2)))),0)),\"\")","v":""},"",""]
[null,null,null,null,null,null,null,null,null,null,null,null,null,null,null,null,null,null,{"$f":"IFERROR(IF(INDIRECT(\"'\"&OFFSET($F$4,S90,0)&\"'!B\"&COUNTIF($S$1:S90,S90)+11)=\"\",$S90+1,S90),\"\")","v":""},null,{"$f":"IF($S91=\"\",\"\",IFERROR(INDIRECT(\"'\"&OFFSET($F$4,$S91,0)&\"'!B\"&COUNTIF($S$1:$S91,$S91)+10),\"\"))","v":""},{"$f":"IF($S91=\"\",\"\",IFERROR(INDIRECT(\"'\"&OFFSET($F$4,$S91,0)&\"'!c\"&COUNTIF($S$1:$S91,$S91)+10),\"\"))","v":""},"",{"$f":"IF($S91=\"\",\"\",IFERROR(INDIRECT(\"'\"&OFFSET($F$4,$S91,0)&\"'!o\"&COUNTIF($S$1:$S91,$S91)+10),\"\"))","v":""},"","",null,{"$f":"IFERROR(LOOKUP(2,1/(COUNTIF($AB$1:AB90,OFFSET($Y$2,0,0,$T$2))=0),OFFSET($Y$2,0,0,$T$2)),\"\")","v":""},{"$f":"IFERROR(INDEX(OFFSET($AB$2,0,0,$AA$2),MATCH(SMALL(NOT(OFFSET($AB$2,0,0,$AA$2)=\"\")*IF(ISNUMBER(OFFSET($AB$2,0,0,$AA$2)),COUNTIF(OFFSET($AB$2,0,0,$AA$2),\"<=\"& OFFSET($AB$2,0,0,$AA$2)),COUNTIF(OFFSET($AB$2,0,0,$AA$2),\"<=\"& OFFSET($AB$2,0,0,$AA$2))+SUM(--ISNUMBER(OFFSET($AB$2,0,0,$AA$2)))),ROWS(A$2:$AB91)+SUM(--ISBLANK(OFFSET($AB$2,0,0,$AA$2)))),NOT(OFFSET($AB$2,0,0,$AA$2)=\"\")*IF(ISNUMBER(OFFSET($AB$2,0,0,$AA$2)),COUNTIF(OFFSET($AB$2,0,0,$AA$2),\"<=\"& OFFSET($AB$2,0,0,$AA$2)),COUNTIF(OFFSET($AB$2,0,0,$AA$2),\"<=\"& OFFSET($AB$2,0,0,$AA$2))+SUM(--ISNUMBER(OFFSET($AB$2,0,0,$AA$2)))),0)),\"\")","v":""},"",""]
[null,null,null,null,null,null,null,null,null,null,null,null,null,null,null,null,null,null,{"$f":"IFERROR(IF(INDIRECT(\"'\"&OFFSET($F$4,S91,0)&\"'!B\"&COUNTIF($S$1:S91,S91)+11)=\"\",$S91+1,S91),\"\")","v":""},null,{"$f":"IF($S92=\"\",\"\",IFERROR(INDIRECT(\"'\"&OFFSET($F$4,$S92,0)&\"'!B\"&COUNTIF($S$1:$S92,$S92)+10),\"\"))","v":""},{"$f":"IF($S92=\"\",\"\",IFERROR(INDIRECT(\"'\"&OFFSET($F$4,$S92,0)&\"'!c\"&COUNTIF($S$1:$S92,$S92)+10),\"\"))","v":""},"",{"$f":"IF($S92=\"\",\"\",IFERROR(INDIRECT(\"'\"&OFFSET($F$4,$S92,0)&\"'!o\"&COUNTIF($S$1:$S92,$S92)+10),\"\"))","v":""},"","",null,{"$f":"IFERROR(LOOKUP(2,1/(COUNTIF($AB$1:AB91,OFFSET($Y$2,0,0,$T$2))=0),OFFSET($Y$2,0,0,$T$2)),\"\")","v":""},{"$f":"IFERROR(INDEX(OFFSET($AB$2,0,0,$AA$2),MATCH(SMALL(NOT(OFFSET($AB$2,0,0,$AA$2)=\"\")*IF(ISNUMBER(OFFSET($AB$2,0,0,$AA$2)),COUNTIF(OFFSET($AB$2,0,0,$AA$2),\"<=\"& OFFSET($AB$2,0,0,$AA$2)),COUNTIF(OFFSET($AB$2,0,0,$AA$2),\"<=\"& OFFSET($AB$2,0,0,$AA$2))+SUM(--ISNUMBER(OFFSET($AB$2,0,0,$AA$2)))),ROWS(A$2:$AB92)+SUM(--ISBLANK(OFFSET($AB$2,0,0,$AA$2)))),NOT(OFFSET($AB$2,0,0,$AA$2)=\"\")*IF(ISNUMBER(OFFSET($AB$2,0,0,$AA$2)),COUNTIF(OFFSET($AB$2,0,0,$AA$2),\"<=\"& OFFSET($AB$2,0,0,$AA$2)),COUNTIF(OFFSET($AB$2,0,0,$AA$2),\"<=\"& OFFSET($AB$2,0,0,$AA$2))+SUM(--ISNUMBER(OFFSET($AB$2,0,0,$AA$2)))),0)),\"\")","v":""},"",""]
[null,null,null,null,null,null,null,null,null,null,null,null,null,null,null,null,null,null,{"$f":"IFERROR(IF(INDIRECT(\"'\"&OFFSET($F$4,S92,0)&\"'!B\"&COUNTIF($S$1:S92,S92)+11)=\"\",$S92+1,S92),\"\")","v":""},null,{"$f":"IF($S93=\"\",\"\",IFERROR(INDIRECT(\"'\"&OFFSET($F$4,$S93,0)&\"'!B\"&COUNTIF($S$1:$S93,$S93)+10),\"\"))","v":""},{"$f":"IF($S93=\"\",\"\",IFERROR(INDIRECT(\"'\"&OFFSET($F$4,$S93,0)&\"'!c\"&COUNTIF($S$1:$S93,$S93)+10),\"\"))","v":""},"",{"$f":"IF($S93=\"\",\"\",IFERROR(INDIRECT(\"'\"&OFFSET($F$4,$S93,0)&\"'!o\"&COUNTIF($S$1:$S93,$S93)+10),\"\"))","v":""},"","",null,{"$f":"IFERROR(LOOKUP(2,1/(COUNTIF($AB$1:AB92,OFFSET($Y$2,0,0,$T$2))=0),OFFSET($Y$2,0,0,$T$2)),\"\")","v":""},{"$f":"IFERROR(INDEX(OFFSET($AB$2,0,0,$AA$2),MATCH(SMALL(NOT(OFFSET($AB$2,0,0,$AA$2)=\"\")*IF(ISNUMBER(OFFSET($AB$2,0,0,$AA$2)),COUNTIF(OFFSET($AB$2,0,0,$AA$2),\"<=\"& OFFSET($AB$2,0,0,$AA$2)),COUNTIF(OFFSET($AB$2,0,0,$AA$2),\"<=\"& OFFSET($AB$2,0,0,$AA$2))+SUM(--ISNUMBER(OFFSET($AB$2,0,0,$AA$2)))),ROWS(A$2:$AB93)+SUM(--ISBLANK(OFFSET($AB$2,0,0,$AA$2)))),NOT(OFFSET($AB$2,0,0,$AA$2)=\"\")*IF(ISNUMBER(OFFSET($AB$2,0,0,$AA$2)),COUNTIF(OFFSET($AB$2,0,0,$AA$2),\"<=\"& OFFSET($AB$2,0,0,$AA$2)),COUNTIF(OFFSET($AB$2,0,0,$AA$2),\"<=\"& OFFSET($AB$2,0,0,$AA$2))+SUM(--ISNUMBER(OFFSET($AB$2,0,0,$AA$2)))),0)),\"\")","v":""},"",""]
[null,null,null,null,null,null,null,null,null,null,null,null,null,null,null,null,null,null,{"$f":"IFERROR(IF(INDIRECT(\"'\"&OFFSET($F$4,S93,0)&\"'!B\"&COUNTIF($S$1:S93,S93)+11)=\"\",$S93+1,S93),\"\")","v":""},null,{"$f":"IF($S94=\"\",\"\",IFERROR(INDIRECT(\"'\"&OFFSET($F$4,$S94,0)&\"'!B\"&COUNTIF($S$1:$S94,$S94)+10),\"\"))","v":""},{"$f":"IF($S94=\"\",\"\",IFERROR(INDIRECT(\"'\"&OFFSET($F$4,$S94,0)&\"'!c\"&COUNTIF($S$1:$S94,$S94)+10),\"\"))","v":""},"",{"$f":"IF($S94=\"\",\"\",IFERROR(INDIRECT(\"'\"&OFFSET($F$4,$S94,0)&\"'!o\"&COUNTIF($S$1:$S94,$S94)+10),\"\"))","v":""},"","",null,{"$f":"IFERROR(LOOKUP(2,1/(COUNTIF($AB$1:AB93,OFFSET($Y$2,0,0,$T$2))=0),OFFSET($Y$2,0,0,$T$2)),\"\")","v":""},{"$f":"IFERROR(INDEX(OFFSET($AB$2,0,0,$AA$2),MATCH(SMALL(NOT(OFFSET($AB$2,0,0,$AA$2)=\"\")*IF(ISNUMBER(OFFSET($AB$2,0,0,$AA$2)),COUNTIF(OFFSET($AB$2,0,0,$AA$2),\"<=\"& OFFSET($AB$2,0,0,$AA$2)),COUNTIF(OFFSET($AB$2,0,0,$AA$2),\"<=\"& OFFSET($AB$2,0,0,$AA$2))+SUM(--ISNUMBER(OFFSET($AB$2,0,0,$AA$2)))),ROWS(A$2:$AB94)+SUM(--ISBLANK(OFFSET($AB$2,0,0,$AA$2)))),NOT(OFFSET($AB$2,0,0,$AA$2)=\"\")*IF(ISNUMBER(OFFSET($AB$2,0,0,$AA$2)),COUNTIF(OFFSET($AB$2,0,0,$AA$2),\"<=\"& OFFSET($AB$2,0,0,$AA$2)),COUNTIF(OFFSET($AB$2,0,0,$AA$2),\"<=\"& OFFSET($AB$2,0,0,$AA$2))+SUM(--ISNUMBER(OFFSET($AB$2,0,0,$AA$2)))),0)),\"\")","v":""},"",""]
[null,null,null,null,null,null,null,null,null,null,null,null,null,null,null,null,null,null,{"$f":"IFERROR(IF(INDIRECT(\"'\"&OFFSET($F$4,S94,0)&\"'!B\"&COUNTIF($S$1:S94,S94)+11)=\"\",$S94+1,S94),\"\")","v":""},null,{"$f":"IF($S95=\"\",\"\",IFERROR(INDIRECT(\"'\"&OFFSET($F$4,$S95,0)&\"'!B\"&COUNTIF($S$1:$S95,$S95)+10),\"\"))","v":""},{"$f":"IF($S95=\"\",\"\",IFERROR(INDIRECT(\"'\"&OFFSET($F$4,$S95,0)&\"'!c\"&COUNTIF($S$1:$S95,$S95)+10),\"\"))","v":""},"",{"$f":"IF($S95=\"\",\"\",IFERROR(INDIRECT(\"'\"&OFFSET($F$4,$S95,0)&\"'!o\"&COUNTIF($S$1:$S95,$S95)+10),\"\"))","v":""},"","",null,{"$f":"IFERROR(LOOKUP(2,1/(COUNTIF($AB$1:AB94,OFFSET($Y$2,0,0,$T$2))=0),OFFSET($Y$2,0,0,$T$2)),\"\")","v":""},{"$f":"IFERROR(INDEX(OFFSET($AB$2,0,0,$AA$2),MATCH(SMALL(NOT(OFFSET($AB$2,0,0,$AA$2)=\"\")*IF(ISNUMBER(OFFSET($AB$2,0,0,$AA$2)),COUNTIF(OFFSET($AB$2,0,0,$AA$2),\"<=\"& OFFSET($AB$2,0,0,$AA$2)),COUNTIF(OFFSET($AB$2,0,0,$AA$2),\"<=\"& OFFSET($AB$2,0,0,$AA$2))+SUM(--ISNUMBER(OFFSET($AB$2,0,0,$AA$2)))),ROWS(A$2:$AB95)+SUM(--ISBLANK(OFFSET($AB$2,0,0,$AA$2)))),NOT(OFFSET($AB$2,0,0,$AA$2)=\"\")*IF(ISNUMBER(OFFSET($AB$2,0,0,$AA$2)),COUNTIF(OFFSET($AB$2,0,0,$AA$2),\"<=\"& OFFSET($AB$2,0,0,$AA$2)),COUNTIF(OFFSET($AB$2,0,0,$AA$2),\"<=\"& OFFSET($AB$2,0,0,$AA$2))+SUM(--ISNUMBER(OFFSET($AB$2,0,0,$AA$2)))),0)),\"\")","v":""},"",""]
[null,null,null,null,null,null,null,null,null,null,null,null,null,null,null,null,null,null,{"$f":"IFERROR(IF(INDIRECT(\"'\"&OFFSET($F$4,S95,0)&\"'!B\"&COUNTIF($S$1:S95,S95)+11)=\"\",$S95+1,S95),\"\")","v":""},null,{"$f":"IF($S96=\"\",\"\",IFERROR(INDIRECT(\"'\"&OFFSET($F$4,$S96,0)&\"'!B\"&COUNTIF($S$1:$S96,$S96)+10),\"\"))","v":""},{"$f":"IF($S96=\"\",\"\",IFERROR(INDIRECT(\"'\"&OFFSET($F$4,$S96,0)&\"'!c\"&COUNTIF($S$1:$S96,$S96)+10),\"\"))","v":""},"",{"$f":"IF($S96=\"\",\"\",IFERROR(INDIRECT(\"'\"&OFFSET($F$4,$S96,0)&\"'!o\"&COUNTIF($S$1:$S96,$S96)+10),\"\"))","v":""},"","",null,{"$f":"IFERROR(LOOKUP(2,1/(COUNTIF($AB$1:AB95,OFFSET($Y$2,0,0,$T$2))=0),OFFSET($Y$2,0,0,$T$2)),\"\")","v":""},{"$f":"IFERROR(INDEX(OFFSET($AB$2,0,0,$AA$2),MATCH(SMALL(NOT(OFFSET($AB$2,0,0,$AA$2)=\"\")*IF(ISNUMBER(OFFSET($AB$2,0,0,$AA$2)),COUNTIF(OFFSET($AB$2,0,0,$AA$2),\"<=\"& OFFSET($AB$2,0,0,$AA$2)),COUNTIF(OFFSET($AB$2,0,0,$AA$2),\"<=\"& OFFSET($AB$2,0,0,$AA$2))+SUM(--ISNUMBER(OFFSET($AB$2,0,0,$AA$2)))),ROWS(A$2:$AB96)+SUM(--ISBLANK(OFFSET($AB$2,0,0,$AA$2)))),NOT(OFFSET($AB$2,0,0,$AA$2)=\"\")*IF(ISNUMBER(OFFSET($AB$2,0,0,$AA$2)),COUNTIF(OFFSET($AB$2,0,0,$AA$2),\"<=\"& OFFSET($AB$2,0,0,$AA$2)),COUNTIF(OFFSET($AB$2,0,0,$AA$2),\"<=\"& OFFSET($AB$2,0,0,$AA$2))+SUM(--ISNUMBER(OFFSET($AB$2,0,0,$AA$2)))),0)),\"\")","v":""},"",""]
[null,null,null,null,null,null,null,null,null,null,null,null,null,null,null,null,null,null,{"$f":"IFERROR(IF(INDIRECT(\"'\"&OFFSET($F$4,S96,0)&\"'!B\"&COUNTIF($S$1:S96,S96)+11)=\"\",$S96+1,S96),\"\")","v":""},null,{"$f":"IF($S97=\"\",\"\",IFERROR(INDIRECT(\"'\"&OFFSET($F$4,$S97,0)&\"'!B\"&COUNTIF($S$1:$S97,$S97)+10),\"\"))","v":""},{"$f":"IF($S97=\"\",\"\",IFERROR(INDIRECT(\"'\"&OFFSET($F$4,$S97,0)&\"'!c\"&COUNTIF($S$1:$S97,$S97)+10),\"\"))","v":""},"",{"$f":"IF($S97=\"\",\"\",IFERROR(INDIRECT(\"'\"&OFFSET($F$4,$S97,0)&\"'!o\"&COUNTIF($S$1:$S97,$S97)+10),\"\"))","v":""},"","",null,{"$f":"IFERROR(LOOKUP(2,1/(COUNTIF($AB$1:AB96,OFFSET($Y$2,0,0,$T$2))=0),OFFSET($Y$2,0,0,$T$2)),\"\")","v":""},{"$f":"IFERROR(INDEX(OFFSET($AB$2,0,0,$AA$2),MATCH(SMALL(NOT(OFFSET($AB$2,0,0,$AA$2)=\"\")*IF(ISNUMBER(OFFSET($AB$2,0,0,$AA$2)),COUNTIF(OFFSET($AB$2,0,0,$AA$2),\"<=\"& OFFSET($AB$2,0,0,$AA$2)),COUNTIF(OFFSET($AB$2,0,0,$AA$2),\"<=\"& OFFSET($AB$2,0,0,$AA$2))+SUM(--ISNUMBER(OFFSET($AB$2,0,0,$AA$2)))),ROWS(A$2:$AB97)+SUM(--ISBLANK(OFFSET($AB$2,0,0,$AA$2)))),NOT(OFFSET($AB$2,0,0,$AA$2)=\"\")*IF(ISNUMBER(OFFSET($AB$2,0,0,$AA$2)),COUNTIF(OFFSET($AB$2,0,0,$AA$2),\"<=\"& OFFSET($AB$2,0,0,$AA$2)),COUNTIF(OFFSET($AB$2,0,0,$AA$2),\"<=\"& OFFSET($AB$2,0,0,$AA$2))+SUM(--ISNUMBER(OFFSET($AB$2,0,0,$AA$2)))),0)),\"\")","v":""},"",""]
[null,null,null,null,null,null,null,null,null,null,null,null,null,null,null,null,null,null,{"$f":"IFERROR(IF(INDIRECT(\"'\"&OFFSET($F$4,S97,0)&\"'!B\"&COUNTIF($S$1:S97,S97)+11)=\"\",$S97+1,S97),\"\")","v":""},null,{"$f":"IF($S98=\"\",\"\",IFERROR(INDIRECT(\"'\"&OFFSET($F$4,$S98,0)&\"'!B\"&COUNTIF($S$1:$S98,$S98)+10),\"\"))","v":""},{"$f":"IF($S98=\"\",\"\",IFERROR(INDIRECT(\"'\"&OFFSET($F$4,$S98,0)&\"'!c\"&COUNTIF($S$1:$S98,$S98)+10),\"\"))","v":""},{"$f":"IF(S98=\"\",\"\",IFERROR(OFFSET($F$4,S98,0),\"\"))","v":""},{"$f":"IF($S98=\"\",\"\",IFERROR(INDIRECT(\"'\"&OFFSET($F$4,$S98,0)&\"'!o\"&COUNTIF($S$1:$S98,$S98)+10),\"\"))","v":""},"","",null,{"$f":"IFERROR(LOOKUP(2,1/(COUNTIF($AB$1:AB97,OFFSET($Y$2,0,0,$T$2))=0),OFFSET($Y$2,0,0,$T$2)),\"\")","v":""},{"$f":"IFERROR(INDEX(OFFSET($AB$2,0,0,$AA$2),MATCH(SMALL(NOT(OFFSET($AB$2,0,0,$AA$2)=\"\")*IF(ISNUMBER(OFFSET($AB$2,0,0,$AA$2)),COUNTIF(OFFSET($AB$2,0,0,$AA$2),\"<=\"& OFFSET($AB$2,0,0,$AA$2)),COUNTIF(OFFSET($AB$2,0,0,$AA$2),\"<=\"& OFFSET($AB$2,0,0,$AA$2))+SUM(--ISNUMBER(OFFSET($AB$2,0,0,$AA$2)))),ROWS(A$2:$AB98)+SUM(--ISBLANK(OFFSET($AB$2,0,0,$AA$2)))),NOT(OFFSET($AB$2,0,0,$AA$2)=\"\")*IF(ISNUMBER(OFFSET($AB$2,0,0,$AA$2)),COUNTIF(OFFSET($AB$2,0,0,$AA$2),\"<=\"& OFFSET($AB$2,0,0,$AA$2)),COUNTIF(OFFSET($AB$2,0,0,$AA$2),\"<=\"& OFFSET($AB$2,0,0,$AA$2))+SUM(--ISNUMBER(OFFSET($AB$2,0,0,$AA$2)))),0)),\"\")","v":""},"",""]
[null,null,null,null,null,null,null,null,null,null,null,null,null,null,null,null,null,null,{"$f":"IFERROR(IF(INDIRECT(\"'\"&OFFSET($F$4,S98,0)&\"'!B\"&COUNTIF($S$1:S98,S98)+11)=\"\",$S98+1,S98),\"\")","v":""},null,{"$f":"IF($S99=\"\",\"\",IFERROR(INDIRECT(\"'\"&OFFSET($F$4,$S99,0)&\"'!B\"&COUNTIF($S$1:$S99,$S99)+10),\"\"))","v":""},{"$f":"IF($S99=\"\",\"\",IFERROR(INDIRECT(\"'\"&OFFSET($F$4,$S99,0)&\"'!c\"&COUNTIF($S$1:$S99,$S99)+10),\"\"))","v":""},"",{"$f":"IF($S99=\"\",\"\",IFERROR(INDIRECT(\"'\"&OFFSET($F$4,$S99,0)&\"'!o\"&COUNTIF($S$1:$S99,$S99)+10),\"\"))","v":""},"","",null,{"$f":"IFERROR(LOOKUP(2,1/(COUNTIF($AB$1:AB98,OFFSET($Y$2,0,0,$T$2))=0),OFFSET($Y$2,0,0,$T$2)),\"\")","v":""},{"$f":"IFERROR(INDEX(OFFSET($AB$2,0,0,$AA$2),MATCH(SMALL(NOT(OFFSET($AB$2,0,0,$AA$2)=\"\")*IF(ISNUMBER(OFFSET($AB$2,0,0,$AA$2)),COUNTIF(OFFSET($AB$2,0,0,$AA$2),\"<=\"& OFFSET($AB$2,0,0,$AA$2)),COUNTIF(OFFSET($AB$2,0,0,$AA$2),\"<=\"& OFFSET($AB$2,0,0,$AA$2))+SUM(--ISNUMBER(OFFSET($AB$2,0,0,$AA$2)))),ROWS(A$2:$AB99)+SUM(--ISBLANK(OFFSET($AB$2,0,0,$AA$2)))),NOT(OFFSET($AB$2,0,0,$AA$2)=\"\")*IF(ISNUMBER(OFFSET($AB$2,0,0,$AA$2)),COUNTIF(OFFSET($AB$2,0,0,$AA$2),\"<=\"& OFFSET($AB$2,0,0,$AA$2)),COUNTIF(OFFSET($AB$2,0,0,$AA$2),\"<=\"& OFFSET($AB$2,0,0,$AA$2))+SUM(--ISNUMBER(OFFSET($AB$2,0,0,$AA$2)))),0)),\"\")","v":""},"",""]
[null,null,null,null,null,null,null,null,null,null,null,null,null,null,null,null,null,null,{"$f":"IFERROR(IF(INDIRECT(\"'\"&OFFSET($F$4,S99,0)&\"'!B\"&COUNTIF($S$1:S99,S99)+11)=\"\",$S99+1,S99),\"\")","v":""},null,{"$f":"IF($S100=\"\",\"\",IFERROR(INDIRECT(\"'\"&OFFSET($F$4,$S100,0)&\"'!B\"&COUNTIF($S$1:$S100,$S100)+10),\"\"))","v":""},{"$f":"IF($S100=\"\",\"\",IFERROR(INDIRECT(\"'\"&OFFSET($F$4,$S100,0)&\"'!c\"&COUNTIF($S$1:$S100,$S100)+10),\"\"))","v":""},"",{"$f":"IF($S100=\"\",\"\",IFERROR(INDIRECT(\"'\"&OFFSET($F$4,$S100,0)&\"'!o\"&COUNTIF($S$1:$S100,$S100)+10),\"\"))","v":""},"","",null,{"$f":"IFERROR(LOOKUP(2,1/(COUNTIF($AB$1:AB99,OFFSET($Y$2,0,0,$T$2))=0),OFFSET($Y$2,0,0,$T$2)),\"\")","v":""},{"$f":"IFERROR(INDEX(OFFSET($AB$2,0,0,$AA$2),MATCH(SMALL(NOT(OFFSET($AB$2,0,0,$AA$2)=\"\")*IF(ISNUMBER(OFFSET($AB$2,0,0,$AA$2)),COUNTIF(OFFSET($AB$2,0,0,$AA$2),\"<=\"& OFFSET($AB$2,0,0,$AA$2)),COUNTIF(OFFSET($AB$2,0,0,$AA$2),\"<=\"& OFFSET($AB$2,0,0,$AA$2))+SUM(--ISNUMBER(OFFSET($AB$2,0,0,$AA$2)))),ROWS(A$2:$AB100)+SUM(--ISBLANK(OFFSET($AB$2,0,0,$AA$2)))),NOT(OFFSET($AB$2,0,0,$AA$2)=\"\")*IF(ISNUMBER(OFFSET($AB$2,0,0,$AA$2)),COUNTIF(OFFSET($AB$2,0,0,$AA$2),\"<=\"& OFFSET($AB$2,0,0,$AA$2)),COUNTIF(OFFSET($AB$2,0,0,$AA$2),\"<=\"& OFFSET($AB$2,0,0,$AA$2))+SUM(--ISNUMBER(OFFSET($AB$2,0,0,$AA$2)))),0)),\"\")","v":""},"",""]
[null,null,null,null,null,null,null,null,null,null,null,null,null,null,null,null,null,null,{"$f":"IFERROR(IF(INDIRECT(\"'\"&OFFSET($F$4,S100,0)&\"'!B\"&COUNTIF($S$1:S100,S100)+11)=\"\",$S100+1,S100),\"\")","v":""},null,{"$f":"IF($S101=\"\",\"\",IFERROR(INDIRECT(\"'\"&OFFSET($F$4,$S101,0)&\"'!B\"&COUNTIF($S$1:$S101,$S101)+10),\"\"))","v":""},{"$f":"IF($S101=\"\",\"\",IFERROR(INDIRECT(\"'\"&OFFSET($F$4,$S101,0)&\"'!c\"&COUNTIF($S$1:$S101,$S101)+10),\"\"))","v":""},"",{"$f":"IF($S101=\"\",\"\",IFERROR(INDIRECT(\"'\"&OFFSET($F$4,$S101,0)&\"'!o\"&COUNTIF($S$1:$S101,$S101)+10),\"\"))","v":""},"","",null,{"$f":"IFERROR(LOOKUP(2,1/(COUNTIF($AB$1:AB100,OFFSET($Y$2,0,0,$T$2))=0),OFFSET($Y$2,0,0,$T$2)),\"\")","v":""},{"$f":"IFERROR(INDEX(OFFSET($AB$2,0,0,$AA$2),MATCH(SMALL(NOT(OFFSET($AB$2,0,0,$AA$2)=\"\")*IF(ISNUMBER(OFFSET($AB$2,0,0,$AA$2)),COUNTIF(OFFSET($AB$2,0,0,$AA$2),\"<=\"& OFFSET($AB$2,0,0,$AA$2)),COUNTIF(OFFSET($AB$2,0,0,$AA$2),\"<=\"& OFFSET($AB$2,0,0,$AA$2))+SUM(--ISNUMBER(OFFSET($AB$2,0,0,$AA$2)))),ROWS(A$2:$AB101)+SUM(--ISBLANK(OFFSET($AB$2,0,0,$AA$2)))),NOT(OFFSET($AB$2,0,0,$AA$2)=\"\")*IF(ISNUMBER(OFFSET($AB$2,0,0,$AA$2)),COUNTIF(OFFSET($AB$2,0,0,$AA$2),\"<=\"& OFFSET($AB$2,0,0,$AA$2)),COUNTIF(OFFSET($AB$2,0,0,$AA$2),\"<=\"& OFFSET($AB$2,0,0,$AA$2))+SUM(--ISNUMBER(OFFSET($AB$2,0,0,$AA$2)))),0)),\"\")","v":""}]
[null,null,null,null,null,null,null,null,null,null,null,null,null,null,null,null,null,null,{"$f":"IFERROR(IF(INDIRECT(\"'\"&OFFSET($F$4,S101,0)&\"'!B\"&COUNTIF($S$1:S101,S101)+11)=\"\",$S101+1,S101),\"\")","v":""},null,{"$f":"IF($S102=\"\",\"\",IFERROR(INDIRECT(\"'\"&OFFSET($F$4,$S102,0)&\"'!B\"&COUNTIF($S$1:$S102,$S102)+10),\"\"))","v":""},{"$f":"IF($S102=\"\",\"\",IFERROR(INDIRECT(\"'\"&OFFSET($F$4,$S102,0)&\"'!c\"&COUNTIF($S$1:$S102,$S102)+10),\"\"))","v":""},"",{"$f":"IF($S102=\"\",\"\",IFERROR(INDIRECT(\"'\"&OFFSET($F$4,$S102,0)&\"'!o\"&COUNTIF($S$1:$S102,$S102)+10),\"\"))","v":""},"","",null,{"$f":"IFERROR(LOOKUP(2,1/(COUNTIF($AB$1:AB101,OFFSET($Y$2,0,0,$T$2))=0),OFFSET($Y$2,0,0,$T$2)),\"\")","v":""},{"$f":"IFERROR(INDEX(OFFSET($AB$2,0,0,$AA$2),MATCH(SMALL(NOT(OFFSET($AB$2,0,0,$AA$2)=\"\")*IF(ISNUMBER(OFFSET($AB$2,0,0,$AA$2)),COUNTIF(OFFSET($AB$2,0,0,$AA$2),\"<=\"& OFFSET($AB$2,0,0,$AA$2)),COUNTIF(OFFSET($AB$2,0,0,$AA$2),\"<=\"& OFFSET($AB$2,0,0,$AA$2))+SUM(--ISNUMBER(OFFSET($AB$2,0,0,$AA$2)))),ROWS(A$2:$AB102)+SUM(--ISBLANK(OFFSET($AB$2,0,0,$AA$2)))),NOT(OFFSET($AB$2,0,0,$AA$2)=\"\")*IF(ISNUMBER(OFFSET($AB$2,0,0,$AA$2)),COUNTIF(OFFSET($AB$2,0,0,$AA$2),\"<=\"& OFFSET($AB$2,0,0,$AA$2)),COUNTIF(OFFSET($AB$2,0,0,$AA$2),\"<=\"& OFFSET($AB$2,0,0,$AA$2))+SUM(--ISNUMBER(OFFSET($AB$2,0,0,$AA$2)))),0)),\"\")","v":""}]
[null,null,null,null,null,null,null,null,null,null,null,null,null,null,null,null,null,null,{"$f":"IFERROR(IF(INDIRECT(\"'\"&OFFSET($F$4,S102,0)&\"'!B\"&COUNTIF($S$1:S102,S102)+11)=\"\",$S102+1,S102),\"\")","v":""},null,{"$f":"IF($S103=\"\",\"\",IFERROR(INDIRECT(\"'\"&OFFSET($F$4,$S103,0)&\"'!B\"&COUNTIF($S$1:$S103,$S103)+10),\"\"))","v":""},{"$f":"IF($S103=\"\",\"\",IFERROR(INDIRECT(\"'\"&OFFSET($F$4,$S103,0)&\"'!c\"&COUNTIF($S$1:$S103,$S103)+10),\"\"))","v":""},"",{"$f":"IF($S103=\"\",\"\",IFERROR(INDIRECT(\"'\"&OFFSET($F$4,$S103,0)&\"'!o\"&COUNTIF($S$1:$S103,$S103)+10),\"\"))","v":""},"","",null,{"$f":"IFERROR(LOOKUP(2,1/(COUNTIF($AB$1:AB102,OFFSET($Y$2,0,0,$T$2))=0),OFFSET($Y$2,0,0,$T$2)),\"\")","v":""},{"$f":"IFERROR(INDEX(OFFSET($AB$2,0,0,$AA$2),MATCH(SMALL(NOT(OFFSET($AB$2,0,0,$AA$2)=\"\")*IF(ISNUMBER(OFFSET($AB$2,0,0,$AA$2)),COUNTIF(OFFSET($AB$2,0,0,$AA$2),\"<=\"& OFFSET($AB$2,0,0,$AA$2)),COUNTIF(OFFSET($AB$2,0,0,$AA$2),\"<=\"& OFFSET($AB$2,0,0,$AA$2))+SUM(--ISNUMBER(OFFSET($AB$2,0,0,$AA$2)))),ROWS(A$2:$AB103)+SUM(--ISBLANK(OFFSET($AB$2,0,0,$AA$2)))),NOT(OFFSET($AB$2,0,0,$AA$2)=\"\")*IF(ISNUMBER(OFFSET($AB$2,0,0,$AA$2)),COUNTIF(OFFSET($AB$2,0,0,$AA$2),\"<=\"& OFFSET($AB$2,0,0,$AA$2)),COUNTIF(OFFSET($AB$2,0,0,$AA$2),\"<=\"& OFFSET($AB$2,0,0,$AA$2))+SUM(--ISNUMBER(OFFSET($AB$2,0,0,$AA$2)))),0)),\"\")","v":""}]
[null,null,null,null,null,null,null,null,null,null,null,null,null,null,null,null,null,null,{"$f":"IFERROR(IF(INDIRECT(\"'\"&OFFSET($F$4,S103,0)&\"'!B\"&COUNTIF($S$1:S103,S103)+11)=\"\",$S103+1,S103),\"\")","v":""},null,{"$f":"IF($S104=\"\",\"\",IFERROR(INDIRECT(\"'\"&OFFSET($F$4,$S104,0)&\"'!B\"&COUNTIF($S$1:$S104,$S104)+10),\"\"))","v":""},{"$f":"IF($S104=\"\",\"\",IFERROR(INDIRECT(\"'\"&OFFSET($F$4,$S104,0)&\"'!c\"&COUNTIF($S$1:$S104,$S104)+10),\"\"))","v":""},"",{"$f":"IF($S104=\"\",\"\",IFERROR(INDIRECT(\"'\"&OFFSET($F$4,$S104,0)&\"'!o\"&COUNTIF($S$1:$S104,$S104)+10),\"\"))","v":""},"","",null,{"$f":"IFERROR(LOOKUP(2,1/(COUNTIF($AB$1:AB103,OFFSET($Y$2,0,0,$T$2))=0),OFFSET($Y$2,0,0,$T$2)),\"\")","v":""},{"$f":"IFERROR(INDEX(OFFSET($AB$2,0,0,$AA$2),MATCH(SMALL(NOT(OFFSET($AB$2,0,0,$AA$2)=\"\")*IF(ISNUMBER(OFFSET($AB$2,0,0,$AA$2)),COUNTIF(OFFSET($AB$2,0,0,$AA$2),\"<=\"& OFFSET($AB$2,0,0,$AA$2)),COUNTIF(OFFSET($AB$2,0,0,$AA$2),\"<=\"& OFFSET($AB$2,0,0,$AA$2))+SUM(--ISNUMBER(OFFSET($AB$2,0,0,$AA$2)))),ROWS(A$2:$AB104)+SUM(--ISBLANK(OFFSET($AB$2,0,0,$AA$2)))),NOT(OFFSET($AB$2,0,0,$AA$2)=\"\")*IF(ISNUMBER(OFFSET($AB$2,0,0,$AA$2)),COUNTIF(OFFSET($AB$2,0,0,$AA$2),\"<=\"& OFFSET($AB$2,0,0,$AA$2)),COUNTIF(OFFSET($AB$2,0,0,$AA$2),\"<=\"& OFFSET($AB$2,0,0,$AA$2))+SUM(--ISNUMBER(OFFSET($AB$2,0,0,$AA$2)))),0)),\"\")","v":""}]
[null,null,null,null,null,null,null,null,null,null,null,null,null,null,null,null,null,null,{"$f":"IFERROR(IF(INDIRECT(\"'\"&OFFSET($F$4,S104,0)&\"'!B\"&COUNTIF($S$1:S104,S104)+11)=\"\",$S104+1,S104),\"\")","v":""},null,{"$f":"IF($S105=\"\",\"\",IFERROR(INDIRECT(\"'\"&OFFSET($F$4,$S105,0)&\"'!B\"&COUNTIF($S$1:$S105,$S105)+10),\"\"))","v":""},{"$f":"IF($S105=\"\",\"\",IFERROR(INDIRECT(\"'\"&OFFSET($F$4,$S105,0)&\"'!c\"&COUNTIF($S$1:$S105,$S105)+10),\"\"))","v":""},"",{"$f":"IF($S105=\"\",\"\",IFERROR(INDIRECT(\"'\"&OFFSET($F$4,$S105,0)&\"'!o\"&COUNTIF($S$1:$S105,$S105)+10),\"\"))","v":""},"","",null,{"$f":"IFERROR(LOOKUP(2,1/(COUNTIF($AB$1:AB104,OFFSET($Y$2,0,0,$T$2))=0),OFFSET($Y$2,0,0,$T$2)),\"\")","v":""},{"$f":"IFERROR(INDEX(OFFSET($AB$2,0,0,$AA$2),MATCH(SMALL(NOT(OFFSET($AB$2,0,0,$AA$2)=\"\")*IF(ISNUMBER(OFFSET($AB$2,0,0,$AA$2)),COUNTIF(OFFSET($AB$2,0,0,$AA$2),\"<=\"& OFFSET($AB$2,0,0,$AA$2)),COUNTIF(OFFSET($AB$2,0,0,$AA$2),\"<=\"& OFFSET($AB$2,0,0,$AA$2))+SUM(--ISNUMBER(OFFSET($AB$2,0,0,$AA$2)))),ROWS(A$2:$AB105)+SUM(--ISBLANK(OFFSET($AB$2,0,0,$AA$2)))),NOT(OFFSET($AB$2,0,0,$AA$2)=\"\")*IF(ISNUMBER(OFFSET($AB$2,0,0,$AA$2)),COUNTIF(OFFSET($AB$2,0,0,$AA$2),\"<=\"& OFFSET($AB$2,0,0,$AA$2)),COUNTIF(OFFSET($AB$2,0,0,$AA$2),\"<=\"& OFFSET($AB$2,0,0,$AA$2))+SUM(--ISNUMBER(OFFSET($AB$2,0,0,$AA$2)))),0)),\"\")","v":""}]
[null,null,null,null,null,null,null,null,null,null,null,null,null,null,null,null,null,null,{"$f":"IFERROR(IF(INDIRECT(\"'\"&OFFSET($F$4,S105,0)&\"'!B\"&COUNTIF($S$1:S105,S105)+11)=\"\",$S105+1,S105),\"\")","v":""},null,{"$f":"IF($S106=\"\",\"\",IFERROR(INDIRECT(\"'\"&OFFSET($F$4,$S106,0)&\"'!B\"&COUNTIF($S$1:$S106,$S106)+10),\"\"))","v":""},{"$f":"IF($S106=\"\",\"\",IFERROR(INDIRECT(\"'\"&OFFSET($F$4,$S106,0)&\"'!c\"&COUNTIF($S$1:$S106,$S106)+10),\"\"))","v":""},"",{"$f":"IF($S106=\"\",\"\",IFERROR(INDIRECT(\"'\"&OFFSET($F$4,$S106,0)&\"'!o\"&COUNTIF($S$1:$S106,$S106)+10),\"\"))","v":""},"","",null,{"$f":"IFERROR(LOOKUP(2,1/(COUNTIF($AB$1:AB105,OFFSET($Y$2,0,0,$T$2))=0),OFFSET($Y$2,0,0,$T$2)),\"\")","v":""},{"$f":"IFERROR(INDEX(OFFSET($AB$2,0,0,$AA$2),MATCH(SMALL(NOT(OFFSET($AB$2,0,0,$AA$2)=\"\")*IF(ISNUMBER(OFFSET($AB$2,0,0,$AA$2)),COUNTIF(OFFSET($AB$2,0,0,$AA$2),\"<=\"& OFFSET($AB$2,0,0,$AA$2)),COUNTIF(OFFSET($AB$2,0,0,$AA$2),\"<=\"& OFFSET($AB$2,0,0,$AA$2))+SUM(--ISNUMBER(OFFSET($AB$2,0,0,$AA$2)))),ROWS(A$2:$AB106)+SUM(--ISBLANK(OFFSET($AB$2,0,0,$AA$2)))),NOT(OFFSET($AB$2,0,0,$AA$2)=\"\")*IF(ISNUMBER(OFFSET($AB$2,0,0,$AA$2)),COUNTIF(OFFSET($AB$2,0,0,$AA$2),\"<=\"& OFFSET($AB$2,0,0,$AA$2)),COUNTIF(OFFSET($AB$2,0,0,$AA$2),\"<=\"& OFFSET($AB$2,0,0,$AA$2))+SUM(--ISNUMBER(OFFSET($AB$2,0,0,$AA$2)))),0)),\"\")","v":""}]
[null,null,null,null,null,null,null,null,null,null,null,null,null,null,null,null,null,null,{"$f":"IFERROR(IF(INDIRECT(\"'\"&OFFSET($F$4,S106,0)&\"'!B\"&COUNTIF($S$1:S106,S106)+11)=\"\",$S106+1,S106),\"\")","v":""},null,{"$f":"IF($S107=\"\",\"\",IFERROR(INDIRECT(\"'\"&OFFSET($F$4,$S107,0)&\"'!B\"&COUNTIF($S$1:$S107,$S107)+10),\"\"))","v":""},{"$f":"IF($S107=\"\",\"\",IFERROR(INDIRECT(\"'\"&OFFSET($F$4,$S107,0)&\"'!c\"&COUNTIF($S$1:$S107,$S107)+10),\"\"))","v":""},"",{"$f":"IF($S107=\"\",\"\",IFERROR(INDIRECT(\"'\"&OFFSET($F$4,$S107,0)&\"'!o\"&COUNTIF($S$1:$S107,$S107)+10),\"\"))","v":""},"","",null,{"$f":"IFERROR(LOOKUP(2,1/(COUNTIF($AB$1:AB106,OFFSET($Y$2,0,0,$T$2))=0),OFFSET($Y$2,0,0,$T$2)),\"\")","v":""},{"$f":"IFERROR(INDEX(OFFSET($AB$2,0,0,$AA$2),MATCH(SMALL(NOT(OFFSET($AB$2,0,0,$AA$2)=\"\")*IF(ISNUMBER(OFFSET($AB$2,0,0,$AA$2)),COUNTIF(OFFSET($AB$2,0,0,$AA$2),\"<=\"& OFFSET($AB$2,0,0,$AA$2)),COUNTIF(OFFSET($AB$2,0,0,$AA$2),\"<=\"& OFFSET($AB$2,0,0,$AA$2))+SUM(--ISNUMBER(OFFSET($AB$2,0,0,$AA$2)))),ROWS(A$2:$AB107)+SUM(--ISBLANK(OFFSET($AB$2,0,0,$AA$2)))),NOT(OFFSET($AB$2,0,0,$AA$2)=\"\")*IF(ISNUMBER(OFFSET($AB$2,0,0,$AA$2)),COUNTIF(OFFSET($AB$2,0,0,$AA$2),\"<=\"& OFFSET($AB$2,0,0,$AA$2)),COUNTIF(OFFSET($AB$2,0,0,$AA$2),\"<=\"& OFFSET($AB$2,0,0,$AA$2))+SUM(--ISNUMBER(OFFSET($AB$2,0,0,$AA$2)))),0)),\"\")","v":""}]
[null,null,null,null,null,null,null,null,null,null,null,null,null,null,null,null,null,null,{"$f":"IFERROR(IF(INDIRECT(\"'\"&OFFSET($F$4,S107,0)&\"'!B\"&COUNTIF($S$1:S107,S107)+11)=\"\",$S107+1,S107),\"\")","v":""},null,{"$f":"IF($S108=\"\",\"\",IFERROR(INDIRECT(\"'\"&OFFSET($F$4,$S108,0)&\"'!B\"&COUNTIF($S$1:$S108,$S108)+10),\"\"))","v":""},{"$f":"IF($S108=\"\",\"\",IFERROR(INDIRECT(\"'\"&OFFSET($F$4,$S108,0)&\"'!c\"&COUNTIF($S$1:$S108,$S108)+10),\"\"))","v":""},"",{"$f":"IF($S108=\"\",\"\",IFERROR(INDIRECT(\"'\"&OFFSET($F$4,$S108,0)&\"'!o\"&COUNTIF($S$1:$S108,$S108)+10),\"\"))","v":""},"","",null,{"$f":"IFERROR(LOOKUP(2,1/(COUNTIF($AB$1:AB107,OFFSET($Y$2,0,0,$T$2))=0),OFFSET($Y$2,0,0,$T$2)),\"\")","v":""},{"$f":"IFERROR(INDEX(OFFSET($AB$2,0,0,$AA$2),MATCH(SMALL(NOT(OFFSET($AB$2,0,0,$AA$2)=\"\")*IF(ISNUMBER(OFFSET($AB$2,0,0,$AA$2)),COUNTIF(OFFSET($AB$2,0,0,$AA$2),\"<=\"& OFFSET($AB$2,0,0,$AA$2)),COUNTIF(OFFSET($AB$2,0,0,$AA$2),\"<=\"& OFFSET($AB$2,0,0,$AA$2))+SUM(--ISNUMBER(OFFSET($AB$2,0,0,$AA$2)))),ROWS(A$2:$AB108)+SUM(--ISBLANK(OFFSET($AB$2,0,0,$AA$2)))),NOT(OFFSET($AB$2,0,0,$AA$2)=\"\")*IF(ISNUMBER(OFFSET($AB$2,0,0,$AA$2)),COUNTIF(OFFSET($AB$2,0,0,$AA$2),\"<=\"& OFFSET($AB$2,0,0,$AA$2)),COUNTIF(OFFSET($AB$2,0,0,$AA$2),\"<=\"& OFFSET($AB$2,0,0,$AA$2))+SUM(--ISNUMBER(OFFSET($AB$2,0,0,$AA$2)))),0)),\"\")","v":""}]
[null,null,null,null,null,null,null,null,null,null,null,null,null,null,null,null,null,null,{"$f":"IFERROR(IF(INDIRECT(\"'\"&OFFSET($F$4,S108,0)&\"'!B\"&COUNTIF($S$1:S108,S108)+11)=\"\",$S108+1,S108),\"\")","v":""},null,{"$f":"IF($S109=\"\",\"\",IFERROR(INDIRECT(\"'\"&OFFSET($F$4,$S109,0)&\"'!B\"&COUNTIF($S$1:$S109,$S109)+10),\"\"))","v":""},{"$f":"IF($S109=\"\",\"\",IFERROR(INDIRECT(\"'\"&OFFSET($F$4,$S109,0)&\"'!c\"&COUNTIF($S$1:$S109,$S109)+10),\"\"))","v":""},"",{"$f":"IF($S109=\"\",\"\",IFERROR(INDIRECT(\"'\"&OFFSET($F$4,$S109,0)&\"'!o\"&COUNTIF($S$1:$S109,$S109)+10),\"\"))","v":""},"","",null,{"$f":"IFERROR(LOOKUP(2,1/(COUNTIF($AB$1:AB108,OFFSET($Y$2,0,0,$T$2))=0),OFFSET($Y$2,0,0,$T$2)),\"\")","v":""},{"$f":"IFERROR(INDEX(OFFSET($AB$2,0,0,$AA$2),MATCH(SMALL(NOT(OFFSET($AB$2,0,0,$AA$2)=\"\")*IF(ISNUMBER(OFFSET($AB$2,0,0,$AA$2)),COUNTIF(OFFSET($AB$2,0,0,$AA$2),\"<=\"& OFFSET($AB$2,0,0,$AA$2)),COUNTIF(OFFSET($AB$2,0,0,$AA$2),\"<=\"& OFFSET($AB$2,0,0,$AA$2))+SUM(--ISNUMBER(OFFSET($AB$2,0,0,$AA$2)))),ROWS(A$2:$AB109)+SUM(--ISBLANK(OFFSET($AB$2,0,0,$AA$2)))),NOT(OFFSET($AB$2,0,0,$AA$2)=\"\")*IF(ISNUMBER(OFFSET($AB$2,0,0,$AA$2)),COUNTIF(OFFSET($AB$2,0,0,$AA$2),\"<=\"& OFFSET($AB$2,0,0,$AA$2)),COUNTIF(OFFSET($AB$2,0,0,$AA$2),\"<=\"& OFFSET($AB$2,0,0,$AA$2))+SUM(--ISNUMBER(OFFSET($AB$2,0,0,$AA$2)))),0)),\"\")","v":""}]
[null,null,null,null,null,null,null,null,null,null,null,null,null,null,null,null,null,null,{"$f":"IFERROR(IF(INDIRECT(\"'\"&OFFSET($F$4,S109,0)&\"'!B\"&COUNTIF($S$1:S109,S109)+11)=\"\",$S109+1,S109),\"\")","v":""},null,{"$f":"IF($S110=\"\",\"\",IFERROR(INDIRECT(\"'\"&OFFSET($F$4,$S110,0)&\"'!B\"&COUNTIF($S$1:$S110,$S110)+10),\"\"))","v":""},{"$f":"IF($S110=\"\",\"\",IFERROR(INDIRECT(\"'\"&OFFSET($F$4,$S110,0)&\"'!c\"&COUNTIF($S$1:$S110,$S110)+10),\"\"))","v":""},"",{"$f":"IF($S110=\"\",\"\",IFERROR(INDIRECT(\"'\"&OFFSET($F$4,$S110,0)&\"'!o\"&COUNTIF($S$1:$S110,$S110)+10),\"\"))","v":""},"","",null,{"$f":"IFERROR(LOOKUP(2,1/(COUNTIF($AB$1:AB109,OFFSET($Y$2,0,0,$T$2))=0),OFFSET($Y$2,0,0,$T$2)),\"\")","v":""},{"$f":"IFERROR(INDEX(OFFSET($AB$2,0,0,$AA$2),MATCH(SMALL(NOT(OFFSET($AB$2,0,0,$AA$2)=\"\")*IF(ISNUMBER(OFFSET($AB$2,0,0,$AA$2)),COUNTIF(OFFSET($AB$2,0,0,$AA$2),\"<=\"& OFFSET($AB$2,0,0,$AA$2)),COUNTIF(OFFSET($AB$2,0,0,$AA$2),\"<=\"& OFFSET($AB$2,0,0,$AA$2))+SUM(--ISNUMBER(OFFSET($AB$2,0,0,$AA$2)))),ROWS(A$2:$AB110)+SUM(--ISBLANK(OFFSET($AB$2,0,0,$AA$2)))),NOT(OFFSET($AB$2,0,0,$AA$2)=\"\")*IF(ISNUMBER(OFFSET($AB$2,0,0,$AA$2)),COUNTIF(OFFSET($AB$2,0,0,$AA$2),\"<=\"& OFFSET($AB$2,0,0,$AA$2)),COUNTIF(OFFSET($AB$2,0,0,$AA$2),\"<=\"& OFFSET($AB$2,0,0,$AA$2))+SUM(--ISNUMBER(OFFSET($AB$2,0,0,$AA$2)))),0)),\"\")","v":""}]
[null,null,null,null,null,null,null,null,null,null,null,null,null,null,null,null,null,null,{"$f":"IFERROR(IF(INDIRECT(\"'\"&OFFSET($F$4,S110,0)&\"'!B\"&COUNTIF($S$1:S110,S110)+11)=\"\",$S110+1,S110),\"\")","v":""},null,{"$f":"IF($S111=\"\",\"\",IFERROR(INDIRECT(\"'\"&OFFSET($F$4,$S111,0)&\"'!B\"&COUNTIF($S$1:$S111,$S111)+10),\"\"))","v":""},{"$f":"IF($S111=\"\",\"\",IFERROR(INDIRECT(\"'\"&OFFSET($F$4,$S111,0)&\"'!c\"&COUNTIF($S$1:$S111,$S111)+10),\"\"))","v":""},"",{"$f":"IF($S111=\"\",\"\",IFERROR(INDIRECT(\"'\"&OFFSET($F$4,$S111,0)&\"'!o\"&COUNTIF($S$1:$S111,$S111)+10),\"\"))","v":""},"","",null,{"$f":"IFERROR(LOOKUP(2,1/(COUNTIF($AB$1:AB110,OFFSET($Y$2,0,0,$T$2))=0),OFFSET($Y$2,0,0,$T$2)),\"\")","v":""},{"$f":"IFERROR(INDEX(OFFSET($AB$2,0,0,$AA$2),MATCH(SMALL(NOT(OFFSET($AB$2,0,0,$AA$2)=\"\")*IF(ISNUMBER(OFFSET($AB$2,0,0,$AA$2)),COUNTIF(OFFSET($AB$2,0,0,$AA$2),\"<=\"& OFFSET($AB$2,0,0,$AA$2)),COUNTIF(OFFSET($AB$2,0,0,$AA$2),\"<=\"& OFFSET($AB$2,0,0,$AA$2))+SUM(--ISNUMBER(OFFSET($AB$2,0,0,$AA$2)))),ROWS(A$2:$AB111)+SUM(--ISBLANK(OFFSET($AB$2,0,0,$AA$2)))),NOT(OFFSET($AB$2,0,0,$AA$2)=\"\")*IF(ISNUMBER(OFFSET($AB$2,0,0,$AA$2)),COUNTIF(OFFSET($AB$2,0,0,$AA$2),\"<=\"& OFFSET($AB$2,0,0,$AA$2)),COUNTIF(OFFSET($AB$2,0,0,$AA$2),\"<=\"& OFFSET($AB$2,0,0,$AA$2))+SUM(--ISNUMBER(OFFSET($AB$2,0,0,$AA$2)))),0)),\"\")","v":""}]
[null,null,null,null,null,null,null,null,null,null,null,null,null,null,null,null,null,null,{"$f":"IFERROR(IF(INDIRECT(\"'\"&OFFSET($F$4,S111,0)&\"'!B\"&COUNTIF($S$1:S111,S111)+11)=\"\",$S111+1,S111),\"\")","v":""},null,{"$f":"IF($S112=\"\",\"\",IFERROR(INDIRECT(\"'\"&OFFSET($F$4,$S112,0)&\"'!B\"&COUNTIF($S$1:$S112,$S112)+10),\"\"))","v":""},{"$f":"IF($S112=\"\",\"\",IFERROR(INDIRECT(\"'\"&OFFSET($F$4,$S112,0)&\"'!c\"&COUNTIF($S$1:$S112,$S112)+10),\"\"))","v":""},"",{"$f":"IF($S112=\"\",\"\",IFERROR(INDIRECT(\"'\"&OFFSET($F$4,$S112,0)&\"'!o\"&COUNTIF($S$1:$S112,$S112)+10),\"\"))","v":""},"","",null,{"$f":"IFERROR(LOOKUP(2,1/(COUNTIF($AB$1:AB111,OFFSET($Y$2,0,0,$T$2))=0),OFFSET($Y$2,0,0,$T$2)),\"\")","v":""},{"$f":"IFERROR(INDEX(OFFSET($AB$2,0,0,$AA$2),MATCH(SMALL(NOT(OFFSET($AB$2,0,0,$AA$2)=\"\")*IF(ISNUMBER(OFFSET($AB$2,0,0,$AA$2)),COUNTIF(OFFSET($AB$2,0,0,$AA$2),\"<=\"& OFFSET($AB$2,0,0,$AA$2)),COUNTIF(OFFSET($AB$2,0,0,$AA$2),\"<=\"& OFFSET($AB$2,0,0,$AA$2))+SUM(--ISNUMBER(OFFSET($AB$2,0,0,$AA$2)))),ROWS(A$2:$AB112)+SUM(--ISBLANK(OFFSET($AB$2,0,0,$AA$2)))),NOT(OFFSET($AB$2,0,0,$AA$2)=\"\")*IF(ISNUMBER(OFFSET($AB$2,0,0,$AA$2)),COUNTIF(OFFSET($AB$2,0,0,$AA$2),\"<=\"& OFFSET($AB$2,0,0,$AA$2)),COUNTIF(OFFSET($AB$2,0,0,$AA$2),\"<=\"& OFFSET($AB$2,0,0,$AA$2))+SUM(--ISNUMBER(OFFSET($AB$2,0,0,$AA$2)))),0)),\"\")","v":""}]
[null,null,null,null,null,null,null,null,null,null,null,null,null,null,null,null,null,null,{"$f":"IFERROR(IF(INDIRECT(\"'\"&OFFSET($F$4,S112,0)&\"'!B\"&COUNTIF($S$1:S112,S112)+11)=\"\",$S112+1,S112),\"\")","v":""},null,{"$f":"IF($S113=\"\",\"\",IFERROR(INDIRECT(\"'\"&OFFSET($F$4,$S113,0)&\"'!B\"&COUNTIF($S$1:$S113,$S113)+10),\"\"))","v":""},{"$f":"IF($S113=\"\",\"\",IFERROR(INDIRECT(\"'\"&OFFSET($F$4,$S113,0)&\"'!c\"&COUNTIF($S$1:$S113,$S113)+10),\"\"))","v":""},"",{"$f":"IF($S113=\"\",\"\",IFERROR(INDIRECT(\"'\"&OFFSET($F$4,$S113,0)&\"'!o\"&COUNTIF($S$1:$S113,$S113)+10),\"\"))","v":""},"","",null,{"$f":"IFERROR(LOOKUP(2,1/(COUNTIF($AB$1:AB112,OFFSET($Y$2,0,0,$T$2))=0),OFFSET($Y$2,0,0,$T$2)),\"\")","v":""},{"$f":"IFERROR(INDEX(OFFSET($AB$2,0,0,$AA$2),MATCH(SMALL(NOT(OFFSET($AB$2,0,0,$AA$2)=\"\")*IF(ISNUMBER(OFFSET($AB$2,0,0,$AA$2)),COUNTIF(OFFSET($AB$2,0,0,$AA$2),\"<=\"& OFFSET($AB$2,0,0,$AA$2)),COUNTIF(OFFSET($AB$2,0,0,$AA$2),\"<=\"& OFFSET($AB$2,0,0,$AA$2))+SUM(--ISNUMBER(OFFSET($AB$2,0,0,$AA$2)))),ROWS(A$2:$AB113)+SUM(--ISBLANK(OFFSET($AB$2,0,0,$AA$2)))),NOT(OFFSET($AB$2,0,0,$AA$2)=\"\")*IF(ISNUMBER(OFFSET($AB$2,0,0,$AA$2)),COUNTIF(OFFSET($AB$2,0,0,$AA$2),\"<=\"& OFFSET($AB$2,0,0,$AA$2)),COUNTIF(OFFSET($AB$2,0,0,$AA$2),\"<=\"& OFFSET($AB$2,0,0,$AA$2))+SUM(--ISNUMBER(OFFSET($AB$2,0,0,$AA$2)))),0)),\"\")","v":""}]
[null,null,null,null,null,null,null,null,null,null,null,null,null,null,null,null,null,null,{"$f":"IFERROR(IF(INDIRECT(\"'\"&OFFSET($F$4,S113,0)&\"'!B\"&COUNTIF($S$1:S113,S113)+11)=\"\",$S113+1,S113),\"\")","v":""},null,{"$f":"IF($S114=\"\",\"\",IFERROR(INDIRECT(\"'\"&OFFSET($F$4,$S114,0)&\"'!B\"&COUNTIF($S$1:$S114,$S114)+10),\"\"))","v":""},{"$f":"IF($S114=\"\",\"\",IFERROR(INDIRECT(\"'\"&OFFSET($F$4,$S114,0)&\"'!c\"&COUNTIF($S$1:$S114,$S114)+10),\"\"))","v":""},"",{"$f":"IF($S114=\"\",\"\",IFERROR(INDIRECT(\"'\"&OFFSET($F$4,$S114,0)&\"'!o\"&COUNTIF($S$1:$S114,$S114)+10),\"\"))","v":""},"","",null,{"$f":"IFERROR(LOOKUP(2,1/(COUNTIF($AB$1:AB113,OFFSET($Y$2,0,0,$T$2))=0),OFFSET($Y$2,0,0,$T$2)),\"\")","v":""},{"$f":"IFERROR(INDEX(OFFSET($AB$2,0,0,$AA$2),MATCH(SMALL(NOT(OFFSET($AB$2,0,0,$AA$2)=\"\")*IF(ISNUMBER(OFFSET($AB$2,0,0,$AA$2)),COUNTIF(OFFSET($AB$2,0,0,$AA$2),\"<=\"& OFFSET($AB$2,0,0,$AA$2)),COUNTIF(OFFSET($AB$2,0,0,$AA$2),\"<=\"& OFFSET($AB$2,0,0,$AA$2))+SUM(--ISNUMBER(OFFSET($AB$2,0,0,$AA$2)))),ROWS(A$2:$AB114)+SUM(--ISBLANK(OFFSET($AB$2,0,0,$AA$2)))),NOT(OFFSET($AB$2,0,0,$AA$2)=\"\")*IF(ISNUMBER(OFFSET($AB$2,0,0,$AA$2)),COUNTIF(OFFSET($AB$2,0,0,$AA$2),\"<=\"& OFFSET($AB$2,0,0,$AA$2)),COUNTIF(OFFSET($AB$2,0,0,$AA$2),\"<=\"& OFFSET($AB$2,0,0,$AA$2))+SUM(--ISNUMBER(OFFSET($AB$2,0,0,$AA$2)))),0)),\"\")","v":""}]
[null,null,null,null,null,null,null,null,null,null,null,null,null,null,null,null,null,null,{"$f":"IFERROR(IF(INDIRECT(\"'\"&OFFSET($F$4,S114,0)&\"'!B\"&COUNTIF($S$1:S114,S114)+11)=\"\",$S114+1,S114),\"\")","v":""},null,{"$f":"IF($S115=\"\",\"\",IFERROR(INDIRECT(\"'\"&OFFSET($F$4,$S115,0)&\"'!B\"&COUNTIF($S$1:$S115,$S115)+10),\"\"))","v":""},{"$f":"IF($S115=\"\",\"\",IFERROR(INDIRECT(\"'\"&OFFSET($F$4,$S115,0)&\"'!c\"&COUNTIF($S$1:$S115,$S115)+10),\"\"))","v":""},"",{"$f":"IF($S115=\"\",\"\",IFERROR(INDIRECT(\"'\"&OFFSET($F$4,$S115,0)&\"'!o\"&COUNTIF($S$1:$S115,$S115)+10),\"\"))","v":""},"","",null,{"$f":"IFERROR(LOOKUP(2,1/(COUNTIF($AB$1:AB114,OFFSET($Y$2,0,0,$T$2))=0),OFFSET($Y$2,0,0,$T$2)),\"\")","v":""},{"$f":"IFERROR(INDEX(OFFSET($AB$2,0,0,$AA$2),MATCH(SMALL(NOT(OFFSET($AB$2,0,0,$AA$2)=\"\")*IF(ISNUMBER(OFFSET($AB$2,0,0,$AA$2)),COUNTIF(OFFSET($AB$2,0,0,$AA$2),\"<=\"& OFFSET($AB$2,0,0,$AA$2)),COUNTIF(OFFSET($AB$2,0,0,$AA$2),\"<=\"& OFFSET($AB$2,0,0,$AA$2))+SUM(--ISNUMBER(OFFSET($AB$2,0,0,$AA$2)))),ROWS(A$2:$AB115)+SUM(--ISBLANK(OFFSET($AB$2,0,0,$AA$2)))),NOT(OFFSET($AB$2,0,0,$AA$2)=\"\")*IF(ISNUMBER(OFFSET($AB$2,0,0,$AA$2)),COUNTIF(OFFSET($AB$2,0,0,$AA$2),\"<=\"& OFFSET($AB$2,0,0,$AA$2)),COUNTIF(OFFSET($AB$2,0,0,$AA$2),\"<=\"& OFFSET($AB$2,0,0,$AA$2))+SUM(--ISNUMBER(OFFSET($AB$2,0,0,$AA$2)))),0)),\"\")","v":""}]
[null,null,null,null,null,null,null,null,null,null,null,null,null,null,null,null,null,null,{"$f":"IFERROR(IF(INDIRECT(\"'\"&OFFSET($F$4,S115,0)&\"'!B\"&COUNTIF($S$1:S115,S115)+11)=\"\",$S115+1,S115),\"\")","v":""},null,{"$f":"IF($S116=\"\",\"\",IFERROR(INDIRECT(\"'\"&OFFSET($F$4,$S116,0)&\"'!B\"&COUNTIF($S$1:$S116,$S116)+10),\"\"))","v":""},{"$f":"IF($S116=\"\",\"\",IFERROR(INDIRECT(\"'\"&OFFSET($F$4,$S116,0)&\"'!c\"&COUNTIF($S$1:$S116,$S116)+10),\"\"))","v":""},"",{"$f":"IF($S116=\"\",\"\",IFERROR(INDIRECT(\"'\"&OFFSET($F$4,$S116,0)&\"'!o\"&COUNTIF($S$1:$S116,$S116)+10),\"\"))","v":""},"","",null,{"$f":"IFERROR(LOOKUP(2,1/(COUNTIF($AB$1:AB115,OFFSET($Y$2,0,0,$T$2))=0),OFFSET($Y$2,0,0,$T$2)),\"\")","v":""},{"$f":"IFERROR(INDEX(OFFSET($AB$2,0,0,$AA$2),MATCH(SMALL(NOT(OFFSET($AB$2,0,0,$AA$2)=\"\")*IF(ISNUMBER(OFFSET($AB$2,0,0,$AA$2)),COUNTIF(OFFSET($AB$2,0,0,$AA$2),\"<=\"& OFFSET($AB$2,0,0,$AA$2)),COUNTIF(OFFSET($AB$2,0,0,$AA$2),\"<=\"& OFFSET($AB$2,0,0,$AA$2))+SUM(--ISNUMBER(OFFSET($AB$2,0,0,$AA$2)))),ROWS(A$2:$AB116)+SUM(--ISBLANK(OFFSET($AB$2,0,0,$AA$2)))),NOT(OFFSET($AB$2,0,0,$AA$2)=\"\")*IF(ISNUMBER(OFFSET($AB$2,0,0,$AA$2)),COUNTIF(OFFSET($AB$2,0,0,$AA$2),\"<=\"& OFFSET($AB$2,0,0,$AA$2)),COUNTIF(OFFSET($AB$2,0,0,$AA$2),\"<=\"& OFFSET($AB$2,0,0,$AA$2))+SUM(--ISNUMBER(OFFSET($AB$2,0,0,$AA$2)))),0)),\"\")","v":""}]
[null,null,null,null,null,null,null,null,null,null,null,null,null,null,null,null,null,null,{"$f":"IFERROR(IF(INDIRECT(\"'\"&OFFSET($F$4,S116,0)&\"'!B\"&COUNTIF($S$1:S116,S116)+11)=\"\",$S116+1,S116),\"\")","v":""},null,{"$f":"IF($S117=\"\",\"\",IFERROR(INDIRECT(\"'\"&OFFSET($F$4,$S117,0)&\"'!B\"&COUNTIF($S$1:$S117,$S117)+10),\"\"))","v":""},{"$f":"IF($S117=\"\",\"\",IFERROR(INDIRECT(\"'\"&OFFSET($F$4,$S117,0)&\"'!c\"&COUNTIF($S$1:$S117,$S117)+10),\"\"))","v":""},"",{"$f":"IF($S117=\"\",\"\",IFERROR(INDIRECT(\"'\"&OFFSET($F$4,$S117,0)&\"'!o\"&COUNTIF($S$1:$S117,$S117)+10),\"\"))","v":""},"","",null,{"$f":"IFERROR(LOOKUP(2,1/(COUNTIF($AB$1:AB116,OFFSET($Y$2,0,0,$T$2))=0),OFFSET($Y$2,0,0,$T$2)),\"\")","v":""},{"$f":"IFERROR(INDEX(OFFSET($AB$2,0,0,$AA$2),MATCH(SMALL(NOT(OFFSET($AB$2,0,0,$AA$2)=\"\")*IF(ISNUMBER(OFFSET($AB$2,0,0,$AA$2)),COUNTIF(OFFSET($AB$2,0,0,$AA$2),\"<=\"& OFFSET($AB$2,0,0,$AA$2)),COUNTIF(OFFSET($AB$2,0,0,$AA$2),\"<=\"& OFFSET($AB$2,0,0,$AA$2))+SUM(--ISNUMBER(OFFSET($AB$2,0,0,$AA$2)))),ROWS(A$2:$AB117)+SUM(--ISBLANK(OFFSET($AB$2,0,0,$AA$2)))),NOT(OFFSET($AB$2,0,0,$AA$2)=\"\")*IF(ISNUMBER(OFFSET($AB$2,0,0,$AA$2)),COUNTIF(OFFSET($AB$2,0,0,$AA$2),\"<=\"& OFFSET($AB$2,0,0,$AA$2)),COUNTIF(OFFSET($AB$2,0,0,$AA$2),\"<=\"& OFFSET($AB$2,0,0,$AA$2))+SUM(--ISNUMBER(OFFSET($AB$2,0,0,$AA$2)))),0)),\"\")","v":""}]
[null,null,null,null,null,null,null,null,null,null,null,null,null,null,null,null,null,null,{"$f":"IFERROR(IF(INDIRECT(\"'\"&OFFSET($F$4,S117,0)&\"'!B\"&COUNTIF($S$1:S117,S117)+11)=\"\",$S117+1,S117),\"\")","v":""},null,{"$f":"IF($S118=\"\",\"\",IFERROR(INDIRECT(\"'\"&OFFSET($F$4,$S118,0)&\"'!B\"&COUNTIF($S$1:$S118,$S118)+10),\"\"))","v":""},{"$f":"IF($S118=\"\",\"\",IFERROR(INDIRECT(\"'\"&OFFSET($F$4,$S118,0)&\"'!c\"&COUNTIF($S$1:$S118,$S118)+10),\"\"))","v":""},"",{"$f":"IF($S118=\"\",\"\",IFERROR(INDIRECT(\"'\"&OFFSET($F$4,$S118,0)&\"'!o\"&COUNTIF($S$1:$S118,$S118)+10),\"\"))","v":""},"","",null,{"$f":"IFERROR(LOOKUP(2,1/(COUNTIF($AB$1:AB117,OFFSET($Y$2,0,0,$T$2))=0),OFFSET($Y$2,0,0,$T$2)),\"\")","v":""},{"$f":"IFERROR(INDEX(OFFSET($AB$2,0,0,$AA$2),MATCH(SMALL(NOT(OFFSET($AB$2,0,0,$AA$2)=\"\")*IF(ISNUMBER(OFFSET($AB$2,0,0,$AA$2)),COUNTIF(OFFSET($AB$2,0,0,$AA$2),\"<=\"& OFFSET($AB$2,0,0,$AA$2)),COUNTIF(OFFSET($AB$2,0,0,$AA$2),\"<=\"& OFFSET($AB$2,0,0,$AA$2))+SUM(--ISNUMBER(OFFSET($AB$2,0,0,$AA$2)))),ROWS(A$2:$AB118)+SUM(--ISBLANK(OFFSET($AB$2,0,0,$AA$2)))),NOT(OFFSET($AB$2,0,0,$AA$2)=\"\")*IF(ISNUMBER(OFFSET($AB$2,0,0,$AA$2)),COUNTIF(OFFSET($AB$2,0,0,$AA$2),\"<=\"& OFFSET($AB$2,0,0,$AA$2)),COUNTIF(OFFSET($AB$2,0,0,$AA$2),\"<=\"& OFFSET($AB$2,0,0,$AA$2))+SUM(--ISNUMBER(OFFSET($AB$2,0,0,$AA$2)))),0)),\"\")","v":""}]
[null,null,null,null,null,null,null,null,null,null,null,null,null,null,null,null,null,null,{"$f":"IFERROR(IF(INDIRECT(\"'\"&OFFSET($F$4,S118,0)&\"'!B\"&COUNTIF($S$1:S118,S118)+11)=\"\",$S118+1,S118),\"\")","v":""},null,{"$f":"IF($S119=\"\",\"\",IFERROR(INDIRECT(\"'\"&OFFSET($F$4,$S119,0)&\"'!B\"&COUNTIF($S$1:$S119,$S119)+10),\"\"))","v":""},{"$f":"IF($S119=\"\",\"\",IFERROR(INDIRECT(\"'\"&OFFSET($F$4,$S119,0)&\"'!c\"&COUNTIF($S$1:$S119,$S119)+10),\"\"))","v":""},"",{"$f":"IF($S119=\"\",\"\",IFERROR(INDIRECT(\"'\"&OFFSET($F$4,$S119,0)&\"'!o\"&COUNTIF($S$1:$S119,$S119)+10),\"\"))","v":""},"","",null,{"$f":"IFERROR(LOOKUP(2,1/(COUNTIF($AB$1:AB118,OFFSET($Y$2,0,0,$T$2))=0),OFFSET($Y$2,0,0,$T$2)),\"\")","v":""},{"$f":"IFERROR(INDEX(OFFSET($AB$2,0,0,$AA$2),MATCH(SMALL(NOT(OFFSET($AB$2,0,0,$AA$2)=\"\")*IF(ISNUMBER(OFFSET($AB$2,0,0,$AA$2)),COUNTIF(OFFSET($AB$2,0,0,$AA$2),\"<=\"& OFFSET($AB$2,0,0,$AA$2)),COUNTIF(OFFSET($AB$2,0,0,$AA$2),\"<=\"& OFFSET($AB$2,0,0,$AA$2))+SUM(--ISNUMBER(OFFSET($AB$2,0,0,$AA$2)))),ROWS(A$2:$AB119)+SUM(--ISBLANK(OFFSET($AB$2,0,0,$AA$2)))),NOT(OFFSET($AB$2,0,0,$AA$2)=\"\")*IF(ISNUMBER(OFFSET($AB$2,0,0,$AA$2)),COUNTIF(OFFSET($AB$2,0,0,$AA$2),\"<=\"& OFFSET($AB$2,0,0,$AA$2)),COUNTIF(OFFSET($AB$2,0,0,$AA$2),\"<=\"& OFFSET($AB$2,0,0,$AA$2))+SUM(--ISNUMBER(OFFSET($AB$2,0,0,$AA$2)))),0)),\"\")","v":""}]
[null,null,null,null,null,null,null,null,null,null,null,null,null,null,null,null,null,null,{"$f":"IFERROR(IF(INDIRECT(\"'\"&OFFSET($F$4,S119,0)&\"'!B\"&COUNTIF($S$1:S119,S119)+11)=\"\",$S119+1,S119),\"\")","v":""},null,{"$f":"IF($S120=\"\",\"\",IFERROR(INDIRECT(\"'\"&OFFSET($F$4,$S120,0)&\"'!B\"&COUNTIF($S$1:$S120,$S120)+10),\"\"))","v":""},{"$f":"IF($S120=\"\",\"\",IFERROR(INDIRECT(\"'\"&OFFSET($F$4,$S120,0)&\"'!c\"&COUNTIF($S$1:$S120,$S120)+10),\"\"))","v":""},"",{"$f":"IF($S120=\"\",\"\",IFERROR(INDIRECT(\"'\"&OFFSET($F$4,$S120,0)&\"'!o\"&COUNTIF($S$1:$S120,$S120)+10),\"\"))","v":""},"","",null,{"$f":"IFERROR(LOOKUP(2,1/(COUNTIF($AB$1:AB119,OFFSET($Y$2,0,0,$T$2))=0),OFFSET($Y$2,0,0,$T$2)),\"\")","v":""},{"$f":"IFERROR(INDEX(OFFSET($AB$2,0,0,$AA$2),MATCH(SMALL(NOT(OFFSET($AB$2,0,0,$AA$2)=\"\")*IF(ISNUMBER(OFFSET($AB$2,0,0,$AA$2)),COUNTIF(OFFSET($AB$2,0,0,$AA$2),\"<=\"& OFFSET($AB$2,0,0,$AA$2)),COUNTIF(OFFSET($AB$2,0,0,$AA$2),\"<=\"& OFFSET($AB$2,0,0,$AA$2))+SUM(--ISNUMBER(OFFSET($AB$2,0,0,$AA$2)))),ROWS(A$2:$AB120)+SUM(--ISBLANK(OFFSET($AB$2,0,0,$AA$2)))),NOT(OFFSET($AB$2,0,0,$AA$2)=\"\")*IF(ISNUMBER(OFFSET($AB$2,0,0,$AA$2)),COUNTIF(OFFSET($AB$2,0,0,$AA$2),\"<=\"& OFFSET($AB$2,0,0,$AA$2)),COUNTIF(OFFSET($AB$2,0,0,$AA$2),\"<=\"& OFFSET($AB$2,0,0,$AA$2))+SUM(--ISNUMBER(OFFSET($AB$2,0,0,$AA$2)))),0)),\"\")","v":""}]
[null,null,null,null,null,null,null,null,null,null,null,null,null,null,null,null,null,null,{"$f":"IFERROR(IF(INDIRECT(\"'\"&OFFSET($F$4,S120,0)&\"'!B\"&COUNTIF($S$1:S120,S120)+11)=\"\",$S120+1,S120),\"\")","v":""},null,{"$f":"IF($S121=\"\",\"\",IFERROR(INDIRECT(\"'\"&OFFSET($F$4,$S121,0)&\"'!B\"&COUNTIF($S$1:$S121,$S121)+10),\"\"))","v":""},{"$f":"IF($S121=\"\",\"\",IFERROR(INDIRECT(\"'\"&OFFSET($F$4,$S121,0)&\"'!c\"&COUNTIF($S$1:$S121,$S121)+10),\"\"))","v":""},"",{"$f":"IF($S121=\"\",\"\",IFERROR(INDIRECT(\"'\"&OFFSET($F$4,$S121,0)&\"'!o\"&COUNTIF($S$1:$S121,$S121)+10),\"\"))","v":""},"","",null,{"$f":"IFERROR(LOOKUP(2,1/(COUNTIF($AB$1:AB120,OFFSET($Y$2,0,0,$T$2))=0),OFFSET($Y$2,0,0,$T$2)),\"\")","v":""},{"$f":"IFERROR(INDEX(OFFSET($AB$2,0,0,$AA$2),MATCH(SMALL(NOT(OFFSET($AB$2,0,0,$AA$2)=\"\")*IF(ISNUMBER(OFFSET($AB$2,0,0,$AA$2)),COUNTIF(OFFSET($AB$2,0,0,$AA$2),\"<=\"& OFFSET($AB$2,0,0,$AA$2)),COUNTIF(OFFSET($AB$2,0,0,$AA$2),\"<=\"& OFFSET($AB$2,0,0,$AA$2))+SUM(--ISNUMBER(OFFSET($AB$2,0,0,$AA$2)))),ROWS(A$2:$AB121)+SUM(--ISBLANK(OFFSET($AB$2,0,0,$AA$2)))),NOT(OFFSET($AB$2,0,0,$AA$2)=\"\")*IF(ISNUMBER(OFFSET($AB$2,0,0,$AA$2)),COUNTIF(OFFSET($AB$2,0,0,$AA$2),\"<=\"& OFFSET($AB$2,0,0,$AA$2)),COUNTIF(OFFSET($AB$2,0,0,$AA$2),\"<=\"& OFFSET($AB$2,0,0,$AA$2))+SUM(--ISNUMBER(OFFSET($AB$2,0,0,$AA$2)))),0)),\"\")","v":""}]
[null,null,null,null,null,null,null,null,null,null,null,null,null,null,null,null,null,null,{"$f":"IFERROR(IF(INDIRECT(\"'\"&OFFSET($F$4,S121,0)&\"'!B\"&COUNTIF($S$1:S121,S121)+11)=\"\",$S121+1,S121),\"\")","v":""},null,{"$f":"IF($S122=\"\",\"\",IFERROR(INDIRECT(\"'\"&OFFSET($F$4,$S122,0)&\"'!B\"&COUNTIF($S$1:$S122,$S122)+10),\"\"))","v":""},{"$f":"IF($S122=\"\",\"\",IFERROR(INDIRECT(\"'\"&OFFSET($F$4,$S122,0)&\"'!c\"&COUNTIF($S$1:$S122,$S122)+10),\"\"))","v":""},"",{"$f":"IF($S122=\"\",\"\",IFERROR(INDIRECT(\"'\"&OFFSET($F$4,$S122,0)&\"'!o\"&COUNTIF($S$1:$S122,$S122)+10),\"\"))","v":""},"","",null,{"$f":"IFERROR(LOOKUP(2,1/(COUNTIF($AB$1:AB121,OFFSET($Y$2,0,0,$T$2))=0),OFFSET($Y$2,0,0,$T$2)),\"\")","v":""},{"$f":"IFERROR(INDEX(OFFSET($AB$2,0,0,$AA$2),MATCH(SMALL(NOT(OFFSET($AB$2,0,0,$AA$2)=\"\")*IF(ISNUMBER(OFFSET($AB$2,0,0,$AA$2)),COUNTIF(OFFSET($AB$2,0,0,$AA$2),\"<=\"& OFFSET($AB$2,0,0,$AA$2)),COUNTIF(OFFSET($AB$2,0,0,$AA$2),\"<=\"& OFFSET($AB$2,0,0,$AA$2))+SUM(--ISNUMBER(OFFSET($AB$2,0,0,$AA$2)))),ROWS(A$2:$AB122)+SUM(--ISBLANK(OFFSET($AB$2,0,0,$AA$2)))),NOT(OFFSET($AB$2,0,0,$AA$2)=\"\")*IF(ISNUMBER(OFFSET($AB$2,0,0,$AA$2)),COUNTIF(OFFSET($AB$2,0,0,$AA$2),\"<=\"& OFFSET($AB$2,0,0,$AA$2)),COUNTIF(OFFSET($AB$2,0,0,$AA$2),\"<=\"& OFFSET($AB$2,0,0,$AA$2))+SUM(--ISNUMBER(OFFSET($AB$2,0,0,$AA$2)))),0)),\"\")","v":""}]
[null,null,null,null,null,null,null,null,null,null,null,null,null,null,null,null,null,null,{"$f":"IFERROR(IF(INDIRECT(\"'\"&OFFSET($F$4,S122,0)&\"'!B\"&COUNTIF($S$1:S122,S122)+11)=\"\",$S122+1,S122),\"\")","v":""},null,{"$f":"IF($S123=\"\",\"\",IFERROR(INDIRECT(\"'\"&OFFSET($F$4,$S123,0)&\"'!B\"&COUNTIF($S$1:$S123,$S123)+10),\"\"))","v":""},{"$f":"IF($S123=\"\",\"\",IFERROR(INDIRECT(\"'\"&OFFSET($F$4,$S123,0)&\"'!c\"&COUNTIF($S$1:$S123,$S123)+10),\"\"))","v":""},"",{"$f":"IF($S123=\"\",\"\",IFERROR(INDIRECT(\"'\"&OFFSET($F$4,$S123,0)&\"'!o\"&COUNTIF($S$1:$S123,$S123)+10),\"\"))","v":""},"","",null,{"$f":"IFERROR(LOOKUP(2,1/(COUNTIF($AB$1:AB122,OFFSET($Y$2,0,0,$T$2))=0),OFFSET($Y$2,0,0,$T$2)),\"\")","v":""},{"$f":"IFERROR(INDEX(OFFSET($AB$2,0,0,$AA$2),MATCH(SMALL(NOT(OFFSET($AB$2,0,0,$AA$2)=\"\")*IF(ISNUMBER(OFFSET($AB$2,0,0,$AA$2)),COUNTIF(OFFSET($AB$2,0,0,$AA$2),\"<=\"& OFFSET($AB$2,0,0,$AA$2)),COUNTIF(OFFSET($AB$2,0,0,$AA$2),\"<=\"& OFFSET($AB$2,0,0,$AA$2))+SUM(--ISNUMBER(OFFSET($AB$2,0,0,$AA$2)))),ROWS(A$2:$AB123)+SUM(--ISBLANK(OFFSET($AB$2,0,0,$AA$2)))),NOT(OFFSET($AB$2,0,0,$AA$2)=\"\")*IF(ISNUMBER(OFFSET($AB$2,0,0,$AA$2)),COUNTIF(OFFSET($AB$2,0,0,$AA$2),\"<=\"& OFFSET($AB$2,0,0,$AA$2)),COUNTIF(OFFSET($AB$2,0,0,$AA$2),\"<=\"& OFFSET($AB$2,0,0,$AA$2))+SUM(--ISNUMBER(OFFSET($AB$2,0,0,$AA$2)))),0)),\"\")","v":""}]
[null,null,null,null,null,null,null,null,null,null,null,null,null,null,null,null,null,null,{"$f":"IFERROR(IF(INDIRECT(\"'\"&OFFSET($F$4,S123,0)&\"'!B\"&COUNTIF($S$1:S123,S123)+11)=\"\",$S123+1,S123),\"\")","v":""},null,{"$f":"IF($S124=\"\",\"\",IFERROR(INDIRECT(\"'\"&OFFSET($F$4,$S124,0)&\"'!B\"&COUNTIF($S$1:$S124,$S124)+10),\"\"))","v":""},{"$f":"IF($S124=\"\",\"\",IFERROR(INDIRECT(\"'\"&OFFSET($F$4,$S124,0)&\"'!c\"&COUNTIF($S$1:$S124,$S124)+10),\"\"))","v":""},"",{"$f":"IF($S124=\"\",\"\",IFERROR(INDIRECT(\"'\"&OFFSET($F$4,$S124,0)&\"'!o\"&COUNTIF($S$1:$S124,$S124)+10),\"\"))","v":""},"","",null,{"$f":"IFERROR(LOOKUP(2,1/(COUNTIF($AB$1:AB123,OFFSET($Y$2,0,0,$T$2))=0),OFFSET($Y$2,0,0,$T$2)),\"\")","v":""},{"$f":"IFERROR(INDEX(OFFSET($AB$2,0,0,$AA$2),MATCH(SMALL(NOT(OFFSET($AB$2,0,0,$AA$2)=\"\")*IF(ISNUMBER(OFFSET($AB$2,0,0,$AA$2)),COUNTIF(OFFSET($AB$2,0,0,$AA$2),\"<=\"& OFFSET($AB$2,0,0,$AA$2)),COUNTIF(OFFSET($AB$2,0,0,$AA$2),\"<=\"& OFFSET($AB$2,0,0,$AA$2))+SUM(--ISNUMBER(OFFSET($AB$2,0,0,$AA$2)))),ROWS(A$2:$AB124)+SUM(--ISBLANK(OFFSET($AB$2,0,0,$AA$2)))),NOT(OFFSET($AB$2,0,0,$AA$2)=\"\")*IF(ISNUMBER(OFFSET($AB$2,0,0,$AA$2)),COUNTIF(OFFSET($AB$2,0,0,$AA$2),\"<=\"& OFFSET($AB$2,0,0,$AA$2)),COUNTIF(OFFSET($AB$2,0,0,$AA$2),\"<=\"& OFFSET($AB$2,0,0,$AA$2))+SUM(--ISNUMBER(OFFSET($AB$2,0,0,$AA$2)))),0)),\"\")","v":""}]
[null,null,null,null,null,null,null,null,null,null,null,null,null,null,null,null,null,null,{"$f":"IFERROR(IF(INDIRECT(\"'\"&OFFSET($F$4,S124,0)&\"'!B\"&COUNTIF($S$1:S124,S124)+11)=\"\",$S124+1,S124),\"\")","v":""},null,{"$f":"IF($S125=\"\",\"\",IFERROR(INDIRECT(\"'\"&OFFSET($F$4,$S125,0)&\"'!B\"&COUNTIF($S$1:$S125,$S125)+10),\"\"))","v":""},{"$f":"IF($S125=\"\",\"\",IFERROR(INDIRECT(\"'\"&OFFSET($F$4,$S125,0)&\"'!c\"&COUNTIF($S$1:$S125,$S125)+10),\"\"))","v":""},"",{"$f":"IF($S125=\"\",\"\",IFERROR(INDIRECT(\"'\"&OFFSET($F$4,$S125,0)&\"'!o\"&COUNTIF($S$1:$S125,$S125)+10),\"\"))","v":""},"","",null,{"$f":"IFERROR(LOOKUP(2,1/(COUNTIF($AB$1:AB124,OFFSET($Y$2,0,0,$T$2))=0),OFFSET($Y$2,0,0,$T$2)),\"\")","v":""},{"$f":"IFERROR(INDEX(OFFSET($AB$2,0,0,$AA$2),MATCH(SMALL(NOT(OFFSET($AB$2,0,0,$AA$2)=\"\")*IF(ISNUMBER(OFFSET($AB$2,0,0,$AA$2)),COUNTIF(OFFSET($AB$2,0,0,$AA$2),\"<=\"& OFFSET($AB$2,0,0,$AA$2)),COUNTIF(OFFSET($AB$2,0,0,$AA$2),\"<=\"& OFFSET($AB$2,0,0,$AA$2))+SUM(--ISNUMBER(OFFSET($AB$2,0,0,$AA$2)))),ROWS(A$2:$AB125)+SUM(--ISBLANK(OFFSET($AB$2,0,0,$AA$2)))),NOT(OFFSET($AB$2,0,0,$AA$2)=\"\")*IF(ISNUMBER(OFFSET($AB$2,0,0,$AA$2)),COUNTIF(OFFSET($AB$2,0,0,$AA$2),\"<=\"& OFFSET($AB$2,0,0,$AA$2)),COUNTIF(OFFSET($AB$2,0,0,$AA$2),\"<=\"& OFFSET($AB$2,0,0,$AA$2))+SUM(--ISNUMBER(OFFSET($AB$2,0,0,$AA$2)))),0)),\"\")","v":""}]
[null,null,null,null,null,null,null,null,null,null,null,null,null,null,null,null,null,null,{"$f":"IFERROR(IF(INDIRECT(\"'\"&OFFSET($F$4,S125,0)&\"'!B\"&COUNTIF($S$1:S125,S125)+11)=\"\",$S125+1,S125),\"\")","v":""},null,{"$f":"IF($S126=\"\",\"\",IFERROR(INDIRECT(\"'\"&OFFSET($F$4,$S126,0)&\"'!B\"&COUNTIF($S$1:$S126,$S126)+10),\"\"))","v":""},{"$f":"IF($S126=\"\",\"\",IFERROR(INDIRECT(\"'\"&OFFSET($F$4,$S126,0)&\"'!c\"&COUNTIF($S$1:$S126,$S126)+10),\"\"))","v":""},"",{"$f":"IF($S126=\"\",\"\",IFERROR(INDIRECT(\"'\"&OFFSET($F$4,$S126,0)&\"'!o\"&COUNTIF($S$1:$S126,$S126)+10),\"\"))","v":""},"","",null,{"$f":"IFERROR(LOOKUP(2,1/(COUNTIF($AB$1:AB125,OFFSET($Y$2,0,0,$T$2))=0),OFFSET($Y$2,0,0,$T$2)),\"\")","v":""},{"$f":"IFERROR(INDEX(OFFSET($AB$2,0,0,$AA$2),MATCH(SMALL(NOT(OFFSET($AB$2,0,0,$AA$2)=\"\")*IF(ISNUMBER(OFFSET($AB$2,0,0,$AA$2)),COUNTIF(OFFSET($AB$2,0,0,$AA$2),\"<=\"& OFFSET($AB$2,0,0,$AA$2)),COUNTIF(OFFSET($AB$2,0,0,$AA$2),\"<=\"& OFFSET($AB$2,0,0,$AA$2))+SUM(--ISNUMBER(OFFSET($AB$2,0,0,$AA$2)))),ROWS(A$2:$AB126)+SUM(--ISBLANK(OFFSET($AB$2,0,0,$AA$2)))),NOT(OFFSET($AB$2,0,0,$AA$2)=\"\")*IF(ISNUMBER(OFFSET($AB$2,0,0,$AA$2)),COUNTIF(OFFSET($AB$2,0,0,$AA$2),\"<=\"& OFFSET($AB$2,0,0,$AA$2)),COUNTIF(OFFSET($AB$2,0,0,$AA$2),\"<=\"& OFFSET($AB$2,0,0,$AA$2))+SUM(--ISNUMBER(OFFSET($AB$2,0,0,$AA$2)))),0)),\"\")","v":""}]
[null,null,null,null,null,null,null,null,null,null,null,null,null,null,null,null,null,null,{"$f":"IFERROR(IF(INDIRECT(\"'\"&OFFSET($F$4,S126,0)&\"'!B\"&COUNTIF($S$1:S126,S126)+11)=\"\",$S126+1,S126),\"\")","v":""},null,{"$f":"IF($S127=\"\",\"\",IFERROR(INDIRECT(\"'\"&OFFSET($F$4,$S127,0)&\"'!B\"&COUNTIF($S$1:$S127,$S127)+10),\"\"))","v":""},{"$f":"IF($S127=\"\",\"\",IFERROR(INDIRECT(\"'\"&OFFSET($F$4,$S127,0)&\"'!c\"&COUNTIF($S$1:$S127,$S127)+10),\"\"))","v":""},"",{"$f":"IF($S127=\"\",\"\",IFERROR(INDIRECT(\"'\"&OFFSET($F$4,$S127,0)&\"'!o\"&COUNTIF($S$1:$S127,$S127)+10),\"\"))","v":""},"","",null,{"$f":"IFERROR(LOOKUP(2,1/(COUNTIF($AB$1:AB126,OFFSET($Y$2,0,0,$T$2))=0),OFFSET($Y$2,0,0,$T$2)),\"\")","v":""},{"$f":"IFERROR(INDEX(OFFSET($AB$2,0,0,$AA$2),MATCH(SMALL(NOT(OFFSET($AB$2,0,0,$AA$2)=\"\")*IF(ISNUMBER(OFFSET($AB$2,0,0,$AA$2)),COUNTIF(OFFSET($AB$2,0,0,$AA$2),\"<=\"& OFFSET($AB$2,0,0,$AA$2)),COUNTIF(OFFSET($AB$2,0,0,$AA$2),\"<=\"& OFFSET($AB$2,0,0,$AA$2))+SUM(--ISNUMBER(OFFSET($AB$2,0,0,$AA$2)))),ROWS(A$2:$AB127)+SUM(--ISBLANK(OFFSET($AB$2,0,0,$AA$2)))),NOT(OFFSET($AB$2,0,0,$AA$2)=\"\")*IF(ISNUMBER(OFFSET($AB$2,0,0,$AA$2)),COUNTIF(OFFSET($AB$2,0,0,$AA$2),\"<=\"& OFFSET($AB$2,0,0,$AA$2)),COUNTIF(OFFSET($AB$2,0,0,$AA$2),\"<=\"& OFFSET($AB$2,0,0,$AA$2))+SUM(--ISNUMBER(OFFSET($AB$2,0,0,$AA$2)))),0)),\"\")","v":""}]
[null,null,null,null,null,null,null,null,null,null,null,null,null,null,null,null,null,null,{"$f":"IFERROR(IF(INDIRECT(\"'\"&OFFSET($F$4,S127,0)&\"'!B\"&COUNTIF($S$1:S127,S127)+11)=\"\",$S127+1,S127),\"\")","v":""},null,{"$f":"IF($S128=\"\",\"\",IFERROR(INDIRECT(\"'\"&OFFSET($F$4,$S128,0)&\"'!B\"&COUNTIF($S$1:$S128,$S128)+10),\"\"))","v":""},{"$f":"IF($S128=\"\",\"\",IFERROR(INDIRECT(\"'\"&OFFSET($F$4,$S128,0)&\"'!c\"&COUNTIF($S$1:$S128,$S128)+10),\"\"))","v":""},"",{"$f":"IF($S128=\"\",\"\",IFERROR(INDIRECT(\"'\"&OFFSET($F$4,$S128,0)&\"'!o\"&COUNTIF($S$1:$S128,$S128)+10),\"\"))","v":""},"","",null,{"$f":"IFERROR(LOOKUP(2,1/(COUNTIF($AB$1:AB127,OFFSET($Y$2,0,0,$T$2))=0),OFFSET($Y$2,0,0,$T$2)),\"\")","v":""},{"$f":"IFERROR(INDEX(OFFSET($AB$2,0,0,$AA$2),MATCH(SMALL(NOT(OFFSET($AB$2,0,0,$AA$2)=\"\")*IF(ISNUMBER(OFFSET($AB$2,0,0,$AA$2)),COUNTIF(OFFSET($AB$2,0,0,$AA$2),\"<=\"& OFFSET($AB$2,0,0,$AA$2)),COUNTIF(OFFSET($AB$2,0,0,$AA$2),\"<=\"& OFFSET($AB$2,0,0,$AA$2))+SUM(--ISNUMBER(OFFSET($AB$2,0,0,$AA$2)))),ROWS(A$2:$AB128)+SUM(--ISBLANK(OFFSET($AB$2,0,0,$AA$2)))),NOT(OFFSET($AB$2,0,0,$AA$2)=\"\")*IF(ISNUMBER(OFFSET($AB$2,0,0,$AA$2)),COUNTIF(OFFSET($AB$2,0,0,$AA$2),\"<=\"& OFFSET($AB$2,0,0,$AA$2)),COUNTIF(OFFSET($AB$2,0,0,$AA$2),\"<=\"& OFFSET($AB$2,0,0,$AA$2))+SUM(--ISNUMBER(OFFSET($AB$2,0,0,$AA$2)))),0)),\"\")","v":""}]
[null,null,null,null,null,null,null,null,null,null,null,null,null,null,null,null,null,null,{"$f":"IFERROR(IF(INDIRECT(\"'\"&OFFSET($F$4,S128,0)&\"'!B\"&COUNTIF($S$1:S128,S128)+11)=\"\",$S128+1,S128),\"\")","v":""},null,{"$f":"IF($S129=\"\",\"\",IFERROR(INDIRECT(\"'\"&OFFSET($F$4,$S129,0)&\"'!B\"&COUNTIF($S$1:$S129,$S129)+10),\"\"))","v":""},{"$f":"IF($S129=\"\",\"\",IFERROR(INDIRECT(\"'\"&OFFSET($F$4,$S129,0)&\"'!c\"&COUNTIF($S$1:$S129,$S129)+10),\"\"))","v":""},"",{"$f":"IF($S129=\"\",\"\",IFERROR(INDIRECT(\"'\"&OFFSET($F$4,$S129,0)&\"'!o\"&COUNTIF($S$1:$S129,$S129)+10),\"\"))","v":""},"","",null,{"$f":"IFERROR(LOOKUP(2,1/(COUNTIF($AB$1:AB128,OFFSET($Y$2,0,0,$T$2))=0),OFFSET($Y$2,0,0,$T$2)),\"\")","v":""},{"$f":"IFERROR(INDEX(OFFSET($AB$2,0,0,$AA$2),MATCH(SMALL(NOT(OFFSET($AB$2,0,0,$AA$2)=\"\")*IF(ISNUMBER(OFFSET($AB$2,0,0,$AA$2)),COUNTIF(OFFSET($AB$2,0,0,$AA$2),\"<=\"& OFFSET($AB$2,0,0,$AA$2)),COUNTIF(OFFSET($AB$2,0,0,$AA$2),\"<=\"& OFFSET($AB$2,0,0,$AA$2))+SUM(--ISNUMBER(OFFSET($AB$2,0,0,$AA$2)))),ROWS(A$2:$AB129)+SUM(--ISBLANK(OFFSET($AB$2,0,0,$AA$2)))),NOT(OFFSET($AB$2,0,0,$AA$2)=\"\")*IF(ISNUMBER(OFFSET($AB$2,0,0,$AA$2)),COUNTIF(OFFSET($AB$2,0,0,$AA$2),\"<=\"& OFFSET($AB$2,0,0,$AA$2)),COUNTIF(OFFSET($AB$2,0,0,$AA$2),\"<=\"& OFFSET($AB$2,0,0,$AA$2))+SUM(--ISNUMBER(OFFSET($AB$2,0,0,$AA$2)))),0)),\"\")","v":""}]
[null,null,null,null,null,null,null,null,null,null,null,null,null,null,null,null,null,null,{"$f":"IFERROR(IF(INDIRECT(\"'\"&OFFSET($F$4,S129,0)&\"'!B\"&COUNTIF($S$1:S129,S129)+11)=\"\",$S129+1,S129),\"\")","v":""},null,{"$f":"IF($S130=\"\",\"\",IFERROR(INDIRECT(\"'\"&OFFSET($F$4,$S130,0)&\"'!B\"&COUNTIF($S$1:$S130,$S130)+10),\"\"))","v":""},{"$f":"IF($S130=\"\",\"\",IFERROR(INDIRECT(\"'\"&OFFSET($F$4,$S130,0)&\"'!c\"&COUNTIF($S$1:$S130,$S130)+10),\"\"))","v":""},{"$f":"IF(S130=\"\",\"\",IFERROR(OFFSET($F$4,S130,0),\"\"))","v":""},{"$f":"IF($S130=\"\",\"\",IFERROR(INDIRECT(\"'\"&OFFSET($F$4,$S130,0)&\"'!o\"&COUNTIF($S$1:$S130,$S130)+10),\"\"))","v":""},"","",null,{"$f":"IFERROR(LOOKUP(2,1/(COUNTIF($AB$1:AB129,OFFSET($Y$2,0,0,$T$2))=0),OFFSET($Y$2,0,0,$T$2)),\"\")","v":""},{"$f":"IFERROR(INDEX(OFFSET($AB$2,0,0,$AA$2),MATCH(SMALL(NOT(OFFSET($AB$2,0,0,$AA$2)=\"\")*IF(ISNUMBER(OFFSET($AB$2,0,0,$AA$2)),COUNTIF(OFFSET($AB$2,0,0,$AA$2),\"<=\"& OFFSET($AB$2,0,0,$AA$2)),COUNTIF(OFFSET($AB$2,0,0,$AA$2),\"<=\"& OFFSET($AB$2,0,0,$AA$2))+SUM(--ISNUMBER(OFFSET($AB$2,0,0,$AA$2)))),ROWS(A$2:$AB130)+SUM(--ISBLANK(OFFSET($AB$2,0,0,$AA$2)))),NOT(OFFSET($AB$2,0,0,$AA$2)=\"\")*IF(ISNUMBER(OFFSET($AB$2,0,0,$AA$2)),COUNTIF(OFFSET($AB$2,0,0,$AA$2),\"<=\"& OFFSET($AB$2,0,0,$AA$2)),COUNTIF(OFFSET($AB$2,0,0,$AA$2),\"<=\"& OFFSET($AB$2,0,0,$AA$2))+SUM(--ISNUMBER(OFFSET($AB$2,0,0,$AA$2)))),0)),\"\")","v":""}]
[null,null,null,null,null,null,null,null,null,null,null,null,null,null,null,null,null,null,{"$f":"IFERROR(IF(INDIRECT(\"'\"&OFFSET($F$4,S130,0)&\"'!B\"&COUNTIF($S$1:S130,S130)+11)=\"\",$S130+1,S130),\"\")","v":""},null,{"$f":"IF($S131=\"\",\"\",IFERROR(INDIRECT(\"'\"&OFFSET($F$4,$S131,0)&\"'!B\"&COUNTIF($S$1:$S131,$S131)+10),\"\"))","v":""},{"$f":"IF($S131=\"\",\"\",IFERROR(INDIRECT(\"'\"&OFFSET($F$4,$S131,0)&\"'!c\"&COUNTIF($S$1:$S131,$S131)+10),\"\"))","v":""},"",{"$f":"IF($S131=\"\",\"\",IFERROR(INDIRECT(\"'\"&OFFSET($F$4,$S131,0)&\"'!o\"&COUNTIF($S$1:$S131,$S131)+10),\"\"))","v":""},{"$f":"CONCATENATE($U131,$V131)","v":""},{"$f":"CONCATENATE($U131,$V131,$W131)","v":""},null,{"$f":"IFERROR(LOOKUP(2,1/(COUNTIF($AB$1:AB130,OFFSET($Y$2,0,0,$T$2))=0),OFFSET($Y$2,0,0,$T$2)),\"\")","v":""},{"$f":"IFERROR(INDEX(OFFSET($AB$2,0,0,$AA$2),MATCH(SMALL(NOT(OFFSET($AB$2,0,0,$AA$2)=\"\")*IF(ISNUMBER(OFFSET($AB$2,0,0,$AA$2)),COUNTIF(OFFSET($AB$2,0,0,$AA$2),\"<=\"& OFFSET($AB$2,0,0,$AA$2)),COUNTIF(OFFSET($AB$2,0,0,$AA$2),\"<=\"& OFFSET($AB$2,0,0,$AA$2))+SUM(--ISNUMBER(OFFSET($AB$2,0,0,$AA$2)))),ROWS(A$2:$AB131)+SUM(--ISBLANK(OFFSET($AB$2,0,0,$AA$2)))),NOT(OFFSET($AB$2,0,0,$AA$2)=\"\")*IF(ISNUMBER(OFFSET($AB$2,0,0,$AA$2)),COUNTIF(OFFSET($AB$2,0,0,$AA$2),\"<=\"& OFFSET($AB$2,0,0,$AA$2)),COUNTIF(OFFSET($AB$2,0,0,$AA$2),\"<=\"& OFFSET($AB$2,0,0,$AA$2))+SUM(--ISNUMBER(OFFSET($AB$2,0,0,$AA$2)))),0)),\"\")","v":""}]
[null,null,null,null,null,null,null,null,null,null,null,null,null,null,null,null,null,null,{"$f":"IFERROR(IF(INDIRECT(\"'\"&OFFSET($F$4,S131,0)&\"'!B\"&COUNTIF($S$1:S131,S131)+11)=\"\",$S131+1,S131),\"\")","v":""},null,{"$f":"IF($S132=\"\",\"\",IFERROR(INDIRECT(\"'\"&OFFSET($F$4,$S132,0)&\"'!B\"&COUNTIF($S$1:$S132,$S132)+10),\"\"))","v":""},{"$f":"IF($S132=\"\",\"\",IFERROR(INDIRECT(\"'\"&OFFSET($F$4,$S132,0)&\"'!c\"&COUNTIF($S$1:$S132,$S132)+10),\"\"))","v":""},"",{"$f":"IF($S132=\"\",\"\",IFERROR(INDIRECT(\"'\"&OFFSET($F$4,$S132,0)&\"'!o\"&COUNTIF($S$1:$S132,$S132)+10),\"\"))","v":""},"","",null,{"$f":"IFERROR(LOOKUP(2,1/(COUNTIF($AB$1:AB131,OFFSET($Y$2,0,0,$T$2))=0),OFFSET($Y$2,0,0,$T$2)),\"\")","v":""},{"$f":"IFERROR(INDEX(OFFSET($AB$2,0,0,$AA$2),MATCH(SMALL(NOT(OFFSET($AB$2,0,0,$AA$2)=\"\")*IF(ISNUMBER(OFFSET($AB$2,0,0,$AA$2)),COUNTIF(OFFSET($AB$2,0,0,$AA$2),\"<=\"& OFFSET($AB$2,0,0,$AA$2)),COUNTIF(OFFSET($AB$2,0,0,$AA$2),\"<=\"& OFFSET($AB$2,0,0,$AA$2))+SUM(--ISNUMBER(OFFSET($AB$2,0,0,$AA$2)))),ROWS(A$2:$AB132)+SUM(--ISBLANK(OFFSET($AB$2,0,0,$AA$2)))),NOT(OFFSET($AB$2,0,0,$AA$2)=\"\")*IF(ISNUMBER(OFFSET($AB$2,0,0,$AA$2)),COUNTIF(OFFSET($AB$2,0,0,$AA$2),\"<=\"& OFFSET($AB$2,0,0,$AA$2)),COUNTIF(OFFSET($AB$2,0,0,$AA$2),\"<=\"& OFFSET($AB$2,0,0,$AA$2))+SUM(--ISNUMBER(OFFSET($AB$2,0,0,$AA$2)))),0)),\"\")","v":""}]
[null,null,null,null,null,null,null,null,null,null,null,null,null,null,null,null,null,null,{"$f":"IFERROR(IF(INDIRECT(\"'\"&OFFSET($F$4,S132,0)&\"'!B\"&COUNTIF($S$1:S132,S132)+11)=\"\",$S132+1,S132),\"\")","v":""},null,{"$f":"IF($S133=\"\",\"\",IFERROR(INDIRECT(\"'\"&OFFSET($F$4,$S133,0)&\"'!B\"&COUNTIF($S$1:$S133,$S133)+10),\"\"))","v":""},{"$f":"IF($S133=\"\",\"\",IFERROR(INDIRECT(\"'\"&OFFSET($F$4,$S133,0)&\"'!c\"&COUNTIF($S$1:$S133,$S133)+10),\"\"))","v":""},"",{"$f":"IF($S133=\"\",\"\",IFERROR(INDIRECT(\"'\"&OFFSET($F$4,$S133,0)&\"'!o\"&COUNTIF($S$1:$S133,$S133)+10),\"\"))","v":""},"","",null,{"$f":"IFERROR(LOOKUP(2,1/(COUNTIF($AB$1:AB132,OFFSET($Y$2,0,0,$T$2))=0),OFFSET($Y$2,0,0,$T$2)),\"\")","v":""},{"$f":"IFERROR(INDEX(OFFSET($AB$2,0,0,$AA$2),MATCH(SMALL(NOT(OFFSET($AB$2,0,0,$AA$2)=\"\")*IF(ISNUMBER(OFFSET($AB$2,0,0,$AA$2)),COUNTIF(OFFSET($AB$2,0,0,$AA$2),\"<=\"& OFFSET($AB$2,0,0,$AA$2)),COUNTIF(OFFSET($AB$2,0,0,$AA$2),\"<=\"& OFFSET($AB$2,0,0,$AA$2))+SUM(--ISNUMBER(OFFSET($AB$2,0,0,$AA$2)))),ROWS(A$2:$AB133)+SUM(--ISBLANK(OFFSET($AB$2,0,0,$AA$2)))),NOT(OFFSET($AB$2,0,0,$AA$2)=\"\")*IF(ISNUMBER(OFFSET($AB$2,0,0,$AA$2)),COUNTIF(OFFSET($AB$2,0,0,$AA$2),\"<=\"& OFFSET($AB$2,0,0,$AA$2)),COUNTIF(OFFSET($AB$2,0,0,$AA$2),\"<=\"& OFFSET($AB$2,0,0,$AA$2))+SUM(--ISNUMBER(OFFSET($AB$2,0,0,$AA$2)))),0)),\"\")","v":""}]
[null,null,null,null,null,null,null,null,null,null,null,null,null,null,null,null,null,null,{"$f":"IFERROR(IF(INDIRECT(\"'\"&OFFSET($F$4,S133,0)&\"'!B\"&COUNTIF($S$1:S133,S133)+11)=\"\",$S133+1,S133),\"\")","v":""},null,{"$f":"IF($S134=\"\",\"\",IFERROR(INDIRECT(\"'\"&OFFSET($F$4,$S134,0)&\"'!B\"&COUNTIF($S$1:$S134,$S134)+10),\"\"))","v":""},{"$f":"IF($S134=\"\",\"\",IFERROR(INDIRECT(\"'\"&OFFSET($F$4,$S134,0)&\"'!c\"&COUNTIF($S$1:$S134,$S134)+10),\"\"))","v":""},"",{"$f":"IF($S134=\"\",\"\",IFERROR(INDIRECT(\"'\"&OFFSET($F$4,$S134,0)&\"'!o\"&COUNTIF($S$1:$S134,$S134)+10),\"\"))","v":""},"","",null,{"$f":"IFERROR(LOOKUP(2,1/(COUNTIF($AB$1:AB133,OFFSET($Y$2,0,0,$T$2))=0),OFFSET($Y$2,0,0,$T$2)),\"\")","v":""},{"$f":"IFERROR(INDEX(OFFSET($AB$2,0,0,$AA$2),MATCH(SMALL(NOT(OFFSET($AB$2,0,0,$AA$2)=\"\")*IF(ISNUMBER(OFFSET($AB$2,0,0,$AA$2)),COUNTIF(OFFSET($AB$2,0,0,$AA$2),\"<=\"& OFFSET($AB$2,0,0,$AA$2)),COUNTIF(OFFSET($AB$2,0,0,$AA$2),\"<=\"& OFFSET($AB$2,0,0,$AA$2))+SUM(--ISNUMBER(OFFSET($AB$2,0,0,$AA$2)))),ROWS(A$2:$AB134)+SUM(--ISBLANK(OFFSET($AB$2,0,0,$AA$2)))),NOT(OFFSET($AB$2,0,0,$AA$2)=\"\")*IF(ISNUMBER(OFFSET($AB$2,0,0,$AA$2)),COUNTIF(OFFSET($AB$2,0,0,$AA$2),\"<=\"& OFFSET($AB$2,0,0,$AA$2)),COUNTIF(OFFSET($AB$2,0,0,$AA$2),\"<=\"& OFFSET($AB$2,0,0,$AA$2))+SUM(--ISNUMBER(OFFSET($AB$2,0,0,$AA$2)))),0)),\"\")","v":""}]
[null,null,null,null,null,null,null,null,null,null,null,null,null,null,null,null,null,null,{"$f":"IFERROR(IF(INDIRECT(\"'\"&OFFSET($F$4,S134,0)&\"'!B\"&COUNTIF($S$1:S134,S134)+11)=\"\",$S134+1,S134),\"\")","v":""},null,{"$f":"IF($S135=\"\",\"\",IFERROR(INDIRECT(\"'\"&OFFSET($F$4,$S135,0)&\"'!B\"&COUNTIF($S$1:$S135,$S135)+10),\"\"))","v":""},{"$f":"IF($S135=\"\",\"\",IFERROR(INDIRECT(\"'\"&OFFSET($F$4,$S135,0)&\"'!c\"&COUNTIF($S$1:$S135,$S135)+10),\"\"))","v":""},"",{"$f":"IF($S135=\"\",\"\",IFERROR(INDIRECT(\"'\"&OFFSET($F$4,$S135,0)&\"'!o\"&COUNTIF($S$1:$S135,$S135)+10),\"\"))","v":""},"","",null,{"$f":"IFERROR(LOOKUP(2,1/(COUNTIF($AB$1:AB134,OFFSET($Y$2,0,0,$T$2))=0),OFFSET($Y$2,0,0,$T$2)),\"\")","v":""},{"$f":"IFERROR(INDEX(OFFSET($AB$2,0,0,$AA$2),MATCH(SMALL(NOT(OFFSET($AB$2,0,0,$AA$2)=\"\")*IF(ISNUMBER(OFFSET($AB$2,0,0,$AA$2)),COUNTIF(OFFSET($AB$2,0,0,$AA$2),\"<=\"& OFFSET($AB$2,0,0,$AA$2)),COUNTIF(OFFSET($AB$2,0,0,$AA$2),\"<=\"& OFFSET($AB$2,0,0,$AA$2))+SUM(--ISNUMBER(OFFSET($AB$2,0,0,$AA$2)))),ROWS(A$2:$AB135)+SUM(--ISBLANK(OFFSET($AB$2,0,0,$AA$2)))),NOT(OFFSET($AB$2,0,0,$AA$2)=\"\")*IF(ISNUMBER(OFFSET($AB$2,0,0,$AA$2)),COUNTIF(OFFSET($AB$2,0,0,$AA$2),\"<=\"& OFFSET($AB$2,0,0,$AA$2)),COUNTIF(OFFSET($AB$2,0,0,$AA$2),\"<=\"& OFFSET($AB$2,0,0,$AA$2))+SUM(--ISNUMBER(OFFSET($AB$2,0,0,$AA$2)))),0)),\"\")","v":""}]
[null,null,null,null,null,null,null,null,null,null,null,null,null,null,null,null,null,null,{"$f":"IFERROR(IF(INDIRECT(\"'\"&OFFSET($F$4,S135,0)&\"'!B\"&COUNTIF($S$1:S135,S135)+11)=\"\",$S135+1,S135),\"\")","v":""},null,{"$f":"IF($S136=\"\",\"\",IFERROR(INDIRECT(\"'\"&OFFSET($F$4,$S136,0)&\"'!B\"&COUNTIF($S$1:$S136,$S136)+10),\"\"))","v":""},{"$f":"IF($S136=\"\",\"\",IFERROR(INDIRECT(\"'\"&OFFSET($F$4,$S136,0)&\"'!c\"&COUNTIF($S$1:$S136,$S136)+10),\"\"))","v":""},"",{"$f":"IF($S136=\"\",\"\",IFERROR(INDIRECT(\"'\"&OFFSET($F$4,$S136,0)&\"'!o\"&COUNTIF($S$1:$S136,$S136)+10),\"\"))","v":""},"","",null,{"$f":"IFERROR(LOOKUP(2,1/(COUNTIF($AB$1:AB135,OFFSET($Y$2,0,0,$T$2))=0),OFFSET($Y$2,0,0,$T$2)),\"\")","v":""},{"$f":"IFERROR(INDEX(OFFSET($AB$2,0,0,$AA$2),MATCH(SMALL(NOT(OFFSET($AB$2,0,0,$AA$2)=\"\")*IF(ISNUMBER(OFFSET($AB$2,0,0,$AA$2)),COUNTIF(OFFSET($AB$2,0,0,$AA$2),\"<=\"& OFFSET($AB$2,0,0,$AA$2)),COUNTIF(OFFSET($AB$2,0,0,$AA$2),\"<=\"& OFFSET($AB$2,0,0,$AA$2))+SUM(--ISNUMBER(OFFSET($AB$2,0,0,$AA$2)))),ROWS(A$2:$AB136)+SUM(--ISBLANK(OFFSET($AB$2,0,0,$AA$2)))),NOT(OFFSET($AB$2,0,0,$AA$2)=\"\")*IF(ISNUMBER(OFFSET($AB$2,0,0,$AA$2)),COUNTIF(OFFSET($AB$2,0,0,$AA$2),\"<=\"& OFFSET($AB$2,0,0,$AA$2)),COUNTIF(OFFSET($AB$2,0,0,$AA$2),\"<=\"& OFFSET($AB$2,0,0,$AA$2))+SUM(--ISNUMBER(OFFSET($AB$2,0,0,$AA$2)))),0)),\"\")","v":""}]
[null,null,null,null,null,null,null,null,null,null,null,null,null,null,null,null,null,null,{"$f":"IFERROR(IF(INDIRECT(\"'\"&OFFSET($F$4,S136,0)&\"'!B\"&COUNTIF($S$1:S136,S136)+11)=\"\",$S136+1,S136),\"\")","v":""},null,{"$f":"IF($S137=\"\",\"\",IFERROR(INDIRECT(\"'\"&OFFSET($F$4,$S137,0)&\"'!B\"&COUNTIF($S$1:$S137,$S137)+10),\"\"))","v":""},{"$f":"IF($S137=\"\",\"\",IFERROR(INDIRECT(\"'\"&OFFSET($F$4,$S137,0)&\"'!c\"&COUNTIF($S$1:$S137,$S137)+10),\"\"))","v":""},"",{"$f":"IF($S137=\"\",\"\",IFERROR(INDIRECT(\"'\"&OFFSET($F$4,$S137,0)&\"'!o\"&COUNTIF($S$1:$S137,$S137)+10),\"\"))","v":""},"","",null,{"$f":"IFERROR(LOOKUP(2,1/(COUNTIF($AB$1:AB136,OFFSET($Y$2,0,0,$T$2))=0),OFFSET($Y$2,0,0,$T$2)),\"\")","v":""},{"$f":"IFERROR(INDEX(OFFSET($AB$2,0,0,$AA$2),MATCH(SMALL(NOT(OFFSET($AB$2,0,0,$AA$2)=\"\")*IF(ISNUMBER(OFFSET($AB$2,0,0,$AA$2)),COUNTIF(OFFSET($AB$2,0,0,$AA$2),\"<=\"& OFFSET($AB$2,0,0,$AA$2)),COUNTIF(OFFSET($AB$2,0,0,$AA$2),\"<=\"& OFFSET($AB$2,0,0,$AA$2))+SUM(--ISNUMBER(OFFSET($AB$2,0,0,$AA$2)))),ROWS(A$2:$AB137)+SUM(--ISBLANK(OFFSET($AB$2,0,0,$AA$2)))),NOT(OFFSET($AB$2,0,0,$AA$2)=\"\")*IF(ISNUMBER(OFFSET($AB$2,0,0,$AA$2)),COUNTIF(OFFSET($AB$2,0,0,$AA$2),\"<=\"& OFFSET($AB$2,0,0,$AA$2)),COUNTIF(OFFSET($AB$2,0,0,$AA$2),\"<=\"& OFFSET($AB$2,0,0,$AA$2))+SUM(--ISNUMBER(OFFSET($AB$2,0,0,$AA$2)))),0)),\"\")","v":""}]
[null,null,null,null,null,null,null,null,null,null,null,null,null,null,null,null,null,null,{"$f":"IFERROR(IF(INDIRECT(\"'\"&OFFSET($F$4,S137,0)&\"'!B\"&COUNTIF($S$1:S137,S137)+11)=\"\",$S137+1,S137),\"\")","v":""},null,{"$f":"IF($S138=\"\",\"\",IFERROR(INDIRECT(\"'\"&OFFSET($F$4,$S138,0)&\"'!B\"&COUNTIF($S$1:$S138,$S138)+10),\"\"))","v":""},{"$f":"IF($S138=\"\",\"\",IFERROR(INDIRECT(\"'\"&OFFSET($F$4,$S138,0)&\"'!c\"&COUNTIF($S$1:$S138,$S138)+10),\"\"))","v":""},"",{"$f":"IF($S138=\"\",\"\",IFERROR(INDIRECT(\"'\"&OFFSET($F$4,$S138,0)&\"'!o\"&COUNTIF($S$1:$S138,$S138)+10),\"\"))","v":""},"","",null,{"$f":"IFERROR(LOOKUP(2,1/(COUNTIF($AB$1:AB137,OFFSET($Y$2,0,0,$T$2))=0),OFFSET($Y$2,0,0,$T$2)),\"\")","v":""},{"$f":"IFERROR(INDEX(OFFSET($AB$2,0,0,$AA$2),MATCH(SMALL(NOT(OFFSET($AB$2,0,0,$AA$2)=\"\")*IF(ISNUMBER(OFFSET($AB$2,0,0,$AA$2)),COUNTIF(OFFSET($AB$2,0,0,$AA$2),\"<=\"& OFFSET($AB$2,0,0,$AA$2)),COUNTIF(OFFSET($AB$2,0,0,$AA$2),\"<=\"& OFFSET($AB$2,0,0,$AA$2))+SUM(--ISNUMBER(OFFSET($AB$2,0,0,$AA$2)))),ROWS(A$2:$AB138)+SUM(--ISBLANK(OFFSET($AB$2,0,0,$AA$2)))),NOT(OFFSET($AB$2,0,0,$AA$2)=\"\")*IF(ISNUMBER(OFFSET($AB$2,0,0,$AA$2)),COUNTIF(OFFSET($AB$2,0,0,$AA$2),\"<=\"& OFFSET($AB$2,0,0,$AA$2)),COUNTIF(OFFSET($AB$2,0,0,$AA$2),\"<=\"& OFFSET($AB$2,0,0,$AA$2))+SUM(--ISNUMBER(OFFSET($AB$2,0,0,$AA$2)))),0)),\"\")","v":""}]
[null,null,null,null,null,null,null,null,null,null,null,null,null,null,null,null,null,null,{"$f":"IFERROR(IF(INDIRECT(\"'\"&OFFSET($F$4,S138,0)&\"'!B\"&COUNTIF($S$1:S138,S138)+11)=\"\",$S138+1,S138),\"\")","v":""},null,{"$f":"IF($S139=\"\",\"\",IFERROR(INDIRECT(\"'\"&OFFSET($F$4,$S139,0)&\"'!B\"&COUNTIF($S$1:$S139,$S139)+10),\"\"))","v":""},{"$f":"IF($S139=\"\",\"\",IFERROR(INDIRECT(\"'\"&OFFSET($F$4,$S139,0)&\"'!c\"&COUNTIF($S$1:$S139,$S139)+10),\"\"))","v":""},"",{"$f":"IF($S139=\"\",\"\",IFERROR(INDIRECT(\"'\"&OFFSET($F$4,$S139,0)&\"'!o\"&COUNTIF($S$1:$S139,$S139)+10),\"\"))","v":""},"","",null,{"$f":"IFERROR(LOOKUP(2,1/(COUNTIF($AB$1:AB138,OFFSET($Y$2,0,0,$T$2))=0),OFFSET($Y$2,0,0,$T$2)),\"\")","v":""},{"$f":"IFERROR(INDEX(OFFSET($AB$2,0,0,$AA$2),MATCH(SMALL(NOT(OFFSET($AB$2,0,0,$AA$2)=\"\")*IF(ISNUMBER(OFFSET($AB$2,0,0,$AA$2)),COUNTIF(OFFSET($AB$2,0,0,$AA$2),\"<=\"& OFFSET($AB$2,0,0,$AA$2)),COUNTIF(OFFSET($AB$2,0,0,$AA$2),\"<=\"& OFFSET($AB$2,0,0,$AA$2))+SUM(--ISNUMBER(OFFSET($AB$2,0,0,$AA$2)))),ROWS(A$2:$AB139)+SUM(--ISBLANK(OFFSET($AB$2,0,0,$AA$2)))),NOT(OFFSET($AB$2,0,0,$AA$2)=\"\")*IF(ISNUMBER(OFFSET($AB$2,0,0,$AA$2)),COUNTIF(OFFSET($AB$2,0,0,$AA$2),\"<=\"& OFFSET($AB$2,0,0,$AA$2)),COUNTIF(OFFSET($AB$2,0,0,$AA$2),\"<=\"& OFFSET($AB$2,0,0,$AA$2))+SUM(--ISNUMBER(OFFSET($AB$2,0,0,$AA$2)))),0)),\"\")","v":""}]
[null,null,null,null,null,null,null,null,null,null,null,null,null,null,null,null,null,null,{"$f":"IFERROR(IF(INDIRECT(\"'\"&OFFSET($F$4,S139,0)&\"'!B\"&COUNTIF($S$1:S139,S139)+11)=\"\",$S139+1,S139),\"\")","v":""},null,{"$f":"IF($S140=\"\",\"\",IFERROR(INDIRECT(\"'\"&OFFSET($F$4,$S140,0)&\"'!B\"&COUNTIF($S$1:$S140,$S140)+10),\"\"))","v":""},{"$f":"IF($S140=\"\",\"\",IFERROR(INDIRECT(\"'\"&OFFSET($F$4,$S140,0)&\"'!c\"&COUNTIF($S$1:$S140,$S140)+10),\"\"))","v":""},"",{"$f":"IF($S140=\"\",\"\",IFERROR(INDIRECT(\"'\"&OFFSET($F$4,$S140,0)&\"'!o\"&COUNTIF($S$1:$S140,$S140)+10),\"\"))","v":""},"","",null,{"$f":"IFERROR(LOOKUP(2,1/(COUNTIF($AB$1:AB139,OFFSET($Y$2,0,0,$T$2))=0),OFFSET($Y$2,0,0,$T$2)),\"\")","v":""},{"$f":"IFERROR(INDEX(OFFSET($AB$2,0,0,$AA$2),MATCH(SMALL(NOT(OFFSET($AB$2,0,0,$AA$2)=\"\")*IF(ISNUMBER(OFFSET($AB$2,0,0,$AA$2)),COUNTIF(OFFSET($AB$2,0,0,$AA$2),\"<=\"& OFFSET($AB$2,0,0,$AA$2)),COUNTIF(OFFSET($AB$2,0,0,$AA$2),\"<=\"& OFFSET($AB$2,0,0,$AA$2))+SUM(--ISNUMBER(OFFSET($AB$2,0,0,$AA$2)))),ROWS(A$2:$AB140)+SUM(--ISBLANK(OFFSET($AB$2,0,0,$AA$2)))),NOT(OFFSET($AB$2,0,0,$AA$2)=\"\")*IF(ISNUMBER(OFFSET($AB$2,0,0,$AA$2)),COUNTIF(OFFSET($AB$2,0,0,$AA$2),\"<=\"& OFFSET($AB$2,0,0,$AA$2)),COUNTIF(OFFSET($AB$2,0,0,$AA$2),\"<=\"& OFFSET($AB$2,0,0,$AA$2))+SUM(--ISNUMBER(OFFSET($AB$2,0,0,$AA$2)))),0)),\"\")","v":""}]
[null,null,null,null,null,null,null,null,null,null,null,null,null,null,null,null,null,null,{"$f":"IFERROR(IF(INDIRECT(\"'\"&OFFSET($F$4,S140,0)&\"'!B\"&COUNTIF($S$1:S140,S140)+11)=\"\",$S140+1,S140),\"\")","v":""},null,{"$f":"IF($S141=\"\",\"\",IFERROR(INDIRECT(\"'\"&OFFSET($F$4,$S141,0)&\"'!B\"&COUNTIF($S$1:$S141,$S141)+10),\"\"))","v":""},{"$f":"IF($S141=\"\",\"\",IFERROR(INDIRECT(\"'\"&OFFSET($F$4,$S141,0)&\"'!c\"&COUNTIF($S$1:$S141,$S141)+10),\"\"))","v":""},"",{"$f":"IF($S141=\"\",\"\",IFERROR(INDIRECT(\"'\"&OFFSET($F$4,$S141,0)&\"'!o\"&COUNTIF($S$1:$S141,$S141)+10),\"\"))","v":""},"","",null,{"$f":"IFERROR(LOOKUP(2,1/(COUNTIF($AB$1:AB140,OFFSET($Y$2,0,0,$T$2))=0),OFFSET($Y$2,0,0,$T$2)),\"\")","v":""},{"$f":"IFERROR(INDEX(OFFSET($AB$2,0,0,$AA$2),MATCH(SMALL(NOT(OFFSET($AB$2,0,0,$AA$2)=\"\")*IF(ISNUMBER(OFFSET($AB$2,0,0,$AA$2)),COUNTIF(OFFSET($AB$2,0,0,$AA$2),\"<=\"& OFFSET($AB$2,0,0,$AA$2)),COUNTIF(OFFSET($AB$2,0,0,$AA$2),\"<=\"& OFFSET($AB$2,0,0,$AA$2))+SUM(--ISNUMBER(OFFSET($AB$2,0,0,$AA$2)))),ROWS(A$2:$AB141)+SUM(--ISBLANK(OFFSET($AB$2,0,0,$AA$2)))),NOT(OFFSET($AB$2,0,0,$AA$2)=\"\")*IF(ISNUMBER(OFFSET($AB$2,0,0,$AA$2)),COUNTIF(OFFSET($AB$2,0,0,$AA$2),\"<=\"& OFFSET($AB$2,0,0,$AA$2)),COUNTIF(OFFSET($AB$2,0,0,$AA$2),\"<=\"& OFFSET($AB$2,0,0,$AA$2))+SUM(--ISNUMBER(OFFSET($AB$2,0,0,$AA$2)))),0)),\"\")","v":""}]
[null,null,null,null,null,null,null,null,null,null,null,null,null,null,null,null,null,null,{"$f":"IFERROR(IF(INDIRECT(\"'\"&OFFSET($F$4,S141,0)&\"'!B\"&COUNTIF($S$1:S141,S141)+11)=\"\",$S141+1,S141),\"\")","v":""},null,{"$f":"IF($S142=\"\",\"\",IFERROR(INDIRECT(\"'\"&OFFSET($F$4,$S142,0)&\"'!B\"&COUNTIF($S$1:$S142,$S142)+10),\"\"))","v":""},{"$f":"IF($S142=\"\",\"\",IFERROR(INDIRECT(\"'\"&OFFSET($F$4,$S142,0)&\"'!c\"&COUNTIF($S$1:$S142,$S142)+10),\"\"))","v":""},"",{"$f":"IF($S142=\"\",\"\",IFERROR(INDIRECT(\"'\"&OFFSET($F$4,$S142,0)&\"'!o\"&COUNTIF($S$1:$S142,$S142)+10),\"\"))","v":""},"","",null,{"$f":"IFERROR(LOOKUP(2,1/(COUNTIF($AB$1:AB141,OFFSET($Y$2,0,0,$T$2))=0),OFFSET($Y$2,0,0,$T$2)),\"\")","v":""},{"$f":"IFERROR(INDEX(OFFSET($AB$2,0,0,$AA$2),MATCH(SMALL(NOT(OFFSET($AB$2,0,0,$AA$2)=\"\")*IF(ISNUMBER(OFFSET($AB$2,0,0,$AA$2)),COUNTIF(OFFSET($AB$2,0,0,$AA$2),\"<=\"& OFFSET($AB$2,0,0,$AA$2)),COUNTIF(OFFSET($AB$2,0,0,$AA$2),\"<=\"& OFFSET($AB$2,0,0,$AA$2))+SUM(--ISNUMBER(OFFSET($AB$2,0,0,$AA$2)))),ROWS(A$2:$AB142)+SUM(--ISBLANK(OFFSET($AB$2,0,0,$AA$2)))),NOT(OFFSET($AB$2,0,0,$AA$2)=\"\")*IF(ISNUMBER(OFFSET($AB$2,0,0,$AA$2)),COUNTIF(OFFSET($AB$2,0,0,$AA$2),\"<=\"& OFFSET($AB$2,0,0,$AA$2)),COUNTIF(OFFSET($AB$2,0,0,$AA$2),\"<=\"& OFFSET($AB$2,0,0,$AA$2))+SUM(--ISNUMBER(OFFSET($AB$2,0,0,$AA$2)))),0)),\"\")","v":""}]
[null,null,null,null,null,null,null,null,null,null,null,null,null,null,null,null,null,null,{"$f":"IFERROR(IF(INDIRECT(\"'\"&OFFSET($F$4,S142,0)&\"'!B\"&COUNTIF($S$1:S142,S142)+11)=\"\",$S142+1,S142),\"\")","v":""},null,{"$f":"IF($S143=\"\",\"\",IFERROR(INDIRECT(\"'\"&OFFSET($F$4,$S143,0)&\"'!B\"&COUNTIF($S$1:$S143,$S143)+10),\"\"))","v":""},{"$f":"IF($S143=\"\",\"\",IFERROR(INDIRECT(\"'\"&OFFSET($F$4,$S143,0)&\"'!c\"&COUNTIF($S$1:$S143,$S143)+10),\"\"))","v":""},"",{"$f":"IF($S143=\"\",\"\",IFERROR(INDIRECT(\"'\"&OFFSET($F$4,$S143,0)&\"'!o\"&COUNTIF($S$1:$S143,$S143)+10),\"\"))","v":""},"","",null,{"$f":"IFERROR(LOOKUP(2,1/(COUNTIF($AB$1:AB142,OFFSET($Y$2,0,0,$T$2))=0),OFFSET($Y$2,0,0,$T$2)),\"\")","v":""},{"$f":"IFERROR(INDEX(OFFSET($AB$2,0,0,$AA$2),MATCH(SMALL(NOT(OFFSET($AB$2,0,0,$AA$2)=\"\")*IF(ISNUMBER(OFFSET($AB$2,0,0,$AA$2)),COUNTIF(OFFSET($AB$2,0,0,$AA$2),\"<=\"& OFFSET($AB$2,0,0,$AA$2)),COUNTIF(OFFSET($AB$2,0,0,$AA$2),\"<=\"& OFFSET($AB$2,0,0,$AA$2))+SUM(--ISNUMBER(OFFSET($AB$2,0,0,$AA$2)))),ROWS(A$2:$AB143)+SUM(--ISBLANK(OFFSET($AB$2,0,0,$AA$2)))),NOT(OFFSET($AB$2,0,0,$AA$2)=\"\")*IF(ISNUMBER(OFFSET($AB$2,0,0,$AA$2)),COUNTIF(OFFSET($AB$2,0,0,$AA$2),\"<=\"& OFFSET($AB$2,0,0,$AA$2)),COUNTIF(OFFSET($AB$2,0,0,$AA$2),\"<=\"& OFFSET($AB$2,0,0,$AA$2))+SUM(--ISNUMBER(OFFSET($AB$2,0,0,$AA$2)))),0)),\"\")","v":""}]
[null,null,null,null,null,null,null,null,null,null,null,null,null,null,null,null,null,null,{"$f":"IFERROR(IF(INDIRECT(\"'\"&OFFSET($F$4,S143,0)&\"'!B\"&COUNTIF($S$1:S143,S143)+11)=\"\",$S143+1,S143),\"\")","v":""},null,{"$f":"IF($S144=\"\",\"\",IFERROR(INDIRECT(\"'\"&OFFSET($F$4,$S144,0)&\"'!B\"&COUNTIF($S$1:$S144,$S144)+10),\"\"))","v":""},{"$f":"IF($S144=\"\",\"\",IFERROR(INDIRECT(\"'\"&OFFSET($F$4,$S144,0)&\"'!c\"&COUNTIF($S$1:$S144,$S144)+10),\"\"))","v":""},"",{"$f":"IF($S144=\"\",\"\",IFERROR(INDIRECT(\"'\"&OFFSET($F$4,$S144,0)&\"'!o\"&COUNTIF($S$1:$S144,$S144)+10),\"\"))","v":""},"","",null,{"$f":"IFERROR(LOOKUP(2,1/(COUNTIF($AB$1:AB143,OFFSET($Y$2,0,0,$T$2))=0),OFFSET($Y$2,0,0,$T$2)),\"\")","v":""},{"$f":"IFERROR(INDEX(OFFSET($AB$2,0,0,$AA$2),MATCH(SMALL(NOT(OFFSET($AB$2,0,0,$AA$2)=\"\")*IF(ISNUMBER(OFFSET($AB$2,0,0,$AA$2)),COUNTIF(OFFSET($AB$2,0,0,$AA$2),\"<=\"& OFFSET($AB$2,0,0,$AA$2)),COUNTIF(OFFSET($AB$2,0,0,$AA$2),\"<=\"& OFFSET($AB$2,0,0,$AA$2))+SUM(--ISNUMBER(OFFSET($AB$2,0,0,$AA$2)))),ROWS(A$2:$AB144)+SUM(--ISBLANK(OFFSET($AB$2,0,0,$AA$2)))),NOT(OFFSET($AB$2,0,0,$AA$2)=\"\")*IF(ISNUMBER(OFFSET($AB$2,0,0,$AA$2)),COUNTIF(OFFSET($AB$2,0,0,$AA$2),\"<=\"& OFFSET($AB$2,0,0,$AA$2)),COUNTIF(OFFSET($AB$2,0,0,$AA$2),\"<=\"& OFFSET($AB$2,0,0,$AA$2))+SUM(--ISNUMBER(OFFSET($AB$2,0,0,$AA$2)))),0)),\"\")","v":""}]
[null,null,null,null,null,null,null,null,null,null,null,null,null,null,null,null,null,null,{"$f":"IFERROR(IF(INDIRECT(\"'\"&OFFSET($F$4,S144,0)&\"'!B\"&COUNTIF($S$1:S144,S144)+11)=\"\",$S144+1,S144),\"\")","v":""},null,{"$f":"IF($S145=\"\",\"\",IFERROR(INDIRECT(\"'\"&OFFSET($F$4,$S145,0)&\"'!B\"&COUNTIF($S$1:$S145,$S145)+10),\"\"))","v":""},{"$f":"IF($S145=\"\",\"\",IFERROR(INDIRECT(\"'\"&OFFSET($F$4,$S145,0)&\"'!c\"&COUNTIF($S$1:$S145,$S145)+10),\"\"))","v":""},"",{"$f":"IF($S145=\"\",\"\",IFERROR(INDIRECT(\"'\"&OFFSET($F$4,$S145,0)&\"'!o\"&COUNTIF($S$1:$S145,$S145)+10),\"\"))","v":""},"","",null,{"$f":"IFERROR(LOOKUP(2,1/(COUNTIF($AB$1:AB144,OFFSET($Y$2,0,0,$T$2))=0),OFFSET($Y$2,0,0,$T$2)),\"\")","v":""},{"$f":"IFERROR(INDEX(OFFSET($AB$2,0,0,$AA$2),MATCH(SMALL(NOT(OFFSET($AB$2,0,0,$AA$2)=\"\")*IF(ISNUMBER(OFFSET($AB$2,0,0,$AA$2)),COUNTIF(OFFSET($AB$2,0,0,$AA$2),\"<=\"& OFFSET($AB$2,0,0,$AA$2)),COUNTIF(OFFSET($AB$2,0,0,$AA$2),\"<=\"& OFFSET($AB$2,0,0,$AA$2))+SUM(--ISNUMBER(OFFSET($AB$2,0,0,$AA$2)))),ROWS(A$2:$AB145)+SUM(--ISBLANK(OFFSET($AB$2,0,0,$AA$2)))),NOT(OFFSET($AB$2,0,0,$AA$2)=\"\")*IF(ISNUMBER(OFFSET($AB$2,0,0,$AA$2)),COUNTIF(OFFSET($AB$2,0,0,$AA$2),\"<=\"& OFFSET($AB$2,0,0,$AA$2)),COUNTIF(OFFSET($AB$2,0,0,$AA$2),\"<=\"& OFFSET($AB$2,0,0,$AA$2))+SUM(--ISNUMBER(OFFSET($AB$2,0,0,$AA$2)))),0)),\"\")","v":""}]
[null,null,null,null,null,null,null,null,null,null,null,null,null,null,null,null,null,null,{"$f":"IFERROR(IF(INDIRECT(\"'\"&OFFSET($F$4,S145,0)&\"'!B\"&COUNTIF($S$1:S145,S145)+11)=\"\",$S145+1,S145),\"\")","v":""},null,{"$f":"IF($S146=\"\",\"\",IFERROR(INDIRECT(\"'\"&OFFSET($F$4,$S146,0)&\"'!B\"&COUNTIF($S$1:$S146,$S146)+10),\"\"))","v":""},{"$f":"IF($S146=\"\",\"\",IFERROR(INDIRECT(\"'\"&OFFSET($F$4,$S146,0)&\"'!c\"&COUNTIF($S$1:$S146,$S146)+10),\"\"))","v":""},"",{"$f":"IF($S146=\"\",\"\",IFERROR(INDIRECT(\"'\"&OFFSET($F$4,$S146,0)&\"'!o\"&COUNTIF($S$1:$S146,$S146)+10),\"\"))","v":""},"","",null,{"$f":"IFERROR(LOOKUP(2,1/(COUNTIF($AB$1:AB145,OFFSET($Y$2,0,0,$T$2))=0),OFFSET($Y$2,0,0,$T$2)),\"\")","v":""},{"$f":"IFERROR(INDEX(OFFSET($AB$2,0,0,$AA$2),MATCH(SMALL(NOT(OFFSET($AB$2,0,0,$AA$2)=\"\")*IF(ISNUMBER(OFFSET($AB$2,0,0,$AA$2)),COUNTIF(OFFSET($AB$2,0,0,$AA$2),\"<=\"& OFFSET($AB$2,0,0,$AA$2)),COUNTIF(OFFSET($AB$2,0,0,$AA$2),\"<=\"& OFFSET($AB$2,0,0,$AA$2))+SUM(--ISNUMBER(OFFSET($AB$2,0,0,$AA$2)))),ROWS(A$2:$AB146)+SUM(--ISBLANK(OFFSET($AB$2,0,0,$AA$2)))),NOT(OFFSET($AB$2,0,0,$AA$2)=\"\")*IF(ISNUMBER(OFFSET($AB$2,0,0,$AA$2)),COUNTIF(OFFSET($AB$2,0,0,$AA$2),\"<=\"& OFFSET($AB$2,0,0,$AA$2)),COUNTIF(OFFSET($AB$2,0,0,$AA$2),\"<=\"& OFFSET($AB$2,0,0,$AA$2))+SUM(--ISNUMBER(OFFSET($AB$2,0,0,$AA$2)))),0)),\"\")","v":""}]
[null,null,null,null,null,null,null,null,null,null,null,null,null,null,null,null,null,null,{"$f":"IFERROR(IF(INDIRECT(\"'\"&OFFSET($F$4,S146,0)&\"'!B\"&COUNTIF($S$1:S146,S146)+11)=\"\",$S146+1,S146),\"\")","v":""},null,{"$f":"IF($S147=\"\",\"\",IFERROR(INDIRECT(\"'\"&OFFSET($F$4,$S147,0)&\"'!B\"&COUNTIF($S$1:$S147,$S147)+10),\"\"))","v":""},{"$f":"IF($S147=\"\",\"\",IFERROR(INDIRECT(\"'\"&OFFSET($F$4,$S147,0)&\"'!c\"&COUNTIF($S$1:$S147,$S147)+10),\"\"))","v":""},"",{"$f":"IF($S147=\"\",\"\",IFERROR(INDIRECT(\"'\"&OFFSET($F$4,$S147,0)&\"'!o\"&COUNTIF($S$1:$S147,$S147)+10),\"\"))","v":""},"","",null,{"$f":"IFERROR(LOOKUP(2,1/(COUNTIF($AB$1:AB146,OFFSET($Y$2,0,0,$T$2))=0),OFFSET($Y$2,0,0,$T$2)),\"\")","v":""},{"$f":"IFERROR(INDEX(OFFSET($AB$2,0,0,$AA$2),MATCH(SMALL(NOT(OFFSET($AB$2,0,0,$AA$2)=\"\")*IF(ISNUMBER(OFFSET($AB$2,0,0,$AA$2)),COUNTIF(OFFSET($AB$2,0,0,$AA$2),\"<=\"& OFFSET($AB$2,0,0,$AA$2)),COUNTIF(OFFSET($AB$2,0,0,$AA$2),\"<=\"& OFFSET($AB$2,0,0,$AA$2))+SUM(--ISNUMBER(OFFSET($AB$2,0,0,$AA$2)))),ROWS(A$2:$AB147)+SUM(--ISBLANK(OFFSET($AB$2,0,0,$AA$2)))),NOT(OFFSET($AB$2,0,0,$AA$2)=\"\")*IF(ISNUMBER(OFFSET($AB$2,0,0,$AA$2)),COUNTIF(OFFSET($AB$2,0,0,$AA$2),\"<=\"& OFFSET($AB$2,0,0,$AA$2)),COUNTIF(OFFSET($AB$2,0,0,$AA$2),\"<=\"& OFFSET($AB$2,0,0,$AA$2))+SUM(--ISNUMBER(OFFSET($AB$2,0,0,$AA$2)))),0)),\"\")","v":""}]
[null,null,null,null,null,null,null,null,null,null,null,null,null,null,null,null,null,null,{"$f":"IFERROR(IF(INDIRECT(\"'\"&OFFSET($F$4,S147,0)&\"'!B\"&COUNTIF($S$1:S147,S147)+11)=\"\",$S147+1,S147),\"\")","v":""},null,{"$f":"IF($S148=\"\",\"\",IFERROR(INDIRECT(\"'\"&OFFSET($F$4,$S148,0)&\"'!B\"&COUNTIF($S$1:$S148,$S148)+10),\"\"))","v":""},{"$f":"IF($S148=\"\",\"\",IFERROR(INDIRECT(\"'\"&OFFSET($F$4,$S148,0)&\"'!c\"&COUNTIF($S$1:$S148,$S148)+10),\"\"))","v":""},"",{"$f":"IF($S148=\"\",\"\",IFERROR(INDIRECT(\"'\"&OFFSET($F$4,$S148,0)&\"'!o\"&COUNTIF($S$1:$S148,$S148)+10),\"\"))","v":""},"","",null,{"$f":"IFERROR(LOOKUP(2,1/(COUNTIF($AB$1:AB147,OFFSET($Y$2,0,0,$T$2))=0),OFFSET($Y$2,0,0,$T$2)),\"\")","v":""},{"$f":"IFERROR(INDEX(OFFSET($AB$2,0,0,$AA$2),MATCH(SMALL(NOT(OFFSET($AB$2,0,0,$AA$2)=\"\")*IF(ISNUMBER(OFFSET($AB$2,0,0,$AA$2)),COUNTIF(OFFSET($AB$2,0,0,$AA$2),\"<=\"& OFFSET($AB$2,0,0,$AA$2)),COUNTIF(OFFSET($AB$2,0,0,$AA$2),\"<=\"& OFFSET($AB$2,0,0,$AA$2))+SUM(--ISNUMBER(OFFSET($AB$2,0,0,$AA$2)))),ROWS(A$2:$AB148)+SUM(--ISBLANK(OFFSET($AB$2,0,0,$AA$2)))),NOT(OFFSET($AB$2,0,0,$AA$2)=\"\")*IF(ISNUMBER(OFFSET($AB$2,0,0,$AA$2)),COUNTIF(OFFSET($AB$2,0,0,$AA$2),\"<=\"& OFFSET($AB$2,0,0,$AA$2)),COUNTIF(OFFSET($AB$2,0,0,$AA$2),\"<=\"& OFFSET($AB$2,0,0,$AA$2))+SUM(--ISNUMBER(OFFSET($AB$2,0,0,$AA$2)))),0)),\"\")","v":""}]
[null,null,null,null,null,null,null,null,null,null,null,null,null,null,null,null,null,null,{"$f":"IFERROR(IF(INDIRECT(\"'\"&OFFSET($F$4,S148,0)&\"'!B\"&COUNTIF($S$1:S148,S148)+11)=\"\",$S148+1,S148),\"\")","v":""},null,{"$f":"IF($S149=\"\",\"\",IFERROR(INDIRECT(\"'\"&OFFSET($F$4,$S149,0)&\"'!B\"&COUNTIF($S$1:$S149,$S149)+10),\"\"))","v":""},{"$f":"IF($S149=\"\",\"\",IFERROR(INDIRECT(\"'\"&OFFSET($F$4,$S149,0)&\"'!c\"&COUNTIF($S$1:$S149,$S149)+10),\"\"))","v":""},"",{"$f":"IF($S149=\"\",\"\",IFERROR(INDIRECT(\"'\"&OFFSET($F$4,$S149,0)&\"'!o\"&COUNTIF($S$1:$S149,$S149)+10),\"\"))","v":""},"","",null,{"$f":"IFERROR(LOOKUP(2,1/(COUNTIF($AB$1:AB148,OFFSET($Y$2,0,0,$T$2))=0),OFFSET($Y$2,0,0,$T$2)),\"\")","v":""},{"$f":"IFERROR(INDEX(OFFSET($AB$2,0,0,$AA$2),MATCH(SMALL(NOT(OFFSET($AB$2,0,0,$AA$2)=\"\")*IF(ISNUMBER(OFFSET($AB$2,0,0,$AA$2)),COUNTIF(OFFSET($AB$2,0,0,$AA$2),\"<=\"& OFFSET($AB$2,0,0,$AA$2)),COUNTIF(OFFSET($AB$2,0,0,$AA$2),\"<=\"& OFFSET($AB$2,0,0,$AA$2))+SUM(--ISNUMBER(OFFSET($AB$2,0,0,$AA$2)))),ROWS(A$2:$AB149)+SUM(--ISBLANK(OFFSET($AB$2,0,0,$AA$2)))),NOT(OFFSET($AB$2,0,0,$AA$2)=\"\")*IF(ISNUMBER(OFFSET($AB$2,0,0,$AA$2)),COUNTIF(OFFSET($AB$2,0,0,$AA$2),\"<=\"& OFFSET($AB$2,0,0,$AA$2)),COUNTIF(OFFSET($AB$2,0,0,$AA$2),\"<=\"& OFFSET($AB$2,0,0,$AA$2))+SUM(--ISNUMBER(OFFSET($AB$2,0,0,$AA$2)))),0)),\"\")","v":""}]
[null,null,null,null,null,null,null,null,null,null,null,null,null,null,null,null,null,null,{"$f":"IFERROR(IF(INDIRECT(\"'\"&OFFSET($F$4,S149,0)&\"'!B\"&COUNTIF($S$1:S149,S149)+11)=\"\",$S149+1,S149),\"\")","v":""},null,{"$f":"IF($S150=\"\",\"\",IFERROR(INDIRECT(\"'\"&OFFSET($F$4,$S150,0)&\"'!B\"&COUNTIF($S$1:$S150,$S150)+10),\"\"))","v":""},{"$f":"IF($S150=\"\",\"\",IFERROR(INDIRECT(\"'\"&OFFSET($F$4,$S150,0)&\"'!c\"&COUNTIF($S$1:$S150,$S150)+10),\"\"))","v":""},"",{"$f":"IF($S150=\"\",\"\",IFERROR(INDIRECT(\"'\"&OFFSET($F$4,$S150,0)&\"'!o\"&COUNTIF($S$1:$S150,$S150)+10),\"\"))","v":""},"","",null,{"$f":"IFERROR(LOOKUP(2,1/(COUNTIF($AB$1:AB149,OFFSET($Y$2,0,0,$T$2))=0),OFFSET($Y$2,0,0,$T$2)),\"\")","v":""},{"$f":"IFERROR(INDEX(OFFSET($AB$2,0,0,$AA$2),MATCH(SMALL(NOT(OFFSET($AB$2,0,0,$AA$2)=\"\")*IF(ISNUMBER(OFFSET($AB$2,0,0,$AA$2)),COUNTIF(OFFSET($AB$2,0,0,$AA$2),\"<=\"& OFFSET($AB$2,0,0,$AA$2)),COUNTIF(OFFSET($AB$2,0,0,$AA$2),\"<=\"& OFFSET($AB$2,0,0,$AA$2))+SUM(--ISNUMBER(OFFSET($AB$2,0,0,$AA$2)))),ROWS(A$2:$AB150)+SUM(--ISBLANK(OFFSET($AB$2,0,0,$AA$2)))),NOT(OFFSET($AB$2,0,0,$AA$2)=\"\")*IF(ISNUMBER(OFFSET($AB$2,0,0,$AA$2)),COUNTIF(OFFSET($AB$2,0,0,$AA$2),\"<=\"& OFFSET($AB$2,0,0,$AA$2)),COUNTIF(OFFSET($AB$2,0,0,$AA$2),\"<=\"& OFFSET($AB$2,0,0,$AA$2))+SUM(--ISNUMBER(OFFSET($AB$2,0,0,$AA$2)))),0)),\"\")","v":""}]
[null,null,null,null,null,null,null,null,null,null,null,null,null,null,null,null,null,null,{"$f":"IFERROR(IF(INDIRECT(\"'\"&OFFSET($F$4,S150,0)&\"'!B\"&COUNTIF($S$1:S150,S150)+11)=\"\",$S150+1,S150),\"\")","v":""},null,{"$f":"IF($S151=\"\",\"\",IFERROR(INDIRECT(\"'\"&OFFSET($F$4,$S151,0)&\"'!B\"&COUNTIF($S$1:$S151,$S151)+10),\"\"))","v":""},{"$f":"IF($S151=\"\",\"\",IFERROR(INDIRECT(\"'\"&OFFSET($F$4,$S151,0)&\"'!c\"&COUNTIF($S$1:$S151,$S151)+10),\"\"))","v":""},"",{"$f":"IF($S151=\"\",\"\",IFERROR(INDIRECT(\"'\"&OFFSET($F$4,$S151,0)&\"'!o\"&COUNTIF($S$1:$S151,$S151)+10),\"\"))","v":""},"","",null,{"$f":"IFERROR(LOOKUP(2,1/(COUNTIF($AB$1:AB150,OFFSET($Y$2,0,0,$T$2))=0),OFFSET($Y$2,0,0,$T$2)),\"\")","v":""},{"$f":"IFERROR(INDEX(OFFSET($AB$2,0,0,$AA$2),MATCH(SMALL(NOT(OFFSET($AB$2,0,0,$AA$2)=\"\")*IF(ISNUMBER(OFFSET($AB$2,0,0,$AA$2)),COUNTIF(OFFSET($AB$2,0,0,$AA$2),\"<=\"& OFFSET($AB$2,0,0,$AA$2)),COUNTIF(OFFSET($AB$2,0,0,$AA$2),\"<=\"& OFFSET($AB$2,0,0,$AA$2))+SUM(--ISNUMBER(OFFSET($AB$2,0,0,$AA$2)))),ROWS(A$2:$AB151)+SUM(--ISBLANK(OFFSET($AB$2,0,0,$AA$2)))),NOT(OFFSET($AB$2,0,0,$AA$2)=\"\")*IF(ISNUMBER(OFFSET($AB$2,0,0,$AA$2)),COUNTIF(OFFSET($AB$2,0,0,$AA$2),\"<=\"& OFFSET($AB$2,0,0,$AA$2)),COUNTIF(OFFSET($AB$2,0,0,$AA$2),\"<=\"& OFFSET($AB$2,0,0,$AA$2))+SUM(--ISNUMBER(OFFSET($AB$2,0,0,$AA$2)))),0)),\"\")","v":""}]
[null,null,null,null,null,null,null,null,null,null,null,null,null,null,null,null,null,null,{"$f":"IFERROR(IF(INDIRECT(\"'\"&OFFSET($F$4,S151,0)&\"'!B\"&COUNTIF($S$1:S151,S151)+11)=\"\",$S151+1,S151),\"\")","v":""},null,{"$f":"IF($S152=\"\",\"\",IFERROR(INDIRECT(\"'\"&OFFSET($F$4,$S152,0)&\"'!B\"&COUNTIF($S$1:$S152,$S152)+10),\"\"))","v":""},{"$f":"IF($S152=\"\",\"\",IFERROR(INDIRECT(\"'\"&OFFSET($F$4,$S152,0)&\"'!c\"&COUNTIF($S$1:$S152,$S152)+10),\"\"))","v":""},"",{"$f":"IF($S152=\"\",\"\",IFERROR(INDIRECT(\"'\"&OFFSET($F$4,$S152,0)&\"'!o\"&COUNTIF($S$1:$S152,$S152)+10),\"\"))","v":""},"","",null,{"$f":"IFERROR(LOOKUP(2,1/(COUNTIF($AB$1:AB151,OFFSET($Y$2,0,0,$T$2))=0),OFFSET($Y$2,0,0,$T$2)),\"\")","v":""},{"$f":"IFERROR(INDEX(OFFSET($AB$2,0,0,$AA$2),MATCH(SMALL(NOT(OFFSET($AB$2,0,0,$AA$2)=\"\")*IF(ISNUMBER(OFFSET($AB$2,0,0,$AA$2)),COUNTIF(OFFSET($AB$2,0,0,$AA$2),\"<=\"& OFFSET($AB$2,0,0,$AA$2)),COUNTIF(OFFSET($AB$2,0,0,$AA$2),\"<=\"& OFFSET($AB$2,0,0,$AA$2))+SUM(--ISNUMBER(OFFSET($AB$2,0,0,$AA$2)))),ROWS(A$2:$AB152)+SUM(--ISBLANK(OFFSET($AB$2,0,0,$AA$2)))),NOT(OFFSET($AB$2,0,0,$AA$2)=\"\")*IF(ISNUMBER(OFFSET($AB$2,0,0,$AA$2)),COUNTIF(OFFSET($AB$2,0,0,$AA$2),\"<=\"& OFFSET($AB$2,0,0,$AA$2)),COUNTIF(OFFSET($AB$2,0,0,$AA$2),\"<=\"& OFFSET($AB$2,0,0,$AA$2))+SUM(--ISNUMBER(OFFSET($AB$2,0,0,$AA$2)))),0)),\"\")","v":""}]
[null,null,null,null,null,null,null,null,null,null,null,null,null,null,null,null,null,null,{"$f":"IFERROR(IF(INDIRECT(\"'\"&OFFSET($F$4,S152,0)&\"'!B\"&COUNTIF($S$1:S152,S152)+11)=\"\",$S152+1,S152),\"\")","v":""},null,{"$f":"IF($S153=\"\",\"\",IFERROR(INDIRECT(\"'\"&OFFSET($F$4,$S153,0)&\"'!B\"&COUNTIF($S$1:$S153,$S153)+10),\"\"))","v":""},{"$f":"IF($S153=\"\",\"\",IFERROR(INDIRECT(\"'\"&OFFSET($F$4,$S153,0)&\"'!c\"&COUNTIF($S$1:$S153,$S153)+10),\"\"))","v":""},"",{"$f":"IF($S153=\"\",\"\",IFERROR(INDIRECT(\"'\"&OFFSET($F$4,$S153,0)&\"'!o\"&COUNTIF($S$1:$S153,$S153)+10),\"\"))","v":""},"","",null,{"$f":"IFERROR(LOOKUP(2,1/(COUNTIF($AB$1:AB152,OFFSET($Y$2,0,0,$T$2))=0),OFFSET($Y$2,0,0,$T$2)),\"\")","v":""},{"$f":"IFERROR(INDEX(OFFSET($AB$2,0,0,$AA$2),MATCH(SMALL(NOT(OFFSET($AB$2,0,0,$AA$2)=\"\")*IF(ISNUMBER(OFFSET($AB$2,0,0,$AA$2)),COUNTIF(OFFSET($AB$2,0,0,$AA$2),\"<=\"& OFFSET($AB$2,0,0,$AA$2)),COUNTIF(OFFSET($AB$2,0,0,$AA$2),\"<=\"& OFFSET($AB$2,0,0,$AA$2))+SUM(--ISNUMBER(OFFSET($AB$2,0,0,$AA$2)))),ROWS(A$2:$AB153)+SUM(--ISBLANK(OFFSET($AB$2,0,0,$AA$2)))),NOT(OFFSET($AB$2,0,0,$AA$2)=\"\")*IF(ISNUMBER(OFFSET($AB$2,0,0,$AA$2)),COUNTIF(OFFSET($AB$2,0,0,$AA$2),\"<=\"& OFFSET($AB$2,0,0,$AA$2)),COUNTIF(OFFSET($AB$2,0,0,$AA$2),\"<=\"& OFFSET($AB$2,0,0,$AA$2))+SUM(--ISNUMBER(OFFSET($AB$2,0,0,$AA$2)))),0)),\"\")","v":""}]
[null,null,null,null,null,null,null,null,null,null,null,null,null,null,null,null,null,null,{"$f":"IFERROR(IF(INDIRECT(\"'\"&OFFSET($F$4,S153,0)&\"'!B\"&COUNTIF($S$1:S153,S153)+11)=\"\",$S153+1,S153),\"\")","v":""},null,{"$f":"IF($S154=\"\",\"\",IFERROR(INDIRECT(\"'\"&OFFSET($F$4,$S154,0)&\"'!B\"&COUNTIF($S$1:$S154,$S154)+10),\"\"))","v":""},{"$f":"IF($S154=\"\",\"\",IFERROR(INDIRECT(\"'\"&OFFSET($F$4,$S154,0)&\"'!c\"&COUNTIF($S$1:$S154,$S154)+10),\"\"))","v":""},"",{"$f":"IF($S154=\"\",\"\",IFERROR(INDIRECT(\"'\"&OFFSET($F$4,$S154,0)&\"'!o\"&COUNTIF($S$1:$S154,$S154)+10),\"\"))","v":""},"","",null,{"$f":"IFERROR(LOOKUP(2,1/(COUNTIF($AB$1:AB153,OFFSET($Y$2,0,0,$T$2))=0),OFFSET($Y$2,0,0,$T$2)),\"\")","v":""},{"$f":"IFERROR(INDEX(OFFSET($AB$2,0,0,$AA$2),MATCH(SMALL(NOT(OFFSET($AB$2,0,0,$AA$2)=\"\")*IF(ISNUMBER(OFFSET($AB$2,0,0,$AA$2)),COUNTIF(OFFSET($AB$2,0,0,$AA$2),\"<=\"& OFFSET($AB$2,0,0,$AA$2)),COUNTIF(OFFSET($AB$2,0,0,$AA$2),\"<=\"& OFFSET($AB$2,0,0,$AA$2))+SUM(--ISNUMBER(OFFSET($AB$2,0,0,$AA$2)))),ROWS(A$2:$AB154)+SUM(--ISBLANK(OFFSET($AB$2,0,0,$AA$2)))),NOT(OFFSET($AB$2,0,0,$AA$2)=\"\")*IF(ISNUMBER(OFFSET($AB$2,0,0,$AA$2)),COUNTIF(OFFSET($AB$2,0,0,$AA$2),\"<=\"& OFFSET($AB$2,0,0,$AA$2)),COUNTIF(OFFSET($AB$2,0,0,$AA$2),\"<=\"& OFFSET($AB$2,0,0,$AA$2))+SUM(--ISNUMBER(OFFSET($AB$2,0,0,$AA$2)))),0)),\"\")","v":""}]
[null,null,null,null,null,null,null,null,null,null,null,null,null,null,null,null,null,null,{"$f":"IFERROR(IF(INDIRECT(\"'\"&OFFSET($F$4,S154,0)&\"'!B\"&COUNTIF($S$1:S154,S154)+11)=\"\",$S154+1,S154),\"\")","v":""},null,{"$f":"IF($S155=\"\",\"\",IFERROR(INDIRECT(\"'\"&OFFSET($F$4,$S155,0)&\"'!B\"&COUNTIF($S$1:$S155,$S155)+10),\"\"))","v":""},{"$f":"IF($S155=\"\",\"\",IFERROR(INDIRECT(\"'\"&OFFSET($F$4,$S155,0)&\"'!c\"&COUNTIF($S$1:$S155,$S155)+10),\"\"))","v":""},"",{"$f":"IF($S155=\"\",\"\",IFERROR(INDIRECT(\"'\"&OFFSET($F$4,$S155,0)&\"'!o\"&COUNTIF($S$1:$S155,$S155)+10),\"\"))","v":""},"","",null,{"$f":"IFERROR(LOOKUP(2,1/(COUNTIF($AB$1:AB154,OFFSET($Y$2,0,0,$T$2))=0),OFFSET($Y$2,0,0,$T$2)),\"\")","v":""},{"$f":"IFERROR(INDEX(OFFSET($AB$2,0,0,$AA$2),MATCH(SMALL(NOT(OFFSET($AB$2,0,0,$AA$2)=\"\")*IF(ISNUMBER(OFFSET($AB$2,0,0,$AA$2)),COUNTIF(OFFSET($AB$2,0,0,$AA$2),\"<=\"& OFFSET($AB$2,0,0,$AA$2)),COUNTIF(OFFSET($AB$2,0,0,$AA$2),\"<=\"& OFFSET($AB$2,0,0,$AA$2))+SUM(--ISNUMBER(OFFSET($AB$2,0,0,$AA$2)))),ROWS(A$2:$AB155)+SUM(--ISBLANK(OFFSET($AB$2,0,0,$AA$2)))),NOT(OFFSET($AB$2,0,0,$AA$2)=\"\")*IF(ISNUMBER(OFFSET($AB$2,0,0,$AA$2)),COUNTIF(OFFSET($AB$2,0,0,$AA$2),\"<=\"& OFFSET($AB$2,0,0,$AA$2)),COUNTIF(OFFSET($AB$2,0,0,$AA$2),\"<=\"& OFFSET($AB$2,0,0,$AA$2))+SUM(--ISNUMBER(OFFSET($AB$2,0,0,$AA$2)))),0)),\"\")","v":""}]
[null,null,null,null,null,null,null,null,null,null,null,null,null,null,null,null,null,null,{"$f":"IFERROR(IF(INDIRECT(\"'\"&OFFSET($F$4,S155,0)&\"'!B\"&COUNTIF($S$1:S155,S155)+11)=\"\",$S155+1,S155),\"\")","v":""},null,{"$f":"IF($S156=\"\",\"\",IFERROR(INDIRECT(\"'\"&OFFSET($F$4,$S156,0)&\"'!B\"&COUNTIF($S$1:$S156,$S156)+10),\"\"))","v":""},{"$f":"IF($S156=\"\",\"\",IFERROR(INDIRECT(\"'\"&OFFSET($F$4,$S156,0)&\"'!c\"&COUNTIF($S$1:$S156,$S156)+10),\"\"))","v":""},"",{"$f":"IF($S156=\"\",\"\",IFERROR(INDIRECT(\"'\"&OFFSET($F$4,$S156,0)&\"'!o\"&COUNTIF($S$1:$S156,$S156)+10),\"\"))","v":""},"","",null,{"$f":"IFERROR(LOOKUP(2,1/(COUNTIF($AB$1:AB155,OFFSET($Y$2,0,0,$T$2))=0),OFFSET($Y$2,0,0,$T$2)),\"\")","v":""},{"$f":"IFERROR(INDEX(OFFSET($AB$2,0,0,$AA$2),MATCH(SMALL(NOT(OFFSET($AB$2,0,0,$AA$2)=\"\")*IF(ISNUMBER(OFFSET($AB$2,0,0,$AA$2)),COUNTIF(OFFSET($AB$2,0,0,$AA$2),\"<=\"& OFFSET($AB$2,0,0,$AA$2)),COUNTIF(OFFSET($AB$2,0,0,$AA$2),\"<=\"& OFFSET($AB$2,0,0,$AA$2))+SUM(--ISNUMBER(OFFSET($AB$2,0,0,$AA$2)))),ROWS(A$2:$AB156)+SUM(--ISBLANK(OFFSET($AB$2,0,0,$AA$2)))),NOT(OFFSET($AB$2,0,0,$AA$2)=\"\")*IF(ISNUMBER(OFFSET($AB$2,0,0,$AA$2)),COUNTIF(OFFSET($AB$2,0,0,$AA$2),\"<=\"& OFFSET($AB$2,0,0,$AA$2)),COUNTIF(OFFSET($AB$2,0,0,$AA$2),\"<=\"& OFFSET($AB$2,0,0,$AA$2))+SUM(--ISNUMBER(OFFSET($AB$2,0,0,$AA$2)))),0)),\"\")","v":""}]
[null,null,null,null,null,null,null,null,null,null,null,null,null,null,null,null,null,null,{"$f":"IFERROR(IF(INDIRECT(\"'\"&OFFSET($F$4,S156,0)&\"'!B\"&COUNTIF($S$1:S156,S156)+11)=\"\",$S156+1,S156),\"\")","v":""},null,{"$f":"IF($S157=\"\",\"\",IFERROR(INDIRECT(\"'\"&OFFSET($F$4,$S157,0)&\"'!B\"&COUNTIF($S$1:$S157,$S157)+10),\"\"))","v":""},{"$f":"IF($S157=\"\",\"\",IFERROR(INDIRECT(\"'\"&OFFSET($F$4,$S157,0)&\"'!c\"&COUNTIF($S$1:$S157,$S157)+10),\"\"))","v":""},"",{"$f":"IF($S157=\"\",\"\",IFERROR(INDIRECT(\"'\"&OFFSET($F$4,$S157,0)&\"'!o\"&COUNTIF($S$1:$S157,$S157)+10),\"\"))","v":""},"","",null,{"$f":"IFERROR(LOOKUP(2,1/(COUNTIF($AB$1:AB156,OFFSET($Y$2,0,0,$T$2))=0),OFFSET($Y$2,0,0,$T$2)),\"\")","v":""},{"$f":"IFERROR(INDEX(OFFSET($AB$2,0,0,$AA$2),MATCH(SMALL(NOT(OFFSET($AB$2,0,0,$AA$2)=\"\")*IF(ISNUMBER(OFFSET($AB$2,0,0,$AA$2)),COUNTIF(OFFSET($AB$2,0,0,$AA$2),\"<=\"& OFFSET($AB$2,0,0,$AA$2)),COUNTIF(OFFSET($AB$2,0,0,$AA$2),\"<=\"& OFFSET($AB$2,0,0,$AA$2))+SUM(--ISNUMBER(OFFSET($AB$2,0,0,$AA$2)))),ROWS(A$2:$AB157)+SUM(--ISBLANK(OFFSET($AB$2,0,0,$AA$2)))),NOT(OFFSET($AB$2,0,0,$AA$2)=\"\")*IF(ISNUMBER(OFFSET($AB$2,0,0,$AA$2)),COUNTIF(OFFSET($AB$2,0,0,$AA$2),\"<=\"& OFFSET($AB$2,0,0,$AA$2)),COUNTIF(OFFSET($AB$2,0,0,$AA$2),\"<=\"& OFFSET($AB$2,0,0,$AA$2))+SUM(--ISNUMBER(OFFSET($AB$2,0,0,$AA$2)))),0)),\"\")","v":""}]
[null,null,null,null,null,null,null,null,null,null,null,null,null,null,null,null,null,null,{"$f":"IFERROR(IF(INDIRECT(\"'\"&OFFSET($F$4,S157,0)&\"'!B\"&COUNTIF($S$1:S157,S157)+11)=\"\",$S157+1,S157),\"\")","v":""},null,{"$f":"IF($S158=\"\",\"\",IFERROR(INDIRECT(\"'\"&OFFSET($F$4,$S158,0)&\"'!B\"&COUNTIF($S$1:$S158,$S158)+10),\"\"))","v":""},{"$f":"IF($S158=\"\",\"\",IFERROR(INDIRECT(\"'\"&OFFSET($F$4,$S158,0)&\"'!c\"&COUNTIF($S$1:$S158,$S158)+10),\"\"))","v":""},"",{"$f":"IF($S158=\"\",\"\",IFERROR(INDIRECT(\"'\"&OFFSET($F$4,$S158,0)&\"'!o\"&COUNTIF($S$1:$S158,$S158)+10),\"\"))","v":""},"","",null,{"$f":"IFERROR(LOOKUP(2,1/(COUNTIF($AB$1:AB157,OFFSET($Y$2,0,0,$T$2))=0),OFFSET($Y$2,0,0,$T$2)),\"\")","v":""},{"$f":"IFERROR(INDEX(OFFSET($AB$2,0,0,$AA$2),MATCH(SMALL(NOT(OFFSET($AB$2,0,0,$AA$2)=\"\")*IF(ISNUMBER(OFFSET($AB$2,0,0,$AA$2)),COUNTIF(OFFSET($AB$2,0,0,$AA$2),\"<=\"& OFFSET($AB$2,0,0,$AA$2)),COUNTIF(OFFSET($AB$2,0,0,$AA$2),\"<=\"& OFFSET($AB$2,0,0,$AA$2))+SUM(--ISNUMBER(OFFSET($AB$2,0,0,$AA$2)))),ROWS(A$2:$AB158)+SUM(--ISBLANK(OFFSET($AB$2,0,0,$AA$2)))),NOT(OFFSET($AB$2,0,0,$AA$2)=\"\")*IF(ISNUMBER(OFFSET($AB$2,0,0,$AA$2)),COUNTIF(OFFSET($AB$2,0,0,$AA$2),\"<=\"& OFFSET($AB$2,0,0,$AA$2)),COUNTIF(OFFSET($AB$2,0,0,$AA$2),\"<=\"& OFFSET($AB$2,0,0,$AA$2))+SUM(--ISNUMBER(OFFSET($AB$2,0,0,$AA$2)))),0)),\"\")","v":""}]
[null,null,null,null,null,null,null,null,null,null,null,null,null,null,null,null,null,null,{"$f":"IFERROR(IF(INDIRECT(\"'\"&OFFSET($F$4,S158,0)&\"'!B\"&COUNTIF($S$1:S158,S158)+11)=\"\",$S158+1,S158),\"\")","v":""},null,{"$f":"IF($S159=\"\",\"\",IFERROR(INDIRECT(\"'\"&OFFSET($F$4,$S159,0)&\"'!B\"&COUNTIF($S$1:$S159,$S159)+10),\"\"))","v":""},{"$f":"IF($S159=\"\",\"\",IFERROR(INDIRECT(\"'\"&OFFSET($F$4,$S159,0)&\"'!c\"&COUNTIF($S$1:$S159,$S159)+10),\"\"))","v":""},"",{"$f":"IF($S159=\"\",\"\",IFERROR(INDIRECT(\"'\"&OFFSET($F$4,$S159,0)&\"'!o\"&COUNTIF($S$1:$S159,$S159)+10),\"\"))","v":""},"","",null,{"$f":"IFERROR(LOOKUP(2,1/(COUNTIF($AB$1:AB158,OFFSET($Y$2,0,0,$T$2))=0),OFFSET($Y$2,0,0,$T$2)),\"\")","v":""},{"$f":"IFERROR(INDEX(OFFSET($AB$2,0,0,$AA$2),MATCH(SMALL(NOT(OFFSET($AB$2,0,0,$AA$2)=\"\")*IF(ISNUMBER(OFFSET($AB$2,0,0,$AA$2)),COUNTIF(OFFSET($AB$2,0,0,$AA$2),\"<=\"& OFFSET($AB$2,0,0,$AA$2)),COUNTIF(OFFSET($AB$2,0,0,$AA$2),\"<=\"& OFFSET($AB$2,0,0,$AA$2))+SUM(--ISNUMBER(OFFSET($AB$2,0,0,$AA$2)))),ROWS(A$2:$AB159)+SUM(--ISBLANK(OFFSET($AB$2,0,0,$AA$2)))),NOT(OFFSET($AB$2,0,0,$AA$2)=\"\")*IF(ISNUMBER(OFFSET($AB$2,0,0,$AA$2)),COUNTIF(OFFSET($AB$2,0,0,$AA$2),\"<=\"& OFFSET($AB$2,0,0,$AA$2)),COUNTIF(OFFSET($AB$2,0,0,$AA$2),\"<=\"& OFFSET($AB$2,0,0,$AA$2))+SUM(--ISNUMBER(OFFSET($AB$2,0,0,$AA$2)))),0)),\"\")","v":""}]
[null,null,null,null,null,null,null,null,null,null,null,null,null,null,null,null,null,null,{"$f":"IFERROR(IF(INDIRECT(\"'\"&OFFSET($F$4,S159,0)&\"'!B\"&COUNTIF($S$1:S159,S159)+11)=\"\",$S159+1,S159),\"\")","v":""},null,{"$f":"IF($S160=\"\",\"\",IFERROR(INDIRECT(\"'\"&OFFSET($F$4,$S160,0)&\"'!B\"&COUNTIF($S$1:$S160,$S160)+10),\"\"))","v":""},{"$f":"IF($S160=\"\",\"\",IFERROR(INDIRECT(\"'\"&OFFSET($F$4,$S160,0)&\"'!c\"&COUNTIF($S$1:$S160,$S160)+10),\"\"))","v":""},"",{"$f":"IF($S160=\"\",\"\",IFERROR(INDIRECT(\"'\"&OFFSET($F$4,$S160,0)&\"'!o\"&COUNTIF($S$1:$S160,$S160)+10),\"\"))","v":""},"","",null,{"$f":"IFERROR(LOOKUP(2,1/(COUNTIF($AB$1:AB159,OFFSET($Y$2,0,0,$T$2))=0),OFFSET($Y$2,0,0,$T$2)),\"\")","v":""},{"$f":"IFERROR(INDEX(OFFSET($AB$2,0,0,$AA$2),MATCH(SMALL(NOT(OFFSET($AB$2,0,0,$AA$2)=\"\")*IF(ISNUMBER(OFFSET($AB$2,0,0,$AA$2)),COUNTIF(OFFSET($AB$2,0,0,$AA$2),\"<=\"& OFFSET($AB$2,0,0,$AA$2)),COUNTIF(OFFSET($AB$2,0,0,$AA$2),\"<=\"& OFFSET($AB$2,0,0,$AA$2))+SUM(--ISNUMBER(OFFSET($AB$2,0,0,$AA$2)))),ROWS(A$2:$AB160)+SUM(--ISBLANK(OFFSET($AB$2,0,0,$AA$2)))),NOT(OFFSET($AB$2,0,0,$AA$2)=\"\")*IF(ISNUMBER(OFFSET($AB$2,0,0,$AA$2)),COUNTIF(OFFSET($AB$2,0,0,$AA$2),\"<=\"& OFFSET($AB$2,0,0,$AA$2)),COUNTIF(OFFSET($AB$2,0,0,$AA$2),\"<=\"& OFFSET($AB$2,0,0,$AA$2))+SUM(--ISNUMBER(OFFSET($AB$2,0,0,$AA$2)))),0)),\"\")","v":""}]
[null,null,null,null,null,null,null,null,null,null,null,null,null,null,null,null,null,null,{"$f":"IFERROR(IF(INDIRECT(\"'\"&OFFSET($F$4,S160,0)&\"'!B\"&COUNTIF($S$1:S160,S160)+11)=\"\",$S160+1,S160),\"\")","v":""},null,{"$f":"IF($S161=\"\",\"\",IFERROR(INDIRECT(\"'\"&OFFSET($F$4,$S161,0)&\"'!B\"&COUNTIF($S$1:$S161,$S161)+10),\"\"))","v":""},{"$f":"IF($S161=\"\",\"\",IFERROR(INDIRECT(\"'\"&OFFSET($F$4,$S161,0)&\"'!c\"&COUNTIF($S$1:$S161,$S161)+10),\"\"))","v":""},"",{"$f":"IF($S161=\"\",\"\",IFERROR(INDIRECT(\"'\"&OFFSET($F$4,$S161,0)&\"'!o\"&COUNTIF($S$1:$S161,$S161)+10),\"\"))","v":""},"","",null,{"$f":"IFERROR(LOOKUP(2,1/(COUNTIF($AB$1:AB160,OFFSET($Y$2,0,0,$T$2))=0),OFFSET($Y$2,0,0,$T$2)),\"\")","v":""},{"$f":"IFERROR(INDEX(OFFSET($AB$2,0,0,$AA$2),MATCH(SMALL(NOT(OFFSET($AB$2,0,0,$AA$2)=\"\")*IF(ISNUMBER(OFFSET($AB$2,0,0,$AA$2)),COUNTIF(OFFSET($AB$2,0,0,$AA$2),\"<=\"& OFFSET($AB$2,0,0,$AA$2)),COUNTIF(OFFSET($AB$2,0,0,$AA$2),\"<=\"& OFFSET($AB$2,0,0,$AA$2))+SUM(--ISNUMBER(OFFSET($AB$2,0,0,$AA$2)))),ROWS(A$2:$AB161)+SUM(--ISBLANK(OFFSET($AB$2,0,0,$AA$2)))),NOT(OFFSET($AB$2,0,0,$AA$2)=\"\")*IF(ISNUMBER(OFFSET($AB$2,0,0,$AA$2)),COUNTIF(OFFSET($AB$2,0,0,$AA$2),\"<=\"& OFFSET($AB$2,0,0,$AA$2)),COUNTIF(OFFSET($AB$2,0,0,$AA$2),\"<=\"& OFFSET($AB$2,0,0,$AA$2))+SUM(--ISNUMBER(OFFSET($AB$2,0,0,$AA$2)))),0)),\"\")","v":""}]
[null,null,null,null,null,null,null,null,null,null,null,null,null,null,null,null,null,null,{"$f":"IFERROR(IF(INDIRECT(\"'\"&OFFSET($F$4,S161,0)&\"'!B\"&COUNTIF($S$1:S161,S161)+11)=\"\",$S161+1,S161),\"\")","v":""},null,{"$f":"IF($S162=\"\",\"\",IFERROR(INDIRECT(\"'\"&OFFSET($F$4,$S162,0)&\"'!B\"&COUNTIF($S$1:$S162,$S162)+10),\"\"))","v":""},{"$f":"IF($S162=\"\",\"\",IFERROR(INDIRECT(\"'\"&OFFSET($F$4,$S162,0)&\"'!c\"&COUNTIF($S$1:$S162,$S162)+10),\"\"))","v":""},{"$f":"IF(S162=\"\",\"\",IFERROR(OFFSET($F$4,S162,0),\"\"))","v":""},{"$f":"IF($S162=\"\",\"\",IFERROR(INDIRECT(\"'\"&OFFSET($F$4,$S162,0)&\"'!o\"&COUNTIF($S$1:$S162,$S162)+10),\"\"))","v":""},"","",null,{"$f":"IFERROR(LOOKUP(2,1/(COUNTIF($AB$1:AB161,OFFSET($Y$2,0,0,$T$2))=0),OFFSET($Y$2,0,0,$T$2)),\"\")","v":""},{"$f":"IFERROR(INDEX(OFFSET($AB$2,0,0,$AA$2),MATCH(SMALL(NOT(OFFSET($AB$2,0,0,$AA$2)=\"\")*IF(ISNUMBER(OFFSET($AB$2,0,0,$AA$2)),COUNTIF(OFFSET($AB$2,0,0,$AA$2),\"<=\"& OFFSET($AB$2,0,0,$AA$2)),COUNTIF(OFFSET($AB$2,0,0,$AA$2),\"<=\"& OFFSET($AB$2,0,0,$AA$2))+SUM(--ISNUMBER(OFFSET($AB$2,0,0,$AA$2)))),ROWS(A$2:$AB162)+SUM(--ISBLANK(OFFSET($AB$2,0,0,$AA$2)))),NOT(OFFSET($AB$2,0,0,$AA$2)=\"\")*IF(ISNUMBER(OFFSET($AB$2,0,0,$AA$2)),COUNTIF(OFFSET($AB$2,0,0,$AA$2),\"<=\"& OFFSET($AB$2,0,0,$AA$2)),COUNTIF(OFFSET($AB$2,0,0,$AA$2),\"<=\"& OFFSET($AB$2,0,0,$AA$2))+SUM(--ISNUMBER(OFFSET($AB$2,0,0,$AA$2)))),0)),\"\")","v":""}]
[null,null,null,null,null,null,null,null,null,null,null,null,null,null,null,null,null,null,{"$f":"IFERROR(IF(INDIRECT(\"'\"&OFFSET($F$4,S162,0)&\"'!B\"&COUNTIF($S$1:S162,S162)+11)=\"\",$S162+1,S162),\"\")","v":""},null,{"$f":"IF($S163=\"\",\"\",IFERROR(INDIRECT(\"'\"&OFFSET($F$4,$S163,0)&\"'!B\"&COUNTIF($S$1:$S163,$S163)+10),\"\"))","v":""},{"$f":"IF($S163=\"\",\"\",IFERROR(INDIRECT(\"'\"&OFFSET($F$4,$S163,0)&\"'!c\"&COUNTIF($S$1:$S163,$S163)+10),\"\"))","v":""},"",{"$f":"IF($S163=\"\",\"\",IFERROR(INDIRECT(\"'\"&OFFSET($F$4,$S163,0)&\"'!o\"&COUNTIF($S$1:$S163,$S163)+10),\"\"))","v":""},"","",null,{"$f":"IFERROR(LOOKUP(2,1/(COUNTIF($AB$1:AB162,OFFSET($Y$2,0,0,$T$2))=0),OFFSET($Y$2,0,0,$T$2)),\"\")","v":""},{"$f":"IFERROR(INDEX(OFFSET($AB$2,0,0,$AA$2),MATCH(SMALL(NOT(OFFSET($AB$2,0,0,$AA$2)=\"\")*IF(ISNUMBER(OFFSET($AB$2,0,0,$AA$2)),COUNTIF(OFFSET($AB$2,0,0,$AA$2),\"<=\"& OFFSET($AB$2,0,0,$AA$2)),COUNTIF(OFFSET($AB$2,0,0,$AA$2),\"<=\"& OFFSET($AB$2,0,0,$AA$2))+SUM(--ISNUMBER(OFFSET($AB$2,0,0,$AA$2)))),ROWS(A$2:$AB163)+SUM(--ISBLANK(OFFSET($AB$2,0,0,$AA$2)))),NOT(OFFSET($AB$2,0,0,$AA$2)=\"\")*IF(ISNUMBER(OFFSET($AB$2,0,0,$AA$2)),COUNTIF(OFFSET($AB$2,0,0,$AA$2),\"<=\"& OFFSET($AB$2,0,0,$AA$2)),COUNTIF(OFFSET($AB$2,0,0,$AA$2),\"<=\"& OFFSET($AB$2,0,0,$AA$2))+SUM(--ISNUMBER(OFFSET($AB$2,0,0,$AA$2)))),0)),\"\")","v":""}]
[null,null,null,null,null,null,null,null,null,null,null,null,null,null,null,null,null,null,{"$f":"IFERROR(IF(INDIRECT(\"'\"&OFFSET($F$4,S163,0)&\"'!B\"&COUNTIF($S$1:S163,S163)+11)=\"\",$S163+1,S163),\"\")","v":""},null,{"$f":"IF($S164=\"\",\"\",IFERROR(INDIRECT(\"'\"&OFFSET($F$4,$S164,0)&\"'!B\"&COUNTIF($S$1:$S164,$S164)+10),\"\"))","v":""},{"$f":"IF($S164=\"\",\"\",IFERROR(INDIRECT(\"'\"&OFFSET($F$4,$S164,0)&\"'!c\"&COUNTIF($S$1:$S164,$S164)+10),\"\"))","v":""},"",{"$f":"IF($S164=\"\",\"\",IFERROR(INDIRECT(\"'\"&OFFSET($F$4,$S164,0)&\"'!o\"&COUNTIF($S$1:$S164,$S164)+10),\"\"))","v":""},"","",null,{"$f":"IFERROR(LOOKUP(2,1/(COUNTIF($AB$1:AB163,OFFSET($Y$2,0,0,$T$2))=0),OFFSET($Y$2,0,0,$T$2)),\"\")","v":""},{"$f":"IFERROR(INDEX(OFFSET($AB$2,0,0,$AA$2),MATCH(SMALL(NOT(OFFSET($AB$2,0,0,$AA$2)=\"\")*IF(ISNUMBER(OFFSET($AB$2,0,0,$AA$2)),COUNTIF(OFFSET($AB$2,0,0,$AA$2),\"<=\"& OFFSET($AB$2,0,0,$AA$2)),COUNTIF(OFFSET($AB$2,0,0,$AA$2),\"<=\"& OFFSET($AB$2,0,0,$AA$2))+SUM(--ISNUMBER(OFFSET($AB$2,0,0,$AA$2)))),ROWS(A$2:$AB164)+SUM(--ISBLANK(OFFSET($AB$2,0,0,$AA$2)))),NOT(OFFSET($AB$2,0,0,$AA$2)=\"\")*IF(ISNUMBER(OFFSET($AB$2,0,0,$AA$2)),COUNTIF(OFFSET($AB$2,0,0,$AA$2),\"<=\"& OFFSET($AB$2,0,0,$AA$2)),COUNTIF(OFFSET($AB$2,0,0,$AA$2),\"<=\"& OFFSET($AB$2,0,0,$AA$2))+SUM(--ISNUMBER(OFFSET($AB$2,0,0,$AA$2)))),0)),\"\")","v":""}]
[null,null,null,null,null,null,null,null,null,null,null,null,null,null,null,null,null,null,{"$f":"IFERROR(IF(INDIRECT(\"'\"&OFFSET($F$4,S164,0)&\"'!B\"&COUNTIF($S$1:S164,S164)+11)=\"\",$S164+1,S164),\"\")","v":""},null,{"$f":"IF($S165=\"\",\"\",IFERROR(INDIRECT(\"'\"&OFFSET($F$4,$S165,0)&\"'!B\"&COUNTIF($S$1:$S165,$S165)+10),\"\"))","v":""},{"$f":"IF($S165=\"\",\"\",IFERROR(INDIRECT(\"'\"&OFFSET($F$4,$S165,0)&\"'!c\"&COUNTIF($S$1:$S165,$S165)+10),\"\"))","v":""},"",{"$f":"IF($S165=\"\",\"\",IFERROR(INDIRECT(\"'\"&OFFSET($F$4,$S165,0)&\"'!o\"&COUNTIF($S$1:$S165,$S165)+10),\"\"))","v":""},"","",null,{"$f":"IFERROR(LOOKUP(2,1/(COUNTIF($AB$1:AB164,OFFSET($Y$2,0,0,$T$2))=0),OFFSET($Y$2,0,0,$T$2)),\"\")","v":""},{"$f":"IFERROR(INDEX(OFFSET($AB$2,0,0,$AA$2),MATCH(SMALL(NOT(OFFSET($AB$2,0,0,$AA$2)=\"\")*IF(ISNUMBER(OFFSET($AB$2,0,0,$AA$2)),COUNTIF(OFFSET($AB$2,0,0,$AA$2),\"<=\"& OFFSET($AB$2,0,0,$AA$2)),COUNTIF(OFFSET($AB$2,0,0,$AA$2),\"<=\"& OFFSET($AB$2,0,0,$AA$2))+SUM(--ISNUMBER(OFFSET($AB$2,0,0,$AA$2)))),ROWS(A$2:$AB165)+SUM(--ISBLANK(OFFSET($AB$2,0,0,$AA$2)))),NOT(OFFSET($AB$2,0,0,$AA$2)=\"\")*IF(ISNUMBER(OFFSET($AB$2,0,0,$AA$2)),COUNTIF(OFFSET($AB$2,0,0,$AA$2),\"<=\"& OFFSET($AB$2,0,0,$AA$2)),COUNTIF(OFFSET($AB$2,0,0,$AA$2),\"<=\"& OFFSET($AB$2,0,0,$AA$2))+SUM(--ISNUMBER(OFFSET($AB$2,0,0,$AA$2)))),0)),\"\")","v":""}]
[null,null,null,null,null,null,null,null,null,null,null,null,null,null,null,null,null,null,{"$f":"IFERROR(IF(INDIRECT(\"'\"&OFFSET($F$4,S165,0)&\"'!B\"&COUNTIF($S$1:S165,S165)+11)=\"\",$S165+1,S165),\"\")","v":""},null,{"$f":"IF($S166=\"\",\"\",IFERROR(INDIRECT(\"'\"&OFFSET($F$4,$S166,0)&\"'!B\"&COUNTIF($S$1:$S166,$S166)+10),\"\"))","v":""},{"$f":"IF($S166=\"\",\"\",IFERROR(INDIRECT(\"'\"&OFFSET($F$4,$S166,0)&\"'!c\"&COUNTIF($S$1:$S166,$S166)+10),\"\"))","v":""},"",{"$f":"IF($S166=\"\",\"\",IFERROR(INDIRECT(\"'\"&OFFSET($F$4,$S166,0)&\"'!o\"&COUNTIF($S$1:$S166,$S166)+10),\"\"))","v":""},"","",null,{"$f":"IFERROR(LOOKUP(2,1/(COUNTIF($AB$1:AB165,OFFSET($Y$2,0,0,$T$2))=0),OFFSET($Y$2,0,0,$T$2)),\"\")","v":""},{"$f":"IFERROR(INDEX(OFFSET($AB$2,0,0,$AA$2),MATCH(SMALL(NOT(OFFSET($AB$2,0,0,$AA$2)=\"\")*IF(ISNUMBER(OFFSET($AB$2,0,0,$AA$2)),COUNTIF(OFFSET($AB$2,0,0,$AA$2),\"<=\"& OFFSET($AB$2,0,0,$AA$2)),COUNTIF(OFFSET($AB$2,0,0,$AA$2),\"<=\"& OFFSET($AB$2,0,0,$AA$2))+SUM(--ISNUMBER(OFFSET($AB$2,0,0,$AA$2)))),ROWS(A$2:$AB166)+SUM(--ISBLANK(OFFSET($AB$2,0,0,$AA$2)))),NOT(OFFSET($AB$2,0,0,$AA$2)=\"\")*IF(ISNUMBER(OFFSET($AB$2,0,0,$AA$2)),COUNTIF(OFFSET($AB$2,0,0,$AA$2),\"<=\"& OFFSET($AB$2,0,0,$AA$2)),COUNTIF(OFFSET($AB$2,0,0,$AA$2),\"<=\"& OFFSET($AB$2,0,0,$AA$2))+SUM(--ISNUMBER(OFFSET($AB$2,0,0,$AA$2)))),0)),\"\")","v":""}]
[null,null,null,null,null,null,null,null,null,null,null,null,null,null,null,null,null,null,{"$f":"IFERROR(IF(INDIRECT(\"'\"&OFFSET($F$4,S166,0)&\"'!B\"&COUNTIF($S$1:S166,S166)+11)=\"\",$S166+1,S166),\"\")","v":""},null,{"$f":"IF($S167=\"\",\"\",IFERROR(INDIRECT(\"'\"&OFFSET($F$4,$S167,0)&\"'!B\"&COUNTIF($S$1:$S167,$S167)+10),\"\"))","v":""},{"$f":"IF($S167=\"\",\"\",IFERROR(INDIRECT(\"'\"&OFFSET($F$4,$S167,0)&\"'!c\"&COUNTIF($S$1:$S167,$S167)+10),\"\"))","v":""},"",{"$f":"IF($S167=\"\",\"\",IFERROR(INDIRECT(\"'\"&OFFSET($F$4,$S167,0)&\"'!o\"&COUNTIF($S$1:$S167,$S167)+10),\"\"))","v":""},"","",null,{"$f":"IFERROR(LOOKUP(2,1/(COUNTIF($AB$1:AB166,OFFSET($Y$2,0,0,$T$2))=0),OFFSET($Y$2,0,0,$T$2)),\"\")","v":""},{"$f":"IFERROR(INDEX(OFFSET($AB$2,0,0,$AA$2),MATCH(SMALL(NOT(OFFSET($AB$2,0,0,$AA$2)=\"\")*IF(ISNUMBER(OFFSET($AB$2,0,0,$AA$2)),COUNTIF(OFFSET($AB$2,0,0,$AA$2),\"<=\"& OFFSET($AB$2,0,0,$AA$2)),COUNTIF(OFFSET($AB$2,0,0,$AA$2),\"<=\"& OFFSET($AB$2,0,0,$AA$2))+SUM(--ISNUMBER(OFFSET($AB$2,0,0,$AA$2)))),ROWS(A$2:$AB167)+SUM(--ISBLANK(OFFSET($AB$2,0,0,$AA$2)))),NOT(OFFSET($AB$2,0,0,$AA$2)=\"\")*IF(ISNUMBER(OFFSET($AB$2,0,0,$AA$2)),COUNTIF(OFFSET($AB$2,0,0,$AA$2),\"<=\"& OFFSET($AB$2,0,0,$AA$2)),COUNTIF(OFFSET($AB$2,0,0,$AA$2),\"<=\"& OFFSET($AB$2,0,0,$AA$2))+SUM(--ISNUMBER(OFFSET($AB$2,0,0,$AA$2)))),0)),\"\")","v":""}]
[null,null,null,null,null,null,null,null,null,null,null,null,null,null,null,null,null,null,{"$f":"IFERROR(IF(INDIRECT(\"'\"&OFFSET($F$4,S167,0)&\"'!B\"&COUNTIF($S$1:S167,S167)+11)=\"\",$S167+1,S167),\"\")","v":""},null,{"$f":"IF($S168=\"\",\"\",IFERROR(INDIRECT(\"'\"&OFFSET($F$4,$S168,0)&\"'!B\"&COUNTIF($S$1:$S168,$S168)+10),\"\"))","v":""},{"$f":"IF($S168=\"\",\"\",IFERROR(INDIRECT(\"'\"&OFFSET($F$4,$S168,0)&\"'!c\"&COUNTIF($S$1:$S168,$S168)+10),\"\"))","v":""},"",{"$f":"IF($S168=\"\",\"\",IFERROR(INDIRECT(\"'\"&OFFSET($F$4,$S168,0)&\"'!o\"&COUNTIF($S$1:$S168,$S168)+10),\"\"))","v":""},"","",null,{"$f":"IFERROR(LOOKUP(2,1/(COUNTIF($AB$1:AB167,OFFSET($Y$2,0,0,$T$2))=0),OFFSET($Y$2,0,0,$T$2)),\"\")","v":""},{"$f":"IFERROR(INDEX(OFFSET($AB$2,0,0,$AA$2),MATCH(SMALL(NOT(OFFSET($AB$2,0,0,$AA$2)=\"\")*IF(ISNUMBER(OFFSET($AB$2,0,0,$AA$2)),COUNTIF(OFFSET($AB$2,0,0,$AA$2),\"<=\"& OFFSET($AB$2,0,0,$AA$2)),COUNTIF(OFFSET($AB$2,0,0,$AA$2),\"<=\"& OFFSET($AB$2,0,0,$AA$2))+SUM(--ISNUMBER(OFFSET($AB$2,0,0,$AA$2)))),ROWS(A$2:$AB168)+SUM(--ISBLANK(OFFSET($AB$2,0,0,$AA$2)))),NOT(OFFSET($AB$2,0,0,$AA$2)=\"\")*IF(ISNUMBER(OFFSET($AB$2,0,0,$AA$2)),COUNTIF(OFFSET($AB$2,0,0,$AA$2),\"<=\"& OFFSET($AB$2,0,0,$AA$2)),COUNTIF(OFFSET($AB$2,0,0,$AA$2),\"<=\"& OFFSET($AB$2,0,0,$AA$2))+SUM(--ISNUMBER(OFFSET($AB$2,0,0,$AA$2)))),0)),\"\")","v":""}]
[null,null,null,null,null,null,null,null,null,null,null,null,null,null,null,null,null,null,{"$f":"IFERROR(IF(INDIRECT(\"'\"&OFFSET($F$4,S168,0)&\"'!B\"&COUNTIF($S$1:S168,S168)+11)=\"\",$S168+1,S168),\"\")","v":""},null,{"$f":"IF($S169=\"\",\"\",IFERROR(INDIRECT(\"'\"&OFFSET($F$4,$S169,0)&\"'!B\"&COUNTIF($S$1:$S169,$S169)+10),\"\"))","v":""},{"$f":"IF($S169=\"\",\"\",IFERROR(INDIRECT(\"'\"&OFFSET($F$4,$S169,0)&\"'!c\"&COUNTIF($S$1:$S169,$S169)+10),\"\"))","v":""},"",{"$f":"IF($S169=\"\",\"\",IFERROR(INDIRECT(\"'\"&OFFSET($F$4,$S169,0)&\"'!o\"&COUNTIF($S$1:$S169,$S169)+10),\"\"))","v":""},"","",null,{"$f":"IFERROR(LOOKUP(2,1/(COUNTIF($AB$1:AB168,OFFSET($Y$2,0,0,$T$2))=0),OFFSET($Y$2,0,0,$T$2)),\"\")","v":""},{"$f":"IFERROR(INDEX(OFFSET($AB$2,0,0,$AA$2),MATCH(SMALL(NOT(OFFSET($AB$2,0,0,$AA$2)=\"\")*IF(ISNUMBER(OFFSET($AB$2,0,0,$AA$2)),COUNTIF(OFFSET($AB$2,0,0,$AA$2),\"<=\"& OFFSET($AB$2,0,0,$AA$2)),COUNTIF(OFFSET($AB$2,0,0,$AA$2),\"<=\"& OFFSET($AB$2,0,0,$AA$2))+SUM(--ISNUMBER(OFFSET($AB$2,0,0,$AA$2)))),ROWS(A$2:$AB169)+SUM(--ISBLANK(OFFSET($AB$2,0,0,$AA$2)))),NOT(OFFSET($AB$2,0,0,$AA$2)=\"\")*IF(ISNUMBER(OFFSET($AB$2,0,0,$AA$2)),COUNTIF(OFFSET($AB$2,0,0,$AA$2),\"<=\"& OFFSET($AB$2,0,0,$AA$2)),COUNTIF(OFFSET($AB$2,0,0,$AA$2),\"<=\"& OFFSET($AB$2,0,0,$AA$2))+SUM(--ISNUMBER(OFFSET($AB$2,0,0,$AA$2)))),0)),\"\")","v":""}]
[null,null,null,null,null,null,null,null,null,null,null,null,null,null,null,null,null,null,{"$f":"IFERROR(IF(INDIRECT(\"'\"&OFFSET($F$4,S169,0)&\"'!B\"&COUNTIF($S$1:S169,S169)+11)=\"\",$S169+1,S169),\"\")","v":""},null,{"$f":"IF($S170=\"\",\"\",IFERROR(INDIRECT(\"'\"&OFFSET($F$4,$S170,0)&\"'!B\"&COUNTIF($S$1:$S170,$S170)+10),\"\"))","v":""},{"$f":"IF($S170=\"\",\"\",IFERROR(INDIRECT(\"'\"&OFFSET($F$4,$S170,0)&\"'!c\"&COUNTIF($S$1:$S170,$S170)+10),\"\"))","v":""},"",{"$f":"IF($S170=\"\",\"\",IFERROR(INDIRECT(\"'\"&OFFSET($F$4,$S170,0)&\"'!o\"&COUNTIF($S$1:$S170,$S170)+10),\"\"))","v":""},"","",null,{"$f":"IFERROR(LOOKUP(2,1/(COUNTIF($AB$1:AB169,OFFSET($Y$2,0,0,$T$2))=0),OFFSET($Y$2,0,0,$T$2)),\"\")","v":""},{"$f":"IFERROR(INDEX(OFFSET($AB$2,0,0,$AA$2),MATCH(SMALL(NOT(OFFSET($AB$2,0,0,$AA$2)=\"\")*IF(ISNUMBER(OFFSET($AB$2,0,0,$AA$2)),COUNTIF(OFFSET($AB$2,0,0,$AA$2),\"<=\"& OFFSET($AB$2,0,0,$AA$2)),COUNTIF(OFFSET($AB$2,0,0,$AA$2),\"<=\"& OFFSET($AB$2,0,0,$AA$2))+SUM(--ISNUMBER(OFFSET($AB$2,0,0,$AA$2)))),ROWS(A$2:$AB170)+SUM(--ISBLANK(OFFSET($AB$2,0,0,$AA$2)))),NOT(OFFSET($AB$2,0,0,$AA$2)=\"\")*IF(ISNUMBER(OFFSET($AB$2,0,0,$AA$2)),COUNTIF(OFFSET($AB$2,0,0,$AA$2),\"<=\"& OFFSET($AB$2,0,0,$AA$2)),COUNTIF(OFFSET($AB$2,0,0,$AA$2),\"<=\"& OFFSET($AB$2,0,0,$AA$2))+SUM(--ISNUMBER(OFFSET($AB$2,0,0,$AA$2)))),0)),\"\")","v":""}]
[null,null,null,null,null,null,null,null,null,null,null,null,null,null,null,null,null,null,{"$f":"IFERROR(IF(INDIRECT(\"'\"&OFFSET($F$4,S170,0)&\"'!B\"&COUNTIF($S$1:S170,S170)+11)=\"\",$S170+1,S170),\"\")","v":""},null,{"$f":"IF($S171=\"\",\"\",IFERROR(INDIRECT(\"'\"&OFFSET($F$4,$S171,0)&\"'!B\"&COUNTIF($S$1:$S171,$S171)+10),\"\"))","v":""},{"$f":"IF($S171=\"\",\"\",IFERROR(INDIRECT(\"'\"&OFFSET($F$4,$S171,0)&\"'!c\"&COUNTIF($S$1:$S171,$S171)+10),\"\"))","v":""},"",{"$f":"IF($S171=\"\",\"\",IFERROR(INDIRECT(\"'\"&OFFSET($F$4,$S171,0)&\"'!o\"&COUNTIF($S$1:$S171,$S171)+10),\"\"))","v":""},"","",null,{"$f":"IFERROR(LOOKUP(2,1/(COUNTIF($AB$1:AB170,OFFSET($Y$2,0,0,$T$2))=0),OFFSET($Y$2,0,0,$T$2)),\"\")","v":""},{"$f":"IFERROR(INDEX(OFFSET($AB$2,0,0,$AA$2),MATCH(SMALL(NOT(OFFSET($AB$2,0,0,$AA$2)=\"\")*IF(ISNUMBER(OFFSET($AB$2,0,0,$AA$2)),COUNTIF(OFFSET($AB$2,0,0,$AA$2),\"<=\"& OFFSET($AB$2,0,0,$AA$2)),COUNTIF(OFFSET($AB$2,0,0,$AA$2),\"<=\"& OFFSET($AB$2,0,0,$AA$2))+SUM(--ISNUMBER(OFFSET($AB$2,0,0,$AA$2)))),ROWS(A$2:$AB171)+SUM(--ISBLANK(OFFSET($AB$2,0,0,$AA$2)))),NOT(OFFSET($AB$2,0,0,$AA$2)=\"\")*IF(ISNUMBER(OFFSET($AB$2,0,0,$AA$2)),COUNTIF(OFFSET($AB$2,0,0,$AA$2),\"<=\"& OFFSET($AB$2,0,0,$AA$2)),COUNTIF(OFFSET($AB$2,0,0,$AA$2),\"<=\"& OFFSET($AB$2,0,0,$AA$2))+SUM(--ISNUMBER(OFFSET($AB$2,0,0,$AA$2)))),0)),\"\")","v":""}]
[null,null,null,null,null,null,null,null,null,null,null,null,null,null,null,null,null,null,{"$f":"IFERROR(IF(INDIRECT(\"'\"&OFFSET($F$4,S171,0)&\"'!B\"&COUNTIF($S$1:S171,S171)+11)=\"\",$S171+1,S171),\"\")","v":""},null,{"$f":"IF($S172=\"\",\"\",IFERROR(INDIRECT(\"'\"&OFFSET($F$4,$S172,0)&\"'!B\"&COUNTIF($S$1:$S172,$S172)+10),\"\"))","v":""},{"$f":"IF($S172=\"\",\"\",IFERROR(INDIRECT(\"'\"&OFFSET($F$4,$S172,0)&\"'!c\"&COUNTIF($S$1:$S172,$S172)+10),\"\"))","v":""},"",{"$f":"IF($S172=\"\",\"\",IFERROR(INDIRECT(\"'\"&OFFSET($F$4,$S172,0)&\"'!o\"&COUNTIF($S$1:$S172,$S172)+10),\"\"))","v":""},"","",null,{"$f":"IFERROR(LOOKUP(2,1/(COUNTIF($AB$1:AB171,OFFSET($Y$2,0,0,$T$2))=0),OFFSET($Y$2,0,0,$T$2)),\"\")","v":""},{"$f":"IFERROR(INDEX(OFFSET($AB$2,0,0,$AA$2),MATCH(SMALL(NOT(OFFSET($AB$2,0,0,$AA$2)=\"\")*IF(ISNUMBER(OFFSET($AB$2,0,0,$AA$2)),COUNTIF(OFFSET($AB$2,0,0,$AA$2),\"<=\"& OFFSET($AB$2,0,0,$AA$2)),COUNTIF(OFFSET($AB$2,0,0,$AA$2),\"<=\"& OFFSET($AB$2,0,0,$AA$2))+SUM(--ISNUMBER(OFFSET($AB$2,0,0,$AA$2)))),ROWS(A$2:$AB172)+SUM(--ISBLANK(OFFSET($AB$2,0,0,$AA$2)))),NOT(OFFSET($AB$2,0,0,$AA$2)=\"\")*IF(ISNUMBER(OFFSET($AB$2,0,0,$AA$2)),COUNTIF(OFFSET($AB$2,0,0,$AA$2),\"<=\"& OFFSET($AB$2,0,0,$AA$2)),COUNTIF(OFFSET($AB$2,0,0,$AA$2),\"<=\"& OFFSET($AB$2,0,0,$AA$2))+SUM(--ISNUMBER(OFFSET($AB$2,0,0,$AA$2)))),0)),\"\")","v":""}]
[null,null,null,null,null,null,null,null,null,null,null,null,null,null,null,null,null,null,{"$f":"IFERROR(IF(INDIRECT(\"'\"&OFFSET($F$4,S172,0)&\"'!B\"&COUNTIF($S$1:S172,S172)+11)=\"\",$S172+1,S172),\"\")","v":""},null,{"$f":"IF($S173=\"\",\"\",IFERROR(INDIRECT(\"'\"&OFFSET($F$4,$S173,0)&\"'!B\"&COUNTIF($S$1:$S173,$S173)+10),\"\"))","v":""},{"$f":"IF($S173=\"\",\"\",IFERROR(INDIRECT(\"'\"&OFFSET($F$4,$S173,0)&\"'!c\"&COUNTIF($S$1:$S173,$S173)+10),\"\"))","v":""},"",{"$f":"IF($S173=\"\",\"\",IFERROR(INDIRECT(\"'\"&OFFSET($F$4,$S173,0)&\"'!o\"&COUNTIF($S$1:$S173,$S173)+10),\"\"))","v":""},"","",null,{"$f":"IFERROR(LOOKUP(2,1/(COUNTIF($AB$1:AB172,OFFSET($Y$2,0,0,$T$2))=0),OFFSET($Y$2,0,0,$T$2)),\"\")","v":""},{"$f":"IFERROR(INDEX(OFFSET($AB$2,0,0,$AA$2),MATCH(SMALL(NOT(OFFSET($AB$2,0,0,$AA$2)=\"\")*IF(ISNUMBER(OFFSET($AB$2,0,0,$AA$2)),COUNTIF(OFFSET($AB$2,0,0,$AA$2),\"<=\"& OFFSET($AB$2,0,0,$AA$2)),COUNTIF(OFFSET($AB$2,0,0,$AA$2),\"<=\"& OFFSET($AB$2,0,0,$AA$2))+SUM(--ISNUMBER(OFFSET($AB$2,0,0,$AA$2)))),ROWS(A$2:$AB173)+SUM(--ISBLANK(OFFSET($AB$2,0,0,$AA$2)))),NOT(OFFSET($AB$2,0,0,$AA$2)=\"\")*IF(ISNUMBER(OFFSET($AB$2,0,0,$AA$2)),COUNTIF(OFFSET($AB$2,0,0,$AA$2),\"<=\"& OFFSET($AB$2,0,0,$AA$2)),COUNTIF(OFFSET($AB$2,0,0,$AA$2),\"<=\"& OFFSET($AB$2,0,0,$AA$2))+SUM(--ISNUMBER(OFFSET($AB$2,0,0,$AA$2)))),0)),\"\")","v":""}]
[null,null,null,null,null,null,null,null,null,null,null,null,null,null,null,null,null,null,{"$f":"IFERROR(IF(INDIRECT(\"'\"&OFFSET($F$4,S173,0)&\"'!B\"&COUNTIF($S$1:S173,S173)+11)=\"\",$S173+1,S173),\"\")","v":""},null,{"$f":"IF($S174=\"\",\"\",IFERROR(INDIRECT(\"'\"&OFFSET($F$4,$S174,0)&\"'!B\"&COUNTIF($S$1:$S174,$S174)+10),\"\"))","v":""},{"$f":"IF($S174=\"\",\"\",IFERROR(INDIRECT(\"'\"&OFFSET($F$4,$S174,0)&\"'!c\"&COUNTIF($S$1:$S174,$S174)+10),\"\"))","v":""},"",{"$f":"IF($S174=\"\",\"\",IFERROR(INDIRECT(\"'\"&OFFSET($F$4,$S174,0)&\"'!o\"&COUNTIF($S$1:$S174,$S174)+10),\"\"))","v":""},"","",null,{"$f":"IFERROR(LOOKUP(2,1/(COUNTIF($AB$1:AB173,OFFSET($Y$2,0,0,$T$2))=0),OFFSET($Y$2,0,0,$T$2)),\"\")","v":""},{"$f":"IFERROR(INDEX(OFFSET($AB$2,0,0,$AA$2),MATCH(SMALL(NOT(OFFSET($AB$2,0,0,$AA$2)=\"\")*IF(ISNUMBER(OFFSET($AB$2,0,0,$AA$2)),COUNTIF(OFFSET($AB$2,0,0,$AA$2),\"<=\"& OFFSET($AB$2,0,0,$AA$2)),COUNTIF(OFFSET($AB$2,0,0,$AA$2),\"<=\"& OFFSET($AB$2,0,0,$AA$2))+SUM(--ISNUMBER(OFFSET($AB$2,0,0,$AA$2)))),ROWS(A$2:$AB174)+SUM(--ISBLANK(OFFSET($AB$2,0,0,$AA$2)))),NOT(OFFSET($AB$2,0,0,$AA$2)=\"\")*IF(ISNUMBER(OFFSET($AB$2,0,0,$AA$2)),COUNTIF(OFFSET($AB$2,0,0,$AA$2),\"<=\"& OFFSET($AB$2,0,0,$AA$2)),COUNTIF(OFFSET($AB$2,0,0,$AA$2),\"<=\"& OFFSET($AB$2,0,0,$AA$2))+SUM(--ISNUMBER(OFFSET($AB$2,0,0,$AA$2)))),0)),\"\")","v":""}]
[null,null,null,null,null,null,null,null,null,null,null,null,null,null,null,null,null,null,{"$f":"IFERROR(IF(INDIRECT(\"'\"&OFFSET($F$4,S174,0)&\"'!B\"&COUNTIF($S$1:S174,S174)+11)=\"\",$S174+1,S174),\"\")","v":""},null,{"$f":"IF($S175=\"\",\"\",IFERROR(INDIRECT(\"'\"&OFFSET($F$4,$S175,0)&\"'!B\"&COUNTIF($S$1:$S175,$S175)+10),\"\"))","v":""},{"$f":"IF($S175=\"\",\"\",IFERROR(INDIRECT(\"'\"&OFFSET($F$4,$S175,0)&\"'!c\"&COUNTIF($S$1:$S175,$S175)+10),\"\"))","v":""},"",{"$f":"IF($S175=\"\",\"\",IFERROR(INDIRECT(\"'\"&OFFSET($F$4,$S175,0)&\"'!o\"&COUNTIF($S$1:$S175,$S175)+10),\"\"))","v":""},"","",null,{"$f":"IFERROR(LOOKUP(2,1/(COUNTIF($AB$1:AB174,OFFSET($Y$2,0,0,$T$2))=0),OFFSET($Y$2,0,0,$T$2)),\"\")","v":""},{"$f":"IFERROR(INDEX(OFFSET($AB$2,0,0,$AA$2),MATCH(SMALL(NOT(OFFSET($AB$2,0,0,$AA$2)=\"\")*IF(ISNUMBER(OFFSET($AB$2,0,0,$AA$2)),COUNTIF(OFFSET($AB$2,0,0,$AA$2),\"<=\"& OFFSET($AB$2,0,0,$AA$2)),COUNTIF(OFFSET($AB$2,0,0,$AA$2),\"<=\"& OFFSET($AB$2,0,0,$AA$2))+SUM(--ISNUMBER(OFFSET($AB$2,0,0,$AA$2)))),ROWS(A$2:$AB175)+SUM(--ISBLANK(OFFSET($AB$2,0,0,$AA$2)))),NOT(OFFSET($AB$2,0,0,$AA$2)=\"\")*IF(ISNUMBER(OFFSET($AB$2,0,0,$AA$2)),COUNTIF(OFFSET($AB$2,0,0,$AA$2),\"<=\"& OFFSET($AB$2,0,0,$AA$2)),COUNTIF(OFFSET($AB$2,0,0,$AA$2),\"<=\"& OFFSET($AB$2,0,0,$AA$2))+SUM(--ISNUMBER(OFFSET($AB$2,0,0,$AA$2)))),0)),\"\")","v":""}]
[null,null,null,null,null,null,null,null,null,null,null,null,null,null,null,null,null,null,{"$f":"IFERROR(IF(INDIRECT(\"'\"&OFFSET($F$4,S175,0)&\"'!B\"&COUNTIF($S$1:S175,S175)+11)=\"\",$S175+1,S175),\"\")","v":""},null,{"$f":"IF($S176=\"\",\"\",IFERROR(INDIRECT(\"'\"&OFFSET($F$4,$S176,0)&\"'!B\"&COUNTIF($S$1:$S176,$S176)+10),\"\"))","v":""},{"$f":"IF($S176=\"\",\"\",IFERROR(INDIRECT(\"'\"&OFFSET($F$4,$S176,0)&\"'!c\"&COUNTIF($S$1:$S176,$S176)+10),\"\"))","v":""},"",{"$f":"IF($S176=\"\",\"\",IFERROR(INDIRECT(\"'\"&OFFSET($F$4,$S176,0)&\"'!o\"&COUNTIF($S$1:$S176,$S176)+10),\"\"))","v":""},"","",null,{"$f":"IFERROR(LOOKUP(2,1/(COUNTIF($AB$1:AB175,OFFSET($Y$2,0,0,$T$2))=0),OFFSET($Y$2,0,0,$T$2)),\"\")","v":""},{"$f":"IFERROR(INDEX(OFFSET($AB$2,0,0,$AA$2),MATCH(SMALL(NOT(OFFSET($AB$2,0,0,$AA$2)=\"\")*IF(ISNUMBER(OFFSET($AB$2,0,0,$AA$2)),COUNTIF(OFFSET($AB$2,0,0,$AA$2),\"<=\"& OFFSET($AB$2,0,0,$AA$2)),COUNTIF(OFFSET($AB$2,0,0,$AA$2),\"<=\"& OFFSET($AB$2,0,0,$AA$2))+SUM(--ISNUMBER(OFFSET($AB$2,0,0,$AA$2)))),ROWS(A$2:$AB176)+SUM(--ISBLANK(OFFSET($AB$2,0,0,$AA$2)))),NOT(OFFSET($AB$2,0,0,$AA$2)=\"\")*IF(ISNUMBER(OFFSET($AB$2,0,0,$AA$2)),COUNTIF(OFFSET($AB$2,0,0,$AA$2),\"<=\"& OFFSET($AB$2,0,0,$AA$2)),COUNTIF(OFFSET($AB$2,0,0,$AA$2),\"<=\"& OFFSET($AB$2,0,0,$AA$2))+SUM(--ISNUMBER(OFFSET($AB$2,0,0,$AA$2)))),0)),\"\")","v":""}]
[null,null,null,null,null,null,null,null,null,null,null,null,null,null,null,null,null,null,{"$f":"IFERROR(IF(INDIRECT(\"'\"&OFFSET($F$4,S176,0)&\"'!B\"&COUNTIF($S$1:S176,S176)+11)=\"\",$S176+1,S176),\"\")","v":""},null,{"$f":"IF($S177=\"\",\"\",IFERROR(INDIRECT(\"'\"&OFFSET($F$4,$S177,0)&\"'!B\"&COUNTIF($S$1:$S177,$S177)+10),\"\"))","v":""},{"$f":"IF($S177=\"\",\"\",IFERROR(INDIRECT(\"'\"&OFFSET($F$4,$S177,0)&\"'!c\"&COUNTIF($S$1:$S177,$S177)+10),\"\"))","v":""},"",{"$f":"IF($S177=\"\",\"\",IFERROR(INDIRECT(\"'\"&OFFSET($F$4,$S177,0)&\"'!o\"&COUNTIF($S$1:$S177,$S177)+10),\"\"))","v":""},"","",null,{"$f":"IFERROR(LOOKUP(2,1/(COUNTIF($AB$1:AB176,OFFSET($Y$2,0,0,$T$2))=0),OFFSET($Y$2,0,0,$T$2)),\"\")","v":""},{"$f":"IFERROR(INDEX(OFFSET($AB$2,0,0,$AA$2),MATCH(SMALL(NOT(OFFSET($AB$2,0,0,$AA$2)=\"\")*IF(ISNUMBER(OFFSET($AB$2,0,0,$AA$2)),COUNTIF(OFFSET($AB$2,0,0,$AA$2),\"<=\"& OFFSET($AB$2,0,0,$AA$2)),COUNTIF(OFFSET($AB$2,0,0,$AA$2),\"<=\"& OFFSET($AB$2,0,0,$AA$2))+SUM(--ISNUMBER(OFFSET($AB$2,0,0,$AA$2)))),ROWS(A$2:$AB177)+SUM(--ISBLANK(OFFSET($AB$2,0,0,$AA$2)))),NOT(OFFSET($AB$2,0,0,$AA$2)=\"\")*IF(ISNUMBER(OFFSET($AB$2,0,0,$AA$2)),COUNTIF(OFFSET($AB$2,0,0,$AA$2),\"<=\"& OFFSET($AB$2,0,0,$AA$2)),COUNTIF(OFFSET($AB$2,0,0,$AA$2),\"<=\"& OFFSET($AB$2,0,0,$AA$2))+SUM(--ISNUMBER(OFFSET($AB$2,0,0,$AA$2)))),0)),\"\")","v":""}]
[null,null,null,null,null,null,null,null,null,null,null,null,null,null,null,null,null,null,{"$f":"IFERROR(IF(INDIRECT(\"'\"&OFFSET($F$4,S177,0)&\"'!B\"&COUNTIF($S$1:S177,S177)+11)=\"\",$S177+1,S177),\"\")","v":""},null,{"$f":"IF($S178=\"\",\"\",IFERROR(INDIRECT(\"'\"&OFFSET($F$4,$S178,0)&\"'!B\"&COUNTIF($S$1:$S178,$S178)+10),\"\"))","v":""},{"$f":"IF($S178=\"\",\"\",IFERROR(INDIRECT(\"'\"&OFFSET($F$4,$S178,0)&\"'!c\"&COUNTIF($S$1:$S178,$S178)+10),\"\"))","v":""},"",{"$f":"IF($S178=\"\",\"\",IFERROR(INDIRECT(\"'\"&OFFSET($F$4,$S178,0)&\"'!o\"&COUNTIF($S$1:$S178,$S178)+10),\"\"))","v":""},"","",null,{"$f":"IFERROR(LOOKUP(2,1/(COUNTIF($AB$1:AB177,OFFSET($Y$2,0,0,$T$2))=0),OFFSET($Y$2,0,0,$T$2)),\"\")","v":""},{"$f":"IFERROR(INDEX(OFFSET($AB$2,0,0,$AA$2),MATCH(SMALL(NOT(OFFSET($AB$2,0,0,$AA$2)=\"\")*IF(ISNUMBER(OFFSET($AB$2,0,0,$AA$2)),COUNTIF(OFFSET($AB$2,0,0,$AA$2),\"<=\"& OFFSET($AB$2,0,0,$AA$2)),COUNTIF(OFFSET($AB$2,0,0,$AA$2),\"<=\"& OFFSET($AB$2,0,0,$AA$2))+SUM(--ISNUMBER(OFFSET($AB$2,0,0,$AA$2)))),ROWS(A$2:$AB178)+SUM(--ISBLANK(OFFSET($AB$2,0,0,$AA$2)))),NOT(OFFSET($AB$2,0,0,$AA$2)=\"\")*IF(ISNUMBER(OFFSET($AB$2,0,0,$AA$2)),COUNTIF(OFFSET($AB$2,0,0,$AA$2),\"<=\"& OFFSET($AB$2,0,0,$AA$2)),COUNTIF(OFFSET($AB$2,0,0,$AA$2),\"<=\"& OFFSET($AB$2,0,0,$AA$2))+SUM(--ISNUMBER(OFFSET($AB$2,0,0,$AA$2)))),0)),\"\")","v":""}]
[null,null,null,null,null,null,null,null,null,null,null,null,null,null,null,null,null,null,{"$f":"IFERROR(IF(INDIRECT(\"'\"&OFFSET($F$4,S178,0)&\"'!B\"&COUNTIF($S$1:S178,S178)+11)=\"\",$S178+1,S178),\"\")","v":""},null,{"$f":"IF($S179=\"\",\"\",IFERROR(INDIRECT(\"'\"&OFFSET($F$4,$S179,0)&\"'!B\"&COUNTIF($S$1:$S179,$S179)+10),\"\"))","v":""},{"$f":"IF($S179=\"\",\"\",IFERROR(INDIRECT(\"'\"&OFFSET($F$4,$S179,0)&\"'!c\"&COUNTIF($S$1:$S179,$S179)+10),\"\"))","v":""},"",{"$f":"IF($S179=\"\",\"\",IFERROR(INDIRECT(\"'\"&OFFSET($F$4,$S179,0)&\"'!o\"&COUNTIF($S$1:$S179,$S179)+10),\"\"))","v":""},"","",null,{"$f":"IFERROR(LOOKUP(2,1/(COUNTIF($AB$1:AB178,OFFSET($Y$2,0,0,$T$2))=0),OFFSET($Y$2,0,0,$T$2)),\"\")","v":""},{"$f":"IFERROR(INDEX(OFFSET($AB$2,0,0,$AA$2),MATCH(SMALL(NOT(OFFSET($AB$2,0,0,$AA$2)=\"\")*IF(ISNUMBER(OFFSET($AB$2,0,0,$AA$2)),COUNTIF(OFFSET($AB$2,0,0,$AA$2),\"<=\"& OFFSET($AB$2,0,0,$AA$2)),COUNTIF(OFFSET($AB$2,0,0,$AA$2),\"<=\"& OFFSET($AB$2,0,0,$AA$2))+SUM(--ISNUMBER(OFFSET($AB$2,0,0,$AA$2)))),ROWS(A$2:$AB179)+SUM(--ISBLANK(OFFSET($AB$2,0,0,$AA$2)))),NOT(OFFSET($AB$2,0,0,$AA$2)=\"\")*IF(ISNUMBER(OFFSET($AB$2,0,0,$AA$2)),COUNTIF(OFFSET($AB$2,0,0,$AA$2),\"<=\"& OFFSET($AB$2,0,0,$AA$2)),COUNTIF(OFFSET($AB$2,0,0,$AA$2),\"<=\"& OFFSET($AB$2,0,0,$AA$2))+SUM(--ISNUMBER(OFFSET($AB$2,0,0,$AA$2)))),0)),\"\")","v":""}]
[null,null,null,null,null,null,null,null,null,null,null,null,null,null,null,null,null,null,{"$f":"IFERROR(IF(INDIRECT(\"'\"&OFFSET($F$4,S179,0)&\"'!B\"&COUNTIF($S$1:S179,S179)+11)=\"\",$S179+1,S179),\"\")","v":""},null,{"$f":"IF($S180=\"\",\"\",IFERROR(INDIRECT(\"'\"&OFFSET($F$4,$S180,0)&\"'!B\"&COUNTIF($S$1:$S180,$S180)+10),\"\"))","v":""},{"$f":"IF($S180=\"\",\"\",IFERROR(INDIRECT(\"'\"&OFFSET($F$4,$S180,0)&\"'!c\"&COUNTIF($S$1:$S180,$S180)+10),\"\"))","v":""},"",{"$f":"IF($S180=\"\",\"\",IFERROR(INDIRECT(\"'\"&OFFSET($F$4,$S180,0)&\"'!o\"&COUNTIF($S$1:$S180,$S180)+10),\"\"))","v":""},"","",null,{"$f":"IFERROR(LOOKUP(2,1/(COUNTIF($AB$1:AB179,OFFSET($Y$2,0,0,$T$2))=0),OFFSET($Y$2,0,0,$T$2)),\"\")","v":""},{"$f":"IFERROR(INDEX(OFFSET($AB$2,0,0,$AA$2),MATCH(SMALL(NOT(OFFSET($AB$2,0,0,$AA$2)=\"\")*IF(ISNUMBER(OFFSET($AB$2,0,0,$AA$2)),COUNTIF(OFFSET($AB$2,0,0,$AA$2),\"<=\"& OFFSET($AB$2,0,0,$AA$2)),COUNTIF(OFFSET($AB$2,0,0,$AA$2),\"<=\"& OFFSET($AB$2,0,0,$AA$2))+SUM(--ISNUMBER(OFFSET($AB$2,0,0,$AA$2)))),ROWS(A$2:$AB180)+SUM(--ISBLANK(OFFSET($AB$2,0,0,$AA$2)))),NOT(OFFSET($AB$2,0,0,$AA$2)=\"\")*IF(ISNUMBER(OFFSET($AB$2,0,0,$AA$2)),COUNTIF(OFFSET($AB$2,0,0,$AA$2),\"<=\"& OFFSET($AB$2,0,0,$AA$2)),COUNTIF(OFFSET($AB$2,0,0,$AA$2),\"<=\"& OFFSET($AB$2,0,0,$AA$2))+SUM(--ISNUMBER(OFFSET($AB$2,0,0,$AA$2)))),0)),\"\")","v":""}]
[null,null,null,null,null,null,null,null,null,null,null,null,null,null,null,null,null,null,{"$f":"IFERROR(IF(INDIRECT(\"'\"&OFFSET($F$4,S180,0)&\"'!B\"&COUNTIF($S$1:S180,S180)+11)=\"\",$S180+1,S180),\"\")","v":""},null,{"$f":"IF($S181=\"\",\"\",IFERROR(INDIRECT(\"'\"&OFFSET($F$4,$S181,0)&\"'!B\"&COUNTIF($S$1:$S181,$S181)+10),\"\"))","v":""},{"$f":"IF($S181=\"\",\"\",IFERROR(INDIRECT(\"'\"&OFFSET($F$4,$S181,0)&\"'!c\"&COUNTIF($S$1:$S181,$S181)+10),\"\"))","v":""},"",{"$f":"IF($S181=\"\",\"\",IFERROR(INDIRECT(\"'\"&OFFSET($F$4,$S181,0)&\"'!o\"&COUNTIF($S$1:$S181,$S181)+10),\"\"))","v":""},"","",null,{"$f":"IFERROR(LOOKUP(2,1/(COUNTIF($AB$1:AB180,OFFSET($Y$2,0,0,$T$2))=0),OFFSET($Y$2,0,0,$T$2)),\"\")","v":""},{"$f":"IFERROR(INDEX(OFFSET($AB$2,0,0,$AA$2),MATCH(SMALL(NOT(OFFSET($AB$2,0,0,$AA$2)=\"\")*IF(ISNUMBER(OFFSET($AB$2,0,0,$AA$2)),COUNTIF(OFFSET($AB$2,0,0,$AA$2),\"<=\"& OFFSET($AB$2,0,0,$AA$2)),COUNTIF(OFFSET($AB$2,0,0,$AA$2),\"<=\"& OFFSET($AB$2,0,0,$AA$2))+SUM(--ISNUMBER(OFFSET($AB$2,0,0,$AA$2)))),ROWS(A$2:$AB181)+SUM(--ISBLANK(OFFSET($AB$2,0,0,$AA$2)))),NOT(OFFSET($AB$2,0,0,$AA$2)=\"\")*IF(ISNUMBER(OFFSET($AB$2,0,0,$AA$2)),COUNTIF(OFFSET($AB$2,0,0,$AA$2),\"<=\"& OFFSET($AB$2,0,0,$AA$2)),COUNTIF(OFFSET($AB$2,0,0,$AA$2),\"<=\"& OFFSET($AB$2,0,0,$AA$2))+SUM(--ISNUMBER(OFFSET($AB$2,0,0,$AA$2)))),0)),\"\")","v":""}]
[null,null,null,null,null,null,null,null,null,null,null,null,null,null,null,null,null,null,{"$f":"IFERROR(IF(INDIRECT(\"'\"&OFFSET($F$4,S181,0)&\"'!B\"&COUNTIF($S$1:S181,S181)+11)=\"\",$S181+1,S181),\"\")","v":""},null,{"$f":"IF($S182=\"\",\"\",IFERROR(INDIRECT(\"'\"&OFFSET($F$4,$S182,0)&\"'!B\"&COUNTIF($S$1:$S182,$S182)+10),\"\"))","v":""},{"$f":"IF($S182=\"\",\"\",IFERROR(INDIRECT(\"'\"&OFFSET($F$4,$S182,0)&\"'!c\"&COUNTIF($S$1:$S182,$S182)+10),\"\"))","v":""},"",{"$f":"IF($S182=\"\",\"\",IFERROR(INDIRECT(\"'\"&OFFSET($F$4,$S182,0)&\"'!o\"&COUNTIF($S$1:$S182,$S182)+10),\"\"))","v":""},"","",null,{"$f":"IFERROR(LOOKUP(2,1/(COUNTIF($AB$1:AB181,OFFSET($Y$2,0,0,$T$2))=0),OFFSET($Y$2,0,0,$T$2)),\"\")","v":""},{"$f":"IFERROR(INDEX(OFFSET($AB$2,0,0,$AA$2),MATCH(SMALL(NOT(OFFSET($AB$2,0,0,$AA$2)=\"\")*IF(ISNUMBER(OFFSET($AB$2,0,0,$AA$2)),COUNTIF(OFFSET($AB$2,0,0,$AA$2),\"<=\"& OFFSET($AB$2,0,0,$AA$2)),COUNTIF(OFFSET($AB$2,0,0,$AA$2),\"<=\"& OFFSET($AB$2,0,0,$AA$2))+SUM(--ISNUMBER(OFFSET($AB$2,0,0,$AA$2)))),ROWS(A$2:$AB182)+SUM(--ISBLANK(OFFSET($AB$2,0,0,$AA$2)))),NOT(OFFSET($AB$2,0,0,$AA$2)=\"\")*IF(ISNUMBER(OFFSET($AB$2,0,0,$AA$2)),COUNTIF(OFFSET($AB$2,0,0,$AA$2),\"<=\"& OFFSET($AB$2,0,0,$AA$2)),COUNTIF(OFFSET($AB$2,0,0,$AA$2),\"<=\"& OFFSET($AB$2,0,0,$AA$2))+SUM(--ISNUMBER(OFFSET($AB$2,0,0,$AA$2)))),0)),\"\")","v":""}]
[null,null,null,null,null,null,null,null,null,null,null,null,null,null,null,null,null,null,{"$f":"IFERROR(IF(INDIRECT(\"'\"&OFFSET($F$4,S182,0)&\"'!B\"&COUNTIF($S$1:S182,S182)+11)=\"\",$S182+1,S182),\"\")","v":""},null,{"$f":"IF($S183=\"\",\"\",IFERROR(INDIRECT(\"'\"&OFFSET($F$4,$S183,0)&\"'!B\"&COUNTIF($S$1:$S183,$S183)+10),\"\"))","v":""},{"$f":"IF($S183=\"\",\"\",IFERROR(INDIRECT(\"'\"&OFFSET($F$4,$S183,0)&\"'!c\"&COUNTIF($S$1:$S183,$S183)+10),\"\"))","v":""},"",{"$f":"IF($S183=\"\",\"\",IFERROR(INDIRECT(\"'\"&OFFSET($F$4,$S183,0)&\"'!o\"&COUNTIF($S$1:$S183,$S183)+10),\"\"))","v":""},"","",null,{"$f":"IFERROR(LOOKUP(2,1/(COUNTIF($AB$1:AB182,OFFSET($Y$2,0,0,$T$2))=0),OFFSET($Y$2,0,0,$T$2)),\"\")","v":""},{"$f":"IFERROR(INDEX(OFFSET($AB$2,0,0,$AA$2),MATCH(SMALL(NOT(OFFSET($AB$2,0,0,$AA$2)=\"\")*IF(ISNUMBER(OFFSET($AB$2,0,0,$AA$2)),COUNTIF(OFFSET($AB$2,0,0,$AA$2),\"<=\"& OFFSET($AB$2,0,0,$AA$2)),COUNTIF(OFFSET($AB$2,0,0,$AA$2),\"<=\"& OFFSET($AB$2,0,0,$AA$2))+SUM(--ISNUMBER(OFFSET($AB$2,0,0,$AA$2)))),ROWS(A$2:$AB183)+SUM(--ISBLANK(OFFSET($AB$2,0,0,$AA$2)))),NOT(OFFSET($AB$2,0,0,$AA$2)=\"\")*IF(ISNUMBER(OFFSET($AB$2,0,0,$AA$2)),COUNTIF(OFFSET($AB$2,0,0,$AA$2),\"<=\"& OFFSET($AB$2,0,0,$AA$2)),COUNTIF(OFFSET($AB$2,0,0,$AA$2),\"<=\"& OFFSET($AB$2,0,0,$AA$2))+SUM(--ISNUMBER(OFFSET($AB$2,0,0,$AA$2)))),0)),\"\")","v":""}]
[null,null,null,null,null,null,null,null,null,null,null,null,null,null,null,null,null,null,{"$f":"IFERROR(IF(INDIRECT(\"'\"&OFFSET($F$4,S183,0)&\"'!B\"&COUNTIF($S$1:S183,S183)+11)=\"\",$S183+1,S183),\"\")","v":""},null,{"$f":"IF($S184=\"\",\"\",IFERROR(INDIRECT(\"'\"&OFFSET($F$4,$S184,0)&\"'!B\"&COUNTIF($S$1:$S184,$S184)+10),\"\"))","v":""},{"$f":"IF($S184=\"\",\"\",IFERROR(INDIRECT(\"'\"&OFFSET($F$4,$S184,0)&\"'!c\"&COUNTIF($S$1:$S184,$S184)+10),\"\"))","v":""},"",{"$f":"IF($S184=\"\",\"\",IFERROR(INDIRECT(\"'\"&OFFSET($F$4,$S184,0)&\"'!o\"&COUNTIF($S$1:$S184,$S184)+10),\"\"))","v":""},"","",null,{"$f":"IFERROR(LOOKUP(2,1/(COUNTIF($AB$1:AB183,OFFSET($Y$2,0,0,$T$2))=0),OFFSET($Y$2,0,0,$T$2)),\"\")","v":""},{"$f":"IFERROR(INDEX(OFFSET($AB$2,0,0,$AA$2),MATCH(SMALL(NOT(OFFSET($AB$2,0,0,$AA$2)=\"\")*IF(ISNUMBER(OFFSET($AB$2,0,0,$AA$2)),COUNTIF(OFFSET($AB$2,0,0,$AA$2),\"<=\"& OFFSET($AB$2,0,0,$AA$2)),COUNTIF(OFFSET($AB$2,0,0,$AA$2),\"<=\"& OFFSET($AB$2,0,0,$AA$2))+SUM(--ISNUMBER(OFFSET($AB$2,0,0,$AA$2)))),ROWS(A$2:$AB184)+SUM(--ISBLANK(OFFSET($AB$2,0,0,$AA$2)))),NOT(OFFSET($AB$2,0,0,$AA$2)=\"\")*IF(ISNUMBER(OFFSET($AB$2,0,0,$AA$2)),COUNTIF(OFFSET($AB$2,0,0,$AA$2),\"<=\"& OFFSET($AB$2,0,0,$AA$2)),COUNTIF(OFFSET($AB$2,0,0,$AA$2),\"<=\"& OFFSET($AB$2,0,0,$AA$2))+SUM(--ISNUMBER(OFFSET($AB$2,0,0,$AA$2)))),0)),\"\")","v":""}]
[null,null,null,null,null,null,null,null,null,null,null,null,null,null,null,null,null,null,{"$f":"IFERROR(IF(INDIRECT(\"'\"&OFFSET($F$4,S184,0)&\"'!B\"&COUNTIF($S$1:S184,S184)+11)=\"\",$S184+1,S184),\"\")","v":""},null,{"$f":"IF($S185=\"\",\"\",IFERROR(INDIRECT(\"'\"&OFFSET($F$4,$S185,0)&\"'!B\"&COUNTIF($S$1:$S185,$S185)+10),\"\"))","v":""},{"$f":"IF($S185=\"\",\"\",IFERROR(INDIRECT(\"'\"&OFFSET($F$4,$S185,0)&\"'!c\"&COUNTIF($S$1:$S185,$S185)+10),\"\"))","v":""},"",{"$f":"IF($S185=\"\",\"\",IFERROR(INDIRECT(\"'\"&OFFSET($F$4,$S185,0)&\"'!o\"&COUNTIF($S$1:$S185,$S185)+10),\"\"))","v":""},"","",null,{"$f":"IFERROR(LOOKUP(2,1/(COUNTIF($AB$1:AB184,OFFSET($Y$2,0,0,$T$2))=0),OFFSET($Y$2,0,0,$T$2)),\"\")","v":""},{"$f":"IFERROR(INDEX(OFFSET($AB$2,0,0,$AA$2),MATCH(SMALL(NOT(OFFSET($AB$2,0,0,$AA$2)=\"\")*IF(ISNUMBER(OFFSET($AB$2,0,0,$AA$2)),COUNTIF(OFFSET($AB$2,0,0,$AA$2),\"<=\"& OFFSET($AB$2,0,0,$AA$2)),COUNTIF(OFFSET($AB$2,0,0,$AA$2),\"<=\"& OFFSET($AB$2,0,0,$AA$2))+SUM(--ISNUMBER(OFFSET($AB$2,0,0,$AA$2)))),ROWS(A$2:$AB185)+SUM(--ISBLANK(OFFSET($AB$2,0,0,$AA$2)))),NOT(OFFSET($AB$2,0,0,$AA$2)=\"\")*IF(ISNUMBER(OFFSET($AB$2,0,0,$AA$2)),COUNTIF(OFFSET($AB$2,0,0,$AA$2),\"<=\"& OFFSET($AB$2,0,0,$AA$2)),COUNTIF(OFFSET($AB$2,0,0,$AA$2),\"<=\"& OFFSET($AB$2,0,0,$AA$2))+SUM(--ISNUMBER(OFFSET($AB$2,0,0,$AA$2)))),0)),\"\")","v":""}]
[null,null,null,null,null,null,null,null,null,null,null,null,null,null,null,null,null,null,{"$f":"IFERROR(IF(INDIRECT(\"'\"&OFFSET($F$4,S185,0)&\"'!B\"&COUNTIF($S$1:S185,S185)+11)=\"\",$S185+1,S185),\"\")","v":""},null,{"$f":"IF($S186=\"\",\"\",IFERROR(INDIRECT(\"'\"&OFFSET($F$4,$S186,0)&\"'!B\"&COUNTIF($S$1:$S186,$S186)+10),\"\"))","v":""},{"$f":"IF($S186=\"\",\"\",IFERROR(INDIRECT(\"'\"&OFFSET($F$4,$S186,0)&\"'!c\"&COUNTIF($S$1:$S186,$S186)+10),\"\"))","v":""},"",{"$f":"IF($S186=\"\",\"\",IFERROR(INDIRECT(\"'\"&OFFSET($F$4,$S186,0)&\"'!o\"&COUNTIF($S$1:$S186,$S186)+10),\"\"))","v":""},"","",null,{"$f":"IFERROR(LOOKUP(2,1/(COUNTIF($AB$1:AB185,OFFSET($Y$2,0,0,$T$2))=0),OFFSET($Y$2,0,0,$T$2)),\"\")","v":""},{"$f":"IFERROR(INDEX(OFFSET($AB$2,0,0,$AA$2),MATCH(SMALL(NOT(OFFSET($AB$2,0,0,$AA$2)=\"\")*IF(ISNUMBER(OFFSET($AB$2,0,0,$AA$2)),COUNTIF(OFFSET($AB$2,0,0,$AA$2),\"<=\"& OFFSET($AB$2,0,0,$AA$2)),COUNTIF(OFFSET($AB$2,0,0,$AA$2),\"<=\"& OFFSET($AB$2,0,0,$AA$2))+SUM(--ISNUMBER(OFFSET($AB$2,0,0,$AA$2)))),ROWS(A$2:$AB186)+SUM(--ISBLANK(OFFSET($AB$2,0,0,$AA$2)))),NOT(OFFSET($AB$2,0,0,$AA$2)=\"\")*IF(ISNUMBER(OFFSET($AB$2,0,0,$AA$2)),COUNTIF(OFFSET($AB$2,0,0,$AA$2),\"<=\"& OFFSET($AB$2,0,0,$AA$2)),COUNTIF(OFFSET($AB$2,0,0,$AA$2),\"<=\"& OFFSET($AB$2,0,0,$AA$2))+SUM(--ISNUMBER(OFFSET($AB$2,0,0,$AA$2)))),0)),\"\")","v":""}]
[null,null,null,null,null,null,null,null,null,null,null,null,null,null,null,null,null,null,{"$f":"IFERROR(IF(INDIRECT(\"'\"&OFFSET($F$4,S186,0)&\"'!B\"&COUNTIF($S$1:S186,S186)+11)=\"\",$S186+1,S186),\"\")","v":""},null,{"$f":"IF($S187=\"\",\"\",IFERROR(INDIRECT(\"'\"&OFFSET($F$4,$S187,0)&\"'!B\"&COUNTIF($S$1:$S187,$S187)+10),\"\"))","v":""},{"$f":"IF($S187=\"\",\"\",IFERROR(INDIRECT(\"'\"&OFFSET($F$4,$S187,0)&\"'!c\"&COUNTIF($S$1:$S187,$S187)+10),\"\"))","v":""},"",{"$f":"IF($S187=\"\",\"\",IFERROR(INDIRECT(\"'\"&OFFSET($F$4,$S187,0)&\"'!o\"&COUNTIF($S$1:$S187,$S187)+10),\"\"))","v":""},"","",null,{"$f":"IFERROR(LOOKUP(2,1/(COUNTIF($AB$1:AB186,OFFSET($Y$2,0,0,$T$2))=0),OFFSET($Y$2,0,0,$T$2)),\"\")","v":""},{"$f":"IFERROR(INDEX(OFFSET($AB$2,0,0,$AA$2),MATCH(SMALL(NOT(OFFSET($AB$2,0,0,$AA$2)=\"\")*IF(ISNUMBER(OFFSET($AB$2,0,0,$AA$2)),COUNTIF(OFFSET($AB$2,0,0,$AA$2),\"<=\"& OFFSET($AB$2,0,0,$AA$2)),COUNTIF(OFFSET($AB$2,0,0,$AA$2),\"<=\"& OFFSET($AB$2,0,0,$AA$2))+SUM(--ISNUMBER(OFFSET($AB$2,0,0,$AA$2)))),ROWS(A$2:$AB187)+SUM(--ISBLANK(OFFSET($AB$2,0,0,$AA$2)))),NOT(OFFSET($AB$2,0,0,$AA$2)=\"\")*IF(ISNUMBER(OFFSET($AB$2,0,0,$AA$2)),COUNTIF(OFFSET($AB$2,0,0,$AA$2),\"<=\"& OFFSET($AB$2,0,0,$AA$2)),COUNTIF(OFFSET($AB$2,0,0,$AA$2),\"<=\"& OFFSET($AB$2,0,0,$AA$2))+SUM(--ISNUMBER(OFFSET($AB$2,0,0,$AA$2)))),0)),\"\")","v":""}]
[null,null,null,null,null,null,null,null,null,null,null,null,null,null,null,null,null,null,{"$f":"IFERROR(IF(INDIRECT(\"'\"&OFFSET($F$4,S187,0)&\"'!B\"&COUNTIF($S$1:S187,S187)+11)=\"\",$S187+1,S187),\"\")","v":""},null,{"$f":"IF($S188=\"\",\"\",IFERROR(INDIRECT(\"'\"&OFFSET($F$4,$S188,0)&\"'!B\"&COUNTIF($S$1:$S188,$S188)+10),\"\"))","v":""},{"$f":"IF($S188=\"\",\"\",IFERROR(INDIRECT(\"'\"&OFFSET($F$4,$S188,0)&\"'!c\"&COUNTIF($S$1:$S188,$S188)+10),\"\"))","v":""},"",{"$f":"IF($S188=\"\",\"\",IFERROR(INDIRECT(\"'\"&OFFSET($F$4,$S188,0)&\"'!o\"&COUNTIF($S$1:$S188,$S188)+10),\"\"))","v":""},"","",null,{"$f":"IFERROR(LOOKUP(2,1/(COUNTIF($AB$1:AB187,OFFSET($Y$2,0,0,$T$2))=0),OFFSET($Y$2,0,0,$T$2)),\"\")","v":""},{"$f":"IFERROR(INDEX(OFFSET($AB$2,0,0,$AA$2),MATCH(SMALL(NOT(OFFSET($AB$2,0,0,$AA$2)=\"\")*IF(ISNUMBER(OFFSET($AB$2,0,0,$AA$2)),COUNTIF(OFFSET($AB$2,0,0,$AA$2),\"<=\"& OFFSET($AB$2,0,0,$AA$2)),COUNTIF(OFFSET($AB$2,0,0,$AA$2),\"<=\"& OFFSET($AB$2,0,0,$AA$2))+SUM(--ISNUMBER(OFFSET($AB$2,0,0,$AA$2)))),ROWS(A$2:$AB188)+SUM(--ISBLANK(OFFSET($AB$2,0,0,$AA$2)))),NOT(OFFSET($AB$2,0,0,$AA$2)=\"\")*IF(ISNUMBER(OFFSET($AB$2,0,0,$AA$2)),COUNTIF(OFFSET($AB$2,0,0,$AA$2),\"<=\"& OFFSET($AB$2,0,0,$AA$2)),COUNTIF(OFFSET($AB$2,0,0,$AA$2),\"<=\"& OFFSET($AB$2,0,0,$AA$2))+SUM(--ISNUMBER(OFFSET($AB$2,0,0,$AA$2)))),0)),\"\")","v":""}]
[null,null,null,null,null,null,null,null,null,null,null,null,null,null,null,null,null,null,{"$f":"IFERROR(IF(INDIRECT(\"'\"&OFFSET($F$4,S188,0)&\"'!B\"&COUNTIF($S$1:S188,S188)+11)=\"\",$S188+1,S188),\"\")","v":""},null,{"$f":"IF($S189=\"\",\"\",IFERROR(INDIRECT(\"'\"&OFFSET($F$4,$S189,0)&\"'!B\"&COUNTIF($S$1:$S189,$S189)+10),\"\"))","v":""},{"$f":"IF($S189=\"\",\"\",IFERROR(INDIRECT(\"'\"&OFFSET($F$4,$S189,0)&\"'!c\"&COUNTIF($S$1:$S189,$S189)+10),\"\"))","v":""},"",{"$f":"IF($S189=\"\",\"\",IFERROR(INDIRECT(\"'\"&OFFSET($F$4,$S189,0)&\"'!o\"&COUNTIF($S$1:$S189,$S189)+10),\"\"))","v":""},"","",null,{"$f":"IFERROR(LOOKUP(2,1/(COUNTIF($AB$1:AB188,OFFSET($Y$2,0,0,$T$2))=0),OFFSET($Y$2,0,0,$T$2)),\"\")","v":""},{"$f":"IFERROR(INDEX(OFFSET($AB$2,0,0,$AA$2),MATCH(SMALL(NOT(OFFSET($AB$2,0,0,$AA$2)=\"\")*IF(ISNUMBER(OFFSET($AB$2,0,0,$AA$2)),COUNTIF(OFFSET($AB$2,0,0,$AA$2),\"<=\"& OFFSET($AB$2,0,0,$AA$2)),COUNTIF(OFFSET($AB$2,0,0,$AA$2),\"<=\"& OFFSET($AB$2,0,0,$AA$2))+SUM(--ISNUMBER(OFFSET($AB$2,0,0,$AA$2)))),ROWS(A$2:$AB189)+SUM(--ISBLANK(OFFSET($AB$2,0,0,$AA$2)))),NOT(OFFSET($AB$2,0,0,$AA$2)=\"\")*IF(ISNUMBER(OFFSET($AB$2,0,0,$AA$2)),COUNTIF(OFFSET($AB$2,0,0,$AA$2),\"<=\"& OFFSET($AB$2,0,0,$AA$2)),COUNTIF(OFFSET($AB$2,0,0,$AA$2),\"<=\"& OFFSET($AB$2,0,0,$AA$2))+SUM(--ISNUMBER(OFFSET($AB$2,0,0,$AA$2)))),0)),\"\")","v":""}]
[null,null,null,null,null,null,null,null,null,null,null,null,null,null,null,null,null,null,{"$f":"IFERROR(IF(INDIRECT(\"'\"&OFFSET($F$4,S189,0)&\"'!B\"&COUNTIF($S$1:S189,S189)+11)=\"\",$S189+1,S189),\"\")","v":""},null,{"$f":"IF($S190=\"\",\"\",IFERROR(INDIRECT(\"'\"&OFFSET($F$4,$S190,0)&\"'!B\"&COUNTIF($S$1:$S190,$S190)+10),\"\"))","v":""},{"$f":"IF($S190=\"\",\"\",IFERROR(INDIRECT(\"'\"&OFFSET($F$4,$S190,0)&\"'!c\"&COUNTIF($S$1:$S190,$S190)+10),\"\"))","v":""},"",{"$f":"IF($S190=\"\",\"\",IFERROR(INDIRECT(\"'\"&OFFSET($F$4,$S190,0)&\"'!o\"&COUNTIF($S$1:$S190,$S190)+10),\"\"))","v":""},"","",null,{"$f":"IFERROR(LOOKUP(2,1/(COUNTIF($AB$1:AB189,OFFSET($Y$2,0,0,$T$2))=0),OFFSET($Y$2,0,0,$T$2)),\"\")","v":""},{"$f":"IFERROR(INDEX(OFFSET($AB$2,0,0,$AA$2),MATCH(SMALL(NOT(OFFSET($AB$2,0,0,$AA$2)=\"\")*IF(ISNUMBER(OFFSET($AB$2,0,0,$AA$2)),COUNTIF(OFFSET($AB$2,0,0,$AA$2),\"<=\"& OFFSET($AB$2,0,0,$AA$2)),COUNTIF(OFFSET($AB$2,0,0,$AA$2),\"<=\"& OFFSET($AB$2,0,0,$AA$2))+SUM(--ISNUMBER(OFFSET($AB$2,0,0,$AA$2)))),ROWS(A$2:$AB190)+SUM(--ISBLANK(OFFSET($AB$2,0,0,$AA$2)))),NOT(OFFSET($AB$2,0,0,$AA$2)=\"\")*IF(ISNUMBER(OFFSET($AB$2,0,0,$AA$2)),COUNTIF(OFFSET($AB$2,0,0,$AA$2),\"<=\"& OFFSET($AB$2,0,0,$AA$2)),COUNTIF(OFFSET($AB$2,0,0,$AA$2),\"<=\"& OFFSET($AB$2,0,0,$AA$2))+SUM(--ISNUMBER(OFFSET($AB$2,0,0,$AA$2)))),0)),\"\")","v":""}]
[null,null,null,null,null,null,null,null,null,null,null,null,null,null,null,null,null,null,{"$f":"IFERROR(IF(INDIRECT(\"'\"&OFFSET($F$4,S190,0)&\"'!B\"&COUNTIF($S$1:S190,S190)+11)=\"\",$S190+1,S190),\"\")","v":""},null,{"$f":"IF($S191=\"\",\"\",IFERROR(INDIRECT(\"'\"&OFFSET($F$4,$S191,0)&\"'!B\"&COUNTIF($S$1:$S191,$S191)+10),\"\"))","v":""},{"$f":"IF($S191=\"\",\"\",IFERROR(INDIRECT(\"'\"&OFFSET($F$4,$S191,0)&\"'!c\"&COUNTIF($S$1:$S191,$S191)+10),\"\"))","v":""},"",{"$f":"IF($S191=\"\",\"\",IFERROR(INDIRECT(\"'\"&OFFSET($F$4,$S191,0)&\"'!o\"&COUNTIF($S$1:$S191,$S191)+10),\"\"))","v":""},"","",null,{"$f":"IFERROR(LOOKUP(2,1/(COUNTIF($AB$1:AB190,OFFSET($Y$2,0,0,$T$2))=0),OFFSET($Y$2,0,0,$T$2)),\"\")","v":""},{"$f":"IFERROR(INDEX(OFFSET($AB$2,0,0,$AA$2),MATCH(SMALL(NOT(OFFSET($AB$2,0,0,$AA$2)=\"\")*IF(ISNUMBER(OFFSET($AB$2,0,0,$AA$2)),COUNTIF(OFFSET($AB$2,0,0,$AA$2),\"<=\"& OFFSET($AB$2,0,0,$AA$2)),COUNTIF(OFFSET($AB$2,0,0,$AA$2),\"<=\"& OFFSET($AB$2,0,0,$AA$2))+SUM(--ISNUMBER(OFFSET($AB$2,0,0,$AA$2)))),ROWS(A$2:$AB191)+SUM(--ISBLANK(OFFSET($AB$2,0,0,$AA$2)))),NOT(OFFSET($AB$2,0,0,$AA$2)=\"\")*IF(ISNUMBER(OFFSET($AB$2,0,0,$AA$2)),COUNTIF(OFFSET($AB$2,0,0,$AA$2),\"<=\"& OFFSET($AB$2,0,0,$AA$2)),COUNTIF(OFFSET($AB$2,0,0,$AA$2),\"<=\"& OFFSET($AB$2,0,0,$AA$2))+SUM(--ISNUMBER(OFFSET($AB$2,0,0,$AA$2)))),0)),\"\")","v":""}]
[null,null,null,null,null,null,null,null,null,null,null,null,null,null,null,null,null,null,{"$f":"IFERROR(IF(INDIRECT(\"'\"&OFFSET($F$4,S191,0)&\"'!B\"&COUNTIF($S$1:S191,S191)+11)=\"\",$S191+1,S191),\"\")","v":""},null,{"$f":"IF($S192=\"\",\"\",IFERROR(INDIRECT(\"'\"&OFFSET($F$4,$S192,0)&\"'!B\"&COUNTIF($S$1:$S192,$S192)+10),\"\"))","v":""},{"$f":"IF($S192=\"\",\"\",IFERROR(INDIRECT(\"'\"&OFFSET($F$4,$S192,0)&\"'!c\"&COUNTIF($S$1:$S192,$S192)+10),\"\"))","v":""},"",{"$f":"IF($S192=\"\",\"\",IFERROR(INDIRECT(\"'\"&OFFSET($F$4,$S192,0)&\"'!o\"&COUNTIF($S$1:$S192,$S192)+10),\"\"))","v":""},"","",null,{"$f":"IFERROR(LOOKUP(2,1/(COUNTIF($AB$1:AB191,OFFSET($Y$2,0,0,$T$2))=0),OFFSET($Y$2,0,0,$T$2)),\"\")","v":""},{"$f":"IFERROR(INDEX(OFFSET($AB$2,0,0,$AA$2),MATCH(SMALL(NOT(OFFSET($AB$2,0,0,$AA$2)=\"\")*IF(ISNUMBER(OFFSET($AB$2,0,0,$AA$2)),COUNTIF(OFFSET($AB$2,0,0,$AA$2),\"<=\"& OFFSET($AB$2,0,0,$AA$2)),COUNTIF(OFFSET($AB$2,0,0,$AA$2),\"<=\"& OFFSET($AB$2,0,0,$AA$2))+SUM(--ISNUMBER(OFFSET($AB$2,0,0,$AA$2)))),ROWS(A$2:$AB192)+SUM(--ISBLANK(OFFSET($AB$2,0,0,$AA$2)))),NOT(OFFSET($AB$2,0,0,$AA$2)=\"\")*IF(ISNUMBER(OFFSET($AB$2,0,0,$AA$2)),COUNTIF(OFFSET($AB$2,0,0,$AA$2),\"<=\"& OFFSET($AB$2,0,0,$AA$2)),COUNTIF(OFFSET($AB$2,0,0,$AA$2),\"<=\"& OFFSET($AB$2,0,0,$AA$2))+SUM(--ISNUMBER(OFFSET($AB$2,0,0,$AA$2)))),0)),\"\")","v":""}]
[null,null,null,null,null,null,null,null,null,null,null,null,null,null,null,null,null,null,{"$f":"IFERROR(IF(INDIRECT(\"'\"&OFFSET($F$4,S192,0)&\"'!B\"&COUNTIF($S$1:S192,S192)+11)=\"\",$S192+1,S192),\"\")","v":""},null,{"$f":"IF($S193=\"\",\"\",IFERROR(INDIRECT(\"'\"&OFFSET($F$4,$S193,0)&\"'!B\"&COUNTIF($S$1:$S193,$S193)+10),\"\"))","v":""},{"$f":"IF($S193=\"\",\"\",IFERROR(INDIRECT(\"'\"&OFFSET($F$4,$S193,0)&\"'!c\"&COUNTIF($S$1:$S193,$S193)+10),\"\"))","v":""},"",{"$f":"IF($S193=\"\",\"\",IFERROR(INDIRECT(\"'\"&OFFSET($F$4,$S193,0)&\"'!o\"&COUNTIF($S$1:$S193,$S193)+10),\"\"))","v":""},"","",null,{"$f":"IFERROR(LOOKUP(2,1/(COUNTIF($AB$1:AB192,OFFSET($Y$2,0,0,$T$2))=0),OFFSET($Y$2,0,0,$T$2)),\"\")","v":""},{"$f":"IFERROR(INDEX(OFFSET($AB$2,0,0,$AA$2),MATCH(SMALL(NOT(OFFSET($AB$2,0,0,$AA$2)=\"\")*IF(ISNUMBER(OFFSET($AB$2,0,0,$AA$2)),COUNTIF(OFFSET($AB$2,0,0,$AA$2),\"<=\"& OFFSET($AB$2,0,0,$AA$2)),COUNTIF(OFFSET($AB$2,0,0,$AA$2),\"<=\"& OFFSET($AB$2,0,0,$AA$2))+SUM(--ISNUMBER(OFFSET($AB$2,0,0,$AA$2)))),ROWS(A$2:$AB193)+SUM(--ISBLANK(OFFSET($AB$2,0,0,$AA$2)))),NOT(OFFSET($AB$2,0,0,$AA$2)=\"\")*IF(ISNUMBER(OFFSET($AB$2,0,0,$AA$2)),COUNTIF(OFFSET($AB$2,0,0,$AA$2),\"<=\"& OFFSET($AB$2,0,0,$AA$2)),COUNTIF(OFFSET($AB$2,0,0,$AA$2),\"<=\"& OFFSET($AB$2,0,0,$AA$2))+SUM(--ISNUMBER(OFFSET($AB$2,0,0,$AA$2)))),0)),\"\")","v":""}]
[null,null,null,null,null,null,null,null,null,null,null,null,null,null,null,null,null,null,{"$f":"IFERROR(IF(INDIRECT(\"'\"&OFFSET($F$4,S193,0)&\"'!B\"&COUNTIF($S$1:S193,S193)+11)=\"\",$S193+1,S193),\"\")","v":""},null,{"$f":"IF($S194=\"\",\"\",IFERROR(INDIRECT(\"'\"&OFFSET($F$4,$S194,0)&\"'!B\"&COUNTIF($S$1:$S194,$S194)+10),\"\"))","v":""},{"$f":"IF($S194=\"\",\"\",IFERROR(INDIRECT(\"'\"&OFFSET($F$4,$S194,0)&\"'!c\"&COUNTIF($S$1:$S194,$S194)+10),\"\"))","v":""},{"$f":"IF(S194=\"\",\"\",IFERROR(OFFSET($F$4,S194,0),\"\"))","v":""},{"$f":"IF($S194=\"\",\"\",IFERROR(INDIRECT(\"'\"&OFFSET($F$4,$S194,0)&\"'!o\"&COUNTIF($S$1:$S194,$S194)+10),\"\"))","v":""},"","",null,{"$f":"IFERROR(LOOKUP(2,1/(COUNTIF($AB$1:AB193,OFFSET($Y$2,0,0,$T$2))=0),OFFSET($Y$2,0,0,$T$2)),\"\")","v":""},{"$f":"IFERROR(INDEX(OFFSET($AB$2,0,0,$AA$2),MATCH(SMALL(NOT(OFFSET($AB$2,0,0,$AA$2)=\"\")*IF(ISNUMBER(OFFSET($AB$2,0,0,$AA$2)),COUNTIF(OFFSET($AB$2,0,0,$AA$2),\"<=\"& OFFSET($AB$2,0,0,$AA$2)),COUNTIF(OFFSET($AB$2,0,0,$AA$2),\"<=\"& OFFSET($AB$2,0,0,$AA$2))+SUM(--ISNUMBER(OFFSET($AB$2,0,0,$AA$2)))),ROWS(A$2:$AB194)+SUM(--ISBLANK(OFFSET($AB$2,0,0,$AA$2)))),NOT(OFFSET($AB$2,0,0,$AA$2)=\"\")*IF(ISNUMBER(OFFSET($AB$2,0,0,$AA$2)),COUNTIF(OFFSET($AB$2,0,0,$AA$2),\"<=\"& OFFSET($AB$2,0,0,$AA$2)),COUNTIF(OFFSET($AB$2,0,0,$AA$2),\"<=\"& OFFSET($AB$2,0,0,$AA$2))+SUM(--ISNUMBER(OFFSET($AB$2,0,0,$AA$2)))),0)),\"\")","v":""}]
[null,null,null,null,null,null,null,null,null,null,null,null,null,null,null,null,null,null,{"$f":"IFERROR(IF(INDIRECT(\"'\"&OFFSET($F$4,S194,0)&\"'!B\"&COUNTIF($S$1:S194,S194)+11)=\"\",$S194+1,S194),\"\")","v":""},null,{"$f":"IF($S195=\"\",\"\",IFERROR(INDIRECT(\"'\"&OFFSET($F$4,$S195,0)&\"'!B\"&COUNTIF($S$1:$S195,$S195)+10),\"\"))","v":""},{"$f":"IF($S195=\"\",\"\",IFERROR(INDIRECT(\"'\"&OFFSET($F$4,$S195,0)&\"'!c\"&COUNTIF($S$1:$S195,$S195)+10),\"\"))","v":""},"",{"$f":"IF($S195=\"\",\"\",IFERROR(INDIRECT(\"'\"&OFFSET($F$4,$S195,0)&\"'!o\"&COUNTIF($S$1:$S195,$S195)+10),\"\"))","v":""},{"$f":"CONCATENATE($U195,$V195)","v":""},{"$f":"CONCATENATE($U195,$V195,$W195)","v":""},null,{"$f":"IFERROR(LOOKUP(2,1/(COUNTIF($AB$1:AB194,OFFSET($Y$2,0,0,$T$2))=0),OFFSET($Y$2,0,0,$T$2)),\"\")","v":""},{"$f":"IFERROR(INDEX(OFFSET($AB$2,0,0,$AA$2),MATCH(SMALL(NOT(OFFSET($AB$2,0,0,$AA$2)=\"\")*IF(ISNUMBER(OFFSET($AB$2,0,0,$AA$2)),COUNTIF(OFFSET($AB$2,0,0,$AA$2),\"<=\"& OFFSET($AB$2,0,0,$AA$2)),COUNTIF(OFFSET($AB$2,0,0,$AA$2),\"<=\"& OFFSET($AB$2,0,0,$AA$2))+SUM(--ISNUMBER(OFFSET($AB$2,0,0,$AA$2)))),ROWS(A$2:$AB195)+SUM(--ISBLANK(OFFSET($AB$2,0,0,$AA$2)))),NOT(OFFSET($AB$2,0,0,$AA$2)=\"\")*IF(ISNUMBER(OFFSET($AB$2,0,0,$AA$2)),COUNTIF(OFFSET($AB$2,0,0,$AA$2),\"<=\"& OFFSET($AB$2,0,0,$AA$2)),COUNTIF(OFFSET($AB$2,0,0,$AA$2),\"<=\"& OFFSET($AB$2,0,0,$AA$2))+SUM(--ISNUMBER(OFFSET($AB$2,0,0,$AA$2)))),0)),\"\")","v":""}]
[null,null,null,null,null,null,null,null,null,null,null,null,null,null,null,null,null,null,{"$f":"IFERROR(IF(INDIRECT(\"'\"&OFFSET($F$4,S195,0)&\"'!B\"&COUNTIF($S$1:S195,S195)+11)=\"\",$S195+1,S195),\"\")","v":""},null,{"$f":"IF($S196=\"\",\"\",IFERROR(INDIRECT(\"'\"&OFFSET($F$4,$S196,0)&\"'!B\"&COUNTIF($S$1:$S196,$S196)+10),\"\"))","v":""},{"$f":"IF($S196=\"\",\"\",IFERROR(INDIRECT(\"'\"&OFFSET($F$4,$S196,0)&\"'!c\"&COUNTIF($S$1:$S196,$S196)+10),\"\"))","v":""},"",{"$f":"IF($S196=\"\",\"\",IFERROR(INDIRECT(\"'\"&OFFSET($F$4,$S196,0)&\"'!o\"&COUNTIF($S$1:$S196,$S196)+10),\"\"))","v":""},"","",null,{"$f":"IFERROR(LOOKUP(2,1/(COUNTIF($AB$1:AB195,OFFSET($Y$2,0,0,$T$2))=0),OFFSET($Y$2,0,0,$T$2)),\"\")","v":""},{"$f":"IFERROR(INDEX(OFFSET($AB$2,0,0,$AA$2),MATCH(SMALL(NOT(OFFSET($AB$2,0,0,$AA$2)=\"\")*IF(ISNUMBER(OFFSET($AB$2,0,0,$AA$2)),COUNTIF(OFFSET($AB$2,0,0,$AA$2),\"<=\"& OFFSET($AB$2,0,0,$AA$2)),COUNTIF(OFFSET($AB$2,0,0,$AA$2),\"<=\"& OFFSET($AB$2,0,0,$AA$2))+SUM(--ISNUMBER(OFFSET($AB$2,0,0,$AA$2)))),ROWS(A$2:$AB196)+SUM(--ISBLANK(OFFSET($AB$2,0,0,$AA$2)))),NOT(OFFSET($AB$2,0,0,$AA$2)=\"\")*IF(ISNUMBER(OFFSET($AB$2,0,0,$AA$2)),COUNTIF(OFFSET($AB$2,0,0,$AA$2),\"<=\"& OFFSET($AB$2,0,0,$AA$2)),COUNTIF(OFFSET($AB$2,0,0,$AA$2),\"<=\"& OFFSET($AB$2,0,0,$AA$2))+SUM(--ISNUMBER(OFFSET($AB$2,0,0,$AA$2)))),0)),\"\")","v":""}]
[null,null,null,null,null,null,null,null,null,null,null,null,null,null,null,null,null,null,{"$f":"IFERROR(IF(INDIRECT(\"'\"&OFFSET($F$4,S196,0)&\"'!B\"&COUNTIF($S$1:S196,S196)+11)=\"\",$S196+1,S196),\"\")","v":""},null,{"$f":"IF($S197=\"\",\"\",IFERROR(INDIRECT(\"'\"&OFFSET($F$4,$S197,0)&\"'!B\"&COUNTIF($S$1:$S197,$S197)+10),\"\"))","v":""},{"$f":"IF($S197=\"\",\"\",IFERROR(INDIRECT(\"'\"&OFFSET($F$4,$S197,0)&\"'!c\"&COUNTIF($S$1:$S197,$S197)+10),\"\"))","v":""},"",{"$f":"IF($S197=\"\",\"\",IFERROR(INDIRECT(\"'\"&OFFSET($F$4,$S197,0)&\"'!o\"&COUNTIF($S$1:$S197,$S197)+10),\"\"))","v":""},"","",null,{"$f":"IFERROR(LOOKUP(2,1/(COUNTIF($AB$1:AB196,OFFSET($Y$2,0,0,$T$2))=0),OFFSET($Y$2,0,0,$T$2)),\"\")","v":""},{"$f":"IFERROR(INDEX(OFFSET($AB$2,0,0,$AA$2),MATCH(SMALL(NOT(OFFSET($AB$2,0,0,$AA$2)=\"\")*IF(ISNUMBER(OFFSET($AB$2,0,0,$AA$2)),COUNTIF(OFFSET($AB$2,0,0,$AA$2),\"<=\"& OFFSET($AB$2,0,0,$AA$2)),COUNTIF(OFFSET($AB$2,0,0,$AA$2),\"<=\"& OFFSET($AB$2,0,0,$AA$2))+SUM(--ISNUMBER(OFFSET($AB$2,0,0,$AA$2)))),ROWS(A$2:$AB197)+SUM(--ISBLANK(OFFSET($AB$2,0,0,$AA$2)))),NOT(OFFSET($AB$2,0,0,$AA$2)=\"\")*IF(ISNUMBER(OFFSET($AB$2,0,0,$AA$2)),COUNTIF(OFFSET($AB$2,0,0,$AA$2),\"<=\"& OFFSET($AB$2,0,0,$AA$2)),COUNTIF(OFFSET($AB$2,0,0,$AA$2),\"<=\"& OFFSET($AB$2,0,0,$AA$2))+SUM(--ISNUMBER(OFFSET($AB$2,0,0,$AA$2)))),0)),\"\")","v":""}]
[null,null,null,null,null,null,null,null,null,null,null,null,null,null,null,null,null,null,{"$f":"IFERROR(IF(INDIRECT(\"'\"&OFFSET($F$4,S197,0)&\"'!B\"&COUNTIF($S$1:S197,S197)+11)=\"\",$S197+1,S197),\"\")","v":""},null,{"$f":"IF($S198=\"\",\"\",IFERROR(INDIRECT(\"'\"&OFFSET($F$4,$S198,0)&\"'!B\"&COUNTIF($S$1:$S198,$S198)+10),\"\"))","v":""},{"$f":"IF($S198=\"\",\"\",IFERROR(INDIRECT(\"'\"&OFFSET($F$4,$S198,0)&\"'!c\"&COUNTIF($S$1:$S198,$S198)+10),\"\"))","v":""},"",{"$f":"IF($S198=\"\",\"\",IFERROR(INDIRECT(\"'\"&OFFSET($F$4,$S198,0)&\"'!o\"&COUNTIF($S$1:$S198,$S198)+10),\"\"))","v":""},"","",null,{"$f":"IFERROR(LOOKUP(2,1/(COUNTIF($AB$1:AB197,OFFSET($Y$2,0,0,$T$2))=0),OFFSET($Y$2,0,0,$T$2)),\"\")","v":""},{"$f":"IFERROR(INDEX(OFFSET($AB$2,0,0,$AA$2),MATCH(SMALL(NOT(OFFSET($AB$2,0,0,$AA$2)=\"\")*IF(ISNUMBER(OFFSET($AB$2,0,0,$AA$2)),COUNTIF(OFFSET($AB$2,0,0,$AA$2),\"<=\"& OFFSET($AB$2,0,0,$AA$2)),COUNTIF(OFFSET($AB$2,0,0,$AA$2),\"<=\"& OFFSET($AB$2,0,0,$AA$2))+SUM(--ISNUMBER(OFFSET($AB$2,0,0,$AA$2)))),ROWS(A$2:$AB198)+SUM(--ISBLANK(OFFSET($AB$2,0,0,$AA$2)))),NOT(OFFSET($AB$2,0,0,$AA$2)=\"\")*IF(ISNUMBER(OFFSET($AB$2,0,0,$AA$2)),COUNTIF(OFFSET($AB$2,0,0,$AA$2),\"<=\"& OFFSET($AB$2,0,0,$AA$2)),COUNTIF(OFFSET($AB$2,0,0,$AA$2),\"<=\"& OFFSET($AB$2,0,0,$AA$2))+SUM(--ISNUMBER(OFFSET($AB$2,0,0,$AA$2)))),0)),\"\")","v":""}]
[null,null,null,null,null,null,null,null,null,null,null,null,null,null,null,null,null,null,{"$f":"IFERROR(IF(INDIRECT(\"'\"&OFFSET($F$4,S198,0)&\"'!B\"&COUNTIF($S$1:S198,S198)+11)=\"\",$S198+1,S198),\"\")","v":""},null,{"$f":"IF($S199=\"\",\"\",IFERROR(INDIRECT(\"'\"&OFFSET($F$4,$S199,0)&\"'!B\"&COUNTIF($S$1:$S199,$S199)+10),\"\"))","v":""},{"$f":"IF($S199=\"\",\"\",IFERROR(INDIRECT(\"'\"&OFFSET($F$4,$S199,0)&\"'!c\"&COUNTIF($S$1:$S199,$S199)+10),\"\"))","v":""},"",{"$f":"IF($S199=\"\",\"\",IFERROR(INDIRECT(\"'\"&OFFSET($F$4,$S199,0)&\"'!o\"&COUNTIF($S$1:$S199,$S199)+10),\"\"))","v":""},"","",null,{"$f":"IFERROR(LOOKUP(2,1/(COUNTIF($AB$1:AB198,OFFSET($Y$2,0,0,$T$2))=0),OFFSET($Y$2,0,0,$T$2)),\"\")","v":""},{"$f":"IFERROR(INDEX(OFFSET($AB$2,0,0,$AA$2),MATCH(SMALL(NOT(OFFSET($AB$2,0,0,$AA$2)=\"\")*IF(ISNUMBER(OFFSET($AB$2,0,0,$AA$2)),COUNTIF(OFFSET($AB$2,0,0,$AA$2),\"<=\"& OFFSET($AB$2,0,0,$AA$2)),COUNTIF(OFFSET($AB$2,0,0,$AA$2),\"<=\"& OFFSET($AB$2,0,0,$AA$2))+SUM(--ISNUMBER(OFFSET($AB$2,0,0,$AA$2)))),ROWS(A$2:$AB199)+SUM(--ISBLANK(OFFSET($AB$2,0,0,$AA$2)))),NOT(OFFSET($AB$2,0,0,$AA$2)=\"\")*IF(ISNUMBER(OFFSET($AB$2,0,0,$AA$2)),COUNTIF(OFFSET($AB$2,0,0,$AA$2),\"<=\"& OFFSET($AB$2,0,0,$AA$2)),COUNTIF(OFFSET($AB$2,0,0,$AA$2),\"<=\"& OFFSET($AB$2,0,0,$AA$2))+SUM(--ISNUMBER(OFFSET($AB$2,0,0,$AA$2)))),0)),\"\")","v":""}]
[null,null,null,null,null,null,null,null,null,null,null,null,null,null,null,null,null,null,{"$f":"IFERROR(IF(INDIRECT(\"'\"&OFFSET($F$4,S199,0)&\"'!B\"&COUNTIF($S$1:S199,S199)+11)=\"\",$S199+1,S199),\"\")","v":""},null,{"$f":"IF($S200=\"\",\"\",IFERROR(INDIRECT(\"'\"&OFFSET($F$4,$S200,0)&\"'!B\"&COUNTIF($S$1:$S200,$S200)+10),\"\"))","v":""},{"$f":"IF($S200=\"\",\"\",IFERROR(INDIRECT(\"'\"&OFFSET($F$4,$S200,0)&\"'!c\"&COUNTIF($S$1:$S200,$S200)+10),\"\"))","v":""},"",{"$f":"IF($S200=\"\",\"\",IFERROR(INDIRECT(\"'\"&OFFSET($F$4,$S200,0)&\"'!o\"&COUNTIF($S$1:$S200,$S200)+10),\"\"))","v":""},"","",null,null,{"$f":"IFERROR(INDEX(OFFSET($AB$2,0,0,$AA$2),MATCH(SMALL(NOT(OFFSET($AB$2,0,0,$AA$2)=\"\")*IF(ISNUMBER(OFFSET($AB$2,0,0,$AA$2)),COUNTIF(OFFSET($AB$2,0,0,$AA$2),\"<=\"& OFFSET($AB$2,0,0,$AA$2)),COUNTIF(OFFSET($AB$2,0,0,$AA$2),\"<=\"& OFFSET($AB$2,0,0,$AA$2))+SUM(--ISNUMBER(OFFSET($AB$2,0,0,$AA$2)))),ROWS(A$2:$AB200)+SUM(--ISBLANK(OFFSET($AB$2,0,0,$AA$2)))),NOT(OFFSET($AB$2,0,0,$AA$2)=\"\")*IF(ISNUMBER(OFFSET($AB$2,0,0,$AA$2)),COUNTIF(OFFSET($AB$2,0,0,$AA$2),\"<=\"& OFFSET($AB$2,0,0,$AA$2)),COUNTIF(OFFSET($AB$2,0,0,$AA$2),\"<=\"& OFFSET($AB$2,0,0,$AA$2))+SUM(--ISNUMBER(OFFSET($AB$2,0,0,$AA$2)))),0)),\"\")","v":""}]

{"sheet":"EFIS Template","index":2,"n_rows":35,"n_cols":15,"rows_kept":35,"cut":false,"hidden":false,"merged":[[19,4,19,11],[20,4,20,11],[21,4,21,11],[22,4,22,11],[5,5,5,7],[5,8,5,14],[17,4,17,11],[13,4,13,11],[14,4,14,11],[15,4,15,11],[16,4,16,11],[18,4,18,11],[9,1,9,14],[7,4,8,11],[10,4,10,11],[7,14,8,14],[5,0,5,1],[5,2,5,4],[7,12,7,13],[7,0,8,0],[2,0,2,1],[3,0,3,1],[3,2,3,4],[3,6,3,11],[3,13,3,14],[2,2,2,3],[2,5,2,14],[4,0,4,1],[4,2,4,4],[4,6,4,11],[4,13,4,14],[8,2,8,3],[13,2,13,3],[14,2,14,3],[15,2,15,3],[16,2,16,3],[11,4,11,11],[12,4,12,11],[11,2,11,3],[26,4,26,11],[27,2,27,3],[27,4,27,11],[12,2,12,3],[24,4,24,11],[17,2,17,3],[18,2,18,3],[19,2,19,3],[20,2,20,3],[21,2,21,3],[22,2,22,3],[23,2,23,3],[24,2,24,3],[23,4,23,11],[25,4,25,11],[26,2,26,3],[0,12,0,13],[1,0,1,1],[1,8,1,11],[1,13,1,14],[1,4,1,6],[10,2,10,3],[7,1,7,3],[34,7,34,13],[0,5,0,8],[33,10,33,12],[31,2,31,3],[31,4,31,11],[32,2,32,3],[32,4,32,11],[28,2,28,3],[28,4,28,11],[29,2,29,3],[29,4,29,11],[30,2,30,3],[30,4,30,11],[25,2,25,3]]}
["PVID#:",{"$f":"IF('SIS Summary'!$B$1=\"\",\"\",'SIS Summary'!$B$1)","v":""},"Event Date:",{"$f":"IFERROR(IF($B$1<>\"\",'SIS Summary'!$D$1,\"\"),\"\")","v":""},"Doc. ID#:",{"$f":"IFERROR($B$1&\"-\"&INDEX(Camp_Base,MATCH(E2,Worksheet!$A$4:$A$65,0),2)&\"-\"&C2&\"-SIS-\"&TEXT($D$1,\"yy\")&TEXT($D$1,\"mm\")&TEXT($D$1,\"dd\")&\"-v\"&L1&\"(\"&C3&\")-\"&I6,\"\")","v":""},null,null,null,null,"Version #:",1,"Total Financial Impact:",null,{"$f":"SUM(O11:O33)","v":0}]
["Contractor ID:",null,{"$f":"IF('SIS Summary'!$B$2=\"\",\"\",'SIS Summary'!$B$2)","v":""},"Camp/Base:",{"$f":"IF('SIS Summary'!$D$2=\"\",\"\",'SIS Summary'!$D$2)","v":""},null,null,"Location:",{"$f":"IF('SIS Summary'!$H$2=\"\",\"\",'SIS Summary'!$H$2)","v":""},null,null,null,"Site:",{"$f":"IF('SIS Summary'!$L$2=\"\",\"\",'SIS Summary'!$L$2)","v":""}]
["Event #:",null,{"$f":"IF('SIS Summary'!B3=\"\",\"\",'SIS Summary'!B3)","v":""},null,"Description:",{"$f":"IF('SIS Summary'!$E$3=\"\",\"\",'SIS Summary'!$E$3)","v":""}]
["DEI Investigator:",null,{"$f":"IF('SIS Summary'!$B$4=\"\",\"\",'SIS Summary'!$B$4)","v":""},null,null,"Email:",{"$f":"IF('SIS Summary'!$G$4=\"\",\"\",'SIS Summary'!$G$4)","v":""},null,null,null,null,null,"Phone:",{"$f":"IF('SIS Summary'!$M$4=\"\",\"\",'SIS Summary'!$M$4)","v":""}]
["Affected Party:",null,null,null,null,"Email:",null,null,null,null,null,null,"Phone:"]
["Title:",null,null,null,null,"Company/Department/Unit:"]
[]
[null,"(Select from drop-down menus)",null,null,"Description",null,null,null,null,null,null,null,"Estimated",null,"Cost"]
[null,"Category ","Item",null,null,null,null,null,null,null,null,null,"Hrs/Units","Rate /Cost"]
[]
[1,null,null,null,null,null,null,null,null,null,null,null,null,null,{"$f":"IF(N11=\"\",\"\",IF(M11=\"\",N11,M11*N11))","v":""}]
[2,null,null,null,null,null,null,null,null,null,null,null,null,null,""]
[3,null,null,null,null,null,null,null,null,null,null,null,null,null,""]
[4,null,null,null,null,null,null,null,null,null,null,null,null,null,""]
[5,null,null,null,null,null,null,null,null,null,null,null,null,null,""]
[6,null,null,null,null,null,null,null,null,null,null,null,null,null,""]
[7,null,null,null,null,null,null,null,null,null,null,null,null,null,""]
[8,null,null,null,null,null,null,null,null,null,null,null,null,null,""]
[9,null,null,null,null,null,null,null,null,null,null,null,null,null,""]
[10,null,null,null,null,null,null,null,null,null,null,null,null,null,""]
[11,null,null,null,null,null,null,null,null,null,null,null,null,null,""]
[12,null,null,null,null,null,null,null,null,null,null,null,null,null,""]
[13,null,null,null,null,null,null,null,null,null,null,null,null,null,""]
[14,null,null,null,null,null,null,null,null,null,null,null,null,null,""]
[15,null,null,null,null,null,null,null,null,null,null,null,null,null,""]
[16,null,null,null,null,null,null,null,null,null,null,null,null,null,""]
[17,null,null,null,null,null,null,null,null,null,null,null,null,null,""]
[18,null,null,null,null,null,null,null,null,null,null,null,null,null,""]
[19,null,null,null,null,null,null,null,null,null,null,null,null,null,""]
[20,null,null,null,null,null,null,null,null,null,null,null,null,null,""]
[21,null,null,null,null,null,null,null,null,null,null,null,null,null,""]
[22,null,null,null,null,null,null,null,null,null,null,null,null,null,""]
[23,null,null,null,null,null,null,null,null,null,null,null,null,null,""]
[null,null,null,null,null,null,null,"(Optional Section):",null,null,"Profit margin? (%):"]
[null,null,null,null,null,null,null,"Calculated additional gross income required to cover costs:",null,null,null,null,null,null,{"$f":"IFERROR(O1*1/N34,\"\")","v":""}]